{"text_format":"1","workbook":"xlsx","n_sheets":25,"sheets":["Disclaimer and Definitions","View Tariff Charges by Rate Cat","SBC TBC and MTC Tax","TEC","RT per Tariff","RT Summary","RS per Tariff","RS Summary","RGT per Tariff","RGT Summary","GS FP per Tariff","GS FP Summary","GS CIEP per Tariff","GST FP per Tariff","GST FP Summary","GST CIEP per Tariff","GP per Tariff","GT per Tariff","Lighting kWh Charges","Lighting kWh Summary","OL Fixture & Total Charges","SVL Fixture & Total Charges","MVL Fixture & Total Charges","ISL Fixture & Total Charges","LED Fixture & Total Charges"],"not_rendered":{"charts":0,"images":0,"macros":1,"external_links":0,"defined_names":38,"comments":0,"pivot_tables":0},"unopened":[],"bounds":{"document_bytes":16777216,"sheet_cells":100000,"rows_first":2000,"rows_last":500,"rows_between":2000,"halvings":0,"cell_chars":16384,"cell_head_chars":4096},"cells_cut":0,"cells_raw":0,"read":"whole","date_system":"1900"}

{"sheet":"Disclaimer and Definitions","index":0,"n_rows":93,"n_cols":2,"rows_kept":93,"cut":false,"hidden":false,"merged":[[6,44,6,50],[8,44,8,50],[10,44,10,50],[6,30,6,36],[8,30,8,36],[10,30,10,36]]}
["Visual_Rate_Inventory  June 1, 2025"]
[{"$f":"NOW()","v":"2025-05-30T16:18:48.150"}]
[{"$f":"NOW()","v":45807.679723958332}]
["Disclaimer and Definitions"]
[]
[]
[]
[null,"Jersey Central Power & Light"]
[null," "]
[null,{"$f":"'RT per Tariff'!C3","v":"Rates Effective with Service Rendered June 1, 2025"}]
[]
[]
[]
[]
[null,"\n                                                   Disclaimer\n\n\n     The pricing contained in this spreadsheet is provided for general information and analysis.  It is derived from the Company's Tariff for Service, but is not an approved document and Jersey Central Power & Light (JCP&L) assumes no liability for its use.  The Company's Tariff for Service is filed with the New Jersey Board of Public Utilities, 2 Gateway Center, Newark, NJ 07102.\n\n     An electronic version of the Company's Tariff may be viewed through our web site at URL www.firstenergycorp.com.  This electronic version of the Tariff provides greater explanation of the charges contained in this spreadsheet and includes the various terms and conditions under which service is provided.  However, like this spreadsheet, the electronic version of our Tariff is provided for general information only."]
[]
[]
[]
[]
[{"$f":"A1","v":"Visual_Rate_Inventory  June 1, 2025"}]
[{"$f":"NOW()","v":"2025-05-30T16:18:48.150"},"Page 1 of 2"]
[{"$f":"NOW()","v":45807.679723958332}]
["Disclaimer and Definitions"]
[]
[null,"Definitions"]
[]
[null,"Taxes"]
[null,"CBT = Allowance in rates to pay Corporation Business Tax to the State of New Jersey"]
[]
[null,"SUT = Sales and Use Tax"]
[]
[]
[]
[null,"Franchised Utilities - To avoid passing on additional taxes to their customers, Franchised Utilities in the State of New Jersey are exempt from paying taxes in the utility bills which they must pay.  This includes exemption from the CBT and SUT taxes that are billed to non-exempt customers.  Refer to Riders CBT, and SUT in the Company's Tariff for a complete list of tax exemptions. "]
[]
[null,"Federal Government - The federal government is exempt from SUT.   However, Federal Government accounts must still pay the CBT tax which are included in our rates.  Refer to Rider SUT in the Company's Tariff for a complete list of SUT exemptions. "]
[]
[]
[]
[null,"Summer/Winter Bills"]
[null,"Summer = The Billing Months of June through September are considered Summer Billing Months"]
[]
[null,"Winter = The Billing Months of October through May are considered Winter Billing Months"]
[]
[null,"Billing Month = Generally the month in which the bill is issued. For example: A bill for the period of May 1 through May 31, which is issued on June 2 is considered a Summer bill.  A bill for the period of September 1 through September 30, which is issued on October 2 is considered a Winter bill.  The exact calendar period which comprises the Summer period for an individual customer will vary slightly based on the cycle in which the customer is billed, but year-round customers are issued 4 Summer bills and 8 Winter bills per year. "]
[]
[]
[]
[null,"Pricing Differences by Usage Range, On-peak versus Off-Peak, OPWH and CTWH"]
[null,"Usage Range - Where a kWh range is indicated (e.g.: 0-600,  >1,000  etc.) there is a different price charged for each usage range.  These usage blocks are based on an average billing month of 26 to 35 days and are prorated for bills of a shorter or longer period.  "]
[]
[null,"On-Peak versus Off-Peak usage - Certain rate classes include special metering to record the usage based on when it occurs.  The usage that occurs during the on-peak period is charged a different price than the usage that occurs during the off-peak period.   Refer to the appropriate rate class in the Company tariff for a definition of on-peak versus off-peak hours."]
[]
[null,"CTWH = Controlled Water Heating Service.  This is a restricted rate where the customer has an electric hot water heater whose operation is controlled by a special meter, limiting the hours during which the heating elements in the hot water heater operate.  The hot water heating usage is recorded by this second meter and billed at a lower overall price than the customer's other electric usage.  "]
[]
[null,"OPWH = Off-Peak Water Heating Service.  This is a restricted rate where the customer has an electric hot water heater whose operation is restricted during certain hours by a special meter.  The hot water heating usage that occurs during the non-restricted hours is recorded by this second meter and billed at a lower overall price than the customers other electric usage.  "]
[]
[null,"Day/Night Service - Under the General Service Secondary (GS) Day/Night service option the customer's demand is metered based on when it occurs.  The demand that occurs during the on-peak period is used for billing and the demand that occurs during the off-peak period is ignored unless 40% of the off-peak demand is greater than the on-peak demand.  Refer to the GS rate class in the Company tariff for further explanation of this optional rate provision."]
[]
[null,"Restricted Rate = A rate which is restricted to the locations where it is currently in place. "]
[]
[null,"Definitions  Page 2 of 2"]
[null,"Customer Charges - Single Phase, Three Phase and Supplemental"]
[null,"Customer Charge = Monthly charge to cover such fixed costs as metering, meter reading, billing and account maintenance which the Company incurs even if the customer does not use any electricity."]
[]
[null,"Single Phase/Three Phase - Due to differences in the equipment required to serve three phase versus single phase General Service Secondary (GS) customers, GS customers receiving three phase service pay a higher monthly customer charge than customers receiving single phase service."]
[]
[null,"Supplemental Customer Charges - Supplemental Charges (Charges billed to the customer each month in addition to the normal monthly customer charge for their service classification) are assessed to cover the added fixed costs the company incurs for the following special rate provisions:\n     Controlled Water Heating Service\n     Off-Peak Water Heating Service\n     GS Day/Night Service\n     Traffic Signal Service"]
[]
[null,"Solar Water Heating Credit - Customers billed on the Residential Time-of-Day (RT) Rate who use a solar hot water heating system receive a credit against the normal monthly RT customer charge."]
[]
[]
[]
[null,"Special Rates (not already defined):"]
[null,"Religious House of Worship (Church Rate) - a discount that applies to the first 1,000 kWh of monthly use.   Applies only to the building in which worship services are conducted (not separately metered halls, schools, living quarters, etc. that are associated with the house of worship). "]
[null,"Traffic Signal Service - traffic or warning signals that are in continuous operation, and which are not metered in conjunction with other electrical facilities are billed on the Traffic Signal rate, which includes a higher monthly customer charge but lower per kWh charge than the standard GS rate.  "]
[]
[null,"230 kV discount - customers receiving transmission service (GT rate) at 230 kV have a credit per kWh and per kW applied against the standard GT kWh and kW Distribution charges and are also charged a lower NGC rate to reflect the reduced line losses associated with receiving service at this voltage level."]
[]
[null,"Minimum Charge Reduction - Applies only to GT rate class.  If the customer's maximum on-peak demand in the current and preceding 11 months has not exceeded 3% of their maximum off-peak demand in the current and preceding 11 months, the minimum kW charge is reduced by the amount indicated for this credit.   "]
[]
[]
[]
[null,"General"]
[null,"kWh = kilowatt-hour"]
[]
[null,"kW = kilowatt or demand (highest usage during any 15 minute interval during the billing period)"]
[]
[null,"Minimum kW - billed in place of the standard kW charge based on the customer's highest demand in the current and preceding eleven months.  Customer's are billed the full rate (Summer or Winter) kW charge based on their current month's kW, unless the minimum kW charge results in a higher charge.  Refer to rate classes GS, GST, GP and GT in the Company's Tariff for more information. "]
[]
[null,"kVar = Kilovolt-Ampere Reactive Charge"]
[]
[null,"Standby Service = Modifies the calculation of demand charges.   Available to customers with qualifying facilities who normally generate electricity to supply all or a portion of their own energy requirements.  Customers pay a standby demand charge, but may avoid significant full rate and/or minimum demand charges that might otherwise result when they must rely on JCP&L to deliver their energy requirements when the customer's generating facility is shut down for maintenance or repair."]

{"sheet":"View Tariff Charges by Rate Cat","index":1,"n_rows":926,"n_cols":59,"rows_kept":926,"cut":false,"hidden":false,"merged":[[590,50,591,50],[590,51,591,51],[430,50,431,50],[430,51,431,51],[353,50,354,50],[353,51,354,51],[366,50,367,50],[366,51,367,51],[381,50,382,50],[381,51,382,51],[494,50,495,50],[494,51,495,51],[448,50,449,50],[448,51,449,51],[466,50,467,50],[466,51,467,51],[480,50,481,50],[480,51,481,51],[215,50,216,50],[215,51,216,51],[229,50,230,50],[229,51,230,51],[242,50,243,50],[242,51,243,51],[396,50,397,50],[396,51,397,51],[413,50,414,50],[413,51,414,51],[290,50,291,50],[175,50,176,50],[175,51,176,51],[188,50,189,50],[188,51,189,51],[201,50,202,50],[201,51,202,51],[881,33,882,33],[881,34,882,34],[894,33,895,33],[894,34,895,34],[756,33,757,33],[756,34,757,34],[770,33,771,33],[770,34,771,34],[784,33,785,33],[784,34,785,34],[717,33,718,33],[717,34,718,34],[728,33,729,33],[728,34,729,34],[742,33,743,33],[742,34,743,34],[670,33,671,33],[670,34,671,34],[911,33,912,33],[911,34,912,34],[848,33,849,33],[848,34,849,34],[858,33,859,33],[858,34,859,34],[868,33,869,33],[868,34,869,34],[801,33,802,33],[801,34,802,34],[818,33,819,33],[818,34,819,34],[833,33,834,33],[833,34,834,34],[688,33,689,33],[688,34,689,34],[706,33,707,33],[706,34,707,34],[628,33,629,33],[628,34,629,34],[640,33,641,33],[640,34,641,34],[655,33,656,33],[655,34,656,34],[584,33,585,33],[584,34,585,34],[600,33,601,33],[600,34,601,34],[616,33,617,33],[616,34,617,34],[533,33,534,33],[533,34,534,34],[548,33,549,33],[548,34,549,34],[566,33,567,33],[566,34,567,34],[488,33,489,33],[488,34,489,34],[503,33,504,33],[503,34,504,34],[518,33,519,33],[518,34,519,34],[442,33,443,33],[442,34,443,34],[460,33,461,33],[460,34,461,34],[474,33,475,33],[474,34,475,34],[390,33,391,33],[390,34,391,34],[407,33,408,33],[407,34,408,34],[424,33,425,33],[424,34,425,34],[347,33,348,33],[347,34,348,34],[360,33,361,33],[360,34,361,34],[375,33,376,33],[375,34,376,34],[301,33,302,33],[301,34,302,34],[318,33,319,33],[318,34,319,34],[334,33,335,33],[334,34,335,34],[258,33,259,33],[258,34,259,34],[267,33,268,33],[267,34,268,34],[284,33,285,33],[284,34,285,34],[223,33,224,33],[223,34,224,34],[236,33,237,33],[236,34,237,34],[249,33,250,33],[249,34,250,34],[182,33,183,33],[182,34,183,34],[195,33,196,33],[195,34,196,34],[209,33,210,33],[209,34,210,34],[62,33,63,33],[62,34,63,34],[75,33,76,33],[75,34,76,34],[149,33,150,33],[149,34,150,34],[159,33,160,33],[159,34,160,34],[169,33,170,33],[169,34,170,34],[117,33,118,33],[117,34,118,34],[127,33,128,33],[127,34,128,34],[139,33,140,33],[139,34,140,34],[4,4,4,5],[0,46,0,56],[2,46,2,56],[4,46,4,56],[2,33,3,33],[2,34,3,34],[2,35,3,35],[12,35,13,35],[25,35,26,35],[1,31,1,37],[49,35,50,35],[12,9,12,13],[13,9,13,13],[46,14,46,20],[40,14,40,20],[42,14,42,20],[44,14,44,20],[106,35,107,35],[117,35,118,35],[12,33,13,33],[12,34,13,34],[25,33,26,33],[25,34,26,34],[38,33,39,33],[38,34,39,34],[38,35,39,35],[85,33,86,33],[85,34,86,34],[96,33,97,33],[96,34,97,34],[106,33,107,33],[106,34,107,34],[49,33,50,33],[49,34,50,34],[127,35,128,35],[139,35,140,35],[62,35,63,35],[75,35,76,35],[85,35,86,35],[96,35,97,35],[195,35,196,35],[209,35,210,35],[223,35,224,35],[340,52,341,52],[273,50,274,50],[249,35,250,35],[258,35,259,35],[267,35,268,35],[284,35,285,35],[255,50,256,50],[255,51,256,51],[264,50,265,50],[264,52,265,52],[273,52,274,52],[290,52,291,52],[307,52,308,52],[324,52,325,52],[273,51,274,51],[264,51,265,51],[290,51,291,51],[307,50,308,50],[307,51,308,51],[324,50,325,50],[324,51,325,51],[340,50,341,50],[340,51,341,51],[301,35,302,35],[318,35,319,35],[334,35,335,35],[474,35,475,35],[488,35,489,35],[236,35,237,35],[149,35,150,35],[159,35,160,35],[169,35,170,35],[182,35,183,35],[407,35,408,35],[424,35,425,35],[442,35,443,35],[460,35,461,35],[600,35,601,35],[616,35,617,35],[628,35,629,35],[347,35,348,35],[360,35,361,35],[375,35,376,35],[390,35,391,35],[881,35,882,35],[640,35,641,35],[533,35,534,35],[548,35,549,35],[566,35,567,35],[584,35,585,35],[717,35,718,35],[728,35,729,35],[742,35,743,35],[756,35,757,35],[655,35,656,35],[670,35,671,35],[688,35,689,35],[706,35,707,35],[480,52,481,52],[494,52,495,52],[833,35,834,35],[848,35,849,35],[858,35,859,35],[868,35,869,35],[770,35,771,35],[784,35,785,35],[801,35,802,35],[818,35,819,35],[503,35,504,35],[518,35,519,35],[509,50,510,50],[509,51,510,51],[524,50,525,50],[524,51,525,51],[539,50,540,50],[539,51,540,51],[554,50,555,50],[554,51,555,51],[606,50,607,50],[606,51,607,51],[572,50,573,50],[572,51,573,51],[509,52,510,52],[524,52,525,52],[894,35,895,35],[911,35,912,35],[175,52,176,52],[188,52,189,52],[201,52,202,52],[215,52,216,52],[229,52,230,52],[242,52,243,52],[255,52,256,52],[413,52,414,52],[430,52,431,52],[448,52,449,52],[466,52,467,52],[353,52,354,52],[366,52,367,52],[381,52,382,52],[396,52,397,52],[606,52,607,52],[539,52,540,52],[554,52,555,52],[572,52,573,52],[590,52,591,52]]}
[]
[{"$f":"'Disclaimer and Definitions'!$A$1","v":"Visual_Rate_Inventory  June 1, 2025"},{"$f":"NOW()","v":"2025-05-30T16:18:48.150"},{"$f":"'RT per Tariff'!$C$3","v":"Rates Effective with Service Rendered June 1, 2025"},null,null,null,null,null,null,null,null,null,null,null,null,null,null,null,null,null,null,null,null,null,null,null,null,null,null,null,null,{"$f":"'Disclaimer and Definitions'!B10","v":"Rates Effective with Service Rendered June 1, 2025"},null,null,null,null,null,null,null,"Delivery"]
["Select by Rate Category",{"$f":"NOW()","v":45807.679723958332},null,null,null,null,"General",null,null,null,"Commercial/",null,"Mercury","Sodium",null,null,null,null,null,null,null,null,null,null,null,null,null,"Charge or","Customer",null,null,null,"Energy &","BGS-FP Reconciliation Charge*",{"$f":"'RT per Tariff'!I11","v":"Zero Emission Certificate Recovery Charge (ZEC)"},"RGGI\nRecovery\nCharge (RRC)",null,null,null,"Service","Full Service"]
[null,null,null,"Residential",null,null,"Service","General","General","Residential","Industrial","Incandescent","Vapor","Vapor",null,null,null,null,null,null,null,null,null,null,null,"Rate Category","Description","Price Block","Charge","Transmission*","Distribution","Covid-19 Recovery","Capacity*",null,null,null,"SBC","LRAM","NGC","Total","Total"]
[null,null,"Residential","Geothermal","General Service Secondary",null,"Secondary","Service","Service","Outdoor","Outdoor","Street","Street","Street",null,null,null,null,null,null,null,null,null,null,null,"JC_RS__01D","Residential Service ","Customer Charge",{"$f":"'RS per Tariff'!C29","v":4.2699999999999996},null,null,null,null,null,null,null,null,null,null,{"$f":"AC5","v":4.2699999999999996},{"$f":"AC5","v":4.2699999999999996}]
[null,"Residential","Time-of-Day","& Heat Pump","Single Phase","Three Phase","Time-of-Day","Primary","Transmision","Lighting","Lighting","Lighting","Lighting","Lighting",null,null,null,null,null,null,null,null,null,null,null,null,"No Special Provisions",{"$f":"'RS per Tariff'!B33","v":"Summer kWh 0 - 600"},null,{"$f":"'RS per Tariff'!D33","v":1.9212E-2},{"$f":"'RS per Tariff'!E33","v":2.0181999999999999E-2},{"$f":"'RS per Tariff'!F33","v":3.5799999999999997E-4},{"$f":"'RS per Tariff'!G33","v":0.125888},{"$f":"'RS per Tariff'!H33","v":3.8999999999999999E-5},{"$f":"'RS per Tariff'!I33","v":0},{"$f":"'RS per Tariff'!J33","v":4.7289999999999997E-3},{"$f":"'RS per Tariff'!K33","v":7.7000000000000002E-3},{"$f":"'RS per Tariff'!L33","v":5.4600000000000004E-4},{"$f":"'RS per Tariff'!M33","v":-2.34E-4},{"$f":"SUM(AE6:AF6,AI6:AM6)","v":3.3280999999999998E-2},{"$f":"'RS per Tariff'!N33","v":0.17842000000000002},{"$f":"AO6-AN6-AG6-AH6-AD6","v":0}]
[null,null,null,null,null,null,null,null,null,null,null,null,null,null,null,null,null,null,null,null,null,null,null,null,null,null,"All Taxes Applicable & Included",{"$f":"'RS per Tariff'!B34","v":"Summer kWh > 600"},null,{"$f":"'RS per Tariff'!D34","v":1.9212E-2},{"$f":"'RS per Tariff'!E34","v":7.9810000000000006E-2},{"$f":"'RS per Tariff'!F34","v":3.5799999999999997E-4},{"$f":"'RS per Tariff'!G34","v":0.13511300000000001},{"$f":"'RS per Tariff'!H34","v":3.8999999999999999E-5},{"$f":"'RS per Tariff'!I34","v":0},{"$f":"'RS per Tariff'!J34","v":4.7289999999999997E-3},{"$f":"'RS per Tariff'!K34","v":7.7000000000000002E-3},{"$f":"'RS per Tariff'!L34","v":5.4600000000000004E-4},{"$f":"'RS per Tariff'!M34","v":-2.34E-4},{"$f":"SUM(AE7:AF7,AI7:AM7)","v":9.2909000000000005E-2},{"$f":"'RS per Tariff'!N34","v":0.24727300000000002},{"$f":"AO7-AN7-AG7-AH7-AD7","v":0}]
[null,null,null,null,null,null,null,null,null,null,null,null,null,null,null,null,null,null,null,null,null,null,null,null,null,null,null,{"$f":"'RS per Tariff'!B35","v":"Winter kWh 0-1,000"},null,{"$f":"'RS per Tariff'!D35","v":1.9212E-2},{"$f":"'RS per Tariff'!E35","v":3.3061E-2},{"$f":"'RS per Tariff'!F35","v":3.5799999999999997E-4},{"$f":"'RS per Tariff'!G35","v":0.13681699999999999},{"$f":"'RS per Tariff'!H35","v":3.8999999999999999E-5},{"$f":"'RS per Tariff'!I35","v":0},{"$f":"'RS per Tariff'!J35","v":4.7289999999999997E-3},{"$f":"'RS per Tariff'!K35","v":7.7000000000000002E-3},{"$f":"'RS per Tariff'!L35","v":5.4600000000000004E-4},{"$f":"'RS per Tariff'!M35","v":-2.34E-4},4.6159999999999993E-2,{"$f":"'RS per Tariff'!N35","v":0.20222800000000002},4.5102810375396984E-17]
[null,null,null,null,null,null,null,null,null,null,null,null,null,null,null,null,null,null,null,null,null,null,null,null,null,null,null,{"$f":"'RS per Tariff'!B36","v":"Winter kWh > 1,000"},null,{"$f":"'RS per Tariff'!D36","v":1.9212E-2},{"$f":"'RS per Tariff'!E36","v":3.3061E-2},{"$f":"'RS per Tariff'!F36","v":3.5799999999999997E-4},{"$f":"'RS per Tariff'!G36","v":0.13681699999999999},{"$f":"'RS per Tariff'!H36","v":3.8999999999999999E-5},{"$f":"'RS per Tariff'!I36","v":0},{"$f":"'RS per Tariff'!J36","v":4.7289999999999997E-3},{"$f":"'RS per Tariff'!K36","v":7.7000000000000002E-3},{"$f":"'RS per Tariff'!L36","v":5.4600000000000004E-4},{"$f":"'RS per Tariff'!M36","v":-2.34E-4},4.6159999999999993E-2,{"$f":"'RS per Tariff'!N36","v":0.20222800000000002},4.5102810375396984E-17]
[null,null,null,null,null,null,null,null,null,null,null,null,null,null,null,null,null,null,null,null,null,null,null,null,null,null,null,null,"* Charge applies only to Full Service Customers"]
[]
[null,null,null,null,null,null,null,null,null,null,null,null,null,null,null,null,null,null,null,null,null,null,null,null,null,null,null,null,null,null,null,{"$f":"AF$2","v":"Rates Effective with Service Rendered June 1, 2025"},null,null,null,null,null,null,null,"Delivery"]
["Left Click Desired ",null,null,null,null,null,"The GST rate","The GP rate","The GT rate","The various lighting categories have not been completed. Refer to the tab ",null,null,null,null,null,null,null,null,null,null,null,null,null,null,null,null,null,"Charge or","Customer",null,null,null,"Energy &","BGS-FP Reconciliation Charge*",{"$f":"AI3","v":"Zero Emission Certificate Recovery Charge (ZEC)"},"RGGI\nRecovery\nCharge (RRC)",null,null,null,"Service","Full Service"]
["Rate Button to GoTo ",null,null,null,null,null,"categories ","categories ","categories ","labeled Lighting kWh Charges & the relevant Fixture and Total Charges tab ",null,null,null,null,null,null,null,null,null,null,null,null,null,null,null,"Rate Category","Description","Price Block","Charge","Transmission*","Distribution","Covid-19 Recovery","Capacity*",null,null,null,"SBC","LRAM","NGC","Total","Total"]
["Unbundled Prices",null,null,null,null,null,"have not been ","have not been ","have not been ",null,null,null,null,null,null,null,null,null,null,null,null,null,null,null,null,"JC_RS__02D","Residential Service ","Customer Charge",{"$f":"'RS per Tariff'!C29","v":4.2699999999999996},null,null,null,null,null,null,null,null,null,null,{"$f":"AC15","v":4.2699999999999996},{"$f":"AC15","v":4.2699999999999996}]
["as they appear in",null,null,null,null,null,"completed yet.","completed yet.","completed yet.","OL","OL","ISL","MVL","SVL",null,null,null,null,null,null,null,null,null,null,null,null,"Off-Peak Water Heating","Suppl Cust Charge",{"$f":"'RS per Tariff'!C30","v":2.23},null,null,null,null,null,null,null,null,null,null,{"$f":"AC16","v":2.23},{"$f":"AC16","v":2.23}]
["the JCP&L Tariff",null,null,null,null,null,"Refer to ","Refer to ","Refer to ",null,null,null,null,null,null,null,null,null,null,null,null,null,null,null,null,null,"All Taxes Applicable & Included",{"$f":"'RS per Tariff'!B33","v":"Summer kWh 0 - 600"},null,{"$f":"'RS per Tariff'!D33","v":1.9212E-2},{"$f":"'RS per Tariff'!E33","v":2.0181999999999999E-2},{"$f":"'RS per Tariff'!F33","v":3.5799999999999997E-4},{"$f":"'RS per Tariff'!G33","v":0.125888},{"$f":"'RS per Tariff'!H33","v":3.8999999999999999E-5},{"$f":"'RS per Tariff'!I33","v":0},{"$f":"'RS per Tariff'!J33","v":4.7289999999999997E-3},{"$f":"'RS per Tariff'!K33","v":7.7000000000000002E-3},{"$f":"'RS per Tariff'!L33","v":5.4600000000000004E-4},{"$f":"'RS per Tariff'!M33","v":-2.34E-4},{"$f":"SUM(AE17:AF17,AI17:AM17)","v":3.3280999999999998E-2},{"$f":"'RS per Tariff'!N33","v":0.17842000000000002},{"$f":"AO17-AN17-AG17-AH17-AD17","v":0}]
["For Selected Rate",null,null,null,null,null,"GST per Tariff","GP per Tariff","GT per Tariff",null,null,null,null,null,null,null,null,null,null,null,null,null,null,null,null,null,null,{"$f":"'RS per Tariff'!B34","v":"Summer kWh > 600"},null,{"$f":"'RS per Tariff'!D34","v":1.9212E-2},{"$f":"'RS per Tariff'!E34","v":7.9810000000000006E-2},{"$f":"'RS per Tariff'!F34","v":3.5799999999999997E-4},{"$f":"'RS per Tariff'!G34","v":0.13511300000000001},{"$f":"'RS per Tariff'!H34","v":3.8999999999999999E-5},{"$f":"'RS per Tariff'!I34","v":0},{"$f":"'RS per Tariff'!J34","v":4.7289999999999997E-3},{"$f":"'RS per Tariff'!K34","v":7.7000000000000002E-3},{"$f":"'RS per Tariff'!L34","v":5.4600000000000004E-4},{"$f":"'RS per Tariff'!M34","v":-2.34E-4},9.2909000000000005E-2,{"$f":"'RS per Tariff'!N34","v":0.24727300000000002},0]
[null,null,null,null,null,null,"tab","tab","tab",null,null,null,null,null,null,null,null,null,null,null,null,null,null,null,null,null,null,{"$f":"'RS per Tariff'!B35","v":"Winter kWh 0-1,000"},null,{"$f":"'RS per Tariff'!D35","v":1.9212E-2},{"$f":"'RS per Tariff'!E35","v":3.3061E-2},{"$f":"'RS per Tariff'!F35","v":3.5799999999999997E-4},{"$f":"'RS per Tariff'!G35","v":0.13681699999999999},{"$f":"'RS per Tariff'!H35","v":3.8999999999999999E-5},{"$f":"'RS per Tariff'!I35","v":0},{"$f":"'RS per Tariff'!J35","v":4.7289999999999997E-3},{"$f":"'RS per Tariff'!K35","v":7.7000000000000002E-3},{"$f":"'RS per Tariff'!L35","v":5.4600000000000004E-4},{"$f":"'RS per Tariff'!M35","v":-2.34E-4},4.6159999999999993E-2,{"$f":"'RS per Tariff'!N35","v":0.20222800000000002},4.5102810375396984E-17]
[null,null,null,null,null,null,null,null,null,null,null,null,null,null,null,null,null,null,null,null,null,null,null,null,null,null,null,{"$f":"'RS per Tariff'!B36","v":"Winter kWh > 1,000"},null,{"$f":"'RS per Tariff'!D36","v":1.9212E-2},{"$f":"'RS per Tariff'!E36","v":3.3061E-2},{"$f":"'RS per Tariff'!F36","v":3.5799999999999997E-4},{"$f":"'RS per Tariff'!G36","v":0.13681699999999999},{"$f":"'RS per Tariff'!H36","v":3.8999999999999999E-5},{"$f":"'RS per Tariff'!I36","v":0},{"$f":"'RS per Tariff'!J36","v":4.7289999999999997E-3},{"$f":"'RS per Tariff'!K36","v":7.7000000000000002E-3},{"$f":"'RS per Tariff'!L36","v":5.4600000000000004E-4},{"$f":"'RS per Tariff'!M36","v":-2.34E-4},4.6159999999999993E-2,{"$f":"'RS per Tariff'!N36","v":0.20222800000000002},4.5102810375396984E-17]
[null,null,null,null,null,null,null,null,null,null,null,null,null,null,null,null,null,null,null,null,null,null,null,null,null,null,null,{"$f":"'RS per Tariff'!B37","v":"Summer OPWH kWh"},null,{"$f":"'RS per Tariff'!D37","v":1.9212E-2},{"$f":"'RS per Tariff'!E37","v":2.2065999999999999E-2},{"$f":"'RS per Tariff'!F37","v":3.5799999999999997E-4},{"$f":"'RS per Tariff'!G37","v":0.128414},{"$f":"'RS per Tariff'!H37","v":3.8999999999999999E-5},{"$f":"'RS per Tariff'!I37","v":0},{"$f":"'RS per Tariff'!J37","v":4.7289999999999997E-3},{"$f":"'RS per Tariff'!K37","v":7.7000000000000002E-3},{"$f":"'RS per Tariff'!L37","v":5.4600000000000004E-4},{"$f":"'RS per Tariff'!M37","v":-2.34E-4},3.5165000000000002E-2,{"$f":"'RS per Tariff'!N37","v":0.18282999999999999},0]
[null,null,null,null,null,null,null,null,null,null,null,null,null,null,null,null,null,null,null,null,null,null,null,null,null,null,null,{"$f":"'RS per Tariff'!B38","v":"Winter OPWH kWh"},null,{"$f":"'RS per Tariff'!D38","v":1.9212E-2},{"$f":"'RS per Tariff'!E38","v":2.2065999999999999E-2},{"$f":"'RS per Tariff'!F38","v":3.5799999999999997E-4},{"$f":"'RS per Tariff'!G38","v":0.12782199999999999},{"$f":"'RS per Tariff'!H38","v":3.8999999999999999E-5},{"$f":"'RS per Tariff'!I38","v":0},{"$f":"'RS per Tariff'!J38","v":4.7289999999999997E-3},{"$f":"'RS per Tariff'!K38","v":7.7000000000000002E-3},{"$f":"'RS per Tariff'!L38","v":5.4600000000000004E-4},{"$f":"'RS per Tariff'!M38","v":-2.34E-4},3.5165000000000002E-2,{"$f":"'RS per Tariff'!N38","v":0.18223800000000001},0]
[null,null,null,null,null,null,null,null,null,null,null,null,null,null,null,null,null,null,null,null,null,null,null,null,null,null,null,null,"* Charge applies only to Full Service Customers"]
[]
[null,null,null,null,null,null,null,null,null,null,null,null,null,null,null,null,null,null,null,null,null,null,null,null,null,null,null,null,null,null,null,{"$f":"AF$2","v":"Rates Effective with Service Rendered June 1, 2025"},null,null,null,null,null,null,null,"Delivery"]
[null,null,null,null,null,null,null,null,null,null,null,null,null,null,null,null,null,null,null,null,null,null,null,null,null,null,null,"Charge or","Customer",null,null,null,"Energy &","BGS-FP Reconciliation Charge*",{"$f":"$AI$3","v":"Zero Emission Certificate Recovery Charge (ZEC)"},"RGGI\nRecovery\nCharge (RRC)",null,null,null,"Service","Full Service"]
[null,null,null,null,null,null,null,null,null,null,null,null,null,null,null,null,null,null,null,null,null,null,null,null,null,"Rate Category","Description","Price Block","Charge","Transmission*","Distribution","Covid-19 Recovery","Capacity*",null,null,null,"SBC","LRAM","NGC","Total","Total"]
[null,null,null,null,null,null,null,null,null,null,null,null,null,null,null,null,null,null,null,null,null,null,null,null,null,"JC_RS__03D","Residential Service ","Customer Charge",{"$f":"'RS per Tariff'!C29","v":4.2699999999999996},null,null,null,null,null,null,null,null,null,null,{"$f":"AC28","v":4.2699999999999996},{"$f":"AC28","v":4.2699999999999996}]
[null,null,null,null,null,null,null,null,null,null,null,null,null,null,null,null,null,null,null,null,null,null,null,null,null,null,"Controlled Water Heating","Suppl Cust Charge",{"$f":"'RS per Tariff'!C31","v":2.23},null,null,null,null,null,null,null,null,null,null,{"$f":"AC29","v":2.23},{"$f":"AC29","v":2.23}]
[null,null,null,null,null,null,null,null,null,null,null,null,null,null,null,null,null,null,null,null,null,null,null,null,null,null,"All Taxes Applicable & Included",{"$f":"'RS per Tariff'!B33","v":"Summer kWh 0 - 600"},null,{"$f":"'RS per Tariff'!D33","v":1.9212E-2},{"$f":"'RS per Tariff'!E33","v":2.0181999999999999E-2},{"$f":"'RS per Tariff'!F33","v":3.5799999999999997E-4},{"$f":"'RS per Tariff'!G33","v":0.125888},{"$f":"'RS per Tariff'!H33","v":3.8999999999999999E-5},{"$f":"'RS per Tariff'!I33","v":0},{"$f":"'RS per Tariff'!J33","v":4.7289999999999997E-3},{"$f":"'RS per Tariff'!K33","v":7.7000000000000002E-3},{"$f":"'RS per Tariff'!L33","v":5.4600000000000004E-4},{"$f":"'RS per Tariff'!M33","v":-2.34E-4},{"$f":"SUM(AE30:AF30,AI30:AM30)","v":3.3280999999999998E-2},{"$f":"'RS per Tariff'!N33","v":0.17842000000000002},{"$f":"AO30-AN30-AG30-AH30-AD30","v":0}]
[null,null,null,null,null,null,null,null,null,null,null,null,null,null,null,null,null,null,null,null,null,null,null,null,null,null,null,{"$f":"'RS per Tariff'!B34","v":"Summer kWh > 600"},null,{"$f":"'RS per Tariff'!D34","v":1.9212E-2},{"$f":"'RS per Tariff'!E34","v":7.9810000000000006E-2},{"$f":"'RS per Tariff'!F34","v":3.5799999999999997E-4},{"$f":"'RS per Tariff'!G34","v":0.13511300000000001},{"$f":"'RS per Tariff'!H34","v":3.8999999999999999E-5},{"$f":"'RS per Tariff'!I34","v":0},{"$f":"'RS per Tariff'!J34","v":4.7289999999999997E-3},{"$f":"'RS per Tariff'!K34","v":7.7000000000000002E-3},{"$f":"'RS per Tariff'!L34","v":5.4600000000000004E-4},{"$f":"'RS per Tariff'!M34","v":-2.34E-4},9.2909000000000005E-2,{"$f":"'RS per Tariff'!N34","v":0.24727300000000002},{"$f":"AO31-AN31-AG31-AH31-AD31","v":0}]
[null,null,null,null,null,null,null,null,null,null,null,null,null,null,null,null,null,null,null,null,null,null,null,null,null,null,null,{"$f":"'RS per Tariff'!B35","v":"Winter kWh 0-1,000"},null,{"$f":"'RS per Tariff'!D35","v":1.9212E-2},{"$f":"'RS per Tariff'!E35","v":3.3061E-2},{"$f":"'RS per Tariff'!F35","v":3.5799999999999997E-4},{"$f":"'RS per Tariff'!G35","v":0.13681699999999999},{"$f":"'RS per Tariff'!H35","v":3.8999999999999999E-5},{"$f":"'RS per Tariff'!I35","v":0},{"$f":"'RS per Tariff'!J35","v":4.7289999999999997E-3},{"$f":"'RS per Tariff'!K35","v":7.7000000000000002E-3},{"$f":"'RS per Tariff'!L35","v":5.4600000000000004E-4},{"$f":"'RS per Tariff'!M35","v":-2.34E-4},4.6159999999999993E-2,{"$f":"'RS per Tariff'!N35","v":0.20222800000000002},4.5102810375396984E-17]
[null,null,null,null,null,null,null,null,null,null,null,null,null,null,null,null,null,null,null,null,null,null,null,null,null,null,null,{"$f":"'RS per Tariff'!B36","v":"Winter kWh > 1,000"},null,{"$f":"'RS per Tariff'!D36","v":1.9212E-2},{"$f":"'RS per Tariff'!E36","v":3.3061E-2},{"$f":"'RS per Tariff'!F36","v":3.5799999999999997E-4},{"$f":"'RS per Tariff'!G36","v":0.13681699999999999},{"$f":"'RS per Tariff'!H36","v":3.8999999999999999E-5},{"$f":"'RS per Tariff'!I36","v":0},{"$f":"'RS per Tariff'!J36","v":4.7289999999999997E-3},{"$f":"'RS per Tariff'!K36","v":7.7000000000000002E-3},{"$f":"'RS per Tariff'!L36","v":5.4600000000000004E-4},{"$f":"'RS per Tariff'!M36","v":-2.34E-4},4.6159999999999993E-2,{"$f":"'RS per Tariff'!N36","v":0.20222800000000002},4.5102810375396984E-17]
[null,null,null,null,null,null,null,null,null,null,null,null,null,null,null,null,null,null,null,null,null,null,null,null,null,null,null,{"$f":"'RS per Tariff'!B39","v":"Summer CTWH kWh"},null,{"$f":"'RS per Tariff'!D39","v":1.9212E-2},{"$f":"'RS per Tariff'!E39","v":2.9064E-2},{"$f":"'RS per Tariff'!F39","v":3.5799999999999997E-4},{"$f":"'RS per Tariff'!G39","v":0.128414},{"$f":"'RS per Tariff'!H39","v":3.8999999999999999E-5},{"$f":"'RS per Tariff'!I39","v":0},{"$f":"'RS per Tariff'!J39","v":4.7289999999999997E-3},{"$f":"'RS per Tariff'!K39","v":7.7000000000000002E-3},{"$f":"'RS per Tariff'!L39","v":5.4600000000000004E-4},{"$f":"'RS per Tariff'!M39","v":-2.34E-4},4.2162999999999999E-2,{"$f":"'RS per Tariff'!N39","v":0.189828},0]
[null,null,null,null,null,null,null,null,null,null,null,null,null,null,null,null,null,null,null,null,null,null,null,null,null,null,null,{"$f":"'RS per Tariff'!B40","v":"Winter CTWH kWh"},null,{"$f":"'RS per Tariff'!D40","v":1.9212E-2},{"$f":"'RS per Tariff'!E40","v":2.9064E-2},{"$f":"'RS per Tariff'!F40","v":3.5799999999999997E-4},{"$f":"'RS per Tariff'!G40","v":0.12782199999999999},{"$f":"'RS per Tariff'!H40","v":3.8999999999999999E-5},{"$f":"'RS per Tariff'!I40","v":0},{"$f":"'RS per Tariff'!J40","v":4.7289999999999997E-3},{"$f":"'RS per Tariff'!K40","v":7.7000000000000002E-3},{"$f":"'RS per Tariff'!L40","v":5.4600000000000004E-4},{"$f":"'RS per Tariff'!M40","v":-2.34E-4},4.2162999999999999E-2,{"$f":"'RS per Tariff'!N40","v":0.18923600000000002},0]
[null,null,null,null,null,null,null,null,null,null,null,null,null,null,null,null,null,null,null,null,null,null,null,null,null,null,null,null,"* Charge applies only to Full Service Customers"]
[]
[null,null,null,null,null,null,null,null,null,null,null,null,null,null,null,null,null,null,null,null,null,null,null,null,null,null,null,null,null,null,null,{"$f":"AF$2","v":"Rates Effective with Service Rendered June 1, 2025"},null,null,null,null,null,null,null,"Delivery"]
[null,null,null,null,null,null,null,null,null,null,null,null,null,null,null,null,null,null,null,null,null,null,null,null,null,null,null,"Charge or","Customer",null,null,null,"Energy &","BGS-FP Reconciliation Charge*",{"$f":"AI3","v":"Zero Emission Certificate Recovery Charge (ZEC)"},"RGGI\nRecovery\nCharge (RRC)",null,null,null,"Service","Full Service"]
[null,null,null,null,null,null,null,null,null,null,null,null,null,null,null,null,null,null,null,null,null,null,null,null,null,"Rate Category","Description","Price Block","Charge","Transmission*","Distribution","Covid-19 Recovery","Capacity*",null,null,null,"SBC","LRAM","NGC","Total","Total"]
[null,null,null,null,null,null,null,null,null,null,null,null,null,null,null,null,null,null,null,null,null,null,null,null,null,"JC_RS__05D","Residential Service ","Customer Charge",{"$f":"'RS per Tariff'!C29","v":4.2699999999999996},null,null,null,null,null,null,null,null,null,null,{"$f":"AC41","v":4.2699999999999996},{"$f":"AC41","v":4.2699999999999996}]
[null,null,null,null,null,null,null,null,null,null,null,null,null,null,null,null,null,null,null,null,null,null,null,null,null,null,"All Electric",{"$f":"'RS per Tariff'!B33","v":"Summer kWh 0 - 600"},null,{"$f":"'RS per Tariff'!D33","v":1.9212E-2},{"$f":"'RS per Tariff'!E33","v":2.0181999999999999E-2},{"$f":"'RS per Tariff'!F33","v":3.5799999999999997E-4},{"$f":"'RS per Tariff'!G33","v":0.125888},{"$f":"'RS per Tariff'!H33","v":3.8999999999999999E-5},{"$f":"'RS per Tariff'!I33","v":0},{"$f":"'RS per Tariff'!J33","v":4.7289999999999997E-3},{"$f":"'RS per Tariff'!K33","v":7.7000000000000002E-3},{"$f":"'RS per Tariff'!L33","v":5.4600000000000004E-4},{"$f":"'RS per Tariff'!M33","v":-2.34E-4},{"$f":"SUM(AE42:AF42,AI42:AM42)","v":3.3280999999999998E-2},{"$f":"'RS per Tariff'!N33","v":0.17842000000000002},{"$f":"AO42-AN42-AG42-AH42-AD42","v":0}]
[null,null,null,null,null,null,null,null,null,null,null,null,null,null,null,null,null,null,null,null,null,null,null,null,null,null,"All Taxes Applicable & Included",{"$f":"'RS per Tariff'!B34","v":"Summer kWh > 600"},null,{"$f":"'RS per Tariff'!D34","v":1.9212E-2},{"$f":"'RS per Tariff'!E34","v":7.9810000000000006E-2},{"$f":"'RS per Tariff'!F34","v":3.5799999999999997E-4},{"$f":"'RS per Tariff'!G34","v":0.13511300000000001},{"$f":"'RS per Tariff'!H34","v":3.8999999999999999E-5},{"$f":"'RS per Tariff'!I34","v":0},{"$f":"'RS per Tariff'!J34","v":4.7289999999999997E-3},{"$f":"'RS per Tariff'!K34","v":7.7000000000000002E-3},{"$f":"'RS per Tariff'!L34","v":5.4600000000000004E-4},{"$f":"'RS per Tariff'!M34","v":-2.34E-4},9.2909000000000005E-2,{"$f":"'RS per Tariff'!N34","v":0.24727300000000002},0]
[null,null,null,null,null,null,null,null,null,null,null,null,null,null,null,null,null,null,null,null,null,null,null,null,null,null,null,{"$f":"'RS per Tariff'!B35","v":"Winter kWh 0-1,000"},null,{"$f":"'RS per Tariff'!D35","v":1.9212E-2},{"$f":"'RS per Tariff'!E35","v":3.3061E-2},{"$f":"'RS per Tariff'!F35","v":3.5799999999999997E-4},{"$f":"'RS per Tariff'!G35","v":0.13681699999999999},{"$f":"'RS per Tariff'!H35","v":3.8999999999999999E-5},{"$f":"'RS per Tariff'!I35","v":0},{"$f":"'RS per Tariff'!J35","v":4.7289999999999997E-3},{"$f":"'RS per Tariff'!K35","v":7.7000000000000002E-3},{"$f":"'RS per Tariff'!L35","v":5.4600000000000004E-4},{"$f":"'RS per Tariff'!M35","v":-2.34E-4},4.6159999999999993E-2,{"$f":"'RS per Tariff'!N35","v":0.20222800000000002},4.5102810375396984E-17]
[null,null,null,null,null,null,null,null,null,null,null,null,null,null,null,null,null,null,null,null,null,null,null,null,null,null,null,{"$f":"'RS per Tariff'!B36","v":"Winter kWh > 1,000"},null,{"$f":"'RS per Tariff'!D36","v":1.9212E-2},{"$f":"'RS per Tariff'!E36","v":3.3061E-2},{"$f":"'RS per Tariff'!F36","v":3.5799999999999997E-4},{"$f":"'RS per Tariff'!G36","v":0.13681699999999999},{"$f":"'RS per Tariff'!H36","v":3.8999999999999999E-5},{"$f":"'RS per Tariff'!I36","v":0},{"$f":"'RS per Tariff'!J36","v":4.7289999999999997E-3},{"$f":"'RS per Tariff'!K36","v":7.7000000000000002E-3},{"$f":"'RS per Tariff'!L36","v":5.4600000000000004E-4},{"$f":"'RS per Tariff'!M36","v":-2.34E-4},4.6159999999999993E-2,{"$f":"'RS per Tariff'!N36","v":0.20222800000000002},4.5102810375396984E-17]
[]
[null,null,null,null,null,null,null,null,null,null,null,null,null,null,null,null,null,null,null,null,null,null,null,null,null,null,null,null,"* Charge applies only to Full Service Customers"]
[]
[null,null,null,null,null,null,null,null,null,null,null,null,null,null,null,null,null,null,null,null,null,null,null,null,null,null,null,null,null,null,null,{"$f":"AF$2","v":"Rates Effective with Service Rendered June 1, 2025"},null,null,null,null,null,null,null,"Delivery"]
[null,null,null,null,null,null,null,null,null,null,null,null,null,null,null,null,null,null,null,null,null,null,null,null,null,null,null,"Charge or","Customer",null,null,null,"Energy &","BGS-FP Reconciliation Charge*",{"$f":"$AI$3","v":"Zero Emission Certificate Recovery Charge (ZEC)"},"RGGI\nRecovery\nCharge (RRC)",null,null,null,"Service","Full Service"]
[null,null,null,null,null,null,null,null,null,null,null,null,null,null,null,null,null,null,null,null,null,null,null,null,null,"Rate Category","Description","Price Block","Charge","Transmission*","Distribution","Covid-19 Recovery","Capacity*",null,null,null,"SBC","LRAM","NGC","Total","Total"]
[null,null,null,null,null,null,null,null,null,null,null,null,null,null,null,null,null,null,null,null,null,null,null,null,null,"JC_RS__06D","Residential Service ","Customer Charge",{"$f":"'RS per Tariff'!C29","v":4.2699999999999996},null,null,null,null,null,null,null,null,null,null,{"$f":"AC52","v":4.2699999999999996},{"$f":"AC52","v":4.2699999999999996}]
[null,null,null,null,null,null,null,null,null,null,null,null,null,null,null,null,null,null,null,null,null,null,null,null,null,null,"All Electric","Suppl Cust Charge",{"$f":"'RS per Tariff'!C31","v":2.23},null,null,null,null,null,null,null,null,null,null,{"$f":"AC53","v":2.23},{"$f":"AC53","v":2.23}]
[null,null,null,null,null,null,null,null,null,null,null,null,null,null,null,null,null,null,null,null,null,null,null,null,null,null,"Controlled Water Heating",{"$f":"'RS per Tariff'!B33","v":"Summer kWh 0 - 600"},null,{"$f":"'RS per Tariff'!D33","v":1.9212E-2},{"$f":"'RS per Tariff'!E33","v":2.0181999999999999E-2},{"$f":"'RS per Tariff'!F33","v":3.5799999999999997E-4},{"$f":"'RS per Tariff'!G33","v":0.125888},{"$f":"'RS per Tariff'!H33","v":3.8999999999999999E-5},{"$f":"'RS per Tariff'!I33","v":0},{"$f":"'RS per Tariff'!J33","v":4.7289999999999997E-3},{"$f":"'RS per Tariff'!K33","v":7.7000000000000002E-3},{"$f":"'RS per Tariff'!L33","v":5.4600000000000004E-4},{"$f":"'RS per Tariff'!M33","v":-2.34E-4},{"$f":"SUM(AE54:AF54,AI54:AM54)","v":3.3280999999999998E-2},{"$f":"'RS per Tariff'!N33","v":0.17842000000000002},{"$f":"AO54-AN54-AG54-AH54-AD54","v":0}]
[null,null,null,null,null,null,null,null,null,null,null,null,null,null,null,null,null,null,null,null,null,null,null,null,null,null,"All Taxes Applicable & Included",{"$f":"'RS per Tariff'!B34","v":"Summer kWh > 600"},null,{"$f":"'RS per Tariff'!D34","v":1.9212E-2},{"$f":"'RS per Tariff'!E34","v":7.9810000000000006E-2},{"$f":"'RS per Tariff'!F34","v":3.5799999999999997E-4},{"$f":"'RS per Tariff'!G34","v":0.13511300000000001},{"$f":"'RS per Tariff'!H34","v":3.8999999999999999E-5},{"$f":"'RS per Tariff'!I34","v":0},{"$f":"'RS per Tariff'!J34","v":4.7289999999999997E-3},{"$f":"'RS per Tariff'!K34","v":7.7000000000000002E-3},{"$f":"'RS per Tariff'!L34","v":5.4600000000000004E-4},{"$f":"'RS per Tariff'!M34","v":-2.34E-4},9.2909000000000005E-2,{"$f":"'RS per Tariff'!N34","v":0.24727300000000002},0]
[null,null,null,null,null,null,null,null,null,null,null,null,null,null,null,null,null,null,null,null,null,null,null,null,null,null,null,{"$f":"'RS per Tariff'!B35","v":"Winter kWh 0-1,000"},null,{"$f":"'RS per Tariff'!D35","v":1.9212E-2},{"$f":"'RS per Tariff'!E35","v":3.3061E-2},{"$f":"'RS per Tariff'!F35","v":3.5799999999999997E-4},{"$f":"'RS per Tariff'!G35","v":0.13681699999999999},{"$f":"'RS per Tariff'!H35","v":3.8999999999999999E-5},{"$f":"'RS per Tariff'!I35","v":0},{"$f":"'RS per Tariff'!J35","v":4.7289999999999997E-3},{"$f":"'RS per Tariff'!K35","v":7.7000000000000002E-3},{"$f":"'RS per Tariff'!L35","v":5.4600000000000004E-4},{"$f":"'RS per Tariff'!M35","v":-2.34E-4},4.6159999999999993E-2,{"$f":"'RS per Tariff'!N35","v":0.20222800000000002},4.5102810375396984E-17]
[null,null,null,null,null,null,null,null,null,null,null,null,null,null,null,null,null,null,null,null,null,null,null,null,null,null,null,{"$f":"'RS per Tariff'!B36","v":"Winter kWh > 1,000"},null,{"$f":"'RS per Tariff'!D36","v":1.9212E-2},{"$f":"'RS per Tariff'!E36","v":3.3061E-2},{"$f":"'RS per Tariff'!F36","v":3.5799999999999997E-4},{"$f":"'RS per Tariff'!G36","v":0.13681699999999999},{"$f":"'RS per Tariff'!H36","v":3.8999999999999999E-5},{"$f":"'RS per Tariff'!I36","v":0},{"$f":"'RS per Tariff'!J36","v":4.7289999999999997E-3},{"$f":"'RS per Tariff'!K36","v":7.7000000000000002E-3},{"$f":"'RS per Tariff'!L36","v":5.4600000000000004E-4},{"$f":"'RS per Tariff'!M36","v":-2.34E-4},4.6159999999999993E-2,{"$f":"'RS per Tariff'!N36","v":0.20222800000000002},4.5102810375396984E-17]
[null,null,null,null,null,null,null,null,null,null,null,null,null,null,null,null,null,null,null,null,null,null,null,null,null,null,null,{"$f":"'RS per Tariff'!B39","v":"Summer CTWH kWh"},null,{"$f":"'RS per Tariff'!D39","v":1.9212E-2},{"$f":"'RS per Tariff'!E39","v":2.9064E-2},{"$f":"'RS per Tariff'!F39","v":3.5799999999999997E-4},{"$f":"'RS per Tariff'!G39","v":0.128414},{"$f":"'RS per Tariff'!H39","v":3.8999999999999999E-5},{"$f":"'RS per Tariff'!I39","v":0},{"$f":"'RS per Tariff'!J39","v":4.7289999999999997E-3},{"$f":"'RS per Tariff'!K39","v":7.7000000000000002E-3},{"$f":"'RS per Tariff'!L39","v":5.4600000000000004E-4},{"$f":"'RS per Tariff'!M39","v":-2.34E-4},4.2162999999999999E-2,{"$f":"'RS per Tariff'!N39","v":0.189828},0]
[null,null,null,null,null,null,null,null,null,null,null,null,null,null,null,null,null,null,null,null,null,null,null,null,null,null,null,{"$f":"'RS per Tariff'!B40","v":"Winter CTWH kWh"},null,{"$f":"'RS per Tariff'!D40","v":1.9212E-2},{"$f":"'RS per Tariff'!E40","v":2.9064E-2},{"$f":"'RS per Tariff'!F40","v":3.5799999999999997E-4},{"$f":"'RS per Tariff'!G40","v":0.12782199999999999},{"$f":"'RS per Tariff'!H40","v":3.8999999999999999E-5},{"$f":"'RS per Tariff'!I40","v":0},{"$f":"'RS per Tariff'!J40","v":4.7289999999999997E-3},{"$f":"'RS per Tariff'!K40","v":7.7000000000000002E-3},{"$f":"'RS per Tariff'!L40","v":5.4600000000000004E-4},{"$f":"'RS per Tariff'!M40","v":-2.34E-4},4.2162999999999999E-2,{"$f":"'RS per Tariff'!N40","v":0.18923600000000002},0]
[null,null,null,null,null,null,null,null,null,null,null,null,null,null,null,null,null,null,null,null,null,null,null,null,null,null,null,null,"* Charge applies only to Full Service Customers"]
[]
[null,null,null,null,null,null,null,null,null,null,null,null,null,null,null,null,null,null,null,null,null,null,null,null,null,null,null,null,null,null,null,{"$f":"AF$2","v":"Rates Effective with Service Rendered June 1, 2025"},null,null,null,null,null,null,null,"Delivery"]
[null,null,null,null,null,null,null,null,null,null,null,null,null,null,null,null,null,null,null,null,null,null,null,null,null,null,null,"Charge or","Customer",null,null,null,"Energy &","BGS-FP Reconciliation Charge*",{"$f":"AI3","v":"Zero Emission Certificate Recovery Charge (ZEC)"},"RGGI\nRecovery\nCharge (RRC)",null,null,null,"Service","Full Service"]
[null,null,null,null,null,null,null,null,null,null,null,null,null,null,null,null,null,null,null,null,null,null,null,null,null,"Rate Category","Description","Price Block","Charge","Transmission*","Distribution","Covid-19 Recovery","Capacity*",null,null,null,"SBC","LRAM","NGC","Total","Total"]
[null,null,null,null,null,null,null,null,null,null,null,null,null,null,null,null,null,null,null,null,null,null,null,null,null,"JC_RS__07D","Residential Service ","Customer Charge",{"$f":"'RS per Tariff'!C29","v":4.2699999999999996},null,null,null,null,null,null,null,null,null,null,{"$f":"AC65","v":4.2699999999999996},{"$f":"AC65","v":4.2699999999999996}]
[null,null,null,null,null,null,null,null,null,null,null,null,null,null,null,null,null,null,null,null,null,null,null,null,null,null,"All Electric","Suppl Cust Charge",{"$f":"'RS per Tariff'!C30","v":2.23},null,null,null,null,null,null,null,null,null,null,{"$f":"AC66","v":2.23},{"$f":"AC66","v":2.23}]
[null,null,null,null,null,null,null,null,null,null,null,null,null,null,null,null,null,null,null,null,null,null,null,null,null,null,"Off-Peak Water Heating",{"$f":"'RS per Tariff'!B33","v":"Summer kWh 0 - 600"},null,{"$f":"'RS per Tariff'!D33","v":1.9212E-2},{"$f":"'RS per Tariff'!E33","v":2.0181999999999999E-2},{"$f":"'RS per Tariff'!F33","v":3.5799999999999997E-4},{"$f":"'RS per Tariff'!G33","v":0.125888},{"$f":"'RS per Tariff'!H33","v":3.8999999999999999E-5},{"$f":"'RS per Tariff'!I33","v":0},{"$f":"'RS per Tariff'!J33","v":4.7289999999999997E-3},{"$f":"'RS per Tariff'!K33","v":7.7000000000000002E-3},{"$f":"'RS per Tariff'!L33","v":5.4600000000000004E-4},{"$f":"'RS per Tariff'!M33","v":-2.34E-4},{"$f":"SUM(AE67:AF67,AI67:AM67)","v":3.3280999999999998E-2},{"$f":"'RS per Tariff'!N33","v":0.17842000000000002},{"$f":"AO67-AN67-AG67-AH67-AD67","v":0}]
[null,null,null,null,null,null,null,null,null,null,null,null,null,null,null,null,null,null,null,null,null,null,null,null,null,null,"All Taxes Applicable & Included",{"$f":"'RS per Tariff'!B34","v":"Summer kWh > 600"},null,{"$f":"'RS per Tariff'!D34","v":1.9212E-2},{"$f":"'RS per Tariff'!E34","v":7.9810000000000006E-2},{"$f":"'RS per Tariff'!F34","v":3.5799999999999997E-4},{"$f":"'RS per Tariff'!G34","v":0.13511300000000001},{"$f":"'RS per Tariff'!H34","v":3.8999999999999999E-5},{"$f":"'RS per Tariff'!I34","v":0},{"$f":"'RS per Tariff'!J34","v":4.7289999999999997E-3},{"$f":"'RS per Tariff'!K34","v":7.7000000000000002E-3},{"$f":"'RS per Tariff'!L34","v":5.4600000000000004E-4},{"$f":"'RS per Tariff'!M34","v":-2.34E-4},9.2909000000000005E-2,{"$f":"'RS per Tariff'!N34","v":0.24727300000000002},0]
[null,null,null,null,null,null,null,null,null,null,null,null,null,null,null,null,null,null,null,null,null,null,null,null,null,null,null,{"$f":"'RS per Tariff'!B35","v":"Winter kWh 0-1,000"},null,{"$f":"'RS per Tariff'!D35","v":1.9212E-2},{"$f":"'RS per Tariff'!E35","v":3.3061E-2},{"$f":"'RS per Tariff'!F35","v":3.5799999999999997E-4},{"$f":"'RS per Tariff'!G35","v":0.13681699999999999},{"$f":"'RS per Tariff'!H35","v":3.8999999999999999E-5},{"$f":"'RS per Tariff'!I35","v":0},{"$f":"'RS per Tariff'!J35","v":4.7289999999999997E-3},{"$f":"'RS per Tariff'!K35","v":7.7000000000000002E-3},{"$f":"'RS per Tariff'!L35","v":5.4600000000000004E-4},{"$f":"'RS per Tariff'!M35","v":-2.34E-4},4.6159999999999993E-2,{"$f":"'RS per Tariff'!N35","v":0.20222800000000002},4.5102810375396984E-17]
[null,null,null,null,null,null,null,null,null,null,null,null,null,null,null,null,null,null,null,null,null,null,null,null,null,null,null,{"$f":"'RS per Tariff'!B36","v":"Winter kWh > 1,000"},null,{"$f":"'RS per Tariff'!D36","v":1.9212E-2},{"$f":"'RS per Tariff'!E36","v":3.3061E-2},{"$f":"'RS per Tariff'!F36","v":3.5799999999999997E-4},{"$f":"'RS per Tariff'!G36","v":0.13681699999999999},{"$f":"'RS per Tariff'!H36","v":3.8999999999999999E-5},{"$f":"'RS per Tariff'!I36","v":0},{"$f":"'RS per Tariff'!J36","v":4.7289999999999997E-3},{"$f":"'RS per Tariff'!K36","v":7.7000000000000002E-3},{"$f":"'RS per Tariff'!L36","v":5.4600000000000004E-4},{"$f":"'RS per Tariff'!M36","v":-2.34E-4},4.6159999999999993E-2,{"$f":"'RS per Tariff'!N36","v":0.20222800000000002},4.5102810375396984E-17]
[null,null,null,null,null,null,null,null,null,null,null,null,null,null,null,null,null,null,null,null,null,null,null,null,null,null,null,{"$f":"'RS per Tariff'!B37","v":"Summer OPWH kWh"},null,{"$f":"'RS per Tariff'!D37","v":1.9212E-2},{"$f":"'RS per Tariff'!E37","v":2.2065999999999999E-2},{"$f":"'RS per Tariff'!F37","v":3.5799999999999997E-4},{"$f":"'RS per Tariff'!G37","v":0.128414},{"$f":"'RS per Tariff'!H37","v":3.8999999999999999E-5},{"$f":"'RS per Tariff'!I37","v":0},{"$f":"'RS per Tariff'!J37","v":4.7289999999999997E-3},{"$f":"'RS per Tariff'!K37","v":7.7000000000000002E-3},{"$f":"'RS per Tariff'!L37","v":5.4600000000000004E-4},{"$f":"'RS per Tariff'!M37","v":-2.34E-4},3.5165000000000002E-2,{"$f":"'RS per Tariff'!N37","v":0.18282999999999999},0]
[null,null,null,null,null,null,null,null,null,null,null,null,null,null,null,null,null,null,null,null,null,null,null,null,null,null,null,{"$f":"'RS per Tariff'!B38","v":"Winter OPWH kWh"},null,{"$f":"'RS per Tariff'!D38","v":1.9212E-2},{"$f":"'RS per Tariff'!E38","v":2.2065999999999999E-2},{"$f":"'RS per Tariff'!F38","v":3.5799999999999997E-4},{"$f":"'RS per Tariff'!G38","v":0.12782199999999999},{"$f":"'RS per Tariff'!H38","v":3.8999999999999999E-5},{"$f":"'RS per Tariff'!I38","v":0},{"$f":"'RS per Tariff'!J38","v":4.7289999999999997E-3},{"$f":"'RS per Tariff'!K38","v":7.7000000000000002E-3},{"$f":"'RS per Tariff'!L38","v":5.4600000000000004E-4},{"$f":"'RS per Tariff'!M38","v":-2.34E-4},3.5165000000000002E-2,{"$f":"'RS per Tariff'!N38","v":0.18223800000000001},0]
[null,null,null,null,null,null,null,null,null,null,null,null,null,null,null,null,null,null,null,null,null,null,null,null,null,null,null,null,"* Charge applies only to Full Service Customers"]
[]
[null,null,null,null,null,null,null,null,null,null,null,null,null,null,null,null,null,null,null,null,null,null,null,null,null,null,null,null,null,null,null,{"$f":"AF$2","v":"Rates Effective with Service Rendered June 1, 2025"},null,null,null,null,null,null,null,"Delivery"]
[null,null,null,null,null,null,"These rate",null,null,null,null,null,null,null,null,null,null,null,null,null,null,null,null,null,null,null,null,"Charge or","Customer",null,null,null,"Energy &","BGS-FP Reconciliation Charge*",{"$f":"AI13","v":"Zero Emission Certificate Recovery Charge (ZEC)"},"RGGI\nRecovery\nCharge (RRC)",null,null,null,"Service","Full Service"]
[null,null,null,null,null,null,"categories",null,null,null,null,null,null,null,null,null,null,null,null,null,null,null,null,null,null,"Rate Category","Description","Price Block","Charge","Transmission*","Distribution","Covid-19 Recovery","Capacity*",null,null,null,"SBC","LRAM","NGC","Total","Total"]
[null,null,null,null,null,null,"have not",null,null,null,null,null,null,null,null,null,null,null,null,null,null,null,null,null,null,"JC_RS_G01D","Residential Service ","Customer Charge",{"$f":"'RS per Tariff'!C12","v":4},null,null,null,null,null,null,null,null,null,null,{"$f":"AC78","v":4},{"$f":"AC78","v":4}]
[null,null,null,null,null,null,"yet been",null,null,null,null,null,null,null,null,null,null,null,null,null,null,null,null,null,null,null,"No Special Provisions",{"$f":"'RS per Tariff'!B16","v":"Summer kWh 0 - 600"},null,{"$f":"'RS per Tariff'!D16","v":1.8019E-2},{"$f":"'RS per Tariff'!E16","v":1.8928E-2},{"$f":"'RS per Tariff'!F16","v":3.3599999999999998E-4},{"$f":"'RS per Tariff'!G16","v":0.118066},{"$f":"'RS per Tariff'!H16","v":3.6999999999999998E-5},{"$f":"'RS per Tariff'!I16","v":0},{"$f":"'RS per Tariff'!J16","v":4.4350000000000006E-3},{"$f":"'RS per Tariff'!K16","v":7.2230000000000003E-3},{"$f":"'RS per Tariff'!L16","v":5.1199999999999998E-4},{"$f":"'RS per Tariff'!M16","v":-2.1900000000000001E-4},{"$f":"SUM(AE79:AF79,AI79:AM79)","v":3.1215000000000003E-2},{"$f":"'RS per Tariff'!N16","v":0.16733700000000004},{"$f":"AO79-AN79-AG79-AH79-AD79","v":4.5102810375396984E-17}]
[null,null,null,null,null,null,"completed.",null,null,null,null,null,null,null,null,null,null,null,null,null,null,null,null,null,null,null,"Sales & Use Tax (SUT) Exempt**",{"$f":"'RS per Tariff'!B17","v":"Summer kWh > 600"},null,{"$f":"'RS per Tariff'!D17","v":1.8019E-2},{"$f":"'RS per Tariff'!E17","v":7.4851000000000001E-2},{"$f":"'RS per Tariff'!F17","v":3.3599999999999998E-4},{"$f":"'RS per Tariff'!G17","v":0.126718},{"$f":"'RS per Tariff'!H17","v":3.6999999999999998E-5},{"$f":"'RS per Tariff'!I17","v":0},{"$f":"'RS per Tariff'!J17","v":4.4350000000000006E-3},{"$f":"'RS per Tariff'!K17","v":7.2230000000000003E-3},{"$f":"'RS per Tariff'!L17","v":5.1199999999999998E-4},{"$f":"'RS per Tariff'!M17","v":-2.1900000000000001E-4},8.7138000000000007E-2,{"$f":"'RS per Tariff'!N17","v":0.23191200000000003},0]
[null,null,null,null,null,null,"Rates are",null,null,null,null,null,null,null,null,null,null,null,null,null,null,null,null,null,null,null,null,{"$f":"'RS per Tariff'!B18","v":"Winter kWh 0-1,000"},null,{"$f":"'RS per Tariff'!D18","v":1.8019E-2},{"$f":"'RS per Tariff'!E18","v":3.1007E-2},{"$f":"'RS per Tariff'!F18","v":3.3599999999999998E-4},{"$f":"'RS per Tariff'!G18","v":0.12831600000000001},{"$f":"'RS per Tariff'!H18","v":3.6999999999999998E-5},{"$f":"'RS per Tariff'!I18","v":0},{"$f":"'RS per Tariff'!J18","v":4.4350000000000006E-3},{"$f":"'RS per Tariff'!K18","v":7.2230000000000003E-3},{"$f":"'RS per Tariff'!L18","v":5.1199999999999998E-4},{"$f":"'RS per Tariff'!M18","v":-2.1900000000000001E-4},4.3294000000000006E-2,{"$f":"'RS per Tariff'!N18","v":0.18966600000000003},0]
[null,null,null,null,null,null,"identical to",null,null,null,null,null,null,null,null,null,null,null,null,null,null,null,null,null,null,null,null,{"$f":"'RS per Tariff'!B19","v":"Winter kWh > 1,000"},null,{"$f":"'RS per Tariff'!D19","v":1.8019E-2},{"$f":"'RS per Tariff'!E19","v":3.1007E-2},{"$f":"'RS per Tariff'!F19","v":3.3599999999999998E-4},{"$f":"'RS per Tariff'!G19","v":0.12831600000000001},{"$f":"'RS per Tariff'!H19","v":3.6999999999999998E-5},{"$f":"'RS per Tariff'!I19","v":0},{"$f":"'RS per Tariff'!J19","v":4.4350000000000006E-3},{"$f":"'RS per Tariff'!K19","v":7.2230000000000003E-3},{"$f":"'RS per Tariff'!L19","v":5.1199999999999998E-4},{"$f":"'RS per Tariff'!M19","v":-2.1900000000000001E-4},4.3294000000000006E-2,{"$f":"'RS per Tariff'!N19","v":0.18966600000000003},0]
[null,null,null,null,null,null,"the rate",null,null,null,null,null,null,null,null,null,null,null,null,null,null,null,null,null,null,null,null,"* Charge applies only to Full Service Customers",null,null,"** Applies primarily to Federal Government Accounts.  Refer to Tariff Part III Rider SUT for more details."]
[null,null,null,null,null,null,"categories"]
[null,null,null,null,null,null,"to their left",null,null,null,null,null,null,null,null,null,null,null,null,null,null,null,null,null,null,null,null,null,null,null,null,{"$f":"AF$2","v":"Rates Effective with Service Rendered June 1, 2025"},null,null,null,null,null,null,null,"Delivery"]
[null,null,null,null,null,null,"except for ",null,null,null,null,null,null,null,null,null,null,null,null,null,null,null,null,null,null,null,null,"Charge or","Customer",null,null,null,"Energy &","BGS-FP Reconciliation Charge*",{"$f":"$AI$3","v":"Zero Emission Certificate Recovery Charge (ZEC)"},"RGGI\nRecovery\nCharge (RRC)",null,null,null,"Service","Full Service"]
[null,null,null,null,null,null,"the higher",null,null,null,null,null,null,null,null,null,null,null,null,null,null,null,null,null,null,"Rate Category","Description","Price Block","Charge","Transmission*","Distribution","Covid-19 Recovery","Capacity*",null,null,null,"SBC","LRAM","NGC","Total","Total"]
[null,null,null,null,null,null,"3 Phase",null,null,null,null,null,null,null,null,null,null,null,null,null,null,null,null,null,null,"JC_RS_G05D","Residential Service ","Customer Charge",{"$f":"'RS per Tariff'!C12","v":4},null,null,null,null,null,null,null,null,null,null,{"$f":"AC88","v":4},{"$f":"AC88","v":4}]
[null,null,null,null,null,null,"customer",null,null,null,null,null,null,null,null,null,null,null,null,null,null,null,null,null,null,null,"All Electric",{"$f":"'RS per Tariff'!B16","v":"Summer kWh 0 - 600"},null,{"$f":"'RS per Tariff'!D16","v":1.8019E-2},{"$f":"'RS per Tariff'!E16","v":1.8928E-2},{"$f":"'RS per Tariff'!F16","v":3.3599999999999998E-4},{"$f":"'RS per Tariff'!G16","v":0.118066},{"$f":"'RS per Tariff'!H16","v":3.6999999999999998E-5},{"$f":"'RS per Tariff'!I16","v":0},{"$f":"'RS per Tariff'!J16","v":4.4350000000000006E-3},{"$f":"'RS per Tariff'!K16","v":7.2230000000000003E-3},{"$f":"'RS per Tariff'!L16","v":5.1199999999999998E-4},{"$f":"'RS per Tariff'!M16","v":-2.1900000000000001E-4},{"$f":"SUM(AE89:AF89,AI89:AM89)","v":3.1215000000000003E-2},{"$f":"'RS per Tariff'!N16","v":0.16733700000000004},{"$f":"AO89-AN89-AG89-AH89-AD89","v":4.5102810375396984E-17}]
[null,null,null,null,null,null,"charges -",null,null,null,null,null,null,null,null,null,null,null,null,null,null,null,null,null,null,null,"Sales & Use Tax (SUT) Exempt**",{"$f":"'RS per Tariff'!B17","v":"Summer kWh > 600"},null,{"$f":"'RS per Tariff'!D17","v":1.8019E-2},{"$f":"'RS per Tariff'!E17","v":7.4851000000000001E-2},{"$f":"'RS per Tariff'!F17","v":3.3599999999999998E-4},{"$f":"'RS per Tariff'!G17","v":0.126718},{"$f":"'RS per Tariff'!H17","v":3.6999999999999998E-5},{"$f":"'RS per Tariff'!I17","v":0},{"$f":"'RS per Tariff'!J17","v":4.4350000000000006E-3},{"$f":"'RS per Tariff'!K17","v":7.2230000000000003E-3},{"$f":"'RS per Tariff'!L17","v":5.1199999999999998E-4},{"$f":"'RS per Tariff'!M17","v":-2.1900000000000001E-4},8.7138000000000007E-2,{"$f":"'RS per Tariff'!N17","v":0.23191200000000003},0]
[null,null,null,null,null,null,{"$f":"'GS FP per Tariff'!C13","v":15.08},null,null,null,null,null,null,null,null,null,null,null,null,null,null,null,null,null,null,null,null,{"$f":"'RS per Tariff'!B18","v":"Winter kWh 0-1,000"},null,{"$f":"'RS per Tariff'!D18","v":1.8019E-2},{"$f":"'RS per Tariff'!E18","v":3.1007E-2},{"$f":"'RS per Tariff'!F18","v":3.3599999999999998E-4},{"$f":"'RS per Tariff'!G18","v":0.12831600000000001},{"$f":"'RS per Tariff'!H18","v":3.6999999999999998E-5},{"$f":"'RS per Tariff'!I18","v":0},{"$f":"'RS per Tariff'!J18","v":4.4350000000000006E-3},{"$f":"'RS per Tariff'!K18","v":7.2230000000000003E-3},{"$f":"'RS per Tariff'!L18","v":5.1199999999999998E-4},{"$f":"'RS per Tariff'!M18","v":-2.1900000000000001E-4},4.3294000000000006E-2,{"$f":"'RS per Tariff'!N18","v":0.18966600000000003},0]
[null,null,null,null,null,null,"for F series and",null,null,null,null,null,null,null,null,null,null,null,null,null,null,null,null,null,null,null,null,{"$f":"'RS per Tariff'!B19","v":"Winter kWh > 1,000"},null,{"$f":"'RS per Tariff'!D19","v":1.8019E-2},{"$f":"'RS per Tariff'!E19","v":3.1007E-2},{"$f":"'RS per Tariff'!F19","v":3.3599999999999998E-4},{"$f":"'RS per Tariff'!G19","v":0.12831600000000001},{"$f":"'RS per Tariff'!H19","v":3.6999999999999998E-5},{"$f":"'RS per Tariff'!I19","v":0},{"$f":"'RS per Tariff'!J19","v":4.4350000000000006E-3},{"$f":"'RS per Tariff'!K19","v":7.2230000000000003E-3},{"$f":"'RS per Tariff'!L19","v":5.1199999999999998E-4},{"$f":"'RS per Tariff'!M19","v":-2.1900000000000001E-4},4.3294000000000006E-2,{"$f":"'RS per Tariff'!N19","v":0.18966600000000003},0]
[null,null,null,null,null,null,{"$f":"'GS FP per Tariff'!C42","v":15.65}]
[null,null,null,null,null,null,"for G series",null,null,null,null,null,null,null,null,null,null,null,null,null,null,null,null,null,null,null,null,"* Charge applies only to Full Service Customers",null,null,"** Applies primarily to Federal Government Accounts.  Refer to Tariff Part III Rider SUT for more details."]
[]
[null,null,null,null,null,null,null,null,null,null,null,null,null,null,null,null,null,null,null,null,null,null,null,null,null,null,null,null,null,null,null,{"$f":"AF$2","v":"Rates Effective with Service Rendered June 1, 2025"},null,null,null,null,null,null,null,"Delivery"]
[null,null,null,null,null,null,null,null,null,null,null,null,null,null,null,null,null,null,null,null,null,null,null,null,null,null,null,"Charge or","Customer",null,null,null,"Energy &","BGS-FP Reconciliation Charge*",{"$f":"$AI$3","v":"Zero Emission Certificate Recovery Charge (ZEC)"},"RGGI\nRecovery\nCharge (RRC)",null,null,null,"Service","Full Service"]
[null,null,null,null,null,null,null,null,null,null,null,null,null,null,null,null,null,null,null,null,null,null,null,null,null,"Rate Category","Description","Price Block","Charge","Transmission*","Distribution","Covid-19 Recovery","Capacity*",null,null,null,"SBC","LRAM","NGC","Total","Total"]
[null,null,null,null,null,null,null,null,null,null,null,null,null,null,null,null,null,null,null,null,null,null,null,null,null,"JC_RT__01D","Residential Time-of-Day Service ","Customer Charge",{"$f":"'RT per Tariff'!C24","v":8.07},null,null,null,null,null,null,null,null,null,null,{"$f":"AC99","v":8.07},{"$f":"AC99","v":8.07}]
[null,null,null,null,null,null,null,null,null,null,null,null,null,null,null,null,null,null,null,null,null,null,null,null,null,null,"All Taxes Applicable & Included",{"$f":"'RT per Tariff'!B27","v":"On-Peak Summer kWh"},null,{"$f":"'RT per Tariff'!D27","v":1.9212E-2},{"$f":"'RT per Tariff'!E27","v":6.0028999999999999E-2},{"$f":"'RT per Tariff'!F27","v":3.5799999999999997E-4},{"$f":"'RT per Tariff'!G27","v":0.17646500000000001},{"$f":"'RT per Tariff'!H27","v":3.8999999999999999E-5},{"$f":"'RT per Tariff'!I27","v":0},{"$f":"'RT per Tariff'!J27","v":4.7289999999999997E-3},{"$f":"'RT per Tariff'!K27","v":7.7000000000000002E-3},{"$f":"'RT per Tariff'!L27","v":5.8E-4},{"$f":"'RT per Tariff'!M27","v":-2.34E-4},{"$f":"SUM(AE100:AF100,AI100:AM100)","v":7.3161999999999991E-2},{"$f":"'RT per Tariff'!N27","v":0.26887800000000001},{"$f":"AO100-AN100-AG100-AH100-AD100","v":0}]
[null,null,null,null,null,null,null,null,null,null,null,null,null,null,null,null,null,null,null,null,null,null,null,null,null,null,null,{"$f":"'RT per Tariff'!B28","v":"On-Peak Winter kWh"},null,{"$f":"'RT per Tariff'!D28","v":1.9212E-2},{"$f":"'RT per Tariff'!E28","v":4.4094000000000001E-2},{"$f":"'RT per Tariff'!F28","v":3.5799999999999997E-4},{"$f":"'RT per Tariff'!G28","v":0.17599200000000001},{"$f":"'RT per Tariff'!H28","v":3.8999999999999999E-5},{"$f":"'RT per Tariff'!I28","v":0},{"$f":"'RT per Tariff'!J28","v":4.7289999999999997E-3},{"$f":"'RT per Tariff'!K28","v":7.7000000000000002E-3},{"$f":"'RT per Tariff'!L28","v":5.8E-4},{"$f":"'RT per Tariff'!M28","v":-2.34E-4},5.7226999999999993E-2,{"$f":"'RT per Tariff'!N28","v":0.25247000000000003},0]
[null,null,null,null,null,null,null,null,null,null,null,null,null,null,null,null,null,null,null,null,null,null,null,null,null,null,null,{"$f":"'RT per Tariff'!B29","v":"Off-Peak Summer kWh"},null,{"$f":"'RT per Tariff'!D29","v":1.9212E-2},{"$f":"'RT per Tariff'!E29","v":2.8041E-2},{"$f":"'RT per Tariff'!F29","v":3.5799999999999997E-4},{"$f":"'RT per Tariff'!G29","v":9.2434000000000002E-2},{"$f":"'RT per Tariff'!H29","v":3.8999999999999999E-5},{"$f":"'RT per Tariff'!I29","v":0},{"$f":"'RT per Tariff'!J29","v":4.7289999999999997E-3},{"$f":"'RT per Tariff'!K29","v":7.7000000000000002E-3},{"$f":"'RT per Tariff'!L29","v":5.8E-4},{"$f":"'RT per Tariff'!M29","v":-2.34E-4},4.1173999999999995E-2,{"$f":"'RT per Tariff'!N29","v":0.15285900000000002},3.1225022567582528E-17]
[null,null,null,null,null,null,null,null,null,null,null,null,null,null,null,null,null,null,null,null,null,null,null,null,null,null,null,{"$f":"'RT per Tariff'!B30","v":"Off-Peak Winter kWh"},null,{"$f":"'RT per Tariff'!D30","v":1.9212E-2},{"$f":"'RT per Tariff'!E30","v":2.8041E-2},{"$f":"'RT per Tariff'!F30","v":3.5799999999999997E-4},{"$f":"'RT per Tariff'!G30","v":0.100009},{"$f":"'RT per Tariff'!H30","v":3.8999999999999999E-5},{"$f":"'RT per Tariff'!I30","v":0},{"$f":"'RT per Tariff'!J30","v":4.7289999999999997E-3},{"$f":"'RT per Tariff'!K30","v":7.7000000000000002E-3},{"$f":"'RT per Tariff'!L30","v":5.8E-4},{"$f":"'RT per Tariff'!M30","v":-2.34E-4},4.1173999999999995E-2,{"$f":"'RT per Tariff'!N30","v":0.16043400000000002},3.1225022567582528E-17]
[null,null,null,null,null,null,null,null,null,null,null,null,null,null,null,null,null,null,null,null,null,null,null,null,null,null,null,null,"* Charge applies only to Full Service Customers"]
[]
[null,null,null,null,null,null,null,null,null,null,null,null,null,null,null,null,null,null,null,null,null,null,null,null,null,null,null,null,null,null,null,{"$f":"AF$2","v":"Rates Effective with Service Rendered June 1, 2025"},null,null,null,null,null,null,null,"Delivery"]
[null,null,null,null,null,null,null,null,null,null,null,null,null,null,null,null,null,null,null,null,null,null,null,null,null,null,null,"Charge or","Customer",null,null,null,"Energy &","BGS-FP Reconciliation Charge*",{"$f":"$AI$3","v":"Zero Emission Certificate Recovery Charge (ZEC)"},"RGGI\nRecovery\nCharge (RRC)",null,null,null,"Service","Full Service"]
[null,null,null,null,null,null,null,null,null,null,null,null,null,null,null,null,null,null,null,null,null,null,null,null,null,"Rate Category","Description","Price Block","Charge","Transmission*","Distribution","Covid-19 Recovery","Capacity*",null,null,null,"SBC","LRAM","NGC","Total","Total"]
[null,null,null,null,null,null,null,null,null,null,null,null,null,null,null,null,null,null,null,null,null,null,null,null,null,"JC_RT__02D","Residential Time-of-Day Service ","Customer Charge",{"$f":"'RT per Tariff'!C24","v":8.07},null,null,null,null,null,null,null,null,null,null,{"$f":"AC109","v":8.07},{"$f":"AC109","v":8.07}]
[null,null,null,null,null,null,null,null,null,null,null,null,null,null,null,null,null,null,null,null,null,null,null,null,null,null,"Solar Water Heating","Customer Charge Credit",{"$f":"'RT per Tariff'!C25","v":-2.0299999999999998},null,null,null,null,null,null,null,null,null,null,{"$f":"AC110","v":-2.0299999999999998},{"$f":"AC110","v":-2.0299999999999998}]
[null,null,null,null,null,null,null,null,null,null,null,null,null,null,null,null,null,null,null,null,null,null,null,null,null,null,"All Taxes Applicable & Included",{"$f":"'RT per Tariff'!B27","v":"On-Peak Summer kWh"},null,{"$f":"'RT per Tariff'!D27","v":1.9212E-2},{"$f":"'RT per Tariff'!E27","v":6.0028999999999999E-2},{"$f":"'RT per Tariff'!F27","v":3.5799999999999997E-4},{"$f":"'RT per Tariff'!G27","v":0.17646500000000001},{"$f":"'RT per Tariff'!H27","v":3.8999999999999999E-5},{"$f":"'RT per Tariff'!I27","v":0},{"$f":"'RT per Tariff'!J27","v":4.7289999999999997E-3},{"$f":"'RT per Tariff'!K27","v":7.7000000000000002E-3},{"$f":"'RT per Tariff'!L27","v":5.8E-4},{"$f":"'RT per Tariff'!M27","v":-2.34E-4},{"$f":"SUM(AE111:AF111,AI111:AM111)","v":7.3161999999999991E-2},{"$f":"'RT per Tariff'!N27","v":0.26887800000000001},{"$f":"AO111-AN111-AG111-AH111-AD111","v":0}]
[null,null,null,null,null,null,null,null,null,null,null,null,null,null,null,null,null,null,null,null,null,null,null,null,null,null,null,{"$f":"'RT per Tariff'!B28","v":"On-Peak Winter kWh"},null,{"$f":"'RT per Tariff'!D28","v":1.9212E-2},{"$f":"'RT per Tariff'!E28","v":4.4094000000000001E-2},{"$f":"'RT per Tariff'!F28","v":3.5799999999999997E-4},{"$f":"'RT per Tariff'!G28","v":0.17599200000000001},{"$f":"'RT per Tariff'!H28","v":3.8999999999999999E-5},{"$f":"'RT per Tariff'!I28","v":0},{"$f":"'RT per Tariff'!J28","v":4.7289999999999997E-3},{"$f":"'RT per Tariff'!K28","v":7.7000000000000002E-3},{"$f":"'RT per Tariff'!L28","v":5.8E-4},{"$f":"'RT per Tariff'!M28","v":-2.34E-4},5.7226999999999993E-2,{"$f":"'RT per Tariff'!N28","v":0.25247000000000003},0]
[null,null,null,null,null,null,null,null,null,null,null,null,null,null,null,null,null,null,null,null,null,null,null,null,null,null,null,{"$f":"'RT per Tariff'!B29","v":"Off-Peak Summer kWh"},null,{"$f":"'RT per Tariff'!D29","v":1.9212E-2},{"$f":"'RT per Tariff'!E29","v":2.8041E-2},{"$f":"'RT per Tariff'!F29","v":3.5799999999999997E-4},{"$f":"'RT per Tariff'!G29","v":9.2434000000000002E-2},{"$f":"'RT per Tariff'!H29","v":3.8999999999999999E-5},{"$f":"'RT per Tariff'!I29","v":0},{"$f":"'RT per Tariff'!J29","v":4.7289999999999997E-3},{"$f":"'RT per Tariff'!K29","v":7.7000000000000002E-3},{"$f":"'RT per Tariff'!L29","v":5.8E-4},{"$f":"'RT per Tariff'!M29","v":-2.34E-4},4.1173999999999995E-2,{"$f":"'RT per Tariff'!N29","v":0.15285900000000002},3.1225022567582528E-17]
[null,null,null,null,null,null,null,null,null,null,null,null,null,null,null,null,null,null,null,null,null,null,null,null,null,null,null,{"$f":"'RT per Tariff'!B30","v":"Off-Peak Winter kWh"},null,{"$f":"'RT per Tariff'!D30","v":1.9212E-2},{"$f":"'RT per Tariff'!E30","v":2.8041E-2},{"$f":"'RT per Tariff'!F30","v":3.5799999999999997E-4},{"$f":"'RT per Tariff'!G30","v":0.100009},{"$f":"'RT per Tariff'!H30","v":3.8999999999999999E-5},{"$f":"'RT per Tariff'!I30","v":0},{"$f":"'RT per Tariff'!J30","v":4.7289999999999997E-3},{"$f":"'RT per Tariff'!K30","v":7.7000000000000002E-3},{"$f":"'RT per Tariff'!L30","v":5.8E-4},{"$f":"'RT per Tariff'!M30","v":-2.34E-4},4.1173999999999995E-2,{"$f":"'RT per Tariff'!N30","v":0.16043400000000002},3.1225022567582528E-17]
[null,null,null,null,null,null,null,null,null,null,null,null,null,null,null,null,null,null,null,null,null,null,null,null,null,null,null,null,"* Charge applies only to Full Service Customers"]
[]
[null,null,null,null,null,null,null,null,null,null,null,null,null,null,null,null,null,null,null,null,null,null,null,null,null,null,null,null,null,null,null,{"$f":"AF$2","v":"Rates Effective with Service Rendered June 1, 2025"},null,null,null,null,null,null,null,"Delivery"]
[null,null,null,null,null,null,null,null,null,null,null,null,null,null,null,null,null,null,null,null,null,null,null,null,null,null,null,"Charge or","Customer",null,null,null,"Energy &","BGS-FP Reconciliation Charge*",{"$f":"$AI$3","v":"Zero Emission Certificate Recovery Charge (ZEC)"},"RGGI\nRecovery\nCharge (RRC)",null,null,null,"Service","Full Service"]
[null,null,null,null,null,null,null,null,null,null,null,null,null,null,null,null,null,null,null,null,null,null,null,null,null,"Rate Category","Description","Price Block","Charge","Transmission*","Distribution","Covid-19 Recovery","Capacity*",null,null,null,"SBC","LRAM","NGC","Total","Total"]
[null,null,null,null,null,null,null,null,null,null,null,null,null,null,null,null,null,null,null,null,null,null,null,null,null,"JC_RT__03D","Residential Time-of-Day Service ","Customer Charge",{"$f":"'RT per Tariff'!C24","v":8.07},null,null,null,null,null,null,null,null,null,null,{"$f":"AC120","v":8.07},{"$f":"AC120","v":8.07}]
[null,null,null,null,null,null,null,null,null,null,null,null,null,null,null,null,null,null,null,null,null,null,null,null,null,null,"All Electric",{"$f":"'RT per Tariff'!B27","v":"On-Peak Summer kWh"},null,{"$f":"'RT per Tariff'!D27","v":1.9212E-2},{"$f":"'RT per Tariff'!E27","v":6.0028999999999999E-2},{"$f":"'RT per Tariff'!F27","v":3.5799999999999997E-4},{"$f":"'RT per Tariff'!G27","v":0.17646500000000001},{"$f":"'RT per Tariff'!H27","v":3.8999999999999999E-5},{"$f":"'RT per Tariff'!I27","v":0},{"$f":"'RT per Tariff'!J27","v":4.7289999999999997E-3},{"$f":"'RT per Tariff'!K27","v":7.7000000000000002E-3},{"$f":"'RT per Tariff'!L27","v":5.8E-4},{"$f":"'RT per Tariff'!M27","v":-2.34E-4},{"$f":"SUM(AE121:AF121,AI121:AM121)","v":7.3161999999999991E-2},{"$f":"'RT per Tariff'!N27","v":0.26887800000000001},{"$f":"AO121-AN121-AG121-AH121-AD121","v":0}]
[null,null,null,null,null,null,null,null,null,null,null,null,null,null,null,null,null,null,null,null,null,null,null,null,null,null,"All Taxes Applicable & Included",{"$f":"'RT per Tariff'!B28","v":"On-Peak Winter kWh"},null,{"$f":"'RT per Tariff'!D28","v":1.9212E-2},{"$f":"'RT per Tariff'!E28","v":4.4094000000000001E-2},{"$f":"'RT per Tariff'!F28","v":3.5799999999999997E-4},{"$f":"'RT per Tariff'!G28","v":0.17599200000000001},{"$f":"'RT per Tariff'!H28","v":3.8999999999999999E-5},{"$f":"'RT per Tariff'!I28","v":0},{"$f":"'RT per Tariff'!J28","v":4.7289999999999997E-3},{"$f":"'RT per Tariff'!K28","v":7.7000000000000002E-3},{"$f":"'RT per Tariff'!L28","v":5.8E-4},{"$f":"'RT per Tariff'!M28","v":-2.34E-4},5.7226999999999993E-2,{"$f":"'RT per Tariff'!N28","v":0.25247000000000003},0]
[null,null,null,null,null,null,null,null,null,null,null,null,null,null,null,null,null,null,null,null,null,null,null,null,null,null,null,{"$f":"'RT per Tariff'!B29","v":"Off-Peak Summer kWh"},null,{"$f":"'RT per Tariff'!D29","v":1.9212E-2},{"$f":"'RT per Tariff'!E29","v":2.8041E-2},{"$f":"'RT per Tariff'!F29","v":3.5799999999999997E-4},{"$f":"'RT per Tariff'!G29","v":9.2434000000000002E-2},{"$f":"'RT per Tariff'!H29","v":3.8999999999999999E-5},{"$f":"'RT per Tariff'!I29","v":0},{"$f":"'RT per Tariff'!J29","v":4.7289999999999997E-3},{"$f":"'RT per Tariff'!K29","v":7.7000000000000002E-3},{"$f":"'RT per Tariff'!L29","v":5.8E-4},{"$f":"'RT per Tariff'!M29","v":-2.34E-4},4.1173999999999995E-2,{"$f":"'RT per Tariff'!N29","v":0.15285900000000002},3.1225022567582528E-17]
[null,null,null,null,null,null,null,null,null,null,null,null,null,null,null,null,null,null,null,null,null,null,null,null,null,null,null,{"$f":"'RT per Tariff'!B30","v":"Off-Peak Winter kWh"},null,{"$f":"'RT per Tariff'!D30","v":1.9212E-2},{"$f":"'RT per Tariff'!E30","v":2.8041E-2},{"$f":"'RT per Tariff'!F30","v":3.5799999999999997E-4},{"$f":"'RT per Tariff'!G30","v":0.100009},{"$f":"'RT per Tariff'!H30","v":3.8999999999999999E-5},{"$f":"'RT per Tariff'!I30","v":0},{"$f":"'RT per Tariff'!J30","v":4.7289999999999997E-3},{"$f":"'RT per Tariff'!K30","v":7.7000000000000002E-3},{"$f":"'RT per Tariff'!L30","v":5.8E-4},{"$f":"'RT per Tariff'!M30","v":-2.34E-4},4.1173999999999995E-2,{"$f":"'RT per Tariff'!N30","v":0.16043400000000002},3.1225022567582528E-17]
[null,null,null,null,null,null,null,null,null,null,null,null,null,null,null,null,null,null,null,null,null,null,null,null,null,null,null,null,"* Charge applies only to Full Service Customers"]
[]
[null,null,null,null,null,null,null,null,null,null,null,null,null,null,null,null,null,null,null,null,null,null,null,null,null,null,null,null,null,null,null,{"$f":"AF$2","v":"Rates Effective with Service Rendered June 1, 2025"},null,null,null,null,null,null,null,"Delivery"]
[null,null,null,null,null,null,null,null,null,null,null,null,null,null,null,null,null,null,null,null,null,null,null,null,null,null,null,"Charge or","Customer",null,null,null,"Energy &","BGS-FP Reconciliation Charge*",{"$f":"$AI$3","v":"Zero Emission Certificate Recovery Charge (ZEC)"},"RGGI\nRecovery\nCharge (RRC)",null,null,null,"Service","Full Service"]
[null,null,null,null,null,null,null,null,null,null,null,null,null,null,null,null,null,null,null,null,null,null,null,null,null,"Rate Category","Description","Price Block","Charge","Transmission*","Distribution","Covid-19 Recovery","Capacity*",null,null,null,"SBC","LRAM","NGC","Total","Total"]
[null,null,null,null,null,null,null,null,null,null,null,null,null,null,null,null,null,null,null,null,null,null,null,null,null,"JC_RT__04D","Residential Time-of-Day Service ","Customer Charge",{"$f":"'RT per Tariff'!C24","v":8.07},null,null,null,null,null,null,null,null,null,null,{"$f":"AC130","v":8.07},{"$f":"AC130","v":8.07}]
[null,null,null,null,null,null,null,null,null,null,null,null,null,null,null,null,null,null,null,null,null,null,null,null,null,null,"All Electric","Customer Charge Credit",{"$f":"'RT per Tariff'!C25","v":-2.0299999999999998},null,null,null,null,null,null,null,null,null,null,{"$f":"AC131","v":-2.0299999999999998},{"$f":"AC131","v":-2.0299999999999998}]
[null,null,null,null,null,null,null,null,null,null,null,null,null,null,null,null,null,null,null,null,null,null,null,null,null,null,"Solar Water Heating",{"$f":"'RT per Tariff'!B27","v":"On-Peak Summer kWh"},null,{"$f":"'RT per Tariff'!D27","v":1.9212E-2},{"$f":"'RT per Tariff'!E27","v":6.0028999999999999E-2},{"$f":"'RT per Tariff'!F27","v":3.5799999999999997E-4},{"$f":"'RT per Tariff'!G27","v":0.17646500000000001},{"$f":"'RT per Tariff'!H27","v":3.8999999999999999E-5},{"$f":"'RT per Tariff'!I27","v":0},{"$f":"'RT per Tariff'!J27","v":4.7289999999999997E-3},{"$f":"'RT per Tariff'!K27","v":7.7000000000000002E-3},{"$f":"'RT per Tariff'!L27","v":5.8E-4},{"$f":"'RT per Tariff'!M27","v":-2.34E-4},{"$f":"SUM(AE132:AF132,AI132:AM132)","v":7.3161999999999991E-2},{"$f":"'RT per Tariff'!N27","v":0.26887800000000001},{"$f":"AO132-AN132-AG132-AH132-AD132","v":0}]
[null,null,null,null,null,null,null,null,null,null,null,null,null,null,null,null,null,null,null,null,null,null,null,null,null,null,"All Taxes Applicable & Included",{"$f":"'RT per Tariff'!B28","v":"On-Peak Winter kWh"},null,{"$f":"'RT per Tariff'!D28","v":1.9212E-2},{"$f":"'RT per Tariff'!E28","v":4.4094000000000001E-2},{"$f":"'RT per Tariff'!F28","v":3.5799999999999997E-4},{"$f":"'RT per Tariff'!G28","v":0.17599200000000001},{"$f":"'RT per Tariff'!H28","v":3.8999999999999999E-5},{"$f":"'RT per Tariff'!I28","v":0},{"$f":"'RT per Tariff'!J28","v":4.7289999999999997E-3},{"$f":"'RT per Tariff'!K28","v":7.7000000000000002E-3},{"$f":"'RT per Tariff'!L28","v":5.8E-4},{"$f":"'RT per Tariff'!M28","v":-2.34E-4},5.7226999999999993E-2,{"$f":"'RT per Tariff'!N28","v":0.25247000000000003},0]
[null,null,null,null,null,null,null,null,null,null,null,null,null,null,null,null,null,null,null,null,null,null,null,null,null,null,null,{"$f":"'RT per Tariff'!B29","v":"Off-Peak Summer kWh"},null,{"$f":"'RT per Tariff'!D29","v":1.9212E-2},{"$f":"'RT per Tariff'!E29","v":2.8041E-2},{"$f":"'RT per Tariff'!F29","v":3.5799999999999997E-4},{"$f":"'RT per Tariff'!G29","v":9.2434000000000002E-2},{"$f":"'RT per Tariff'!H29","v":3.8999999999999999E-5},{"$f":"'RT per Tariff'!I29","v":0},{"$f":"'RT per Tariff'!J29","v":4.7289999999999997E-3},{"$f":"'RT per Tariff'!K29","v":7.7000000000000002E-3},{"$f":"'RT per Tariff'!L29","v":5.8E-4},{"$f":"'RT per Tariff'!M29","v":-2.34E-4},4.1173999999999995E-2,{"$f":"'RT per Tariff'!N29","v":0.15285900000000002},3.1225022567582528E-17]
[null,null,null,null,null,null,null,null,null,null,null,null,null,null,null,null,null,null,null,null,null,null,null,null,null,null,null,{"$f":"'RT per Tariff'!B30","v":"Off-Peak Winter kWh"},null,{"$f":"'RT per Tariff'!D30","v":1.9212E-2},{"$f":"'RT per Tariff'!E30","v":2.8041E-2},{"$f":"'RT per Tariff'!F30","v":3.5799999999999997E-4},{"$f":"'RT per Tariff'!G30","v":0.100009},{"$f":"'RT per Tariff'!H30","v":3.8999999999999999E-5},{"$f":"'RT per Tariff'!I30","v":0},{"$f":"'RT per Tariff'!J30","v":4.7289999999999997E-3},{"$f":"'RT per Tariff'!K30","v":7.7000000000000002E-3},{"$f":"'RT per Tariff'!L30","v":5.8E-4},{"$f":"'RT per Tariff'!M30","v":-2.34E-4},4.1173999999999995E-2,{"$f":"'RT per Tariff'!N30","v":0.16043400000000002},3.1225022567582528E-17]
[]
[null,null,null,null,null,null,null,null,null,null,null,null,null,null,null,null,null,null,null,null,null,null,null,null,null,null,null,null,"* Charge applies only to Full Service Customers"]
[]
[null,null,null,null,null,null,null,null,null,null,null,null,null,null,null,null,null,null,null,null,null,null,null,null,null,null,null,null,null,null,null,{"$f":"AF$2","v":"Rates Effective with Service Rendered June 1, 2025"},null,null,null,null,null,null,null,"Delivery"]
[null,null,null,null,null,null,null,null,null,null,null,null,null,null,null,null,null,null,null,null,null,null,null,null,null,null,null,"Charge or","Customer",null,null,null,"Energy &","BGS-FP Reconciliation Charge*",{"$f":"$AI$3","v":"Zero Emission Certificate Recovery Charge (ZEC)"},"RGGI\nRecovery\nCharge (RRC)",null,null,null,"Service","Full Service"]
[null,null,null,null,null,null,null,null,null,null,null,null,null,null,null,null,null,null,null,null,null,null,null,null,null,"Rate Category","Description","Price Block","Charge","Transmission*","Distribution","Covid-19 Recovery","Capacity*",null,null,null,"SBC","LRAM","NGC","Total","Total"]
[null,null,null,null,null,null,null,null,null,null,null,null,null,null,null,null,null,null,null,null,null,null,null,null,null,"JC_RT__05D","Residential Time-of-Day Service ","Customer Charge",{"$f":"'RT per Tariff'!C24","v":8.07},null,null,null,null,null,null,null,null,null,null,{"$f":"AC142","v":8.07},{"$f":"AC142","v":8.07}]
[null,null,null,null,null,null,null,null,null,null,null,null,null,null,null,null,null,null,null,null,null,null,null,null,null,null,"QF with less than 10 kW of Generation**",{"$f":"'RT per Tariff'!B27","v":"On-Peak Summer kWh"},null,{"$f":"'RT per Tariff'!D27","v":1.9212E-2},{"$f":"'RT per Tariff'!E27","v":6.0028999999999999E-2},{"$f":"'RT per Tariff'!F27","v":3.5799999999999997E-4},{"$f":"'RT per Tariff'!G27","v":0.17646500000000001},{"$f":"'RT per Tariff'!H27","v":3.8999999999999999E-5},{"$f":"'RT per Tariff'!I27","v":0},{"$f":"'RT per Tariff'!J27","v":4.7289999999999997E-3},{"$f":"'RT per Tariff'!K27","v":7.7000000000000002E-3},{"$f":"'RT per Tariff'!L27","v":5.8E-4},{"$f":"'RT per Tariff'!M27","v":-2.34E-4},{"$f":"SUM(AE143:AF143,AI143:AM143)","v":7.3161999999999991E-2},{"$f":"'RT per Tariff'!N27","v":0.26887800000000001},{"$f":"AO143-AN143-AG143-AH143-AD143","v":0}]
[null,null,null,null,null,null,null,null,null,null,null,null,null,null,null,null,null,null,null,null,null,null,null,null,null,null,"All Taxes Applicable & Included",{"$f":"'RT per Tariff'!B28","v":"On-Peak Winter kWh"},null,{"$f":"'RT per Tariff'!D28","v":1.9212E-2},{"$f":"'RT per Tariff'!E28","v":4.4094000000000001E-2},{"$f":"'RT per Tariff'!F28","v":3.5799999999999997E-4},{"$f":"'RT per Tariff'!G28","v":0.17599200000000001},{"$f":"'RT per Tariff'!H28","v":3.8999999999999999E-5},{"$f":"'RT per Tariff'!I28","v":0},{"$f":"'RT per Tariff'!J28","v":4.7289999999999997E-3},{"$f":"'RT per Tariff'!K28","v":7.7000000000000002E-3},{"$f":"'RT per Tariff'!L28","v":5.8E-4},{"$f":"'RT per Tariff'!M28","v":-2.34E-4},5.7226999999999993E-2,{"$f":"'RT per Tariff'!N28","v":0.25247000000000003},0]
[null,null,null,null,null,null,null,null,null,null,null,null,null,null,null,null,null,null,null,null,null,null,null,null,null,null,null,{"$f":"'RT per Tariff'!B29","v":"Off-Peak Summer kWh"},null,{"$f":"'RT per Tariff'!D29","v":1.9212E-2},{"$f":"'RT per Tariff'!E29","v":2.8041E-2},{"$f":"'RT per Tariff'!F29","v":3.5799999999999997E-4},{"$f":"'RT per Tariff'!G29","v":9.2434000000000002E-2},{"$f":"'RT per Tariff'!H29","v":3.8999999999999999E-5},{"$f":"'RT per Tariff'!I29","v":0},{"$f":"'RT per Tariff'!J29","v":4.7289999999999997E-3},{"$f":"'RT per Tariff'!K29","v":7.7000000000000002E-3},{"$f":"'RT per Tariff'!L29","v":5.8E-4},{"$f":"'RT per Tariff'!M29","v":-2.34E-4},4.1173999999999995E-2,{"$f":"'RT per Tariff'!N29","v":0.15285900000000002},3.1225022567582528E-17]
[null,null,null,null,null,null,null,null,null,null,null,null,null,null,null,null,null,null,null,null,null,null,null,null,null,null,null,{"$f":"'RT per Tariff'!B30","v":"Off-Peak Winter kWh"},null,{"$f":"'RT per Tariff'!D30","v":1.9212E-2},{"$f":"'RT per Tariff'!E30","v":2.8041E-2},{"$f":"'RT per Tariff'!F30","v":3.5799999999999997E-4},{"$f":"'RT per Tariff'!G30","v":0.100009},{"$f":"'RT per Tariff'!H30","v":3.8999999999999999E-5},{"$f":"'RT per Tariff'!I30","v":0},{"$f":"'RT per Tariff'!J30","v":4.7289999999999997E-3},{"$f":"'RT per Tariff'!K30","v":7.7000000000000002E-3},{"$f":"'RT per Tariff'!L30","v":5.8E-4},{"$f":"'RT per Tariff'!M30","v":-2.34E-4},4.1173999999999995E-2,{"$f":"'RT per Tariff'!N30","v":0.16043400000000002},3.1225022567582528E-17]
[null,null,null,null,null,null,null,null,null,null,null,null,null,null,null,null,null,null,null,null,null,null,null,null,null,null,null,null,"* Charge applies only to Full Service Customers",null,null,"** Net metering account - refer to Tariff Rider QFS"]
[]
[null,null,null,null,null,null,null,null,null,null,null,null,null,null,null,null,null,null,null,null,null,null,null,null,null,null,null,null,null,null,null,{"$f":"AF$2","v":"Rates Effective with Service Rendered June 1, 2025"},null,null,null,null,null,null,null,"Delivery"]
[null,null,null,null,null,null,null,null,null,null,null,null,null,null,null,null,null,null,null,null,null,null,null,null,null,null,null,"Charge or","Customer",null,null,null,"Energy &","BGS-FP Reconciliation Charge*",{"$f":"$AI$3","v":"Zero Emission Certificate Recovery Charge (ZEC)"},"RGGI\nRecovery\nCharge (RRC)",null,null,null,"Service","Full Service"]
[null,null,null,null,null,null,null,null,null,null,null,null,null,null,null,null,null,null,null,null,null,null,null,null,null,"Rate Category","Description","Price Block","Charge","Transmission*","Distribution","Covid-19 Recovery","Capacity*",null,null,null,"SBC","LRAM","NGC","Total","Total"]
[null,null,null,null,null,null,null,null,null,null,null,null,null,null,null,null,null,null,null,null,null,null,null,null,null,"JC_RGT_01D","Residential Geothermal & Heat Pump","Customer Charge",{"$f":"'RGT per Tariff'!C23","v":8.07},null,null,null,null,null,null,null,null,null,null,{"$f":"AC152","v":8.07},{"$f":"AC152","v":8.07}]
[null,null,null,null,null,null,null,null,null,null,null,null,null,null,null,null,null,null,null,null,null,null,null,null,null,null,"All Taxes Applicable & Included",{"$f":"'RGT per Tariff'!B25","v":"On-Peak Summer kWh"},null,{"$f":"'RGT per Tariff'!D25","v":1.9212E-2},{"$f":"'RGT per Tariff'!E25","v":6.0028999999999999E-2},{"$f":"'RGT per Tariff'!F25","v":3.5799999999999997E-4},{"$f":"'RGT per Tariff'!G25","v":0.17646500000000001},{"$f":"'RGT per Tariff'!H25","v":3.8999999999999999E-5},{"$f":"'RGT per Tariff'!I25","v":0},{"$f":"'RGT per Tariff'!J25","v":4.7289999999999997E-3},{"$f":"'RGT per Tariff'!K25","v":7.7000000000000002E-3},{"$f":"'RGT per Tariff'!L25","v":5.8E-4},{"$f":"'RGT per Tariff'!M25","v":-2.34E-4},{"$f":"SUM(AE153:AF153,AI153:AM153)","v":7.3161999999999991E-2},{"$f":"'RGT per Tariff'!N25","v":0.26887800000000001},{"$f":"AO153-AN153-AG153-AH153-AD153","v":0}]
[null,null,null,null,null,null,null,null,null,null,null,null,null,null,null,null,null,null,null,null,null,null,null,null,null,null,null,{"$f":"'RGT per Tariff'!B26","v":"Off-Peak Summer kWh"},null,{"$f":"'RGT per Tariff'!D26","v":1.9212E-2},{"$f":"'RGT per Tariff'!E26","v":2.8041E-2},{"$f":"'RGT per Tariff'!F26","v":3.5799999999999997E-4},{"$f":"'RGT per Tariff'!G26","v":9.2434000000000002E-2},{"$f":"'RGT per Tariff'!H26","v":3.8999999999999999E-5},{"$f":"'RGT per Tariff'!I26","v":0},{"$f":"'RGT per Tariff'!J26","v":4.7289999999999997E-3},{"$f":"'RGT per Tariff'!K26","v":7.7000000000000002E-3},{"$f":"'RGT per Tariff'!L26","v":5.8E-4},{"$f":"'RGT per Tariff'!M26","v":-2.34E-4},4.1173999999999995E-2,{"$f":"'RGT per Tariff'!N26","v":0.15285900000000002},3.1225022567582528E-17]
[null,null,null,null,null,null,null,null,null,null,null,null,null,null,null,null,null,null,null,null,null,null,null,null,null,null,null,{"$f":"'RGT per Tariff'!B27","v":"Winter kWh - 1 => 1,000"},null,{"$f":"'RGT per Tariff'!D27","v":1.9212E-2},{"$f":"'RGT per Tariff'!E27","v":3.3061E-2},{"$f":"'RGT per Tariff'!F27","v":3.5799999999999997E-4},{"$f":"'RGT per Tariff'!G27","v":0.13681699999999999},{"$f":"'RGT per Tariff'!H27","v":3.8999999999999999E-5},{"$f":"'RGT per Tariff'!I27","v":0},{"$f":"'RGT per Tariff'!J27","v":4.7289999999999997E-3},{"$f":"'RGT per Tariff'!K27","v":7.7000000000000002E-3},{"$f":"'RGT per Tariff'!L27","v":5.8E-4},{"$f":"'RGT per Tariff'!M27","v":-2.34E-4},4.6193999999999992E-2,{"$f":"'RGT per Tariff'!N27","v":0.20226200000000003},4.5102810375396984E-17]
[null,null,null,null,null,null,null,null,null,null,null,null,null,null,null,null,null,null,null,null,null,null,null,null,null,null,null,{"$f":"'RGT per Tariff'!B28","v":"Winter kWh > 1,000"},null,{"$f":"'RGT per Tariff'!D28","v":1.9212E-2},{"$f":"'RGT per Tariff'!E28","v":3.3061E-2},{"$f":"'RGT per Tariff'!F28","v":3.5799999999999997E-4},{"$f":"'RGT per Tariff'!G28","v":0.13681699999999999},{"$f":"'RGT per Tariff'!H28","v":3.8999999999999999E-5},{"$f":"'RGT per Tariff'!I28","v":0},{"$f":"'RGT per Tariff'!J28","v":4.7289999999999997E-3},{"$f":"'RGT per Tariff'!K28","v":7.7000000000000002E-3},{"$f":"'RGT per Tariff'!L28","v":5.8E-4},{"$f":"'RGT per Tariff'!M28","v":-2.34E-4},4.6193999999999992E-2,{"$f":"'RGT per Tariff'!N28","v":0.20226200000000003},4.5102810375396984E-17]
[null,null,null,null,null,null,null,null,null,null,null,null,null,null,null,null,null,null,null,null,null,null,null,null,null,null,null,null,"* Charge applies only to Full Service Customers"]
[]
[null,null,null,null,null,null,null,null,null,null,null,null,null,null,null,null,null,null,null,null,null,null,null,null,null,null,null,null,null,null,null,{"$f":"AF$2","v":"Rates Effective with Service Rendered June 1, 2025"},null,null,null,null,null,null,null,"Delivery"]
[null,null,null,null,null,null,null,null,null,null,null,null,null,null,null,null,null,null,null,null,null,null,null,null,null,null,null,"Charge or","Customer",null,null,null,"Energy &","BGS-FP Reconciliation Charge*",{"$f":"$AI$3","v":"Zero Emission Certificate Recovery Charge (ZEC)"},"RGGI\nRecovery\nCharge (RRC)",null,null,null,"Service","Full Service"]
[null,null,null,null,null,null,null,null,null,null,null,null,null,null,null,null,null,null,null,null,null,null,null,null,null,"Rate Category","Description","Price Block","Charge","Transmission*","Distribution","Covid-19 Recovery","Capacity*",null,null,null,"SBC","LRAM","NGC","Total","Total"]
[null,null,null,null,null,null,null,null,null,null,null,null,null,null,null,null,null,null,null,null,null,null,null,null,null,"JC_RGT_02D","Residential Geothermal & Heat Pump","Customer Charge",{"$f":"'RGT per Tariff'!C23","v":8.07},null,null,null,null,null,null,null,null,null,null,{"$f":"AC162","v":8.07},{"$f":"AC162","v":8.07}]
[null,null,null,null,null,null,null,null,null,null,null,null,null,null,null,null,null,null,null,null,null,null,null,null,null,null,"QF with less than 10 kW of Generation**",{"$f":"'RGT per Tariff'!B25","v":"On-Peak Summer kWh"},null,{"$f":"'RGT per Tariff'!D25","v":1.9212E-2},{"$f":"'RGT per Tariff'!E25","v":6.0028999999999999E-2},{"$f":"'RGT per Tariff'!F25","v":3.5799999999999997E-4},{"$f":"'RGT per Tariff'!G25","v":0.17646500000000001},{"$f":"'RGT per Tariff'!H25","v":3.8999999999999999E-5},{"$f":"'RGT per Tariff'!I25","v":0},{"$f":"'RGT per Tariff'!J25","v":4.7289999999999997E-3},{"$f":"'RGT per Tariff'!K25","v":7.7000000000000002E-3},{"$f":"'RGT per Tariff'!L25","v":5.8E-4},{"$f":"'RGT per Tariff'!M25","v":-2.34E-4},{"$f":"SUM(AE163:AF163,AI163:AM163)","v":7.3161999999999991E-2},{"$f":"'RGT per Tariff'!N25","v":0.26887800000000001},{"$f":"AO163-AN163-AG163-AH163-AD163","v":0}]
[null,null,null,null,null,null,null,null,null,null,null,null,null,null,null,null,null,null,null,null,null,null,null,null,null,null,"All Taxes Applicable & Included",{"$f":"'RGT per Tariff'!B26","v":"Off-Peak Summer kWh"},null,{"$f":"'RGT per Tariff'!D26","v":1.9212E-2},{"$f":"'RGT per Tariff'!E26","v":2.8041E-2},{"$f":"'RGT per Tariff'!F26","v":3.5799999999999997E-4},{"$f":"'RGT per Tariff'!G26","v":9.2434000000000002E-2},{"$f":"'RGT per Tariff'!H26","v":3.8999999999999999E-5},{"$f":"'RGT per Tariff'!I26","v":0},{"$f":"'RGT per Tariff'!J26","v":4.7289999999999997E-3},{"$f":"'RGT per Tariff'!K26","v":7.7000000000000002E-3},{"$f":"'RGT per Tariff'!L26","v":5.8E-4},{"$f":"'RGT per Tariff'!M26","v":-2.34E-4},4.1173999999999995E-2,{"$f":"'RGT per Tariff'!N26","v":0.15285900000000002},3.1225022567582528E-17]
[null,null,null,null,null,null,null,null,null,null,null,null,null,null,null,null,null,null,null,null,null,null,null,null,null,null,null,{"$f":"'RGT per Tariff'!B27","v":"Winter kWh - 1 => 1,000"},null,{"$f":"'RGT per Tariff'!D27","v":1.9212E-2},{"$f":"'RGT per Tariff'!E27","v":3.3061E-2},{"$f":"'RGT per Tariff'!F27","v":3.5799999999999997E-4},{"$f":"'RGT per Tariff'!G27","v":0.13681699999999999},{"$f":"'RGT per Tariff'!H27","v":3.8999999999999999E-5},{"$f":"'RGT per Tariff'!I27","v":0},{"$f":"'RGT per Tariff'!J27","v":4.7289999999999997E-3},{"$f":"'RGT per Tariff'!K27","v":7.7000000000000002E-3},{"$f":"'RGT per Tariff'!L27","v":5.8E-4},{"$f":"'RGT per Tariff'!M27","v":-2.34E-4},4.6193999999999992E-2,{"$f":"'RGT per Tariff'!N27","v":0.20226200000000003},4.5102810375396984E-17]
[null,null,null,null,null,null,null,null,null,null,null,null,null,null,null,null,null,null,null,null,null,null,null,null,null,null,null,{"$f":"'RGT per Tariff'!B28","v":"Winter kWh > 1,000"},null,{"$f":"'RGT per Tariff'!D28","v":1.9212E-2},{"$f":"'RGT per Tariff'!E28","v":3.3061E-2},{"$f":"'RGT per Tariff'!F28","v":3.5799999999999997E-4},{"$f":"'RGT per Tariff'!G28","v":0.13681699999999999},{"$f":"'RGT per Tariff'!H28","v":3.8999999999999999E-5},{"$f":"'RGT per Tariff'!I28","v":0},{"$f":"'RGT per Tariff'!J28","v":4.7289999999999997E-3},{"$f":"'RGT per Tariff'!K28","v":7.7000000000000002E-3},{"$f":"'RGT per Tariff'!L28","v":5.8E-4},{"$f":"'RGT per Tariff'!M28","v":-2.34E-4},4.6193999999999992E-2,{"$f":"'RGT per Tariff'!N28","v":0.20226200000000003},4.5102810375396984E-17]
[null,null,null,null,null,null,null,null,null,null,null,null,null,null,null,null,null,null,null,null,null,null,null,null,null,null,null,null,"* Charge applies only to Full Service Customers",null,null,"** Net metering account - refer to Tariff Rider QFS"]
[]
[null,null,null,null,null,null,null,null,null,null,null,null,null,null,null,null,null,null,null,null,null,null,null,null,null,null,null,null,null,null,null,{"$f":"AF$2","v":"Rates Effective with Service Rendered June 1, 2025"},null,null,null,null,null,null,null,"Delivery"]
[null,null,null,null,null,null,null,null,null,null,null,null,null,null,null,null,null,null,null,null,null,null,null,null,null,null,null,"Charge or","Customer",null,null,null,"Energy &","BGS-FP Reconciliation Charge*",{"$f":"$AI$3","v":"Zero Emission Certificate Recovery Charge (ZEC)"},"RGGI\nRecovery\nCharge (RRC)",null,null,null,"Service","Full Service"]
[null,null,null,null,null,null,null,null,null,null,null,null,null,null,null,null,null,null,null,null,null,null,null,null,null,"Rate Category","Description","Price Block","Charge","Transmission*","Distribution","Covid-19 Recovery","Capacity*",null,null,null,"SBC","LRAM","NGC","Total","Total"]
[null,null,null,null,null,null,null,null,null,null,null,null,null,null,null,null,null,null,null,null,null,null,null,null,null,"JC_GS1_01D","General Service Secondary - 1 Phase","Customer Charge",{"$f":"'GS FP per Tariff'!C77","v":4.6500000000000004},null,null,null,null,null,null,null,null,null,null,{"$f":"AC172","v":4.6500000000000004},"N/A"]
[null,null,null,null,null,null,null,null,null,null,null,null,null,null,null,null,null,null,null,null,null,null,null,null,null,null,"Delivery Service Only",{"$f":"'GS FP per Tariff'!B84","v":"Over 10  KW Summer"},null,null,{"$f":"'GS FP per Tariff'!E84","v":9},null,null,null,null,null,null,null,null,{"$f":"AE173","v":9},"N/A"]
[null,null,null,null,null,null,null,null,null,null,null,null,null,null,null,null,null,null,null,null,null,null,null,null,null,null,"No Special Provisions",{"$f":"'GS FP per Tariff'!B85","v":"Over 10  KW Winter"},null,null,{"$f":"'GS FP per Tariff'!E85","v":8.3800000000000008},null,null,null,null,null,null,null,null,{"$f":"AE174","v":8.3800000000000008},"N/A"]
[null,null,null,null,null,null,null,null,null,null,null,null,null,null,null,null,null,null,null,null,null,null,null,null,null,null,"All Taxes Applicable & Included",{"$f":"'GS FP per Tariff'!B87","v":"Minimum Bill-Over 10 KW "},null,null,{"$f":"'GS FP per Tariff'!E87","v":4.08},null,null,null,null,null,null,null,null,{"$f":"AE175","v":4.08},"N/A",null,null,null,null,null,null,null,{"$f":"AF$2","v":"Rates Effective with Service Rendered June 1, 2025"},null,null,null,null,null,null,null,"Delivery"]
[null,null,null,null,null,null,null,null,null,null,null,null,null,null,null,null,null,null,null,null,null,null,null,null,null,null,null,{"$f":"'GS FP per Tariff'!B89","v":"First 1,000 kWh Summer"},null,"N/A",{"$f":"'GS FP per Tariff'!E89","v":7.5287999999999994E-2},{"$f":"'GS FP per Tariff'!F89","v":3.5799999999999997E-4},"N/A","N/A",{"$f":"'GS FP per Tariff'!I89","v":0},{"$f":"'GS FP per Tariff'!J89","v":4.7289999999999997E-3},{"$f":"'GS FP per Tariff'!K89","v":7.7000000000000002E-3},{"$f":"'GS FP per Tariff'!L89","v":4.9399999999999997E-4},{"$f":"'GS FP per Tariff'!M89","v":-2.34E-4},{"$f":"SUM(AE176:AF176,AI176:AM176)","v":8.8334999999999983E-2},"N/A",null,null,null,"Charge or","Customer",null,null,null,"Energy &","BGS-FP Reconciliation Charge*",{"$f":"$AI$3","v":"Zero Emission Certificate Recovery Charge (ZEC)"},"RGGI\nRecovery\nCharge (RRC)",null,null,null,"Service","Full Service"]
[null,null,null,null,null,null,null,null,null,null,null,null,null,null,null,null,null,null,null,null,null,null,null,null,null,null,null,{"$f":"'GS FP per Tariff'!B90","v":"First 1,000 kWh Winter"},null,"N/A",{"$f":"'GS FP per Tariff'!E90","v":6.9662000000000002E-2},{"$f":"'GS FP per Tariff'!F90","v":3.5799999999999997E-4},"N/A","N/A",{"$f":"'GS FP per Tariff'!I90","v":0},{"$f":"'GS FP per Tariff'!J90","v":4.7289999999999997E-3},{"$f":"'GS FP per Tariff'!K90","v":7.7000000000000002E-3},{"$f":"'GS FP per Tariff'!L90","v":4.9399999999999997E-4},{"$f":"'GS FP per Tariff'!M90","v":-2.34E-4},8.2708999999999991E-2,"N/A",null,"Rate Category","Description","Price Block","Charge","Transmission*","Distribution","SRC","Capacity*",null,null,null,"SBC","TAA","MTC","Total","Total"]
[null,null,null,null,null,null,null,null,null,null,null,null,null,null,null,null,null,null,null,null,null,null,null,null,null,null,null,{"$f":"'GS FP per Tariff'!B91","v":"Over 1,000 kWh Summer"},null,"N/A",{"$f":"'GS FP per Tariff'!E91","v":6.0210000000000003E-3},{"$f":"'GS FP per Tariff'!F91","v":3.5799999999999997E-4},"N/A","N/A",{"$f":"'GS FP per Tariff'!I91","v":0},{"$f":"'GS FP per Tariff'!J91","v":4.7289999999999997E-3},{"$f":"'GS FP per Tariff'!K91","v":7.7000000000000002E-3},{"$f":"'GS FP per Tariff'!L91","v":4.9399999999999997E-4},{"$f":"'GS FP per Tariff'!M91","v":-2.34E-4},1.9067999999999998E-2,"N/A",null,"JC_GS3_01D","General Service Secondary - 3 Phase","Customer Charge",{"$f":"'GS FP per Tariff'!C78","v":16.690000000000001},null,null,null,null,null,null,null,null,null,null,{"$f":"AT178","v":16.690000000000001},"N/A"]
[null,null,null,null,null,null,null,null,null,null,null,null,null,null,null,null,null,null,null,null,null,null,null,null,null,null,null,{"$f":"'GS FP per Tariff'!B92","v":"Over 1,000 kWh Winter"},null,"N/A",{"$f":"'GS FP per Tariff'!E92","v":6.0210000000000003E-3},{"$f":"'GS FP per Tariff'!F92","v":3.5799999999999997E-4},"N/A","N/A",{"$f":"'GS FP per Tariff'!I92","v":0},{"$f":"'GS FP per Tariff'!J92","v":4.7289999999999997E-3},{"$f":"'GS FP per Tariff'!K92","v":7.7000000000000002E-3},{"$f":"'GS FP per Tariff'!L92","v":4.9399999999999997E-4},{"$f":"'GS FP per Tariff'!M92","v":-2.34E-4},1.9067999999999998E-2,"N/A",null,null,"Delivery Service Only",{"$f":"'GS FP per Tariff'!B84","v":"Over 10  KW Summer"},null,null,{"$f":"'GS FP per Tariff'!E84","v":9},null,null,null,null,null,null,null,null,{"$f":"AV179","v":9},"N/A"]
[null,null,null,null,null,null,null,null,null,null,null,null,null,null,null,null,null,null,null,null,null,null,null,null,null,null,null,null,"* Charge applies only to Full Service Customers",null,null,null,null,null,null,null,null,null,null,null,null,null,null,"No Special Provisions",{"$f":"'GS FP per Tariff'!B85","v":"Over 10  KW Winter"},null,null,{"$f":"'GS FP per Tariff'!E85","v":8.3800000000000008},null,null,null,null,null,null,null,null,{"$f":"AV180","v":8.3800000000000008},"N/A"]
[null,null,null,null,null,null,null,null,null,null,null,null,null,null,null,null,null,null,null,null,null,null,null,null,null,null,null,null,null,null,null,null,null,null,null,null,null,null,null,null,null,null,null,"All Taxes Applicable & Included",{"$f":"'GS FP per Tariff'!B87","v":"Minimum Bill-Over 10 KW "},null,null,{"$f":"'GS FP per Tariff'!E87","v":4.08},null,null,null,null,null,null,null,null,{"$f":"AV181","v":4.08},"N/A"]
[null,null,null,null,null,null,null,null,null,null,null,null,null,null,null,null,null,null,null,null,null,null,null,null,null,null,null,null,null,null,null,{"$f":"AF$2","v":"Rates Effective with Service Rendered June 1, 2025"},null,null,null,null,null,null,null,"Delivery",null,null,null,null,{"$f":"'GS FP per Tariff'!B89","v":"First 1,000 kWh Summer"},null,"N/A",{"$f":"'GS FP per Tariff'!E89","v":7.5287999999999994E-2},{"$f":"'GS FP per Tariff'!F89","v":3.5799999999999997E-4},"N/A","N/A",{"$f":"'GS FP per Tariff'!I89","v":0},{"$f":"'GS FP per Tariff'!J89","v":4.7289999999999997E-3},{"$f":"'GS FP per Tariff'!K89","v":7.7000000000000002E-3},{"$f":"'GS FP per Tariff'!L89","v":4.9399999999999997E-4},{"$f":"'GS FP per Tariff'!M89","v":-2.34E-4},{"$f":"SUM(AV182:AW182,AZ182:BD182)","v":8.8334999999999983E-2},"N/A"]
[null,null,null,null,null,null,null,null,null,null,null,null,null,null,null,null,null,null,null,null,null,null,null,null,null,null,null,"Charge or","Customer",null,null,null,"Energy &","BGS-FP Reconciliation Charge*",{"$f":"$AI$3","v":"Zero Emission Certificate Recovery Charge (ZEC)"},"RGGI\nRecovery\nCharge (RRC)",null,null,null,"Service","Full Service",null,null,null,{"$f":"'GS FP per Tariff'!B90","v":"First 1,000 kWh Winter"},null,"N/A",{"$f":"'GS FP per Tariff'!E90","v":6.9662000000000002E-2},{"$f":"'GS FP per Tariff'!F90","v":3.5799999999999997E-4},"N/A","N/A",{"$f":"'GS FP per Tariff'!I90","v":0},{"$f":"'GS FP per Tariff'!J90","v":4.7289999999999997E-3},{"$f":"'GS FP per Tariff'!K90","v":7.7000000000000002E-3},{"$f":"'GS FP per Tariff'!L90","v":4.9399999999999997E-4},{"$f":"'GS FP per Tariff'!M90","v":-2.34E-4},{"$f":"SUM(AV183:AW183,AZ183:BD183)","v":8.2708999999999991E-2},"N/A"]
[null,null,null,null,null,null,null,null,null,null,null,null,null,null,null,null,null,null,null,null,null,null,null,null,null,"Rate Category","Description","Price Block","Charge","Transmission*","Distribution","Covid-19 Recovery","Capacity*",null,null,null,"SBC","LRAM","NGC","Charges","Total",null,null,null,{"$f":"'GS FP per Tariff'!B91","v":"Over 1,000 kWh Summer"},null,"N/A",{"$f":"'GS FP per Tariff'!E91","v":6.0210000000000003E-3},{"$f":"'GS FP per Tariff'!F91","v":3.5799999999999997E-4},"N/A","N/A",{"$f":"'GS FP per Tariff'!I91","v":0},{"$f":"'GS FP per Tariff'!J91","v":4.7289999999999997E-3},{"$f":"'GS FP per Tariff'!K91","v":7.7000000000000002E-3},{"$f":"'GS FP per Tariff'!L91","v":4.9399999999999997E-4},{"$f":"'GS FP per Tariff'!M91","v":-2.34E-4},1.9067999999999998E-2,"N/A"]
[null,null,null,null,null,null,null,null,null,null,null,null,null,null,null,null,null,null,null,null,null,null,null,null,null,"JC_GS1_01F","General Service Secondary - 1 Phase","Customer Charge",{"$f":"'GS FP per Tariff'!C77","v":4.6500000000000004},null,null,null,null,null,null,null,null,null,null,{"$f":"AC185","v":4.6500000000000004},{"$f":"AC185","v":4.6500000000000004},null,null,null,{"$f":"'GS FP per Tariff'!B92","v":"Over 1,000 kWh Winter"},null,"N/A",{"$f":"'GS FP per Tariff'!E92","v":6.0210000000000003E-3},{"$f":"'GS FP per Tariff'!F92","v":3.5799999999999997E-4},"N/A","N/A",{"$f":"'GS FP per Tariff'!I92","v":0},{"$f":"'GS FP per Tariff'!J92","v":4.7289999999999997E-3},{"$f":"'GS FP per Tariff'!K92","v":7.7000000000000002E-3},{"$f":"'GS FP per Tariff'!L92","v":4.9399999999999997E-4},{"$f":"'GS FP per Tariff'!M92","v":-2.34E-4},1.9067999999999998E-2,"N/A"]
[null,null,null,null,null,null,null,null,null,null,null,null,null,null,null,null,null,null,null,null,null,null,null,null,null,null,"Full Service",{"$f":"'GS FP per Tariff'!B84","v":"Over 10  KW Summer"},null,null,{"$f":"'GS FP per Tariff'!E84","v":9},null,null,null,null,null,null,null,null,{"$f":"AE186","v":9},{"$f":"AE186","v":9},null,null,null,null,"* Charge applies only to Full Service Customers"]
[null,null,null,null,null,null,null,null,null,null,null,null,null,null,null,null,null,null,null,null,null,null,null,null,null,null,"No Special Provisions",{"$f":"'GS FP per Tariff'!B85","v":"Over 10  KW Winter"},null,null,{"$f":"'GS FP per Tariff'!E85","v":8.3800000000000008},null,null,null,null,null,null,null,null,{"$f":"AE187","v":8.3800000000000008},{"$f":"AE187","v":8.3800000000000008}]
[null,null,null,null,null,null,null,null,null,null,null,null,null,null,null,null,null,null,null,null,null,null,null,null,null,null,"All Taxes Applicable & Included",{"$f":"'GS FP per Tariff'!B87","v":"Minimum Bill-Over 10 KW "},null,null,{"$f":"'GS FP per Tariff'!E87","v":4.08},null,null,null,null,null,null,null,null,{"$f":"AE188","v":4.08},{"$f":"AE188","v":4.08},null,null,null,null,null,null,null,{"$f":"AF$2","v":"Rates Effective with Service Rendered June 1, 2025"},null,null,null,null,null,null,null,"Delivery"]
[null,null,null,null,null,null,null,null,null,null,null,null,null,null,null,null,null,null,null,null,null,null,null,null,null,null,null,{"$f":"'GS FP per Tariff'!B89","v":"First 1,000 kWh Summer"},null,{"$f":"'GS FP per Tariff'!D89","v":1.9212E-2},{"$f":"'GS FP per Tariff'!E89","v":7.5287999999999994E-2},{"$f":"'GS FP per Tariff'!F89","v":3.5799999999999997E-4},{"$f":"'GS FP per Tariff'!G89","v":0.124982},{"$f":"'GS FP per Tariff'!H89","v":3.8999999999999999E-5},{"$f":"'GS FP per Tariff'!I89","v":0},{"$f":"'GS FP per Tariff'!J89","v":4.7289999999999997E-3},{"$f":"'GS FP per Tariff'!K89","v":7.7000000000000002E-3},{"$f":"'GS FP per Tariff'!L89","v":4.9399999999999997E-4},{"$f":"'GS FP per Tariff'!M89","v":-2.34E-4},{"$f":"SUM(AE189:AF189,AI189:AM189)","v":8.8334999999999983E-2},{"$f":"'GS FP per Tariff'!N89","v":0.232568},null,null,null,"Charge or","Customer",null,null,null,"Energy &","BGS-FP Reconciliation Charge*",{"$f":"$AI$3","v":"Zero Emission Certificate Recovery Charge (ZEC)"},"RGGI\nRecovery\nCharge (RRC)",null,null,null,"Service","Full Service"]
[null,null,null,null,null,null,null,null,null,null,null,null,null,null,null,null,null,null,null,null,null,null,null,null,null,null,null,{"$f":"'GS FP per Tariff'!B90","v":"First 1,000 kWh Winter"},null,{"$f":"'GS FP per Tariff'!D90","v":1.9212E-2},{"$f":"'GS FP per Tariff'!E90","v":6.9662000000000002E-2},{"$f":"'GS FP per Tariff'!F90","v":3.5799999999999997E-4},{"$f":"'GS FP per Tariff'!G90","v":0.124626},{"$f":"'GS FP per Tariff'!H90","v":3.8999999999999999E-5},{"$f":"'GS FP per Tariff'!I90","v":0},{"$f":"'GS FP per Tariff'!J90","v":4.7289999999999997E-3},{"$f":"'GS FP per Tariff'!K90","v":7.7000000000000002E-3},{"$f":"'GS FP per Tariff'!L90","v":4.9399999999999997E-4},{"$f":"'GS FP per Tariff'!M90","v":-2.34E-4},8.2708999999999991E-2,{"$f":"'GS FP per Tariff'!N90","v":0.22658600000000001},null,"Rate Category","Description","Price Block","Charge","Transmission*","Distribution","SRC","Capacity*",null,null,null,"SBC","TAA","MTC","Charges","Total"]
[null,null,null,null,null,null,null,null,null,null,null,null,null,null,null,null,null,null,null,null,null,null,null,null,null,null,null,{"$f":"'GS FP per Tariff'!B91","v":"Over 1,000 kWh Summer"},null,{"$f":"'GS FP per Tariff'!D91","v":1.9212E-2},{"$f":"'GS FP per Tariff'!E91","v":6.0210000000000003E-3},{"$f":"'GS FP per Tariff'!F91","v":3.5799999999999997E-4},{"$f":"'GS FP per Tariff'!G91","v":0.124982},{"$f":"'GS FP per Tariff'!H91","v":3.8999999999999999E-5},{"$f":"'GS FP per Tariff'!I91","v":0},{"$f":"'GS FP per Tariff'!J91","v":4.7289999999999997E-3},{"$f":"'GS FP per Tariff'!K91","v":7.7000000000000002E-3},{"$f":"'GS FP per Tariff'!L91","v":4.9399999999999997E-4},{"$f":"'GS FP per Tariff'!M91","v":-2.34E-4},1.9067999999999998E-2,{"$f":"'GS FP per Tariff'!N91","v":0.163301},null,"JC_GS3_01F","General Service Secondary - 3 Phase","Customer Charge",{"$f":"'GS FP per Tariff'!C78","v":16.690000000000001},null,null,null,null,null,null,null,null,null,null,{"$f":"AT191","v":16.690000000000001},{"$f":"AT191","v":16.690000000000001}]
[null,null,null,null,null,null,null,null,null,null,null,null,null,null,null,null,null,null,null,null,null,null,null,null,null,null,null,{"$f":"'GS FP per Tariff'!B92","v":"Over 1,000 kWh Winter"},null,{"$f":"'GS FP per Tariff'!D92","v":1.9212E-2},{"$f":"'GS FP per Tariff'!E92","v":6.0210000000000003E-3},{"$f":"'GS FP per Tariff'!F92","v":3.5799999999999997E-4},{"$f":"'GS FP per Tariff'!G92","v":0.124626},{"$f":"'GS FP per Tariff'!H92","v":3.8999999999999999E-5},{"$f":"'GS FP per Tariff'!I92","v":0},{"$f":"'GS FP per Tariff'!J92","v":4.7289999999999997E-3},{"$f":"'GS FP per Tariff'!K92","v":7.7000000000000002E-3},{"$f":"'GS FP per Tariff'!L92","v":4.9399999999999997E-4},{"$f":"'GS FP per Tariff'!M92","v":-2.34E-4},1.9067999999999998E-2,{"$f":"'GS FP per Tariff'!N92","v":0.16294500000000001},null,null,"Full Service",{"$f":"'GS FP per Tariff'!B84","v":"Over 10  KW Summer"},null,null,{"$f":"'GS FP per Tariff'!E84","v":9},null,null,null,null,null,null,null,null,{"$f":"AV192","v":9},{"$f":"AV192","v":9}]
[null,null,null,null,null,null,null,null,null,null,null,null,null,null,null,null,null,null,null,null,null,null,null,null,null,null,null,null,"* Charge applies only to Full Service Customers",null,null,null,null,null,null,null,null,null,null,null,null,null,null,"No Special Provisions",{"$f":"'GS FP per Tariff'!B85","v":"Over 10  KW Winter"},null,null,{"$f":"'GS FP per Tariff'!E85","v":8.3800000000000008},null,null,null,null,null,null,null,null,{"$f":"AV193","v":8.3800000000000008},{"$f":"AV193","v":8.3800000000000008}]
[null,null,null,null,null,null,null,null,null,null,null,null,null,null,null,null,null,null,null,null,null,null,null,null,null,null,null,null,null,null,null,null,null,null,null,null,null,null,null,null,null,null,null,"All Taxes Applicable & Included",{"$f":"'GS FP per Tariff'!B87","v":"Minimum Bill-Over 10 KW "},null,null,{"$f":"'GS FP per Tariff'!E87","v":4.08},null,null,null,null,null,null,null,null,{"$f":"AV194","v":4.08},{"$f":"AV194","v":4.08}]
[null,null,null,null,null,null,null,null,null,null,null,null,null,null,null,null,null,null,null,null,null,null,null,null,null,null,null,null,null,null,null,{"$f":"AF$2","v":"Rates Effective with Service Rendered June 1, 2025"},null,null,null,null,null,null,null,"Delivery",null,null,null,null,{"$f":"'GS FP per Tariff'!B89","v":"First 1,000 kWh Summer"},null,{"$f":"'GS FP per Tariff'!D89","v":1.9212E-2},{"$f":"'GS FP per Tariff'!E89","v":7.5287999999999994E-2},{"$f":"'GS FP per Tariff'!F89","v":3.5799999999999997E-4},{"$f":"'GS FP per Tariff'!G89","v":0.124982},{"$f":"'GS FP per Tariff'!H89","v":3.8999999999999999E-5},{"$f":"'GS FP per Tariff'!I89","v":0},{"$f":"'GS FP per Tariff'!J89","v":4.7289999999999997E-3},{"$f":"'GS FP per Tariff'!K89","v":7.7000000000000002E-3},{"$f":"'GS FP per Tariff'!L89","v":4.9399999999999997E-4},{"$f":"'GS FP per Tariff'!M89","v":-2.34E-4},{"$f":"SUM(AV195:AW195,AZ195:BD195)","v":8.8334999999999983E-2},{"$f":"'GS FP per Tariff'!N89","v":0.232568},{"$f":"BF195-BE195-AU195-AX195-AY195","v":-2.6291902682773483E-18}]
[null,null,null,null,null,null,null,null,null,null,null,null,null,null,null,null,null,null,null,null,null,null,null,null,null,null,null,"Charge or","Customer",null,null,null,"Energy &","BGS-FP Reconciliation Charge*",{"$f":"$AI$3","v":"Zero Emission Certificate Recovery Charge (ZEC)"},"RGGI\nRecovery\nCharge (RRC)",null,null,null,"Service","Full Service",null,null,null,{"$f":"'GS FP per Tariff'!B90","v":"First 1,000 kWh Winter"},null,{"$f":"'GS FP per Tariff'!D90","v":1.9212E-2},{"$f":"'GS FP per Tariff'!E90","v":6.9662000000000002E-2},{"$f":"'GS FP per Tariff'!F90","v":3.5799999999999997E-4},{"$f":"'GS FP per Tariff'!G90","v":0.124626},{"$f":"'GS FP per Tariff'!H90","v":3.8999999999999999E-5},{"$f":"'GS FP per Tariff'!I90","v":0},{"$f":"'GS FP per Tariff'!J90","v":4.7289999999999997E-3},{"$f":"'GS FP per Tariff'!K90","v":7.7000000000000002E-3},{"$f":"'GS FP per Tariff'!L90","v":4.9399999999999997E-4},{"$f":"'GS FP per Tariff'!M90","v":-2.34E-4},8.2708999999999991E-2,{"$f":"'GS FP per Tariff'!N90","v":0.22658600000000001},{"$f":"BF196-BE196-AU196-AX196-AY196","v":2.5126385347351565E-17}]
[null,null,null,null,null,null,null,null,null,null,null,null,null,null,null,null,null,null,null,null,null,null,null,null,null,"Rate Category","Description","Price Block","Charge","Transmission*","Distribution","Covid-19 Recovery","Capacity*",null,null,null,"SBC","LRAM","NGC","Total","Total",null,null,null,{"$f":"'GS FP per Tariff'!B91","v":"Over 1,000 kWh Summer"},null,{"$f":"'GS FP per Tariff'!D91","v":1.9212E-2},{"$f":"'GS FP per Tariff'!E91","v":6.0210000000000003E-3},{"$f":"'GS FP per Tariff'!F91","v":3.5799999999999997E-4},{"$f":"'GS FP per Tariff'!G91","v":0.124982},{"$f":"'GS FP per Tariff'!H91","v":3.8999999999999999E-5},{"$f":"'GS FP per Tariff'!I91","v":0},{"$f":"'GS FP per Tariff'!J91","v":4.7289999999999997E-3},{"$f":"'GS FP per Tariff'!K91","v":7.7000000000000002E-3},{"$f":"'GS FP per Tariff'!L91","v":4.9399999999999997E-4},{"$f":"'GS FP per Tariff'!M91","v":-2.34E-4},1.9067999999999998E-2,{"$f":"'GS FP per Tariff'!N91","v":0.163301},{"$f":"BF197-BE197-AU197-AX197-AY197","v":-2.6291902682773483E-18}]
[null,null,null,null,null,null,null,null,null,null,null,null,null,null,null,null,null,null,null,null,null,null,null,null,null,"JC_GS1_02D","General Service Secondary - 1 Phase","Customer Charge",{"$f":"'GS FP per Tariff'!C77","v":4.6500000000000004},null,null,null,null,null,null,null,null,null,null,{"$f":"AC198","v":4.6500000000000004},"N/A",null,null,null,{"$f":"'GS FP per Tariff'!B92","v":"Over 1,000 kWh Winter"},null,{"$f":"'GS FP per Tariff'!D92","v":1.9212E-2},{"$f":"'GS FP per Tariff'!E92","v":6.0210000000000003E-3},{"$f":"'GS FP per Tariff'!F92","v":3.5799999999999997E-4},{"$f":"'GS FP per Tariff'!G92","v":0.124626},{"$f":"'GS FP per Tariff'!H92","v":3.8999999999999999E-5},{"$f":"'GS FP per Tariff'!I92","v":0},{"$f":"'GS FP per Tariff'!J92","v":4.7289999999999997E-3},{"$f":"'GS FP per Tariff'!K92","v":7.7000000000000002E-3},{"$f":"'GS FP per Tariff'!L92","v":4.9399999999999997E-4},{"$f":"'GS FP per Tariff'!M92","v":-2.34E-4},1.9067999999999998E-2,{"$f":"'GS FP per Tariff'!N92","v":0.16294500000000001},{"$f":"BF198-BE198-AU198-AX198-AY198","v":-2.6291902682773483E-18}]
[null,null,null,null,null,null,null,null,null,null,null,null,null,null,null,null,null,null,null,null,null,null,null,null,null,null,"Day/Night Provision **","Suppl Cust Charge",{"$f":"'GS FP per Tariff'!C81","v":3.81},null,null,null,null,null,null,null,null,null,null,{"$f":"AC199","v":3.81},"N/A",null,null,null,null,"* Charge applies only to Full Service Customers"]
[null,null,null,null,null,null,null,null,null,null,null,null,null,null,null,null,null,null,null,null,null,null,null,null,null,null,"Delivery Service Only",{"$f":"'GS FP per Tariff'!B84","v":"Over 10  KW Summer"},null,null,{"$f":"'GS FP per Tariff'!E84","v":9},null,null,null,null,null,null,null,null,{"$f":"AE200","v":9},"N/A"]
[null,null,null,null,null,null,null,null,null,null,null,null,null,null,null,null,null,null,null,null,null,null,null,null,null,null,"All Taxes Applicable & Included",{"$f":"'GS FP per Tariff'!B85","v":"Over 10  KW Winter"},null,null,{"$f":"'GS FP per Tariff'!E85","v":8.3800000000000008},null,null,null,null,null,null,null,null,{"$f":"AE201","v":8.3800000000000008},"N/A",null,null,null,null,null,null,null,{"$f":"AF$2","v":"Rates Effective with Service Rendered June 1, 2025"},null,null,null,null,null,null,null,"Delivery"]
[null,null,null,null,null,null,null,null,null,null,null,null,null,null,null,null,null,null,null,null,null,null,null,null,null,null,null,{"$f":"'GS FP per Tariff'!B87","v":"Minimum Bill-Over 10 KW "},null,null,{"$f":"'GS FP per Tariff'!E87","v":4.08},null,null,null,null,null,null,null,null,{"$f":"AE202","v":4.08},"N/A",null,null,null,"Charge or","Customer",null,null,null,"Energy &","BGS-FP Reconciliation Charge*",{"$f":"$AI$3","v":"Zero Emission Certificate Recovery Charge (ZEC)"},"RGGI\nRecovery\nCharge (RRC)",null,null,null,"Service","Full Service"]
[null,null,null,null,null,null,null,null,null,null,null,null,null,null,null,null,null,null,null,null,null,null,null,null,null,null,null,{"$f":"'GS FP per Tariff'!B89","v":"First 1,000 kWh Summer"},null,"N/A",{"$f":"'GS FP per Tariff'!E89","v":7.5287999999999994E-2},{"$f":"'GS FP per Tariff'!F89","v":3.5799999999999997E-4},"N/A","N/A",{"$f":"'GS FP per Tariff'!I89","v":0},{"$f":"'GS FP per Tariff'!J89","v":4.7289999999999997E-3},{"$f":"'GS FP per Tariff'!K89","v":7.7000000000000002E-3},{"$f":"'GS FP per Tariff'!L89","v":4.9399999999999997E-4},{"$f":"'GS FP per Tariff'!M89","v":-2.34E-4},{"$f":"SUM(AE203:AF203,AI203:AM203)","v":8.8334999999999983E-2},"N/A",null,"Rate Category","Description","Price Block","Charge","Transmission*","Distribution","SRC","Capacity*",null,null,null,"SBC","TAA","MTC","Total","Total"]
[null,null,null,null,null,null,null,null,null,null,null,null,null,null,null,null,null,null,null,null,null,null,null,null,null,null,null,{"$f":"'GS FP per Tariff'!B90","v":"First 1,000 kWh Winter"},null,"N/A",{"$f":"'GS FP per Tariff'!E90","v":6.9662000000000002E-2},{"$f":"'GS FP per Tariff'!F90","v":3.5799999999999997E-4},"N/A","N/A",{"$f":"'GS FP per Tariff'!I90","v":0},{"$f":"'GS FP per Tariff'!J90","v":4.7289999999999997E-3},{"$f":"'GS FP per Tariff'!K90","v":7.7000000000000002E-3},{"$f":"'GS FP per Tariff'!L90","v":4.9399999999999997E-4},{"$f":"'GS FP per Tariff'!M90","v":-2.34E-4},8.2708999999999991E-2,"N/A",null,"JC_GS3_02D","General Service Secondary - 3 Phase","Customer Charge",{"$f":"'GS FP per Tariff'!C78","v":16.690000000000001},null,null,null,null,null,null,null,null,null,null,{"$f":"AT204","v":16.690000000000001},"N/A"]
[null,null,null,null,null,null,null,null,null,null,null,null,null,null,null,null,null,null,null,null,null,null,null,null,null,null,null,{"$f":"'GS FP per Tariff'!B91","v":"Over 1,000 kWh Summer"},null,"N/A",{"$f":"'GS FP per Tariff'!E91","v":6.0210000000000003E-3},{"$f":"'GS FP per Tariff'!F91","v":3.5799999999999997E-4},"N/A","N/A",{"$f":"'GS FP per Tariff'!I91","v":0},{"$f":"'GS FP per Tariff'!J91","v":4.7289999999999997E-3},{"$f":"'GS FP per Tariff'!K91","v":7.7000000000000002E-3},{"$f":"'GS FP per Tariff'!L91","v":4.9399999999999997E-4},{"$f":"'GS FP per Tariff'!M91","v":-2.34E-4},1.9067999999999998E-2,"N/A",null,null,"Day/Night Provision **","Suppl Cust Charge",{"$f":"'GS FP per Tariff'!C81","v":3.81},null,null,null,null,null,null,null,null,null,null,{"$f":"AT205","v":3.81},"N/A"]
[null,null,null,null,null,null,null,null,null,null,null,null,null,null,null,null,null,null,null,null,null,null,null,null,null,null,null,{"$f":"'GS FP per Tariff'!B92","v":"Over 1,000 kWh Winter"},null,"N/A",{"$f":"'GS FP per Tariff'!E92","v":6.0210000000000003E-3},{"$f":"'GS FP per Tariff'!F92","v":3.5799999999999997E-4},"N/A","N/A",{"$f":"'GS FP per Tariff'!I92","v":0},{"$f":"'GS FP per Tariff'!J92","v":4.7289999999999997E-3},{"$f":"'GS FP per Tariff'!K92","v":7.7000000000000002E-3},{"$f":"'GS FP per Tariff'!L92","v":4.9399999999999997E-4},{"$f":"'GS FP per Tariff'!M92","v":-2.34E-4},1.9067999999999998E-2,"N/A",null,null,"Delivery Service Only",{"$f":"'GS FP per Tariff'!B84","v":"Over 10  KW Summer"},null,null,{"$f":"'GS FP per Tariff'!E84","v":9},null,null,null,null,null,null,null,null,{"$f":"AV206","v":9},"N/A"]
[null,null,null,null,null,null,null,null,null,null,null,null,null,null,null,null,null,null,null,null,null,null,null,null,null,null,null,null,"* Charge applies only to Full Service Customers",null,null,"** Demand charges are based on the greater of 100% on-peak kW or 40% off-peak kW",null,null,null,null,null,null,null,null,null,null,null,"All Taxes Applicable & Included",{"$f":"'GS FP per Tariff'!B85","v":"Over 10  KW Winter"},null,null,{"$f":"'GS FP per Tariff'!E85","v":8.3800000000000008},null,null,null,null,null,null,null,null,{"$f":"AV207","v":8.3800000000000008},"N/A"]
[null,null,null,null,null,null,null,null,null,null,null,null,null,null,null,null,null,null,null,null,null,null,null,null,null,null,null,null,null,null,null,null,null,null,null,null,null,null,null,null,null,null,null,null,{"$f":"'GS FP per Tariff'!B87","v":"Minimum Bill-Over 10 KW "},null,null,{"$f":"'GS FP per Tariff'!E87","v":4.08},null,null,null,null,null,null,null,null,{"$f":"AV208","v":4.08},"N/A"]
[null,null,null,null,null,null,null,null,null,null,null,null,null,null,null,null,null,null,null,null,null,null,null,null,null,null,null,null,null,null,null,{"$f":"AF$2","v":"Rates Effective with Service Rendered June 1, 2025"},null,null,null,null,null,null,null,"Delivery",null,null,null,null,{"$f":"'GS FP per Tariff'!B89","v":"First 1,000 kWh Summer"},null,"N/A",{"$f":"'GS FP per Tariff'!E89","v":7.5287999999999994E-2},{"$f":"'GS FP per Tariff'!F89","v":3.5799999999999997E-4},"N/A","N/A",{"$f":"'GS FP per Tariff'!I89","v":0},{"$f":"'GS FP per Tariff'!J89","v":4.7289999999999997E-3},{"$f":"'GS FP per Tariff'!K89","v":7.7000000000000002E-3},{"$f":"'GS FP per Tariff'!L89","v":4.9399999999999997E-4},{"$f":"'GS FP per Tariff'!M89","v":-2.34E-4},{"$f":"SUM(AV209:AW209,AZ209:BD209)","v":8.8334999999999983E-2},"N/A"]
[null,null,null,null,null,null,null,null,null,null,null,null,null,null,null,null,null,null,null,null,null,null,null,null,null,null,null,"Charge or","Customer",null,null,null,"Energy &","BGS-FP Reconciliation Charge*",{"$f":"$AI$3","v":"Zero Emission Certificate Recovery Charge (ZEC)"},"RGGI\nRecovery\nCharge (RRC)",null,null,null,"Service","Full Service",null,null,null,{"$f":"'GS FP per Tariff'!B90","v":"First 1,000 kWh Winter"},null,"N/A",{"$f":"'GS FP per Tariff'!E90","v":6.9662000000000002E-2},{"$f":"'GS FP per Tariff'!F90","v":3.5799999999999997E-4},"N/A","N/A",{"$f":"'GS FP per Tariff'!I90","v":0},{"$f":"'GS FP per Tariff'!J90","v":4.7289999999999997E-3},{"$f":"'GS FP per Tariff'!K90","v":7.7000000000000002E-3},{"$f":"'GS FP per Tariff'!L90","v":4.9399999999999997E-4},{"$f":"'GS FP per Tariff'!M90","v":-2.34E-4},8.2708999999999991E-2,"N/A"]
[null,null,null,null,null,null,null,null,null,null,null,null,null,null,null,null,null,null,null,null,null,null,null,null,null,"Rate Category","Description","Price Block","Charge","Transmission*","Distribution","Covid-19 Recovery","Capacity*",null,null,null,"SBC","LRAM","NGC","Charges","Total",null,null,null,{"$f":"'GS FP per Tariff'!B91","v":"Over 1,000 kWh Summer"},null,"N/A",{"$f":"'GS FP per Tariff'!E91","v":6.0210000000000003E-3},{"$f":"'GS FP per Tariff'!F91","v":3.5799999999999997E-4},"N/A","N/A",{"$f":"'GS FP per Tariff'!I91","v":0},{"$f":"'GS FP per Tariff'!J91","v":4.7289999999999997E-3},{"$f":"'GS FP per Tariff'!K91","v":7.7000000000000002E-3},{"$f":"'GS FP per Tariff'!L91","v":4.9399999999999997E-4},{"$f":"'GS FP per Tariff'!M91","v":-2.34E-4},1.9067999999999998E-2,"N/A"]
[null,null,null,null,null,null,null,null,null,null,null,null,null,null,null,null,null,null,null,null,null,null,null,null,null,"JC_GS1_02F","General Service Secondary - 1 Phase","Customer Charge",{"$f":"'GS FP per Tariff'!C77","v":4.6500000000000004},null,null,null,null,null,null,null,null,null,null,{"$f":"AC212","v":4.6500000000000004},{"$f":"AC212","v":4.6500000000000004},null,null,null,{"$f":"'GS FP per Tariff'!B92","v":"Over 1,000 kWh Winter"},null,"N/A",{"$f":"'GS FP per Tariff'!E92","v":6.0210000000000003E-3},{"$f":"'GS FP per Tariff'!F92","v":3.5799999999999997E-4},"N/A","N/A",{"$f":"'GS FP per Tariff'!I92","v":0},{"$f":"'GS FP per Tariff'!J92","v":4.7289999999999997E-3},{"$f":"'GS FP per Tariff'!K92","v":7.7000000000000002E-3},{"$f":"'GS FP per Tariff'!L92","v":4.9399999999999997E-4},{"$f":"'GS FP per Tariff'!M92","v":-2.34E-4},1.9067999999999998E-2,"N/A"]
[null,null,null,null,null,null,null,null,null,null,null,null,null,null,null,null,null,null,null,null,null,null,null,null,null,null,"Day/Night Provision **","Suppl Cust Charge",{"$f":"'GS FP per Tariff'!C81","v":3.81},null,null,null,null,null,null,null,null,null,null,{"$f":"AC213","v":3.81},{"$f":"AC213","v":3.81},null,null,null,null,"* Charge applies only to Full Service Customers",null,null,"** Demand charges are based on the greater of 100% on-peak kW or 40% off-peak kW"]
[null,null,null,null,null,null,null,null,null,null,null,null,null,null,null,null,null,null,null,null,null,null,null,null,null,null,"Full Service",{"$f":"'GS FP per Tariff'!B84","v":"Over 10  KW Summer"},null,null,{"$f":"'GS FP per Tariff'!E84","v":9},null,null,null,null,null,null,null,null,{"$f":"AE214","v":9},{"$f":"AE214","v":9}]
[null,null,null,null,null,null,null,null,null,null,null,null,null,null,null,null,null,null,null,null,null,null,null,null,null,null,"All Taxes Applicable & Included",{"$f":"'GS FP per Tariff'!B85","v":"Over 10  KW Winter"},null,null,{"$f":"'GS FP per Tariff'!E85","v":8.3800000000000008},null,null,null,null,null,null,null,null,{"$f":"AE215","v":8.3800000000000008},{"$f":"AE215","v":8.3800000000000008},null,null,null,null,null,null,null,{"$f":"AF$2","v":"Rates Effective with Service Rendered June 1, 2025"},null,null,null,null,null,null,null,"Delivery"]
[null,null,null,null,null,null,null,null,null,null,null,null,null,null,null,null,null,null,null,null,null,null,null,null,null,null,null,{"$f":"'GS FP per Tariff'!B87","v":"Minimum Bill-Over 10 KW "},null,null,{"$f":"'GS FP per Tariff'!E87","v":4.08},null,null,null,null,null,null,null,null,{"$f":"AE216","v":4.08},{"$f":"AE216","v":4.08},null,null,null,"Charge or","Customer",null,null,null,"Energy &","BGS-FP Reconciliation Charge*",{"$f":"$AI$3","v":"Zero Emission Certificate Recovery Charge (ZEC)"},"RGGI\nRecovery\nCharge (RRC)",null,null,null,"Service","Full Service"]
[null,null,null,null,null,null,null,null,null,null,null,null,null,null,null,null,null,null,null,null,null,null,null,null,null,null,null,{"$f":"'GS FP per Tariff'!B89","v":"First 1,000 kWh Summer"},null,{"$f":"'GS FP per Tariff'!D89","v":1.9212E-2},{"$f":"'GS FP per Tariff'!E89","v":7.5287999999999994E-2},{"$f":"'GS FP per Tariff'!F89","v":3.5799999999999997E-4},{"$f":"'GS FP per Tariff'!G89","v":0.124982},{"$f":"'GS FP per Tariff'!H89","v":3.8999999999999999E-5},{"$f":"'GS FP per Tariff'!I89","v":0},{"$f":"'GS FP per Tariff'!J89","v":4.7289999999999997E-3},{"$f":"'GS FP per Tariff'!K89","v":7.7000000000000002E-3},{"$f":"'GS FP per Tariff'!L89","v":4.9399999999999997E-4},{"$f":"'GS FP per Tariff'!M89","v":-2.34E-4},{"$f":"SUM(AE217:AF217,AI217:AM217)","v":8.8334999999999983E-2},{"$f":"'GS FP per Tariff'!N89","v":0.232568},null,"Rate Category","Description","Price Block","Charge","Transmission*","Distribution","SRC","Capacity*",null,null,null,"SBC","TAA","MTC","Charges","Total"]
[null,null,null,null,null,null,null,null,null,null,null,null,null,null,null,null,null,null,null,null,null,null,null,null,null,null,null,{"$f":"'GS FP per Tariff'!B90","v":"First 1,000 kWh Winter"},null,{"$f":"'GS FP per Tariff'!D90","v":1.9212E-2},{"$f":"'GS FP per Tariff'!E90","v":6.9662000000000002E-2},{"$f":"'GS FP per Tariff'!F90","v":3.5799999999999997E-4},{"$f":"'GS FP per Tariff'!G90","v":0.124626},{"$f":"'GS FP per Tariff'!H90","v":3.8999999999999999E-5},{"$f":"'GS FP per Tariff'!I90","v":0},{"$f":"'GS FP per Tariff'!J90","v":4.7289999999999997E-3},{"$f":"'GS FP per Tariff'!K90","v":7.7000000000000002E-3},{"$f":"'GS FP per Tariff'!L90","v":4.9399999999999997E-4},{"$f":"'GS FP per Tariff'!M90","v":-2.34E-4},8.2708999999999991E-2,{"$f":"'GS FP per Tariff'!N90","v":0.22658600000000001},null,"JC_GS3_02F","General Service Secondary - 3 Phase","Customer Charge",{"$f":"'GS FP per Tariff'!C78","v":16.690000000000001},null,null,null,null,null,null,null,null,null,null,{"$f":"AT218","v":16.690000000000001},{"$f":"AT218","v":16.690000000000001}]
[null,null,null,null,null,null,null,null,null,null,null,null,null,null,null,null,null,null,null,null,null,null,null,null,null,null,null,{"$f":"'GS FP per Tariff'!B91","v":"Over 1,000 kWh Summer"},null,{"$f":"'GS FP per Tariff'!D91","v":1.9212E-2},{"$f":"'GS FP per Tariff'!E91","v":6.0210000000000003E-3},{"$f":"'GS FP per Tariff'!F91","v":3.5799999999999997E-4},{"$f":"'GS FP per Tariff'!G91","v":0.124982},{"$f":"'GS FP per Tariff'!H91","v":3.8999999999999999E-5},{"$f":"'GS FP per Tariff'!I91","v":0},{"$f":"'GS FP per Tariff'!J91","v":4.7289999999999997E-3},{"$f":"'GS FP per Tariff'!K91","v":7.7000000000000002E-3},{"$f":"'GS FP per Tariff'!L91","v":4.9399999999999997E-4},{"$f":"'GS FP per Tariff'!M91","v":-2.34E-4},1.9067999999999998E-2,{"$f":"'GS FP per Tariff'!N91","v":0.163301},null,null,"Day/Night Provision **","Suppl Cust Charge",{"$f":"'GS FP per Tariff'!C81","v":3.81},null,null,null,null,null,null,null,null,null,null,{"$f":"AT219","v":3.81},{"$f":"AT219","v":3.81}]
[null,null,null,null,null,null,null,null,null,null,null,null,null,null,null,null,null,null,null,null,null,null,null,null,null,null,null,{"$f":"'GS FP per Tariff'!B92","v":"Over 1,000 kWh Winter"},null,{"$f":"'GS FP per Tariff'!D92","v":1.9212E-2},{"$f":"'GS FP per Tariff'!E92","v":6.0210000000000003E-3},{"$f":"'GS FP per Tariff'!F92","v":3.5799999999999997E-4},{"$f":"'GS FP per Tariff'!G92","v":0.124626},{"$f":"'GS FP per Tariff'!H92","v":3.8999999999999999E-5},{"$f":"'GS FP per Tariff'!I92","v":0},{"$f":"'GS FP per Tariff'!J92","v":4.7289999999999997E-3},{"$f":"'GS FP per Tariff'!K92","v":7.7000000000000002E-3},{"$f":"'GS FP per Tariff'!L92","v":4.9399999999999997E-4},{"$f":"'GS FP per Tariff'!M92","v":-2.34E-4},1.9067999999999998E-2,{"$f":"'GS FP per Tariff'!N92","v":0.16294500000000001},null,null,"Full service",{"$f":"'GS FP per Tariff'!B84","v":"Over 10  KW Summer"},null,null,{"$f":"'GS FP per Tariff'!E84","v":9},null,null,null,null,null,null,null,null,{"$f":"AV220","v":9},{"$f":"AV220","v":9}]
[null,null,null,null,null,null,null,null,null,null,null,null,null,null,null,null,null,null,null,null,null,null,null,null,null,null,null,null,"* Charge applies only to Full Service Customers",null,null,"** Demand charges are based on the greater of 100% on-peak kW or 40% off-peak kW",null,null,null,null,null,null,null,null,null,null,null,"All Taxes Applicable & Included",{"$f":"'GS FP per Tariff'!B85","v":"Over 10  KW Winter"},null,null,{"$f":"'GS FP per Tariff'!E85","v":8.3800000000000008},null,null,null,null,null,null,null,null,{"$f":"AV221","v":8.3800000000000008},{"$f":"AV221","v":8.3800000000000008}]
[null,null,null,null,null,null,null,null,null,null,null,null,null,null,null,null,null,null,null,null,null,null,null,null,null,null,null,null,null,null,null,null,null,null,null,null,null,null,null,null,null,null,null,null,{"$f":"'GS FP per Tariff'!B87","v":"Minimum Bill-Over 10 KW "},null,null,{"$f":"'GS FP per Tariff'!E87","v":4.08},null,null,null,null,null,null,null,null,{"$f":"AV222","v":4.08},{"$f":"AV222","v":4.08}]
[null,null,null,null,null,null,null,null,null,null,null,null,null,null,null,null,null,null,null,null,null,null,null,null,null,null,null,null,null,null,null,{"$f":"AF$2","v":"Rates Effective with Service Rendered June 1, 2025"},null,null,null,null,null,null,null,"Delivery",null,null,null,null,{"$f":"'GS FP per Tariff'!B89","v":"First 1,000 kWh Summer"},null,{"$f":"'GS FP per Tariff'!D89","v":1.9212E-2},{"$f":"'GS FP per Tariff'!E89","v":7.5287999999999994E-2},{"$f":"'GS FP per Tariff'!F89","v":3.5799999999999997E-4},{"$f":"'GS FP per Tariff'!G89","v":0.124982},{"$f":"'GS FP per Tariff'!H89","v":3.8999999999999999E-5},{"$f":"'GS FP per Tariff'!I89","v":0},{"$f":"'GS FP per Tariff'!J89","v":4.7289999999999997E-3},{"$f":"'GS FP per Tariff'!K89","v":7.7000000000000002E-3},{"$f":"'GS FP per Tariff'!L89","v":4.9399999999999997E-4},{"$f":"'GS FP per Tariff'!M89","v":-2.34E-4},{"$f":"SUM(AV223:AW223,AZ223:BD223)","v":8.8334999999999983E-2},{"$f":"'GS FP per Tariff'!N89","v":0.232568},{"$f":"BF223-BE223-AU223-AX223-AY223","v":-2.6291902682773483E-18}]
[null,null,null,null,null,null,null,null,null,null,null,null,null,null,null,null,null,null,null,null,null,null,null,null,null,null,null,"Charge or","Customer",null,null,null,"Energy &","BGS-FP Reconciliation Charge*",{"$f":"$AI$3","v":"Zero Emission Certificate Recovery Charge (ZEC)"},"RGGI\nRecovery\nCharge (RRC)",null,null,null,"Service","Full Service",null,null,null,{"$f":"'GS FP per Tariff'!B90","v":"First 1,000 kWh Winter"},null,{"$f":"'GS FP per Tariff'!D90","v":1.9212E-2},{"$f":"'GS FP per Tariff'!E90","v":6.9662000000000002E-2},{"$f":"'GS FP per Tariff'!F90","v":3.5799999999999997E-4},{"$f":"'GS FP per Tariff'!G90","v":0.124626},{"$f":"'GS FP per Tariff'!H90","v":3.8999999999999999E-5},{"$f":"'GS FP per Tariff'!I90","v":0},{"$f":"'GS FP per Tariff'!J90","v":4.7289999999999997E-3},{"$f":"'GS FP per Tariff'!K90","v":7.7000000000000002E-3},{"$f":"'GS FP per Tariff'!L90","v":4.9399999999999997E-4},{"$f":"'GS FP per Tariff'!M90","v":-2.34E-4},8.2708999999999991E-2,{"$f":"'GS FP per Tariff'!N90","v":0.22658600000000001},{"$f":"BF224-BE224-AU224-AX224-AY224","v":2.5126385347351565E-17}]
[null,null,null,null,null,null,null,null,null,null,null,null,null,null,null,null,null,null,null,null,null,null,null,null,null,"Rate Category","Description","Price Block","Charge","Transmission*","Distribution","Covid-19 Recovery","Capacity*",null,null,null,"SBC","LRAM","NGC","Total","Total",null,null,null,{"$f":"'GS FP per Tariff'!B91","v":"Over 1,000 kWh Summer"},null,{"$f":"'GS FP per Tariff'!D91","v":1.9212E-2},{"$f":"'GS FP per Tariff'!E91","v":6.0210000000000003E-3},{"$f":"'GS FP per Tariff'!F91","v":3.5799999999999997E-4},{"$f":"'GS FP per Tariff'!G91","v":0.124982},{"$f":"'GS FP per Tariff'!H91","v":3.8999999999999999E-5},{"$f":"'GS FP per Tariff'!I91","v":0},{"$f":"'GS FP per Tariff'!J91","v":4.7289999999999997E-3},{"$f":"'GS FP per Tariff'!K91","v":7.7000000000000002E-3},{"$f":"'GS FP per Tariff'!L91","v":4.9399999999999997E-4},{"$f":"'GS FP per Tariff'!M91","v":-2.34E-4},1.9067999999999998E-2,{"$f":"'GS FP per Tariff'!N91","v":0.163301},{"$f":"BF225-BE225-AU225-AX225-AY225","v":-2.6291902682773483E-18}]
[null,null,null,null,null,null,null,null,null,null,null,null,null,null,null,null,null,null,null,null,null,null,null,null,null,"JC_GS1_03D","General Service Secondary - 1 Phase","Customer Charge",{"$f":"'GS FP per Tariff'!C77","v":4.6500000000000004},null,null,null,null,null,null,null,null,null,null,{"$f":"AC226","v":4.6500000000000004},"N/A",null,null,null,{"$f":"'GS FP per Tariff'!B92","v":"Over 1,000 kWh Winter"},null,{"$f":"'GS FP per Tariff'!D92","v":1.9212E-2},{"$f":"'GS FP per Tariff'!E92","v":6.0210000000000003E-3},{"$f":"'GS FP per Tariff'!F92","v":3.5799999999999997E-4},{"$f":"'GS FP per Tariff'!G92","v":0.124626},{"$f":"'GS FP per Tariff'!H92","v":3.8999999999999999E-5},{"$f":"'GS FP per Tariff'!I92","v":0},{"$f":"'GS FP per Tariff'!J92","v":4.7289999999999997E-3},{"$f":"'GS FP per Tariff'!K92","v":7.7000000000000002E-3},{"$f":"'GS FP per Tariff'!L92","v":4.9399999999999997E-4},{"$f":"'GS FP per Tariff'!M92","v":-2.34E-4},1.9067999999999998E-2,{"$f":"'GS FP per Tariff'!N92","v":0.16294500000000001},{"$f":"BF226-BE226-AU226-AX226-AY226","v":-2.6291902682773483E-18}]
[null,null,null,null,null,null,null,null,null,null,null,null,null,null,null,null,null,null,null,null,null,null,null,null,null,null,"Electric Space Heating Provision **",{"$f":"'GS FP per Tariff'!B84","v":"Over 10  KW Summer"},null,null,{"$f":"'GS FP per Tariff'!E84","v":9},null,null,null,null,null,null,null,null,{"$f":"AE227","v":9},"N/A",null,null,null,null,"* Charge applies only to Full Service Customers",null,null,"** Demand charges are based on the greater of 100% on-peak kW or 40% off-peak kW"]
[null,null,null,null,null,null,null,null,null,null,null,null,null,null,null,null,null,null,null,null,null,null,null,null,null,null,"Delivery Service Only",{"$f":"'GS FP per Tariff'!B85","v":"Over 10  KW Winter"},null,null,{"$f":"'GS FP per Tariff'!E85","v":8.3800000000000008},null,null,null,null,null,null,null,null,{"$f":"AE228","v":8.3800000000000008},"N/A"]
[null,null,null,null,null,null,null,null,null,null,null,null,null,null,null,null,null,null,null,null,null,null,null,null,null,null,"All Taxes Applicable & Included",{"$f":"'GS FP per Tariff'!B87","v":"Minimum Bill-Over 10 KW "},null,null,{"$f":"'GS FP per Tariff'!E87","v":4.08},null,null,null,null,null,null,null,null,{"$f":"AE229","v":4.08},"N/A",null,null,null,null,null,null,null,{"$f":"AF$2","v":"Rates Effective with Service Rendered June 1, 2025"},null,null,null,null,null,null,null,"Delivery"]
[null,null,null,null,null,null,null,null,null,null,null,null,null,null,null,null,null,null,null,null,null,null,null,null,null,null,null,{"$f":"'GS FP per Tariff'!B89","v":"First 1,000 kWh Summer"},null,"N/A",{"$f":"'GS FP per Tariff'!E89","v":7.5287999999999994E-2},{"$f":"'GS FP per Tariff'!F89","v":3.5799999999999997E-4},"N/A","N/A",{"$f":"'GS FP per Tariff'!I89","v":0},{"$f":"'GS FP per Tariff'!J89","v":4.7289999999999997E-3},{"$f":"'GS FP per Tariff'!K89","v":7.7000000000000002E-3},{"$f":"'GS FP per Tariff'!L89","v":4.9399999999999997E-4},{"$f":"'GS FP per Tariff'!M89","v":-2.34E-4},{"$f":"SUM(AE230:AF230,AI230:AM230)","v":8.8334999999999983E-2},"N/A",null,null,null,"Charge or","Customer",null,null,null,"Energy &","BGS-FP Reconciliation Charge*",{"$f":"$AI$3","v":"Zero Emission Certificate Recovery Charge (ZEC)"},"RGGI\nRecovery\nCharge (RRC)",null,null,null,"Service","Full Service"]
[null,null,null,null,null,null,null,null,null,null,null,null,null,null,null,null,null,null,null,null,null,null,null,null,null,null,null,{"$f":"'GS FP per Tariff'!B90","v":"First 1,000 kWh Winter"},null,"N/A",{"$f":"'GS FP per Tariff'!E90","v":6.9662000000000002E-2},{"$f":"'GS FP per Tariff'!F90","v":3.5799999999999997E-4},"N/A","N/A",{"$f":"'GS FP per Tariff'!I90","v":0},{"$f":"'GS FP per Tariff'!J90","v":4.7289999999999997E-3},{"$f":"'GS FP per Tariff'!K90","v":7.7000000000000002E-3},{"$f":"'GS FP per Tariff'!L90","v":4.9399999999999997E-4},{"$f":"'GS FP per Tariff'!M90","v":-2.34E-4},8.2708999999999991E-2,"N/A",null,"Rate Category","Description","Price Block","Charge","Transmission*","Distribution","SRC","Capacity*",null,null,null,"SBC","TAA","MTC","Total","Total"]
[null,null,null,null,null,null,null,null,null,null,null,null,null,null,null,null,null,null,null,null,null,null,null,null,null,null,null,{"$f":"'GS FP per Tariff'!B91","v":"Over 1,000 kWh Summer"},null,"N/A",{"$f":"'GS FP per Tariff'!E91","v":6.0210000000000003E-3},{"$f":"'GS FP per Tariff'!F91","v":3.5799999999999997E-4},"N/A","N/A",{"$f":"'GS FP per Tariff'!I91","v":0},{"$f":"'GS FP per Tariff'!J91","v":4.7289999999999997E-3},{"$f":"'GS FP per Tariff'!K91","v":7.7000000000000002E-3},{"$f":"'GS FP per Tariff'!L91","v":4.9399999999999997E-4},{"$f":"'GS FP per Tariff'!M91","v":-2.34E-4},1.9067999999999998E-2,"N/A",null,"JC_GS3_03D","General Service Secondary - 3 Phase","Customer Charge",{"$f":"'GS FP per Tariff'!C78","v":16.690000000000001},null,null,null,null,null,null,null,null,null,null,{"$f":"AT232","v":16.690000000000001},"N/A"]
[null,null,null,null,null,null,null,null,null,null,null,null,null,null,null,null,null,null,null,null,null,null,null,null,null,null,null,{"$f":"'GS FP per Tariff'!B92","v":"Over 1,000 kWh Winter"},null,"N/A",{"$f":"'GS FP per Tariff'!E92","v":6.0210000000000003E-3},{"$f":"'GS FP per Tariff'!F92","v":3.5799999999999997E-4},"N/A","N/A",{"$f":"'GS FP per Tariff'!I92","v":0},{"$f":"'GS FP per Tariff'!J92","v":4.7289999999999997E-3},{"$f":"'GS FP per Tariff'!K92","v":7.7000000000000002E-3},{"$f":"'GS FP per Tariff'!L92","v":4.9399999999999997E-4},{"$f":"'GS FP per Tariff'!M92","v":-2.34E-4},1.9067999999999998E-2,"N/A",null,null,"Electric Space Heating Provision **",{"$f":"'GS FP per Tariff'!B84","v":"Over 10  KW Summer"},null,null,{"$f":"'GS FP per Tariff'!E84","v":9},null,null,null,null,null,null,null,null,{"$f":"AV233","v":9},"N/A"]
[null,null,null,null,null,null,null,null,null,null,null,null,null,null,null,null,null,null,null,null,null,null,null,null,null,null,null,null,"* Charge applies only to Full Service Customers",null,null,"** Minimum demand charge calculation is based on summer kW only",null,null,null,null,null,null,null,null,null,null,null,"Delivery Service Only",{"$f":"'GS FP per Tariff'!B85","v":"Over 10  KW Winter"},null,null,{"$f":"'GS FP per Tariff'!E85","v":8.3800000000000008},null,null,null,null,null,null,null,null,{"$f":"AV234","v":8.3800000000000008},"N/A"]
[null,null,null,null,null,null,null,null,null,null,null,null,null,null,null,null,null,null,null,null,null,null,null,null,null,null,null,null,null,null,null,null,null,null,null,null,null,null,null,null,null,null,null,"All Taxes Applicable & Included",{"$f":"'GS FP per Tariff'!B87","v":"Minimum Bill-Over 10 KW "},null,null,{"$f":"'GS FP per Tariff'!E87","v":4.08},null,null,null,null,null,null,null,null,{"$f":"AV235","v":4.08},"N/A"]
[null,null,null,null,null,null,null,null,null,null,null,null,null,null,null,null,null,null,null,null,null,null,null,null,null,null,null,null,null,null,null,{"$f":"AF$2","v":"Rates Effective with Service Rendered June 1, 2025"},null,null,null,null,null,null,null,"Delivery",null,null,null,null,{"$f":"'GS FP per Tariff'!B89","v":"First 1,000 kWh Summer"},null,"N/A",{"$f":"'GS FP per Tariff'!E89","v":7.5287999999999994E-2},{"$f":"'GS FP per Tariff'!F89","v":3.5799999999999997E-4},"N/A","N/A",{"$f":"'GS FP per Tariff'!I89","v":0},{"$f":"'GS FP per Tariff'!J89","v":4.7289999999999997E-3},{"$f":"'GS FP per Tariff'!K89","v":7.7000000000000002E-3},{"$f":"'GS FP per Tariff'!L89","v":4.9399999999999997E-4},{"$f":"'GS FP per Tariff'!M89","v":-2.34E-4},{"$f":"SUM(AV236:AW236,AZ236:BD236)","v":8.8334999999999983E-2},"N/A"]
[null,null,null,null,null,null,null,null,null,null,null,null,null,null,null,null,null,null,null,null,null,null,null,null,null,null,null,"Charge or","Customer",null,null,null,"Energy &","BGS-FP Reconciliation Charge*",{"$f":"$AI$3","v":"Zero Emission Certificate Recovery Charge (ZEC)"},"RGGI\nRecovery\nCharge (RRC)",null,null,null,"Service","Full Service",null,null,null,{"$f":"'GS FP per Tariff'!B90","v":"First 1,000 kWh Winter"},null,"N/A",{"$f":"'GS FP per Tariff'!E90","v":6.9662000000000002E-2},{"$f":"'GS FP per Tariff'!F90","v":3.5799999999999997E-4},"N/A","N/A",{"$f":"'GS FP per Tariff'!I90","v":0},{"$f":"'GS FP per Tariff'!J90","v":4.7289999999999997E-3},{"$f":"'GS FP per Tariff'!K90","v":7.7000000000000002E-3},{"$f":"'GS FP per Tariff'!L90","v":4.9399999999999997E-4},{"$f":"'GS FP per Tariff'!M90","v":-2.34E-4},8.2708999999999991E-2,"N/A"]
[null,null,null,null,null,null,null,null,null,null,null,null,null,null,null,null,null,null,null,null,null,null,null,null,null,"Rate Category","Description","Price Block","Charge","Transmission*","Distribution","Covid-19 Recovery","Capacity*",null,null,null,"SBC","LRAM","NGC","Charges","Total",null,null,null,{"$f":"'GS FP per Tariff'!B91","v":"Over 1,000 kWh Summer"},null,"N/A",{"$f":"'GS FP per Tariff'!E91","v":6.0210000000000003E-3},{"$f":"'GS FP per Tariff'!F91","v":3.5799999999999997E-4},"N/A","N/A",{"$f":"'GS FP per Tariff'!I91","v":0},{"$f":"'GS FP per Tariff'!J91","v":4.7289999999999997E-3},{"$f":"'GS FP per Tariff'!K91","v":7.7000000000000002E-3},{"$f":"'GS FP per Tariff'!L91","v":4.9399999999999997E-4},{"$f":"'GS FP per Tariff'!M91","v":-2.34E-4},1.9067999999999998E-2,"N/A"]
[null,null,null,null,null,null,null,null,null,null,null,null,null,null,null,null,null,null,null,null,null,null,null,null,null,"JC_GS1_03F","General Service Secondary - 1 Phase","Customer Charge",{"$f":"'GS FP per Tariff'!C77","v":4.6500000000000004},null,null,null,null,null,null,null,null,null,null,{"$f":"AC239","v":4.6500000000000004},{"$f":"AC239","v":4.6500000000000004},null,null,null,{"$f":"'GS FP per Tariff'!B92","v":"Over 1,000 kWh Winter"},null,"N/A",{"$f":"'GS FP per Tariff'!E92","v":6.0210000000000003E-3},{"$f":"'GS FP per Tariff'!F92","v":3.5799999999999997E-4},"N/A","N/A",{"$f":"'GS FP per Tariff'!I92","v":0},{"$f":"'GS FP per Tariff'!J92","v":4.7289999999999997E-3},{"$f":"'GS FP per Tariff'!K92","v":7.7000000000000002E-3},{"$f":"'GS FP per Tariff'!L92","v":4.9399999999999997E-4},{"$f":"'GS FP per Tariff'!M92","v":-2.34E-4},1.9067999999999998E-2,"N/A"]
[null,null,null,null,null,null,null,null,null,null,null,null,null,null,null,null,null,null,null,null,null,null,null,null,null,null,"Electric Space Heating Provision **",{"$f":"'GS FP per Tariff'!B84","v":"Over 10  KW Summer"},null,null,{"$f":"'GS FP per Tariff'!E84","v":9},null,null,null,null,null,null,null,null,{"$f":"AE240","v":9},{"$f":"AE240","v":9},null,null,null,null,"* Charge applies only to Full Service Customers",null,null,"** Minimum demand charge calculation is based on summer kW only"]
[null,null,null,null,null,null,null,null,null,null,null,null,null,null,null,null,null,null,null,null,null,null,null,null,null,null,"Full Service",{"$f":"'GS FP per Tariff'!B85","v":"Over 10  KW Winter"},null,null,{"$f":"'GS FP per Tariff'!E85","v":8.3800000000000008},null,null,null,null,null,null,null,null,{"$f":"AE241","v":8.3800000000000008},{"$f":"AE241","v":8.3800000000000008}]
[null,null,null,null,null,null,null,null,null,null,null,null,null,null,null,null,null,null,null,null,null,null,null,null,null,null,"All Taxes Applicable & Included",{"$f":"'GS FP per Tariff'!B87","v":"Minimum Bill-Over 10 KW "},null,null,{"$f":"'GS FP per Tariff'!E87","v":4.08},null,null,null,null,null,null,null,null,{"$f":"AE242","v":4.08},{"$f":"AE242","v":4.08},null,null,null,null,null,null,null,{"$f":"AF$2","v":"Rates Effective with Service Rendered June 1, 2025"},null,null,null,null,null,null,null,"Delivery"]
[null,null,null,null,null,null,null,null,null,null,null,null,null,null,null,null,null,null,null,null,null,null,null,null,null,null,null,{"$f":"'GS FP per Tariff'!B89","v":"First 1,000 kWh Summer"},null,{"$f":"'GS FP per Tariff'!D89","v":1.9212E-2},{"$f":"'GS FP per Tariff'!E89","v":7.5287999999999994E-2},{"$f":"'GS FP per Tariff'!F89","v":3.5799999999999997E-4},{"$f":"'GS FP per Tariff'!G89","v":0.124982},{"$f":"'GS FP per Tariff'!H89","v":3.8999999999999999E-5},{"$f":"'GS FP per Tariff'!I89","v":0},{"$f":"'GS FP per Tariff'!J89","v":4.7289999999999997E-3},{"$f":"'GS FP per Tariff'!K89","v":7.7000000000000002E-3},{"$f":"'GS FP per Tariff'!L89","v":4.9399999999999997E-4},{"$f":"'GS FP per Tariff'!M89","v":-2.34E-4},{"$f":"SUM(AE243:AF243,AI243:AM243)","v":8.8334999999999983E-2},{"$f":"'GS FP per Tariff'!N89","v":0.232568},null,null,null,"Charge or","Customer",null,null,null,"Energy &","BGS-FP Reconciliation Charge*",{"$f":"$AI$3","v":"Zero Emission Certificate Recovery Charge (ZEC)"},"RGGI\nRecovery\nCharge (RRC)",null,null,null,"Service","Full Service"]
[null,null,null,null,null,null,null,null,null,null,null,null,null,null,null,null,null,null,null,null,null,null,null,null,null,null,null,{"$f":"'GS FP per Tariff'!B90","v":"First 1,000 kWh Winter"},null,{"$f":"'GS FP per Tariff'!D90","v":1.9212E-2},{"$f":"'GS FP per Tariff'!E90","v":6.9662000000000002E-2},{"$f":"'GS FP per Tariff'!F90","v":3.5799999999999997E-4},{"$f":"'GS FP per Tariff'!G90","v":0.124626},{"$f":"'GS FP per Tariff'!H90","v":3.8999999999999999E-5},{"$f":"'GS FP per Tariff'!I90","v":0},{"$f":"'GS FP per Tariff'!J90","v":4.7289999999999997E-3},{"$f":"'GS FP per Tariff'!K90","v":7.7000000000000002E-3},{"$f":"'GS FP per Tariff'!L90","v":4.9399999999999997E-4},{"$f":"'GS FP per Tariff'!M90","v":-2.34E-4},8.2708999999999991E-2,{"$f":"'GS FP per Tariff'!N90","v":0.22658600000000001},null,"Rate Category","Description","Price Block","Charge","Transmission*","Distribution","SRC","Capacity*",null,null,null,"SBC","TAA","MTC","Charges","Total"]
[null,null,null,null,null,null,null,null,null,null,null,null,null,null,null,null,null,null,null,null,null,null,null,null,null,null,null,{"$f":"'GS FP per Tariff'!B91","v":"Over 1,000 kWh Summer"},null,{"$f":"'GS FP per Tariff'!D91","v":1.9212E-2},{"$f":"'GS FP per Tariff'!E91","v":6.0210000000000003E-3},{"$f":"'GS FP per Tariff'!F91","v":3.5799999999999997E-4},{"$f":"'GS FP per Tariff'!G91","v":0.124982},{"$f":"'GS FP per Tariff'!H91","v":3.8999999999999999E-5},{"$f":"'GS FP per Tariff'!I91","v":0},{"$f":"'GS FP per Tariff'!J91","v":4.7289999999999997E-3},{"$f":"'GS FP per Tariff'!K91","v":7.7000000000000002E-3},{"$f":"'GS FP per Tariff'!L91","v":4.9399999999999997E-4},{"$f":"'GS FP per Tariff'!M91","v":-2.34E-4},1.9067999999999998E-2,{"$f":"'GS FP per Tariff'!N91","v":0.163301},null,"JC_GS3_03F","General Service Secondary - 3 Phase","Customer Charge",{"$f":"'GS FP per Tariff'!C78","v":16.690000000000001},null,null,null,null,null,null,null,null,null,null,{"$f":"AT245","v":16.690000000000001},{"$f":"AT245","v":16.690000000000001}]
[null,null,null,null,null,null,null,null,null,null,null,null,null,null,null,null,null,null,null,null,null,null,null,null,null,null,null,{"$f":"'GS FP per Tariff'!B92","v":"Over 1,000 kWh Winter"},null,{"$f":"'GS FP per Tariff'!D92","v":1.9212E-2},{"$f":"'GS FP per Tariff'!E92","v":6.0210000000000003E-3},{"$f":"'GS FP per Tariff'!F92","v":3.5799999999999997E-4},{"$f":"'GS FP per Tariff'!G92","v":0.124626},{"$f":"'GS FP per Tariff'!H92","v":3.8999999999999999E-5},{"$f":"'GS FP per Tariff'!I92","v":0},{"$f":"'GS FP per Tariff'!J92","v":4.7289999999999997E-3},{"$f":"'GS FP per Tariff'!K92","v":7.7000000000000002E-3},{"$f":"'GS FP per Tariff'!L92","v":4.9399999999999997E-4},{"$f":"'GS FP per Tariff'!M92","v":-2.34E-4},1.9067999999999998E-2,{"$f":"'GS FP per Tariff'!N92","v":0.16294500000000001},null,null,"Electric Space Heating Provision **",{"$f":"'GS FP per Tariff'!B84","v":"Over 10  KW Summer"},null,null,{"$f":"'GS FP per Tariff'!E84","v":9},null,null,null,null,null,null,null,null,{"$f":"AV246","v":9},{"$f":"AV246","v":9}]
[null,null,null,null,null,null,null,null,null,null,null,null,null,null,null,null,null,null,null,null,null,null,null,null,null,null,null,null,"* Charge applies only to Full Service Customers",null,null,"** Minimum demand charge calculation is based on summer kW only",null,null,null,null,null,null,null,null,null,null,null,"Full service",{"$f":"'GS FP per Tariff'!B85","v":"Over 10  KW Winter"},null,null,{"$f":"'GS FP per Tariff'!E85","v":8.3800000000000008},null,null,null,null,null,null,null,null,{"$f":"AV247","v":8.3800000000000008},{"$f":"AV247","v":8.3800000000000008}]
[null,null,null,null,null,null,null,null,null,null,null,null,null,null,null,null,null,null,null,null,null,null,null,null,null,null,null,null,null,null,null,null,null,null,null,null,null,null,null,null,null,null,null,"All Taxes Applicable & Included",{"$f":"'GS FP per Tariff'!B87","v":"Minimum Bill-Over 10 KW "},null,null,{"$f":"'GS FP per Tariff'!E87","v":4.08},null,null,null,null,null,null,null,null,{"$f":"AV248","v":4.08},{"$f":"AV248","v":4.08}]
[null,null,null,null,null,null,null,null,null,null,null,null,null,null,null,null,null,null,null,null,null,null,null,null,null,null,null,null,null,null,null,{"$f":"AF$2","v":"Rates Effective with Service Rendered June 1, 2025"},null,null,null,null,null,null,null,"Delivery",null,null,null,null,{"$f":"'GS FP per Tariff'!B89","v":"First 1,000 kWh Summer"},null,{"$f":"'GS FP per Tariff'!D89","v":1.9212E-2},{"$f":"'GS FP per Tariff'!E89","v":7.5287999999999994E-2},{"$f":"'GS FP per Tariff'!F89","v":3.5799999999999997E-4},{"$f":"'GS FP per Tariff'!G89","v":0.124982},{"$f":"'GS FP per Tariff'!H89","v":3.8999999999999999E-5},{"$f":"'GS FP per Tariff'!I89","v":0},{"$f":"'GS FP per Tariff'!J89","v":4.7289999999999997E-3},{"$f":"'GS FP per Tariff'!K89","v":7.7000000000000002E-3},{"$f":"'GS FP per Tariff'!L89","v":4.9399999999999997E-4},{"$f":"'GS FP per Tariff'!M89","v":-2.34E-4},{"$f":"SUM(AV249:AW249,AZ249:BD249)","v":8.8334999999999983E-2},{"$f":"'GS FP per Tariff'!N89","v":0.232568},{"$f":"BF249-BE249-AU249-AX249-AY249","v":-2.6291902682773483E-18}]
[null,null,null,null,null,null,null,null,null,null,null,null,null,null,null,null,null,null,null,null,null,null,null,null,null,null,null,"Charge or","Customer",null,null,null,"Energy &","BGS-FP Reconciliation Charge*",{"$f":"$AI$3","v":"Zero Emission Certificate Recovery Charge (ZEC)"},"RGGI\nRecovery\nCharge (RRC)",null,null,null,"Service","Full Service",null,null,null,{"$f":"'GS FP per Tariff'!B90","v":"First 1,000 kWh Winter"},null,{"$f":"'GS FP per Tariff'!D90","v":1.9212E-2},{"$f":"'GS FP per Tariff'!E90","v":6.9662000000000002E-2},{"$f":"'GS FP per Tariff'!F90","v":3.5799999999999997E-4},{"$f":"'GS FP per Tariff'!G90","v":0.124626},{"$f":"'GS FP per Tariff'!H90","v":3.8999999999999999E-5},{"$f":"'GS FP per Tariff'!I90","v":0},{"$f":"'GS FP per Tariff'!J90","v":4.7289999999999997E-3},{"$f":"'GS FP per Tariff'!K90","v":7.7000000000000002E-3},{"$f":"'GS FP per Tariff'!L90","v":4.9399999999999997E-4},{"$f":"'GS FP per Tariff'!M90","v":-2.34E-4},8.2708999999999991E-2,{"$f":"'GS FP per Tariff'!N90","v":0.22658600000000001},{"$f":"BF250-BE250-AU250-AX250-AY250","v":2.5126385347351565E-17}]
[null,null,null,null,null,null,null,null,null,null,null,null,null,null,null,null,null,null,null,null,null,null,null,null,null,"Rate Category","Description","Price Block","Charge","Transmission*","Distribution","Covid-19 Recovery","Capacity*",null,null,null,"SBC","LRAM","NGC","Total","Total",null,null,null,{"$f":"'GS FP per Tariff'!B91","v":"Over 1,000 kWh Summer"},null,{"$f":"'GS FP per Tariff'!D91","v":1.9212E-2},{"$f":"'GS FP per Tariff'!E91","v":6.0210000000000003E-3},{"$f":"'GS FP per Tariff'!F91","v":3.5799999999999997E-4},{"$f":"'GS FP per Tariff'!G91","v":0.124982},{"$f":"'GS FP per Tariff'!H91","v":3.8999999999999999E-5},{"$f":"'GS FP per Tariff'!I91","v":0},{"$f":"'GS FP per Tariff'!J91","v":4.7289999999999997E-3},{"$f":"'GS FP per Tariff'!K91","v":7.7000000000000002E-3},{"$f":"'GS FP per Tariff'!L91","v":4.9399999999999997E-4},{"$f":"'GS FP per Tariff'!M91","v":-2.34E-4},1.9067999999999998E-2,{"$f":"'GS FP per Tariff'!N91","v":0.163301},{"$f":"BF251-BE251-AU251-AX251-AY251","v":-2.6291902682773483E-18}]
[null,null,null,null,null,null,null,null,null,null,null,null,null,null,null,null,null,null,null,null,null,null,null,null,null,"JC_GS1_04D","General Service Secondary - 1 Phase","Customer Charge",{"$f":"'GS FP per Tariff'!C77","v":4.6500000000000004},null,null,null,null,null,null,null,null,null,null,{"$f":"AC252","v":4.6500000000000004},"N/A",null,null,null,{"$f":"'GS FP per Tariff'!B92","v":"Over 1,000 kWh Winter"},null,{"$f":"'GS FP per Tariff'!D92","v":1.9212E-2},{"$f":"'GS FP per Tariff'!E92","v":6.0210000000000003E-3},{"$f":"'GS FP per Tariff'!F92","v":3.5799999999999997E-4},{"$f":"'GS FP per Tariff'!G92","v":0.124626},{"$f":"'GS FP per Tariff'!H92","v":3.8999999999999999E-5},{"$f":"'GS FP per Tariff'!I92","v":0},{"$f":"'GS FP per Tariff'!J92","v":4.7289999999999997E-3},{"$f":"'GS FP per Tariff'!K92","v":7.7000000000000002E-3},{"$f":"'GS FP per Tariff'!L92","v":4.9399999999999997E-4},{"$f":"'GS FP per Tariff'!M92","v":-2.34E-4},1.9067999999999998E-2,{"$f":"'GS FP per Tariff'!N92","v":0.16294500000000001},{"$f":"BF252-BE252-AU252-AX252-AY252","v":-2.6291902682773483E-18}]
[null,null,null,null,null,null,null,null,null,null,null,null,null,null,null,null,null,null,null,null,null,null,null,null,null,null,"Traffic Signal Provision","Suppl Traf Sgnl Cust Chrg",{"$f":"'GS FP per Tariff'!C82","v":17.34},null,null,null,null,null,null,null,null,null,null,{"$f":"AC253","v":17.34},"N/A",null,null,null,null,"* Charge applies only to Full Service Customers",null,null,"** Minimum demand charge calculation is based on summer kW only"]
[null,null,null,null,null,null,null,null,null,null,null,null,null,null,null,null,null,null,null,null,null,null,null,null,null,null,"Delivery Service Only",{"$f":"'GS FP per Tariff'!B97","v":"Traffic Signal kWh Summer"},null,"N/A",{"$f":"'GS FP per Tariff'!E97","v":1.5776999999999999E-2},{"$f":"'GS FP per Tariff'!F97","v":3.5799999999999997E-4},"N/A","N/A",{"$f":"'GS FP per Tariff'!I97","v":0},{"$f":"'GS FP per Tariff'!J97","v":4.7289999999999997E-3},{"$f":"'GS FP per Tariff'!K97","v":7.7000000000000002E-3},{"$f":"'GS FP per Tariff'!L97","v":4.9399999999999997E-4},{"$f":"'GS FP per Tariff'!M97","v":-2.34E-4},{"$f":"SUM(AE254:AF254,AI254:AM254)","v":2.8823999999999999E-2},"N/A"]
[null,null,null,null,null,null,null,null,null,null,null,null,null,null,null,null,null,null,null,null,null,null,null,null,null,null,"All Taxes Applicable & Included",{"$f":"'GS FP per Tariff'!B98","v":"Traffic Signal kWh Winter"},null,"N/A",{"$f":"'GS FP per Tariff'!E98","v":1.5776999999999999E-2},{"$f":"'GS FP per Tariff'!F98","v":3.5799999999999997E-4},"N/A","N/A",{"$f":"'GS FP per Tariff'!I98","v":0},{"$f":"'GS FP per Tariff'!J98","v":4.7289999999999997E-3},{"$f":"'GS FP per Tariff'!K98","v":7.7000000000000002E-3},{"$f":"'GS FP per Tariff'!L98","v":4.9399999999999997E-4},{"$f":"'GS FP per Tariff'!M98","v":-2.34E-4},2.8823999999999999E-2,"N/A",null,null,null,null,null,null,null,{"$f":"AF$2","v":"Rates Effective with Service Rendered June 1, 2025"},null,null,null,null,null,null,null,"Delivery"]
[null,null,null,null,null,null,null,null,null,null,null,null,null,null,null,null,null,null,null,null,null,null,null,null,null,null,null,null,"* Charge applies only to Full Service Customers",null,null,null,null,null,null,null,null,null,null,null,null,null,null,null,"Charge or","Customer",null,null,null,"Energy &","BGS-FP Reconciliation Charge*",{"$f":"$AI$3","v":"Zero Emission Certificate Recovery Charge (ZEC)"},"RGGI\nRecovery\nCharge (RRC)",null,null,null,"Service","Full Service"]
[null,null,null,null,null,null,null,null,null,null,null,null,null,null,null,null,null,null,null,null,null,null,null,null,null,null,null,null,null,null,null,null,null,null,null,null,null,null,null,null,null,null,"Rate Category","Description","Price Block","Charge","Transmission*","Distribution","SRC","Capacity*",null,null,null,"SBC","TAA","MTC","Total","Total"]
[null,null,null,null,null,null,null,null,null,null,null,null,null,null,null,null,null,null,null,null,null,null,null,null,null,null,null,null,null,null,null,{"$f":"AF$2","v":"Rates Effective with Service Rendered June 1, 2025"},null,null,null,null,null,null,null,"Delivery",null,null,"JC_GS3_04D","General Service Secondary - 3 Phase","Customer Charge",{"$f":"'GS FP per Tariff'!C78","v":16.690000000000001},null,null,null,null,null,null,null,null,null,null,{"$f":"AT258","v":16.690000000000001},"N/A"]
[null,null,null,null,null,null,null,null,null,null,null,null,null,null,null,null,null,null,null,null,null,null,null,null,null,null,null,"Charge or","Customer",null,null,null,"Energy &","BGS-FP Reconciliation Charge*",{"$f":"$AI$3","v":"Zero Emission Certificate Recovery Charge (ZEC)"},"RGGI\nRecovery\nCharge (RRC)",null,null,null,"Service","Full Service",null,null,"Traffic Signal Provision","Suppl Cust Charge",{"$f":"'GS FP per Tariff'!C82","v":17.34},null,null,null,null,null,null,null,null,null,null,{"$f":"AT259","v":17.34},"N/A"]
[null,null,null,null,null,null,null,null,null,null,null,null,null,null,null,null,null,null,null,null,null,null,null,null,null,"Rate Category","Description","Price Block","Charge","Transmission*","Distribution","Covid-19 Recovery","Capacity*",null,null,null,"SBC","LRAM","NGC","Total","Total",null,null,"Delivery Service Only",{"$f":"'GS FP per Tariff'!B97","v":"Traffic Signal kWh Summer"},null,"N/A",{"$f":"'GS FP per Tariff'!E97","v":1.5776999999999999E-2},{"$f":"'GS FP per Tariff'!F97","v":3.5799999999999997E-4},"N/A","N/A",{"$f":"'GS FP per Tariff'!I97","v":0},{"$f":"'GS FP per Tariff'!J97","v":4.7289999999999997E-3},{"$f":"'GS FP per Tariff'!K97","v":7.7000000000000002E-3},{"$f":"'GS FP per Tariff'!L97","v":4.9399999999999997E-4},{"$f":"'GS FP per Tariff'!M97","v":-2.34E-4},{"$f":"SUM(AV260:AW260,AZ260:BD260)","v":2.8823999999999999E-2},"N/A"]
[null,null,null,null,null,null,null,null,null,null,null,null,null,null,null,null,null,null,null,null,null,null,null,null,null,"JC_GS1_04F","General Service Secondary - 1 Phase","Customer Charge",{"$f":"'GS FP per Tariff'!C77","v":4.6500000000000004},null,null,null,null,null,null,null,null,null,null,{"$f":"AC261","v":4.6500000000000004},{"$f":"AC261","v":4.6500000000000004},null,null,"All Taxes Applicable & Included",{"$f":"'GS FP per Tariff'!B98","v":"Traffic Signal kWh Winter"},null,"N/A",{"$f":"'GS FP per Tariff'!E98","v":1.5776999999999999E-2},{"$f":"'GS FP per Tariff'!F98","v":3.5799999999999997E-4},"N/A","N/A",{"$f":"'GS FP per Tariff'!I98","v":0},{"$f":"'GS FP per Tariff'!J98","v":4.7289999999999997E-3},{"$f":"'GS FP per Tariff'!K98","v":7.7000000000000002E-3},{"$f":"'GS FP per Tariff'!L98","v":4.9399999999999997E-4},{"$f":"'GS FP per Tariff'!M98","v":-2.34E-4},2.8823999999999999E-2,"N/A"]
[null,null,null,null,null,null,null,null,null,null,null,null,null,null,null,null,null,null,null,null,null,null,null,null,null,null,"Traffic Signal Provision","Suppl Traf Sgnl Cust Chrg",{"$f":"'GS FP per Tariff'!C82","v":17.34},null,null,null,null,null,null,null,null,null,null,{"$f":"AC262","v":17.34},{"$f":"AC262","v":17.34},null,null,null,null,"* Charge applies only to Full Service Customers"]
[null,null,null,null,null,null,null,null,null,null,null,null,null,null,null,null,null,null,null,null,null,null,null,null,null,null,"Full Service",{"$f":"'GS FP per Tariff'!B97","v":"Traffic Signal kWh Summer"},null,{"$f":"'GS FP per Tariff'!D97","v":1.9212E-2},{"$f":"'GS FP per Tariff'!E97","v":1.5776999999999999E-2},{"$f":"'GS FP per Tariff'!F97","v":3.5799999999999997E-4},{"$f":"'GS FP per Tariff'!G97","v":0.124982},{"$f":"'GS FP per Tariff'!H97","v":3.8999999999999999E-5},{"$f":"'GS FP per Tariff'!I97","v":0},{"$f":"'GS FP per Tariff'!J97","v":4.7289999999999997E-3},{"$f":"'GS FP per Tariff'!K97","v":7.7000000000000002E-3},{"$f":"'GS FP per Tariff'!L97","v":4.9399999999999997E-4},{"$f":"'GS FP per Tariff'!M97","v":-2.34E-4},{"$f":"SUM(AE263:AF263,AI263:AM263)","v":2.8823999999999999E-2},{"$f":"'GS FP per Tariff'!N97","v":0.17305700000000002}]
[null,null,null,null,null,null,null,null,null,null,null,null,null,null,null,null,null,null,null,null,null,null,null,null,null,null,"All Taxes Applicable & Included",{"$f":"'GS FP per Tariff'!B98","v":"Traffic Signal kWh Winter"},null,{"$f":"'GS FP per Tariff'!D98","v":1.9212E-2},{"$f":"'GS FP per Tariff'!E98","v":1.5776999999999999E-2},{"$f":"'GS FP per Tariff'!F98","v":3.5799999999999997E-4},{"$f":"'GS FP per Tariff'!G98","v":0.124626},{"$f":"'GS FP per Tariff'!H98","v":3.8999999999999999E-5},{"$f":"'GS FP per Tariff'!I98","v":0},{"$f":"'GS FP per Tariff'!J98","v":4.7289999999999997E-3},{"$f":"'GS FP per Tariff'!K98","v":7.7000000000000002E-3},{"$f":"'GS FP per Tariff'!L98","v":4.9399999999999997E-4},{"$f":"'GS FP per Tariff'!M98","v":-2.34E-4},2.8823999999999999E-2,{"$f":"'GS FP per Tariff'!N98","v":0.17270100000000002},null,null,null,null,null,null,null,{"$f":"AF$2","v":"Rates Effective with Service Rendered June 1, 2025"},null,null,null,null,null,null,null,"Delivery"]
[null,null,null,null,null,null,null,null,null,null,null,null,null,null,null,null,null,null,null,null,null,null,null,null,null,null,null,null,"* Charge applies only to Full Service Customers",null,null,null,null,null,null,null,null,null,null,null,null,null,null,null,"Charge or","Customer",null,null,null,"Energy &","BGS-FP Reconciliation Charge*",{"$f":"$AI$3","v":"Zero Emission Certificate Recovery Charge (ZEC)"},"RGGI\nRecovery\nCharge (RRC)",null,null,null,"Service","Full Service"]
[null,null,null,null,null,null,null,null,null,null,null,null,null,null,null,null,null,null,null,null,null,null,null,null,null,null,null,null,null,null,null,null,null,null,null,null,null,null,null,null,null,null,"Rate Category","Description","Price Block","Charge","Transmission*","Distribution","SRC","Capacity*",null,null,null,"SBC","TAA","MTC","Total","Total"]
[null,null,null,null,null,null,null,null,null,null,null,null,null,null,null,null,null,null,null,null,null,null,null,null,null,null,null,null,null,null,null,{"$f":"AF$2","v":"Rates Effective with Service Rendered June 1, 2025"},null,null,null,null,null,null,null,"Delivery",null,null,"JC_GS3_04F","General Service Secondary - 3 Phase","Customer Charge",{"$f":"'GS FP per Tariff'!C78","v":16.690000000000001},null,null,null,null,null,null,null,null,null,null,{"$f":"AT267","v":16.690000000000001},{"$f":"AT267","v":16.690000000000001}]
[null,null,null,null,null,null,null,null,null,null,null,null,null,null,null,null,null,null,null,null,null,null,null,null,null,null,null,"Charge or","Customer",null,null,null,"Energy &","BGS-FP Reconciliation Charge*",{"$f":"$AI$3","v":"Zero Emission Certificate Recovery Charge (ZEC)"},"RGGI\nRecovery\nCharge (RRC)",null,null,null,"Service","Full Service",null,null,"Traffic Signal Provision","Suppl Cust Charge",{"$f":"'GS FP per Tariff'!C82","v":17.34},null,null,null,null,null,null,null,null,null,null,{"$f":"AT268","v":17.34},{"$f":"AT268","v":17.34}]
[null,null,null,null,null,null,null,null,null,null,null,null,null,null,null,null,null,null,null,null,null,null,null,null,null,"Rate Category","Description","Price Block","Charge","Transmission*","Distribution","Covid-19 Recovery","Capacity*",null,null,null,"SBC","LRAM","NGC","Total","Total",null,null,"Full service",{"$f":"'GS FP per Tariff'!B97","v":"Traffic Signal kWh Summer"},null,{"$f":"'GS FP per Tariff'!D97","v":1.9212E-2},{"$f":"'GS FP per Tariff'!E97","v":1.5776999999999999E-2},{"$f":"'GS FP per Tariff'!F97","v":3.5799999999999997E-4},{"$f":"'GS FP per Tariff'!G97","v":0.124982},{"$f":"'GS FP per Tariff'!H97","v":3.8999999999999999E-5},{"$f":"'GS FP per Tariff'!I97","v":0},{"$f":"'GS FP per Tariff'!J97","v":4.7289999999999997E-3},{"$f":"'GS FP per Tariff'!K97","v":7.7000000000000002E-3},{"$f":"'GS FP per Tariff'!L97","v":4.9399999999999997E-4},{"$f":"'GS FP per Tariff'!M97","v":-2.34E-4},{"$f":"SUM(AV269:AW269,AZ269:BD269)","v":2.8823999999999999E-2},{"$f":"'GS FP per Tariff'!N97","v":0.17305700000000002},{"$f":"BF269-BE269-AU269-AX269-AY269","v":2.5126385347351565E-17}]
[null,null,null,null,null,null,null,null,null,null,null,null,null,null,null,null,null,null,null,null,null,null,null,null,null,"JC_GS1_05D","General Service Secondary - 1 Phase","Customer Charge",{"$f":"'GS FP per Tariff'!C77","v":4.6500000000000004},null,null,null,null,null,null,null,null,null,null,{"$f":"AC270","v":4.6500000000000004},"N/A",null,null,"All Taxes Applicable & Included",{"$f":"'GS FP per Tariff'!B98","v":"Traffic Signal kWh Winter"},null,{"$f":"'GS FP per Tariff'!D98","v":1.9212E-2},{"$f":"'GS FP per Tariff'!E98","v":1.5776999999999999E-2},{"$f":"'GS FP per Tariff'!F98","v":3.5799999999999997E-4},{"$f":"'GS FP per Tariff'!G98","v":0.124626},{"$f":"'GS FP per Tariff'!H98","v":3.8999999999999999E-5},{"$f":"'GS FP per Tariff'!I98","v":0},{"$f":"'GS FP per Tariff'!J98","v":4.7289999999999997E-3},{"$f":"'GS FP per Tariff'!K98","v":7.7000000000000002E-3},{"$f":"'GS FP per Tariff'!L98","v":4.9399999999999997E-4},{"$f":"'GS FP per Tariff'!M98","v":-2.34E-4},2.8823999999999999E-2,{"$f":"'GS FP per Tariff'!N98","v":0.17270100000000002},{"$f":"BF270-BE270-AU270-AX270-AY270","v":2.5126385347351565E-17}]
[null,null,null,null,null,null,null,null,null,null,null,null,null,null,null,null,null,null,null,null,null,null,null,null,null,null,"Off-Peak Water Heating Provision **","Suppl OPWH Cust Charge",{"$f":"'GS FP per Tariff'!C79","v":2.23},null,null,null,null,null,null,null,null,null,null,{"$f":"AC271","v":2.23},"N/A",null,null,null,null,"* Charge applies only to Full Service Customers"]
[null,null,null,null,null,null,null,null,null,null,null,null,null,null,null,null,null,null,null,null,null,null,null,null,null,null,"Delivery Service Only",{"$f":"'GS FP per Tariff'!B84","v":"Over 10  KW Summer"},null,null,{"$f":"'GS FP per Tariff'!E84","v":9},null,null,null,null,null,null,null,null,{"$f":"AE272","v":9},"N/A"]
[null,null,null,null,null,null,null,null,null,null,null,null,null,null,null,null,null,null,null,null,null,null,null,null,null,null,"All Taxes Applicable & Included",{"$f":"'GS FP per Tariff'!B85","v":"Over 10  KW Winter"},null,null,{"$f":"'GS FP per Tariff'!E85","v":8.3800000000000008},null,null,null,null,null,null,null,null,{"$f":"AE273","v":8.3800000000000008},"N/A",null,null,null,null,null,null,null,{"$f":"AF$2","v":"Rates Effective with Service Rendered June 1, 2025"},null,null,null,null,null,null,null,"Delivery"]
[null,null,null,null,null,null,null,null,null,null,null,null,null,null,null,null,null,null,null,null,null,null,null,null,null,null,null,{"$f":"'GS FP per Tariff'!B87","v":"Minimum Bill-Over 10 KW "},null,null,{"$f":"'GS FP per Tariff'!E87","v":4.08},null,null,null,null,null,null,null,null,{"$f":"AE274","v":4.08},"N/A",null,null,null,"Charge or","Customer",null,null,null,"Energy &","BGS-FP Reconciliation Charge*",{"$f":"$AI$3","v":"Zero Emission Certificate Recovery Charge (ZEC)"},"RGGI\nRecovery\nCharge (RRC)",null,null,null,"Service","Full Service"]
[null,null,null,null,null,null,null,null,null,null,null,null,null,null,null,null,null,null,null,null,null,null,null,null,null,null,null,{"$f":"'GS FP per Tariff'!B89","v":"First 1,000 kWh Summer"},null,"N/A",{"$f":"'GS FP per Tariff'!E89","v":7.5287999999999994E-2},{"$f":"'GS FP per Tariff'!F89","v":3.5799999999999997E-4},"N/A","N/A",{"$f":"'GS FP per Tariff'!I89","v":0},{"$f":"'GS FP per Tariff'!J89","v":4.7289999999999997E-3},{"$f":"'GS FP per Tariff'!K89","v":7.7000000000000002E-3},{"$f":"'GS FP per Tariff'!L89","v":4.9399999999999997E-4},{"$f":"'GS FP per Tariff'!M89","v":-2.34E-4},{"$f":"SUM(AE275:AF275,AI275:AM275)","v":8.8334999999999983E-2},"N/A",null,"Rate Category","Description","Price Block","Charge","Transmission*","Distribution","SRC","Capacity*",null,null,null,"SBC","TAA","MTC","Total","Total"]
[null,null,null,null,null,null,null,null,null,null,null,null,null,null,null,null,null,null,null,null,null,null,null,null,null,null,null,{"$f":"'GS FP per Tariff'!B90","v":"First 1,000 kWh Winter"},null,"N/A",{"$f":"'GS FP per Tariff'!E90","v":6.9662000000000002E-2},{"$f":"'GS FP per Tariff'!F90","v":3.5799999999999997E-4},"N/A","N/A",{"$f":"'GS FP per Tariff'!I90","v":0},{"$f":"'GS FP per Tariff'!J90","v":4.7289999999999997E-3},{"$f":"'GS FP per Tariff'!K90","v":7.7000000000000002E-3},{"$f":"'GS FP per Tariff'!L90","v":4.9399999999999997E-4},{"$f":"'GS FP per Tariff'!M90","v":-2.34E-4},8.2708999999999991E-2,"N/A",null,"JC_GS3_05D","General Service Secondary - 3 Phase","Customer Charge",{"$f":"'GS FP per Tariff'!C78","v":16.690000000000001},null,null,null,null,null,null,null,null,null,null,{"$f":"AT276","v":16.690000000000001},"N/A"]
[null,null,null,null,null,null,null,null,null,null,null,null,null,null,null,null,null,null,null,null,null,null,null,null,null,null,null,{"$f":"'GS FP per Tariff'!B91","v":"Over 1,000 kWh Summer"},null,"N/A",{"$f":"'GS FP per Tariff'!E91","v":6.0210000000000003E-3},{"$f":"'GS FP per Tariff'!F91","v":3.5799999999999997E-4},"N/A","N/A",{"$f":"'GS FP per Tariff'!I91","v":0},{"$f":"'GS FP per Tariff'!J91","v":4.7289999999999997E-3},{"$f":"'GS FP per Tariff'!K91","v":7.7000000000000002E-3},{"$f":"'GS FP per Tariff'!L91","v":4.9399999999999997E-4},{"$f":"'GS FP per Tariff'!M91","v":-2.34E-4},1.9067999999999998E-2,"N/A",null,null,"Off-Peak Water Heating Provision **","Suppl Cust Charge",{"$f":"'GS FP per Tariff'!C79","v":2.23},null,null,null,null,null,null,null,null,null,null,{"$f":"AT277","v":2.23},"N/A"]
[null,null,null,null,null,null,null,null,null,null,null,null,null,null,null,null,null,null,null,null,null,null,null,null,null,null,null,{"$f":"'GS FP per Tariff'!B92","v":"Over 1,000 kWh Winter"},null,"N/A",{"$f":"'GS FP per Tariff'!E92","v":6.0210000000000003E-3},{"$f":"'GS FP per Tariff'!F92","v":3.5799999999999997E-4},"N/A","N/A",{"$f":"'GS FP per Tariff'!I92","v":0},{"$f":"'GS FP per Tariff'!J92","v":4.7289999999999997E-3},{"$f":"'GS FP per Tariff'!K92","v":7.7000000000000002E-3},{"$f":"'GS FP per Tariff'!L92","v":4.9399999999999997E-4},{"$f":"'GS FP per Tariff'!M92","v":-2.34E-4},1.9067999999999998E-2,"N/A",null,null,"Delivery Service Only",{"$f":"'GS FP per Tariff'!B84","v":"Over 10  KW Summer"},null,null,{"$f":"'GS FP per Tariff'!E84","v":9},null,null,null,null,null,null,null,null,{"$f":"AV278","v":9},"N/A"]
[null,null,null,null,null,null,null,null,null,null,null,null,null,null,null,null,null,null,null,null,null,null,null,null,null,null,null,{"$f":"'GS FP per Tariff'!B93","v":"OPWH-kWh Summer"},null,"N/A",{"$f":"'GS FP per Tariff'!E93","v":2.2065999999999999E-2},{"$f":"'GS FP per Tariff'!F93","v":3.5799999999999997E-4},"N/A","N/A",{"$f":"'GS FP per Tariff'!I93","v":0},{"$f":"'GS FP per Tariff'!J93","v":4.7289999999999997E-3},{"$f":"'GS FP per Tariff'!K93","v":7.7000000000000002E-3},{"$f":"'GS FP per Tariff'!L93","v":4.9399999999999997E-4},{"$f":"'GS FP per Tariff'!M93","v":-2.34E-4},3.5113000000000005E-2,"N/A",null,null,"All Taxes Applicable & Included",{"$f":"'GS FP per Tariff'!B85","v":"Over 10  KW Winter"},null,null,{"$f":"'GS FP per Tariff'!E85","v":8.3800000000000008},null,null,null,null,null,null,null,null,{"$f":"AV279","v":8.3800000000000008},"N/A"]
[null,null,null,null,null,null,null,null,null,null,null,null,null,null,null,null,null,null,null,null,null,null,null,null,null,null,null,{"$f":"'GS FP per Tariff'!B94","v":"OPWH-kWh Winter"},null,"N/A",{"$f":"'GS FP per Tariff'!E94","v":2.2065999999999999E-2},{"$f":"'GS FP per Tariff'!F94","v":3.5799999999999997E-4},"N/A","N/A",{"$f":"'GS FP per Tariff'!I94","v":0},{"$f":"'GS FP per Tariff'!J94","v":4.7289999999999997E-3},{"$f":"'GS FP per Tariff'!K94","v":7.7000000000000002E-3},{"$f":"'GS FP per Tariff'!L94","v":4.9399999999999997E-4},{"$f":"'GS FP per Tariff'!M94","v":-2.34E-4},3.5113000000000005E-2,"N/A",null,null,null,{"$f":"'GS FP per Tariff'!B87","v":"Minimum Bill-Over 10 KW "},null,null,{"$f":"'GS FP per Tariff'!E87","v":4.08},null,null,null,null,null,null,null,null,{"$f":"AV280","v":4.08},"N/A"]
[null,null,null,null,null,null,null,null,null,null,null,null,null,null,null,null,null,null,null,null,null,null,null,null,null,null,null,null,"* Charge applies only to Full Service Customers",null,null,"** The Off-Peak Water Heating (OPWH) usage is measured on both the primary meter",null,null,null,null,null,null,null,null,null,null,null,null,{"$f":"'GS FP per Tariff'!B89","v":"First 1,000 kWh Summer"},null,"N/A",{"$f":"'GS FP per Tariff'!E89","v":7.5287999999999994E-2},{"$f":"'GS FP per Tariff'!F89","v":3.5799999999999997E-4},"N/A","N/A",{"$f":"'GS FP per Tariff'!I89","v":0},{"$f":"'GS FP per Tariff'!J89","v":4.7289999999999997E-3},{"$f":"'GS FP per Tariff'!K89","v":7.7000000000000002E-3},{"$f":"'GS FP per Tariff'!L89","v":4.9399999999999997E-4},{"$f":"'GS FP per Tariff'!M89","v":-2.34E-4},{"$f":"SUM(AV281:AW281,AZ281:BD281)","v":8.8334999999999983E-2},"N/A"]
[null,null,null,null,null,null,null,null,null,null,null,null,null,null,null,null,null,null,null,null,null,null,null,null,null,null,null,null,"  and the water heating meter.  The water heating usage is subtracted from primary meter before billing non-water heating usage.",null,null,null,null,null,null,null,null,null,null,null,null,null,null,null,{"$f":"'GS FP per Tariff'!B90","v":"First 1,000 kWh Winter"},null,"N/A",{"$f":"'GS FP per Tariff'!E90","v":6.9662000000000002E-2},{"$f":"'GS FP per Tariff'!F90","v":3.5799999999999997E-4},"N/A","N/A",{"$f":"'GS FP per Tariff'!I90","v":0},{"$f":"'GS FP per Tariff'!J90","v":4.7289999999999997E-3},{"$f":"'GS FP per Tariff'!K90","v":7.7000000000000002E-3},{"$f":"'GS FP per Tariff'!L90","v":4.9399999999999997E-4},{"$f":"'GS FP per Tariff'!M90","v":-2.34E-4},8.2708999999999991E-2,"N/A"]
[null,null,null,null,null,null,null,null,null,null,null,null,null,null,null,null,null,null,null,null,null,null,null,null,null,null,null,null,null,null,null,null,null,null,null,null,null,null,null,null,null,null,null,null,{"$f":"'GS FP per Tariff'!B91","v":"Over 1,000 kWh Summer"},null,"N/A",{"$f":"'GS FP per Tariff'!E91","v":6.0210000000000003E-3},{"$f":"'GS FP per Tariff'!F91","v":3.5799999999999997E-4},"N/A","N/A",{"$f":"'GS FP per Tariff'!I91","v":0},{"$f":"'GS FP per Tariff'!J91","v":4.7289999999999997E-3},{"$f":"'GS FP per Tariff'!K91","v":7.7000000000000002E-3},{"$f":"'GS FP per Tariff'!L91","v":4.9399999999999997E-4},{"$f":"'GS FP per Tariff'!M91","v":-2.34E-4},1.9067999999999998E-2,"N/A"]
[null,null,null,null,null,null,null,null,null,null,null,null,null,null,null,null,null,null,null,null,null,null,null,null,null,null,null,null,null,null,null,{"$f":"AF$2","v":"Rates Effective with Service Rendered June 1, 2025"},null,null,null,null,null,null,null,"Delivery",null,null,null,null,{"$f":"'GS FP per Tariff'!B92","v":"Over 1,000 kWh Winter"},null,"N/A",{"$f":"'GS FP per Tariff'!E92","v":6.0210000000000003E-3},{"$f":"'GS FP per Tariff'!F92","v":3.5799999999999997E-4},"N/A","N/A",{"$f":"'GS FP per Tariff'!I92","v":0},{"$f":"'GS FP per Tariff'!J92","v":4.7289999999999997E-3},{"$f":"'GS FP per Tariff'!K92","v":7.7000000000000002E-3},{"$f":"'GS FP per Tariff'!L92","v":4.9399999999999997E-4},{"$f":"'GS FP per Tariff'!M92","v":-2.34E-4},1.9067999999999998E-2,"N/A"]
[null,null,null,null,null,null,null,null,null,null,null,null,null,null,null,null,null,null,null,null,null,null,null,null,null,null,null,"Charge or","Customer",null,null,null,"Energy &","BGS-FP Reconciliation Charge*",{"$f":"$AI$3","v":"Zero Emission Certificate Recovery Charge (ZEC)"},"RGGI\nRecovery\nCharge (RRC)",null,null,null,"Service","Full Service",null,null,null,{"$f":"'GS FP per Tariff'!B93","v":"OPWH-kWh Summer"},null,"N/A",{"$f":"'GS FP per Tariff'!E93","v":2.2065999999999999E-2},{"$f":"'GS FP per Tariff'!F93","v":3.5799999999999997E-4},"N/A","N/A",{"$f":"'GS FP per Tariff'!I93","v":0},{"$f":"'GS FP per Tariff'!J93","v":4.7289999999999997E-3},{"$f":"'GS FP per Tariff'!K93","v":7.7000000000000002E-3},{"$f":"'GS FP per Tariff'!L93","v":4.9399999999999997E-4},{"$f":"'GS FP per Tariff'!M93","v":-2.34E-4},3.5113000000000005E-2,"N/A"]
[null,null,null,null,null,null,null,null,null,null,null,null,null,null,null,null,null,null,null,null,null,null,null,null,null,"Rate Category","Description","Price Block","Charge","Transmission*","Distribution","Covid-19 Recovery","Capacity*",null,null,null,"SBC","LRAM","NGC","Charges","Total",null,null,null,{"$f":"'GS FP per Tariff'!B94","v":"OPWH-kWh Winter"},null,"N/A",{"$f":"'GS FP per Tariff'!E94","v":2.2065999999999999E-2},{"$f":"'GS FP per Tariff'!F94","v":3.5799999999999997E-4},"N/A","N/A",{"$f":"'GS FP per Tariff'!I94","v":0},{"$f":"'GS FP per Tariff'!J94","v":4.7289999999999997E-3},{"$f":"'GS FP per Tariff'!K94","v":7.7000000000000002E-3},{"$f":"'GS FP per Tariff'!L94","v":4.9399999999999997E-4},{"$f":"'GS FP per Tariff'!M94","v":-2.34E-4},3.5113000000000005E-2,"N/A"]
[null,null,null,null,null,null,null,null,null,null,null,null,null,null,null,null,null,null,null,null,null,null,null,null,null,"JC_GS1_05F","General Service Secondary - 1 Phase","Customer Charge",{"$f":"'GS FP per Tariff'!C77","v":4.6500000000000004},null,null,null,null,null,null,null,null,null,null,{"$f":"AC287","v":4.6500000000000004},{"$f":"AC287","v":4.6500000000000004},null,null,null,null,"* Charge applies only to Full Service Customers",null,null,"** The Off-Peak Water Heating (OPWH) usage is measured on both the primary meter"]
[null,null,null,null,null,null,null,null,null,null,null,null,null,null,null,null,null,null,null,null,null,null,null,null,null,null,"Off-Peak Water Heating Provision **","Suppl OPWH Cust Charge",{"$f":"'GS FP per Tariff'!C79","v":2.23},null,null,null,null,null,null,null,null,null,null,{"$f":"AC288","v":2.23},{"$f":"AC288","v":2.23},null,null,null,null,"  and the water heating meter.  The water heating usage is subtracted from primary meter before billing non-water heating usage."]
[null,null,null,null,null,null,null,null,null,null,null,null,null,null,null,null,null,null,null,null,null,null,null,null,null,null,"Full Service",{"$f":"'GS FP per Tariff'!B84","v":"Over 10  KW Summer"},null,null,{"$f":"'GS FP per Tariff'!E84","v":9},null,null,null,null,null,null,null,null,{"$f":"AE289","v":9},{"$f":"AE289","v":9}]
[null,null,null,null,null,null,null,null,null,null,null,null,null,null,null,null,null,null,null,null,null,null,null,null,null,null,"All Taxes Applicable & Included",{"$f":"'GS FP per Tariff'!B85","v":"Over 10  KW Winter"},null,null,{"$f":"'GS FP per Tariff'!E85","v":8.3800000000000008},null,null,null,null,null,null,null,null,{"$f":"AE290","v":8.3800000000000008},{"$f":"AE290","v":8.3800000000000008},null,null,null,null,null,null,null,{"$f":"AF$2","v":"Rates Effective with Service Rendered June 1, 2025"},null,null,null,null,null,null,null,"Delivery"]
[null,null,null,null,null,null,null,null,null,null,null,null,null,null,null,null,null,null,null,null,null,null,null,null,null,null,null,{"$f":"'GS FP per Tariff'!B87","v":"Minimum Bill-Over 10 KW "},null,null,{"$f":"'GS FP per Tariff'!E87","v":4.08},null,null,null,null,null,null,null,null,{"$f":"AE291","v":4.08},{"$f":"AE291","v":4.08},null,null,null,"Charge or","Customer",null,null,null,"Energy &","BGS-FP Reconciliation Charge*",{"$f":"$AI$3","v":"Zero Emission Certificate Recovery Charge (ZEC)"},"RGGI\nRecovery\nCharge (RRC)",null,null,null,"Service","Full Service"]
[null,null,null,null,null,null,null,null,null,null,null,null,null,null,null,null,null,null,null,null,null,null,null,null,null,null,null,{"$f":"'GS FP per Tariff'!B89","v":"First 1,000 kWh Summer"},null,{"$f":"'GS FP per Tariff'!D89","v":1.9212E-2},{"$f":"'GS FP per Tariff'!E89","v":7.5287999999999994E-2},{"$f":"'GS FP per Tariff'!F89","v":3.5799999999999997E-4},{"$f":"'GS FP per Tariff'!G89","v":0.124982},{"$f":"'GS FP per Tariff'!H89","v":3.8999999999999999E-5},{"$f":"'GS FP per Tariff'!I89","v":0},{"$f":"'GS FP per Tariff'!J89","v":4.7289999999999997E-3},{"$f":"'GS FP per Tariff'!K89","v":7.7000000000000002E-3},{"$f":"'GS FP per Tariff'!L89","v":4.9399999999999997E-4},{"$f":"'GS FP per Tariff'!M89","v":-2.34E-4},{"$f":"SUM(AE292:AF292,AI292:AM292)","v":8.8334999999999983E-2},{"$f":"'GS FP per Tariff'!N89","v":0.232568},null,"Rate Category","Description","Price Block","Charge","Transmission*","Distribution","SRC","Capacity*",null,null,null,"SBC","TAA","MTC","Charges","Total"]
[null,null,null,null,null,null,null,null,null,null,null,null,null,null,null,null,null,null,null,null,null,null,null,null,null,null,null,{"$f":"'GS FP per Tariff'!B90","v":"First 1,000 kWh Winter"},null,{"$f":"'GS FP per Tariff'!D90","v":1.9212E-2},{"$f":"'GS FP per Tariff'!E90","v":6.9662000000000002E-2},{"$f":"'GS FP per Tariff'!F90","v":3.5799999999999997E-4},{"$f":"'GS FP per Tariff'!G90","v":0.124626},{"$f":"'GS FP per Tariff'!H90","v":3.8999999999999999E-5},{"$f":"'GS FP per Tariff'!I90","v":0},{"$f":"'GS FP per Tariff'!J90","v":4.7289999999999997E-3},{"$f":"'GS FP per Tariff'!K90","v":7.7000000000000002E-3},{"$f":"'GS FP per Tariff'!L90","v":4.9399999999999997E-4},{"$f":"'GS FP per Tariff'!M90","v":-2.34E-4},8.2708999999999991E-2,{"$f":"'GS FP per Tariff'!N90","v":0.22658600000000001},null,"JC_GS3_05F","General Service Secondary - 3 Phase","Customer Charge",{"$f":"'GS FP per Tariff'!C78","v":16.690000000000001},null,null,null,null,null,null,null,null,null,null,{"$f":"AT293","v":16.690000000000001},{"$f":"AT293","v":16.690000000000001}]
[null,null,null,null,null,null,null,null,null,null,null,null,null,null,null,null,null,null,null,null,null,null,null,null,null,null,null,{"$f":"'GS FP per Tariff'!B91","v":"Over 1,000 kWh Summer"},null,{"$f":"'GS FP per Tariff'!D91","v":1.9212E-2},{"$f":"'GS FP per Tariff'!E91","v":6.0210000000000003E-3},{"$f":"'GS FP per Tariff'!F91","v":3.5799999999999997E-4},{"$f":"'GS FP per Tariff'!G91","v":0.124982},{"$f":"'GS FP per Tariff'!H91","v":3.8999999999999999E-5},{"$f":"'GS FP per Tariff'!I91","v":0},{"$f":"'GS FP per Tariff'!J91","v":4.7289999999999997E-3},{"$f":"'GS FP per Tariff'!K91","v":7.7000000000000002E-3},{"$f":"'GS FP per Tariff'!L91","v":4.9399999999999997E-4},{"$f":"'GS FP per Tariff'!M91","v":-2.34E-4},1.9067999999999998E-2,{"$f":"'GS FP per Tariff'!N91","v":0.163301},null,null,"Off-Peak Water Heating Provision **","Suppl Cust Charge",{"$f":"'GS FP per Tariff'!C79","v":2.23},null,null,null,null,null,null,null,null,null,null,{"$f":"AT294","v":2.23},{"$f":"AT294","v":2.23}]
[null,null,null,null,null,null,null,null,null,null,null,null,null,null,null,null,null,null,null,null,null,null,null,null,null,null,null,{"$f":"'GS FP per Tariff'!B92","v":"Over 1,000 kWh Winter"},null,{"$f":"'GS FP per Tariff'!D92","v":1.9212E-2},{"$f":"'GS FP per Tariff'!E92","v":6.0210000000000003E-3},{"$f":"'GS FP per Tariff'!F92","v":3.5799999999999997E-4},{"$f":"'GS FP per Tariff'!G92","v":0.124626},{"$f":"'GS FP per Tariff'!H92","v":3.8999999999999999E-5},{"$f":"'GS FP per Tariff'!I92","v":0},{"$f":"'GS FP per Tariff'!J92","v":4.7289999999999997E-3},{"$f":"'GS FP per Tariff'!K92","v":7.7000000000000002E-3},{"$f":"'GS FP per Tariff'!L92","v":4.9399999999999997E-4},{"$f":"'GS FP per Tariff'!M92","v":-2.34E-4},1.9067999999999998E-2,{"$f":"'GS FP per Tariff'!N92","v":0.16294500000000001},null,null,"Full service",{"$f":"'GS FP per Tariff'!B84","v":"Over 10  KW Summer"},null,null,{"$f":"'GS FP per Tariff'!E84","v":9},null,null,null,null,null,null,null,null,{"$f":"AV295","v":9},{"$f":"AV295","v":9}]
[null,null,null,null,null,null,null,null,null,null,null,null,null,null,null,null,null,null,null,null,null,null,null,null,null,null,null,{"$f":"'GS FP per Tariff'!B93","v":"OPWH-kWh Summer"},null,{"$f":"'GS FP per Tariff'!D93","v":1.9212E-2},{"$f":"'GS FP per Tariff'!E93","v":2.2065999999999999E-2},{"$f":"'GS FP per Tariff'!F93","v":3.5799999999999997E-4},{"$f":"'GS FP per Tariff'!G93","v":0.128414},{"$f":"'GS FP per Tariff'!H93","v":3.8999999999999999E-5},{"$f":"'GS FP per Tariff'!I93","v":0},{"$f":"'GS FP per Tariff'!J93","v":4.7289999999999997E-3},{"$f":"'GS FP per Tariff'!K93","v":7.7000000000000002E-3},{"$f":"'GS FP per Tariff'!L93","v":4.9399999999999997E-4},{"$f":"'GS FP per Tariff'!M93","v":-2.34E-4},3.5113000000000005E-2,{"$f":"'GS FP per Tariff'!N93","v":0.182778},null,null,"All Taxes Applicable & Included",{"$f":"'GS FP per Tariff'!B85","v":"Over 10  KW Winter"},null,null,{"$f":"'GS FP per Tariff'!E85","v":8.3800000000000008},null,null,null,null,null,null,null,null,{"$f":"AV296","v":8.3800000000000008},{"$f":"AV296","v":8.3800000000000008}]
[null,null,null,null,null,null,null,null,null,null,null,null,null,null,null,null,null,null,null,null,null,null,null,null,null,null,null,{"$f":"'GS FP per Tariff'!B94","v":"OPWH-kWh Winter"},null,{"$f":"'GS FP per Tariff'!D94","v":1.9212E-2},{"$f":"'GS FP per Tariff'!E94","v":2.2065999999999999E-2},{"$f":"'GS FP per Tariff'!F94","v":3.5799999999999997E-4},{"$f":"'GS FP per Tariff'!G94","v":0.12782199999999999},{"$f":"'GS FP per Tariff'!H94","v":3.8999999999999999E-5},{"$f":"'GS FP per Tariff'!I94","v":0},{"$f":"'GS FP per Tariff'!J94","v":4.7289999999999997E-3},{"$f":"'GS FP per Tariff'!K94","v":7.7000000000000002E-3},{"$f":"'GS FP per Tariff'!L94","v":4.9399999999999997E-4},{"$f":"'GS FP per Tariff'!M94","v":-2.34E-4},3.5113000000000005E-2,{"$f":"'GS FP per Tariff'!N94","v":0.18218600000000001},null,null,null,{"$f":"'GS FP per Tariff'!B87","v":"Minimum Bill-Over 10 KW "},null,null,{"$f":"'GS FP per Tariff'!E87","v":4.08},null,null,null,null,null,null,null,null,{"$f":"AV297","v":4.08},{"$f":"AV297","v":4.08}]
[null,null,null,null,null,null,null,null,null,null,null,null,null,null,null,null,null,null,null,null,null,null,null,null,null,null,null,null,"* Charge applies only to Full Service Customers",null,null,"** The Off-Peak Water Heating (OPWH) usage is measured on both the primary meter",null,null,null,null,null,null,null,null,null,null,null,null,{"$f":"'GS FP per Tariff'!B89","v":"First 1,000 kWh Summer"},null,{"$f":"'GS FP per Tariff'!D89","v":1.9212E-2},{"$f":"'GS FP per Tariff'!E89","v":7.5287999999999994E-2},{"$f":"'GS FP per Tariff'!F89","v":3.5799999999999997E-4},{"$f":"'GS FP per Tariff'!G89","v":0.124982},{"$f":"'GS FP per Tariff'!H89","v":3.8999999999999999E-5},{"$f":"'GS FP per Tariff'!I89","v":0},{"$f":"'GS FP per Tariff'!J89","v":4.7289999999999997E-3},{"$f":"'GS FP per Tariff'!K89","v":7.7000000000000002E-3},{"$f":"'GS FP per Tariff'!L89","v":4.9399999999999997E-4},{"$f":"'GS FP per Tariff'!M89","v":-2.34E-4},{"$f":"SUM(AV298:AW298,AZ298:BD298)","v":8.8334999999999983E-2},{"$f":"'GS FP per Tariff'!N89","v":0.232568},{"$f":"BF298-BE298-AU298-AX298-AY298","v":-2.6291902682773483E-18}]
[null,null,null,null,null,null,null,null,null,null,null,null,null,null,null,null,null,null,null,null,null,null,null,null,null,null,null,null,"  and the water heating meter.  The water heating usage is subtracted from primary meter before billing non-water heating usage.",null,null,null,null,null,null,null,null,null,null,null,null,null,null,null,{"$f":"'GS FP per Tariff'!B90","v":"First 1,000 kWh Winter"},null,{"$f":"'GS FP per Tariff'!D90","v":1.9212E-2},{"$f":"'GS FP per Tariff'!E90","v":6.9662000000000002E-2},{"$f":"'GS FP per Tariff'!F90","v":3.5799999999999997E-4},{"$f":"'GS FP per Tariff'!G90","v":0.124626},{"$f":"'GS FP per Tariff'!H90","v":3.8999999999999999E-5},{"$f":"'GS FP per Tariff'!I90","v":0},{"$f":"'GS FP per Tariff'!J90","v":4.7289999999999997E-3},{"$f":"'GS FP per Tariff'!K90","v":7.7000000000000002E-3},{"$f":"'GS FP per Tariff'!L90","v":4.9399999999999997E-4},{"$f":"'GS FP per Tariff'!M90","v":-2.34E-4},8.2708999999999991E-2,{"$f":"'GS FP per Tariff'!N90","v":0.22658600000000001},2.5126385347351565E-17]
[null,null,null,null,null,null,null,null,null,null,null,null,null,null,null,null,null,null,null,null,null,null,null,null,null,null,null,null,null,null,null,null,null,null,null,null,null,null,null,null,null,null,null,null,{"$f":"'GS FP per Tariff'!B91","v":"Over 1,000 kWh Summer"},null,{"$f":"'GS FP per Tariff'!D91","v":1.9212E-2},{"$f":"'GS FP per Tariff'!E91","v":6.0210000000000003E-3},{"$f":"'GS FP per Tariff'!F91","v":3.5799999999999997E-4},{"$f":"'GS FP per Tariff'!G91","v":0.124982},{"$f":"'GS FP per Tariff'!H91","v":3.8999999999999999E-5},{"$f":"'GS FP per Tariff'!I91","v":0},{"$f":"'GS FP per Tariff'!J91","v":4.7289999999999997E-3},{"$f":"'GS FP per Tariff'!K91","v":7.7000000000000002E-3},{"$f":"'GS FP per Tariff'!L91","v":4.9399999999999997E-4},{"$f":"'GS FP per Tariff'!M91","v":-2.34E-4},1.9067999999999998E-2,{"$f":"'GS FP per Tariff'!N91","v":0.163301},-2.6291902682773483E-18]
[null,null,null,null,null,null,null,null,null,null,null,null,null,null,null,null,null,null,null,null,null,null,null,null,null,null,null,null,null,null,null,{"$f":"AF$2","v":"Rates Effective with Service Rendered June 1, 2025"},null,null,null,null,null,null,null,"Delivery",null,null,null,null,{"$f":"'GS FP per Tariff'!B92","v":"Over 1,000 kWh Winter"},null,{"$f":"'GS FP per Tariff'!D92","v":1.9212E-2},{"$f":"'GS FP per Tariff'!E92","v":6.0210000000000003E-3},{"$f":"'GS FP per Tariff'!F92","v":3.5799999999999997E-4},{"$f":"'GS FP per Tariff'!G92","v":0.124626},{"$f":"'GS FP per Tariff'!H92","v":3.8999999999999999E-5},{"$f":"'GS FP per Tariff'!I92","v":0},{"$f":"'GS FP per Tariff'!J92","v":4.7289999999999997E-3},{"$f":"'GS FP per Tariff'!K92","v":7.7000000000000002E-3},{"$f":"'GS FP per Tariff'!L92","v":4.9399999999999997E-4},{"$f":"'GS FP per Tariff'!M92","v":-2.34E-4},1.9067999999999998E-2,{"$f":"'GS FP per Tariff'!N92","v":0.16294500000000001},-2.6291902682773483E-18]
[null,null,null,null,null,null,null,null,null,null,null,null,null,null,null,null,null,null,null,null,null,null,null,null,null,null,null,"Charge or","Customer",null,null,null,"Energy &","BGS-FP Reconciliation Charge*",{"$f":"$AI$3","v":"Zero Emission Certificate Recovery Charge (ZEC)"},"RGGI\nRecovery\nCharge (RRC)",null,null,null,"Service","Full Service",null,null,null,{"$f":"'GS FP per Tariff'!B93","v":"OPWH-kWh Summer"},null,{"$f":"'GS FP per Tariff'!D93","v":1.9212E-2},{"$f":"'GS FP per Tariff'!E93","v":2.2065999999999999E-2},{"$f":"'GS FP per Tariff'!F93","v":3.5799999999999997E-4},{"$f":"'GS FP per Tariff'!G93","v":0.128414},{"$f":"'GS FP per Tariff'!H93","v":3.8999999999999999E-5},{"$f":"'GS FP per Tariff'!I93","v":0},{"$f":"'GS FP per Tariff'!J93","v":4.7289999999999997E-3},{"$f":"'GS FP per Tariff'!K93","v":7.7000000000000002E-3},{"$f":"'GS FP per Tariff'!L93","v":4.9399999999999997E-4},{"$f":"'GS FP per Tariff'!M93","v":-2.34E-4},3.5113000000000005E-2,{"$f":"'GS FP per Tariff'!N93","v":0.182778},-1.6506978076091805E-17]
[null,null,null,null,null,null,null,null,null,null,null,null,null,null,null,null,null,null,null,null,null,null,null,null,null,"Rate Category","Description","Price Block","Charge","Transmission*","Distribution","Covid-19 Recovery","Capacity*",null,null,null,"SBC","LRAM","NGC","Total","Total",null,null,null,{"$f":"'GS FP per Tariff'!B94","v":"OPWH-kWh Winter"},null,{"$f":"'GS FP per Tariff'!D94","v":1.9212E-2},{"$f":"'GS FP per Tariff'!E94","v":2.2065999999999999E-2},{"$f":"'GS FP per Tariff'!F94","v":3.5799999999999997E-4},{"$f":"'GS FP per Tariff'!G94","v":0.12782199999999999},{"$f":"'GS FP per Tariff'!H94","v":3.8999999999999999E-5},{"$f":"'GS FP per Tariff'!I94","v":0},{"$f":"'GS FP per Tariff'!J94","v":4.7289999999999997E-3},{"$f":"'GS FP per Tariff'!K94","v":7.7000000000000002E-3},{"$f":"'GS FP per Tariff'!L94","v":4.9399999999999997E-4},{"$f":"'GS FP per Tariff'!M94","v":-2.34E-4},3.5113000000000005E-2,{"$f":"'GS FP per Tariff'!N94","v":0.18218600000000001},1.1248597539537109E-17]
[null,null,null,null,null,null,null,null,null,null,null,null,null,null,null,null,null,null,null,null,null,null,null,null,null,"JC_GS1_06D","General Service Secondary - 1 Phase","Customer Charge",{"$f":"'GS FP per Tariff'!C77","v":4.6500000000000004},null,null,null,null,null,null,null,null,null,null,{"$f":"AC304","v":4.6500000000000004},"N/A",null,null,null,null,"* Charge applies only to Full Service Customers",null,null,"** The Off-Peak Water Heating (OPWH) usage is measured on both the primary meter"]
[null,null,null,null,null,null,null,null,null,null,null,null,null,null,null,null,null,null,null,null,null,null,null,null,null,null,"Controlled Water Heating Provision **","Suppl CTWH Cust Charge",{"$f":"'GS FP per Tariff'!C80","v":2.23},null,null,null,null,null,null,null,null,null,null,{"$f":"AC305","v":2.23},"N/A",null,null,null,null,"  and the water heating meter.  The water heating usage is subtracted from primary meter before billing non-water heating usage."]
[null,null,null,null,null,null,null,null,null,null,null,null,null,null,null,null,null,null,null,null,null,null,null,null,null,null,"Delivery Service Only",{"$f":"'GS FP per Tariff'!B84","v":"Over 10  KW Summer"},null,null,{"$f":"'GS FP per Tariff'!E84","v":9},null,null,null,null,null,null,null,null,{"$f":"AE306","v":9},"N/A"]
[null,null,null,null,null,null,null,null,null,null,null,null,null,null,null,null,null,null,null,null,null,null,null,null,null,null,"All Taxes Applicable & Included",{"$f":"'GS FP per Tariff'!B85","v":"Over 10  KW Winter"},null,null,{"$f":"'GS FP per Tariff'!E85","v":8.3800000000000008},null,null,null,null,null,null,null,null,{"$f":"AE307","v":8.3800000000000008},"N/A",null,null,null,null,null,null,null,{"$f":"AF$2","v":"Rates Effective with Service Rendered June 1, 2025"},null,null,null,null,null,null,null,"Delivery"]
[null,null,null,null,null,null,null,null,null,null,null,null,null,null,null,null,null,null,null,null,null,null,null,null,null,null,null,{"$f":"'GS FP per Tariff'!B87","v":"Minimum Bill-Over 10 KW "},null,null,{"$f":"'GS FP per Tariff'!E87","v":4.08},null,null,null,null,null,null,null,null,{"$f":"AE308","v":4.08},"N/A",null,null,null,"Charge or","Customer",null,null,null,"Energy &","BGS-FP Reconciliation Charge*",{"$f":"$AI$3","v":"Zero Emission Certificate Recovery Charge (ZEC)"},"RGGI\nRecovery\nCharge (RRC)",null,null,null,"Service","Full Service"]
[null,null,null,null,null,null,null,null,null,null,null,null,null,null,null,null,null,null,null,null,null,null,null,null,null,null,null,{"$f":"'GS FP per Tariff'!B89","v":"First 1,000 kWh Summer"},null,"N/A",{"$f":"'GS FP per Tariff'!E89","v":7.5287999999999994E-2},{"$f":"'GS FP per Tariff'!F89","v":3.5799999999999997E-4},"N/A","N/A",{"$f":"'GS FP per Tariff'!I89","v":0},{"$f":"'GS FP per Tariff'!J89","v":4.7289999999999997E-3},{"$f":"'GS FP per Tariff'!K89","v":7.7000000000000002E-3},{"$f":"'GS FP per Tariff'!L89","v":4.9399999999999997E-4},{"$f":"'GS FP per Tariff'!M89","v":-2.34E-4},{"$f":"SUM(AE309:AF309,AI309:AM309)","v":8.8334999999999983E-2},"N/A",null,"Rate Category","Description","Price Block","Charge","Transmission*","Distribution","SRC","Capacity*",null,null,null,"SBC","TAA","MTC","Total","Total"]
[null,null,null,null,null,null,null,null,null,null,null,null,null,null,null,null,null,null,null,null,null,null,null,null,null,null,null,{"$f":"'GS FP per Tariff'!B90","v":"First 1,000 kWh Winter"},null,"N/A",{"$f":"'GS FP per Tariff'!E90","v":6.9662000000000002E-2},{"$f":"'GS FP per Tariff'!F90","v":3.5799999999999997E-4},"N/A","N/A",{"$f":"'GS FP per Tariff'!I90","v":0},{"$f":"'GS FP per Tariff'!J90","v":4.7289999999999997E-3},{"$f":"'GS FP per Tariff'!K90","v":7.7000000000000002E-3},{"$f":"'GS FP per Tariff'!L90","v":4.9399999999999997E-4},{"$f":"'GS FP per Tariff'!M90","v":-2.34E-4},8.2708999999999991E-2,"N/A",null,"JC_GS3_06D","General Service Secondary - 3 Phase","Customer Charge",{"$f":"'GS FP per Tariff'!C78","v":16.690000000000001},null,null,null,null,null,null,null,null,null,null,{"$f":"AT310","v":16.690000000000001},"N/A"]
[null,null,null,null,null,null,null,null,null,null,null,null,null,null,null,null,null,null,null,null,null,null,null,null,null,null,null,{"$f":"'GS FP per Tariff'!B91","v":"Over 1,000 kWh Summer"},null,"N/A",{"$f":"'GS FP per Tariff'!E91","v":6.0210000000000003E-3},{"$f":"'GS FP per Tariff'!F91","v":3.5799999999999997E-4},"N/A","N/A",{"$f":"'GS FP per Tariff'!I91","v":0},{"$f":"'GS FP per Tariff'!J91","v":4.7289999999999997E-3},{"$f":"'GS FP per Tariff'!K91","v":7.7000000000000002E-3},{"$f":"'GS FP per Tariff'!L91","v":4.9399999999999997E-4},{"$f":"'GS FP per Tariff'!M91","v":-2.34E-4},1.9067999999999998E-2,"N/A",null,null,"Controlled Water Heating Provision **","Suppl Cust Charge",{"$f":"'GS FP per Tariff'!C80","v":2.23},null,null,null,null,null,null,null,null,null,null,{"$f":"AT311","v":2.23},"N/A"]
[null,null,null,null,null,null,null,null,null,null,null,null,null,null,null,null,null,null,null,null,null,null,null,null,null,null,null,{"$f":"'GS FP per Tariff'!B92","v":"Over 1,000 kWh Winter"},null,"N/A",{"$f":"'GS FP per Tariff'!E92","v":6.0210000000000003E-3},{"$f":"'GS FP per Tariff'!F92","v":3.5799999999999997E-4},"N/A","N/A",{"$f":"'GS FP per Tariff'!I92","v":0},{"$f":"'GS FP per Tariff'!J92","v":4.7289999999999997E-3},{"$f":"'GS FP per Tariff'!K92","v":7.7000000000000002E-3},{"$f":"'GS FP per Tariff'!L92","v":4.9399999999999997E-4},{"$f":"'GS FP per Tariff'!M92","v":-2.34E-4},1.9067999999999998E-2,"N/A",null,null,"Delivery Service Only",{"$f":"'GS FP per Tariff'!B84","v":"Over 10  KW Summer"},null,null,{"$f":"'GS FP per Tariff'!E84","v":9},null,null,null,null,null,null,null,null,{"$f":"AV312","v":9},"N/A"]
[null,null,null,null,null,null,null,null,null,null,null,null,null,null,null,null,null,null,null,null,null,null,null,null,null,null,null,{"$f":"'GS FP per Tariff'!B95","v":"CTWH-kWh Summer"},null,"N/A",{"$f":"'GS FP per Tariff'!E95","v":2.9064E-2},{"$f":"'GS FP per Tariff'!F95","v":3.5799999999999997E-4},"N/A","N/A",{"$f":"'GS FP per Tariff'!I95","v":0},{"$f":"'GS FP per Tariff'!J95","v":4.7289999999999997E-3},{"$f":"'GS FP per Tariff'!K95","v":7.7000000000000002E-3},{"$f":"'GS FP per Tariff'!L95","v":4.9399999999999997E-4},{"$f":"'GS FP per Tariff'!M95","v":-2.34E-4},4.2111000000000003E-2,"N/A",null,null,"All Taxes Applicable & Included",{"$f":"'GS FP per Tariff'!B85","v":"Over 10  KW Winter"},null,null,{"$f":"'GS FP per Tariff'!E85","v":8.3800000000000008},null,null,null,null,null,null,null,null,{"$f":"AV313","v":8.3800000000000008},"N/A"]
[null,null,null,null,null,null,null,null,null,null,null,null,null,null,null,null,null,null,null,null,null,null,null,null,null,null,null,{"$f":"'GS FP per Tariff'!B95","v":"CTWH-kWh Summer"},null,"N/A",{"$f":"'GS FP per Tariff'!E96","v":2.9064E-2},{"$f":"'GS FP per Tariff'!F96","v":3.5799999999999997E-4},"N/A","N/A",{"$f":"'GS FP per Tariff'!I96","v":0},{"$f":"'GS FP per Tariff'!J96","v":4.7289999999999997E-3},{"$f":"'GS FP per Tariff'!K96","v":7.7000000000000002E-3},{"$f":"'GS FP per Tariff'!L96","v":4.9399999999999997E-4},{"$f":"'GS FP per Tariff'!M96","v":-2.34E-4},4.2111000000000003E-2,"N/A",null,null,null,{"$f":"'GS FP per Tariff'!B87","v":"Minimum Bill-Over 10 KW "},null,null,{"$f":"'GS FP per Tariff'!E87","v":4.08},null,null,null,null,null,null,null,null,{"$f":"AV314","v":4.08},"N/A"]
[null,null,null,null,null,null,null,null,null,null,null,null,null,null,null,null,null,null,null,null,null,null,null,null,null,null,null,"* Charge applies only to Full Service Customers",null,null,"** The Controlled Water Heating (CTWH) usage is measured only on the water heating meter.",null,null,null,null,null,null,null,null,null,null,null,null,null,{"$f":"'GS FP per Tariff'!B89","v":"First 1,000 kWh Summer"},null,"N/A",{"$f":"'GS FP per Tariff'!E89","v":7.5287999999999994E-2},{"$f":"'GS FP per Tariff'!F89","v":3.5799999999999997E-4},"N/A","N/A",{"$f":"'GS FP per Tariff'!I89","v":0},{"$f":"'GS FP per Tariff'!J89","v":4.7289999999999997E-3},{"$f":"'GS FP per Tariff'!K89","v":7.7000000000000002E-3},{"$f":"'GS FP per Tariff'!L89","v":4.9399999999999997E-4},{"$f":"'GS FP per Tariff'!M89","v":-2.34E-4},{"$f":"SUM(AV315:AW315,AZ315:BD315)","v":8.8334999999999983E-2},"N/A"]
[null,null,null,null,null,null,null,null,null,null,null,null,null,null,null,null,null,null,null,null,null,null,null,null,null,null,null,null,null,null,null,null,null,null,null,null,null,null,null,null,null,null,null,null,{"$f":"'GS FP per Tariff'!B90","v":"First 1,000 kWh Winter"},null,"N/A",{"$f":"'GS FP per Tariff'!E90","v":6.9662000000000002E-2},{"$f":"'GS FP per Tariff'!F90","v":3.5799999999999997E-4},"N/A","N/A",{"$f":"'GS FP per Tariff'!I90","v":0},{"$f":"'GS FP per Tariff'!J90","v":4.7289999999999997E-3},{"$f":"'GS FP per Tariff'!K90","v":7.7000000000000002E-3},{"$f":"'GS FP per Tariff'!L90","v":4.9399999999999997E-4},{"$f":"'GS FP per Tariff'!M90","v":-2.34E-4},8.2708999999999991E-2,"N/A"]
[null,null,null,null,null,null,null,null,null,null,null,null,null,null,null,null,null,null,null,null,null,null,null,null,null,null,null,null,null,null,null,null,null,null,null,null,null,null,null,null,null,null,null,null,{"$f":"'GS FP per Tariff'!B91","v":"Over 1,000 kWh Summer"},null,"N/A",{"$f":"'GS FP per Tariff'!E91","v":6.0210000000000003E-3},{"$f":"'GS FP per Tariff'!F91","v":3.5799999999999997E-4},"N/A","N/A",{"$f":"'GS FP per Tariff'!I91","v":0},{"$f":"'GS FP per Tariff'!J91","v":4.7289999999999997E-3},{"$f":"'GS FP per Tariff'!K91","v":7.7000000000000002E-3},{"$f":"'GS FP per Tariff'!L91","v":4.9399999999999997E-4},{"$f":"'GS FP per Tariff'!M91","v":-2.34E-4},1.9067999999999998E-2,"N/A"]
[null,null,null,null,null,null,null,null,null,null,null,null,null,null,null,null,null,null,null,null,null,null,null,null,null,null,null,null,null,null,null,{"$f":"AF$2","v":"Rates Effective with Service Rendered June 1, 2025"},null,null,null,null,null,null,null,"Delivery",null,null,null,null,{"$f":"'GS FP per Tariff'!B92","v":"Over 1,000 kWh Winter"},null,"N/A",{"$f":"'GS FP per Tariff'!E92","v":6.0210000000000003E-3},{"$f":"'GS FP per Tariff'!F92","v":3.5799999999999997E-4},"N/A","N/A",{"$f":"'GS FP per Tariff'!I92","v":0},{"$f":"'GS FP per Tariff'!J92","v":4.7289999999999997E-3},{"$f":"'GS FP per Tariff'!K92","v":7.7000000000000002E-3},{"$f":"'GS FP per Tariff'!L92","v":4.9399999999999997E-4},{"$f":"'GS FP per Tariff'!M92","v":-2.34E-4},1.9067999999999998E-2,"N/A"]
[null,null,null,null,null,null,null,null,null,null,null,null,null,null,null,null,null,null,null,null,null,null,null,null,null,null,null,"Charge or","Customer",null,null,null,"Energy &","BGS-FP Reconciliation Charge*",{"$f":"$AI$3","v":"Zero Emission Certificate Recovery Charge (ZEC)"},"RGGI\nRecovery\nCharge (RRC)",null,null,null,"Service","Full Service",null,null,null,{"$f":"'GS FP per Tariff'!B95","v":"CTWH-kWh Summer"},null,"N/A",{"$f":"'GS FP per Tariff'!E95","v":2.9064E-2},{"$f":"'GS FP per Tariff'!F95","v":3.5799999999999997E-4},"N/A","N/A",{"$f":"'GS FP per Tariff'!I95","v":0},{"$f":"'GS FP per Tariff'!J95","v":4.7289999999999997E-3},{"$f":"'GS FP per Tariff'!K95","v":7.7000000000000002E-3},{"$f":"'GS FP per Tariff'!L95","v":4.9399999999999997E-4},{"$f":"'GS FP per Tariff'!M95","v":-2.34E-4},4.2111000000000003E-2,"N/A"]
[null,null,null,null,null,null,null,null,null,null,null,null,null,null,null,null,null,null,null,null,null,null,null,null,null,"Rate Category","Description","Price Block","Charge","Transmission*","Distribution","Covid-19 Recovery","Capacity*",null,null,null,"SBC","LRAM","NGC","Charges","Total",null,null,null,{"$f":"'GS FP per Tariff'!B95","v":"CTWH-kWh Summer"},null,"N/A",{"$f":"'GS FP per Tariff'!E96","v":2.9064E-2},{"$f":"'GS FP per Tariff'!F96","v":3.5799999999999997E-4},"N/A","N/A",{"$f":"'GS FP per Tariff'!I96","v":0},{"$f":"'GS FP per Tariff'!J96","v":4.7289999999999997E-3},{"$f":"'GS FP per Tariff'!K96","v":7.7000000000000002E-3},{"$f":"'GS FP per Tariff'!L96","v":4.9399999999999997E-4},{"$f":"'GS FP per Tariff'!M96","v":-2.34E-4},4.2111000000000003E-2,"N/A"]
[null,null,null,null,null,null,null,null,null,null,null,null,null,null,null,null,null,null,null,null,null,null,null,null,null,"JC_GS1_06F","General Service Secondary - 1 Phase","Customer Charge",{"$f":"'GS FP per Tariff'!C77","v":4.6500000000000004},null,null,null,null,null,null,null,null,null,null,{"$f":"AC321","v":4.6500000000000004},{"$f":"AC321","v":4.6500000000000004},null,null,null,"* Charge applies only to Full Service Customers",null,null,"** The Controlled Water Heating (CTWH) usage is measured only on the water heating meter."]
[null,null,null,null,null,null,null,null,null,null,null,null,null,null,null,null,null,null,null,null,null,null,null,null,null,null,"Controlled Water Heating Provision **","Suppl CTWH Cust Charge",{"$f":"'GS FP per Tariff'!C80","v":2.23},null,null,null,null,null,null,null,null,null,null,{"$f":"AC322","v":2.23},{"$f":"AC322","v":2.23}]
[null,null,null,null,null,null,null,null,null,null,null,null,null,null,null,null,null,null,null,null,null,null,null,null,null,null,"Full Service",{"$f":"'GS FP per Tariff'!B84","v":"Over 10  KW Summer"},null,null,{"$f":"'GS FP per Tariff'!E84","v":9},null,null,null,null,null,null,null,null,{"$f":"AE323","v":9},{"$f":"AE323","v":9}]
[null,null,null,null,null,null,null,null,null,null,null,null,null,null,null,null,null,null,null,null,null,null,null,null,null,null,"All Taxes Applicable & Included",{"$f":"'GS FP per Tariff'!B85","v":"Over 10  KW Winter"},null,null,{"$f":"'GS FP per Tariff'!E85","v":8.3800000000000008},null,null,null,null,null,null,null,null,{"$f":"AE324","v":8.3800000000000008},{"$f":"AE324","v":8.3800000000000008},null,null,null,null,null,null,null,{"$f":"AF$2","v":"Rates Effective with Service Rendered June 1, 2025"},null,null,null,null,null,null,null,"Delivery"]
[null,null,null,null,null,null,null,null,null,null,null,null,null,null,null,null,null,null,null,null,null,null,null,null,null,null,null,{"$f":"'GS FP per Tariff'!B87","v":"Minimum Bill-Over 10 KW "},null,null,{"$f":"'GS FP per Tariff'!E87","v":4.08},null,null,null,null,null,null,null,null,{"$f":"AE325","v":4.08},{"$f":"AE325","v":4.08},null,null,null,"Charge or","Customer",null,null,null,"Energy &","BGS-FP Reconciliation Charge*",{"$f":"$AI$3","v":"Zero Emission Certificate Recovery Charge (ZEC)"},"RGGI\nRecovery\nCharge (RRC)",null,null,null,"Service","Full Service"]
[null,null,null,null,null,null,null,null,null,null,null,null,null,null,null,null,null,null,null,null,null,null,null,null,null,null,null,{"$f":"'GS FP per Tariff'!B89","v":"First 1,000 kWh Summer"},null,{"$f":"'GS FP per Tariff'!D89","v":1.9212E-2},{"$f":"'GS FP per Tariff'!E89","v":7.5287999999999994E-2},{"$f":"'GS FP per Tariff'!F89","v":3.5799999999999997E-4},{"$f":"'GS FP per Tariff'!G89","v":0.124982},{"$f":"'GS FP per Tariff'!H89","v":3.8999999999999999E-5},{"$f":"'GS FP per Tariff'!I89","v":0},{"$f":"'GS FP per Tariff'!J89","v":4.7289999999999997E-3},{"$f":"'GS FP per Tariff'!K89","v":7.7000000000000002E-3},{"$f":"'GS FP per Tariff'!L89","v":4.9399999999999997E-4},{"$f":"'GS FP per Tariff'!M89","v":-2.34E-4},{"$f":"SUM(AE326:AF326,AI326:AM326)","v":8.8334999999999983E-2},{"$f":"'GS FP per Tariff'!N89","v":0.232568},null,"Rate Category","Description","Price Block","Charge","Transmission*","Distribution","SRC","Capacity*",null,null,null,"SBC","TAA","MTC","Charges","Total"]
[null,null,null,null,null,null,null,null,null,null,null,null,null,null,null,null,null,null,null,null,null,null,null,null,null,null,null,{"$f":"'GS FP per Tariff'!B90","v":"First 1,000 kWh Winter"},null,{"$f":"'GS FP per Tariff'!D90","v":1.9212E-2},{"$f":"'GS FP per Tariff'!E90","v":6.9662000000000002E-2},{"$f":"'GS FP per Tariff'!F90","v":3.5799999999999997E-4},{"$f":"'GS FP per Tariff'!G90","v":0.124626},{"$f":"'GS FP per Tariff'!H90","v":3.8999999999999999E-5},{"$f":"'GS FP per Tariff'!I90","v":0},{"$f":"'GS FP per Tariff'!J90","v":4.7289999999999997E-3},{"$f":"'GS FP per Tariff'!K90","v":7.7000000000000002E-3},{"$f":"'GS FP per Tariff'!L90","v":4.9399999999999997E-4},{"$f":"'GS FP per Tariff'!M90","v":-2.34E-4},8.2708999999999991E-2,{"$f":"'GS FP per Tariff'!N90","v":0.22658600000000001},null,"JC_GS3_06F","General Service Secondary - 3 Phase","Customer Charge",{"$f":"'GS FP per Tariff'!C78","v":16.690000000000001},null,null,null,null,null,null,null,null,null,null,{"$f":"AT327","v":16.690000000000001},{"$f":"AT327","v":16.690000000000001}]
[null,null,null,null,null,null,null,null,null,null,null,null,null,null,null,null,null,null,null,null,null,null,null,null,null,null,null,{"$f":"'GS FP per Tariff'!B91","v":"Over 1,000 kWh Summer"},null,{"$f":"'GS FP per Tariff'!D91","v":1.9212E-2},{"$f":"'GS FP per Tariff'!E91","v":6.0210000000000003E-3},{"$f":"'GS FP per Tariff'!F91","v":3.5799999999999997E-4},{"$f":"'GS FP per Tariff'!G91","v":0.124982},{"$f":"'GS FP per Tariff'!H91","v":3.8999999999999999E-5},{"$f":"'GS FP per Tariff'!I91","v":0},{"$f":"'GS FP per Tariff'!J91","v":4.7289999999999997E-3},{"$f":"'GS FP per Tariff'!K91","v":7.7000000000000002E-3},{"$f":"'GS FP per Tariff'!L91","v":4.9399999999999997E-4},{"$f":"'GS FP per Tariff'!M91","v":-2.34E-4},1.9067999999999998E-2,{"$f":"'GS FP per Tariff'!N91","v":0.163301},null,null,"Controlled Water Heating Provision **","Suppl Cust Charge",{"$f":"'GS FP per Tariff'!C80","v":2.23},null,null,null,null,null,null,null,null,null,null,{"$f":"AT328","v":2.23},{"$f":"AT328","v":2.23}]
[null,null,null,null,null,null,null,null,null,null,null,null,null,null,null,null,null,null,null,null,null,null,null,null,null,null,null,{"$f":"'GS FP per Tariff'!B92","v":"Over 1,000 kWh Winter"},null,{"$f":"'GS FP per Tariff'!D92","v":1.9212E-2},{"$f":"'GS FP per Tariff'!E92","v":6.0210000000000003E-3},{"$f":"'GS FP per Tariff'!F92","v":3.5799999999999997E-4},{"$f":"'GS FP per Tariff'!G92","v":0.124626},{"$f":"'GS FP per Tariff'!H92","v":3.8999999999999999E-5},{"$f":"'GS FP per Tariff'!I92","v":0},{"$f":"'GS FP per Tariff'!J92","v":4.7289999999999997E-3},{"$f":"'GS FP per Tariff'!K92","v":7.7000000000000002E-3},{"$f":"'GS FP per Tariff'!L92","v":4.9399999999999997E-4},{"$f":"'GS FP per Tariff'!M92","v":-2.34E-4},1.9067999999999998E-2,{"$f":"'GS FP per Tariff'!N92","v":0.16294500000000001},null,null,"Full service",{"$f":"'GS FP per Tariff'!B84","v":"Over 10  KW Summer"},null,null,{"$f":"'GS FP per Tariff'!E84","v":9},null,null,null,null,null,null,null,null,{"$f":"AV329","v":9},{"$f":"AV329","v":9}]
[null,null,null,null,null,null,null,null,null,null,null,null,null,null,null,null,null,null,null,null,null,null,null,null,null,null,null,{"$f":"'GS FP per Tariff'!B95","v":"CTWH-kWh Summer"},null,{"$f":"'GS FP per Tariff'!D95","v":1.9212E-2},{"$f":"'GS FP per Tariff'!E95","v":2.9064E-2},{"$f":"'GS FP per Tariff'!F95","v":3.5799999999999997E-4},{"$f":"'GS FP per Tariff'!G95","v":0.128414},{"$f":"'GS FP per Tariff'!H95","v":3.8999999999999999E-5},{"$f":"'GS FP per Tariff'!I95","v":0},{"$f":"'GS FP per Tariff'!J95","v":4.7289999999999997E-3},{"$f":"'GS FP per Tariff'!K95","v":7.7000000000000002E-3},{"$f":"'GS FP per Tariff'!L95","v":4.9399999999999997E-4},{"$f":"'GS FP per Tariff'!M95","v":-2.34E-4},4.2111000000000003E-2,{"$f":"'GS FP per Tariff'!N95","v":0.189776},null,null,"All Taxes Applicable & Included",{"$f":"'GS FP per Tariff'!B85","v":"Over 10  KW Winter"},null,null,{"$f":"'GS FP per Tariff'!E85","v":8.3800000000000008},null,null,null,null,null,null,null,null,{"$f":"AV330","v":8.3800000000000008},{"$f":"AV330","v":8.3800000000000008}]
[null,null,null,null,null,null,null,null,null,null,null,null,null,null,null,null,null,null,null,null,null,null,null,null,null,null,null,{"$f":"'GS FP per Tariff'!B96","v":"CTWH-kWh Winter"},null,{"$f":"'GS FP per Tariff'!D96","v":1.9212E-2},{"$f":"'GS FP per Tariff'!E96","v":2.9064E-2},{"$f":"'GS FP per Tariff'!F96","v":3.5799999999999997E-4},{"$f":"'GS FP per Tariff'!G96","v":0.12782199999999999},{"$f":"'GS FP per Tariff'!H96","v":3.8999999999999999E-5},{"$f":"'GS FP per Tariff'!I96","v":0},{"$f":"'GS FP per Tariff'!J96","v":4.7289999999999997E-3},{"$f":"'GS FP per Tariff'!K96","v":7.7000000000000002E-3},{"$f":"'GS FP per Tariff'!L96","v":4.9399999999999997E-4},{"$f":"'GS FP per Tariff'!M96","v":-2.34E-4},4.2111000000000003E-2,{"$f":"'GS FP per Tariff'!N96","v":0.18918400000000002},null,null,null,{"$f":"'GS FP per Tariff'!B87","v":"Minimum Bill-Over 10 KW "},null,null,{"$f":"'GS FP per Tariff'!E87","v":4.08},null,null,null,null,null,null,null,null,{"$f":"AV331","v":4.08},{"$f":"AV331","v":4.08}]
[null,null,null,null,null,null,null,null,null,null,null,null,null,null,null,null,null,null,null,null,null,null,null,null,null,null,null,"* Charge applies only to Full Service Customers",null,null,"** The Controlled Water Heating (CTWH) usage is measured only on the water heating meter.",null,null,null,null,null,null,null,null,null,null,null,null,null,{"$f":"'GS FP per Tariff'!B89","v":"First 1,000 kWh Summer"},null,{"$f":"'GS FP per Tariff'!D89","v":1.9212E-2},{"$f":"'GS FP per Tariff'!E89","v":7.5287999999999994E-2},{"$f":"'GS FP per Tariff'!F89","v":3.5799999999999997E-4},{"$f":"'GS FP per Tariff'!G89","v":0.124982},{"$f":"'GS FP per Tariff'!H89","v":3.8999999999999999E-5},{"$f":"'GS FP per Tariff'!I89","v":0},{"$f":"'GS FP per Tariff'!J89","v":4.7289999999999997E-3},{"$f":"'GS FP per Tariff'!K89","v":7.7000000000000002E-3},{"$f":"'GS FP per Tariff'!L89","v":4.9399999999999997E-4},{"$f":"'GS FP per Tariff'!M89","v":-2.34E-4},{"$f":"SUM(AV332:AW332,AZ332:BD332)","v":8.8334999999999983E-2},{"$f":"'GS FP per Tariff'!N89","v":0.232568},{"$f":"BF332-BE332-AU332-AX332-AY332","v":-2.6291902682773483E-18}]
[null,null,null,null,null,null,null,null,null,null,null,null,null,null,null,null,null,null,null,null,null,null,null,null,null,null,null,null,null,null,null,null,null,null,null,null,null,null,null,null,null,null,null,null,{"$f":"'GS FP per Tariff'!B90","v":"First 1,000 kWh Winter"},null,{"$f":"'GS FP per Tariff'!D90","v":1.9212E-2},{"$f":"'GS FP per Tariff'!E90","v":6.9662000000000002E-2},{"$f":"'GS FP per Tariff'!F90","v":3.5799999999999997E-4},{"$f":"'GS FP per Tariff'!G90","v":0.124626},{"$f":"'GS FP per Tariff'!H90","v":3.8999999999999999E-5},{"$f":"'GS FP per Tariff'!I90","v":0},{"$f":"'GS FP per Tariff'!J90","v":4.7289999999999997E-3},{"$f":"'GS FP per Tariff'!K90","v":7.7000000000000002E-3},{"$f":"'GS FP per Tariff'!L90","v":4.9399999999999997E-4},{"$f":"'GS FP per Tariff'!M90","v":-2.34E-4},8.2708999999999991E-2,{"$f":"'GS FP per Tariff'!N90","v":0.22658600000000001},2.5126385347351565E-17]
[null,null,null,null,null,null,null,null,null,null,null,null,null,null,null,null,null,null,null,null,null,null,null,null,null,null,null,null,null,null,null,{"$f":"AF$2","v":"Rates Effective with Service Rendered June 1, 2025"},null,null,null,null,null,null,null,"Delivery",null,null,null,null,{"$f":"'GS FP per Tariff'!B91","v":"Over 1,000 kWh Summer"},null,{"$f":"'GS FP per Tariff'!D91","v":1.9212E-2},{"$f":"'GS FP per Tariff'!E91","v":6.0210000000000003E-3},{"$f":"'GS FP per Tariff'!F91","v":3.5799999999999997E-4},{"$f":"'GS FP per Tariff'!G91","v":0.124982},{"$f":"'GS FP per Tariff'!H91","v":3.8999999999999999E-5},{"$f":"'GS FP per Tariff'!I91","v":0},{"$f":"'GS FP per Tariff'!J91","v":4.7289999999999997E-3},{"$f":"'GS FP per Tariff'!K91","v":7.7000000000000002E-3},{"$f":"'GS FP per Tariff'!L91","v":4.9399999999999997E-4},{"$f":"'GS FP per Tariff'!M91","v":-2.34E-4},1.9067999999999998E-2,{"$f":"'GS FP per Tariff'!N91","v":0.163301},-2.6291902682773483E-18]
[null,null,null,null,null,null,null,null,null,null,null,null,null,null,null,null,null,null,null,null,null,null,null,null,null,null,null,"Charge or","Customer",null,null,null,"Energy &","BGS-FP Reconciliation Charge*",{"$f":"$AI$3","v":"Zero Emission Certificate Recovery Charge (ZEC)"},"RGGI\nRecovery\nCharge (RRC)",null,null,null,"Service","Full Service",null,null,null,{"$f":"'GS FP per Tariff'!B92","v":"Over 1,000 kWh Winter"},null,{"$f":"'GS FP per Tariff'!D92","v":1.9212E-2},{"$f":"'GS FP per Tariff'!E92","v":6.0210000000000003E-3},{"$f":"'GS FP per Tariff'!F92","v":3.5799999999999997E-4},{"$f":"'GS FP per Tariff'!G92","v":0.124626},{"$f":"'GS FP per Tariff'!H92","v":3.8999999999999999E-5},{"$f":"'GS FP per Tariff'!I92","v":0},{"$f":"'GS FP per Tariff'!J92","v":4.7289999999999997E-3},{"$f":"'GS FP per Tariff'!K92","v":7.7000000000000002E-3},{"$f":"'GS FP per Tariff'!L92","v":4.9399999999999997E-4},{"$f":"'GS FP per Tariff'!M92","v":-2.34E-4},1.9067999999999998E-2,{"$f":"'GS FP per Tariff'!N92","v":0.16294500000000001},-2.6291902682773483E-18]
[null,null,null,null,null,null,null,null,null,null,null,null,null,null,null,null,null,null,null,null,null,null,null,null,null,"Rate Category","Description","Price Block","Charge","Transmission*","Distribution","Covid-19 Recovery","Capacity*",null,null,null,"SBC","LRAM","NGC","Total","Total",null,null,null,{"$f":"'GS FP per Tariff'!B95","v":"CTWH-kWh Summer"},null,{"$f":"'GS FP per Tariff'!D95","v":1.9212E-2},{"$f":"'GS FP per Tariff'!E95","v":2.9064E-2},{"$f":"'GS FP per Tariff'!F95","v":3.5799999999999997E-4},{"$f":"'GS FP per Tariff'!G95","v":0.128414},{"$f":"'GS FP per Tariff'!H95","v":3.8999999999999999E-5},{"$f":"'GS FP per Tariff'!I95","v":0},{"$f":"'GS FP per Tariff'!J95","v":4.7289999999999997E-3},{"$f":"'GS FP per Tariff'!K95","v":7.7000000000000002E-3},{"$f":"'GS FP per Tariff'!L95","v":4.9399999999999997E-4},{"$f":"'GS FP per Tariff'!M95","v":-2.34E-4},4.2111000000000003E-2,{"$f":"'GS FP per Tariff'!N95","v":0.189776},-1.6506978076091805E-17]
[null,null,null,null,null,null,null,null,null,null,null,null,null,null,null,null,null,null,null,null,null,null,null,null,null,"JC_GS1_08D","General Service Secondary - 1 Phase","Customer Charge",{"$f":"'GS FP per Tariff'!C77","v":4.6500000000000004},null,null,null,null,null,null,null,null,null,null,{"$f":"AC337","v":4.6500000000000004},"N/A",null,null,null,{"$f":"'GS FP per Tariff'!B96","v":"CTWH-kWh Winter"},null,{"$f":"'GS FP per Tariff'!D96","v":1.9212E-2},{"$f":"'GS FP per Tariff'!E96","v":2.9064E-2},{"$f":"'GS FP per Tariff'!F96","v":3.5799999999999997E-4},{"$f":"'GS FP per Tariff'!G96","v":0.12782199999999999},{"$f":"'GS FP per Tariff'!H96","v":3.8999999999999999E-5},{"$f":"'GS FP per Tariff'!I96","v":0},{"$f":"'GS FP per Tariff'!J96","v":4.7289999999999997E-3},{"$f":"'GS FP per Tariff'!K96","v":7.7000000000000002E-3},{"$f":"'GS FP per Tariff'!L96","v":4.9399999999999997E-4},{"$f":"'GS FP per Tariff'!M96","v":-2.34E-4},4.2111000000000003E-2,{"$f":"'GS FP per Tariff'!N96","v":0.18918400000000002},1.1248597539537109E-17]
[null,null,null,null,null,null,null,null,null,null,null,null,null,null,null,null,null,null,null,null,null,null,null,null,null,null,"Religious House of Worship Provision**",{"$f":"'GS FP per Tariff'!B84","v":"Over 10  KW Summer"},null,null,{"$f":"'GS FP per Tariff'!E84","v":9},null,null,null,null,null,null,null,null,{"$f":"AE338","v":9},"N/A",null,null,null,"* Charge applies only to Full Service Customers",null,null,"** The Controlled Water Heating (CTWH) usage is measured only on the water heating meter."]
[null,null,null,null,null,null,null,null,null,null,null,null,null,null,null,null,null,null,null,null,null,null,null,null,null,null,"Delivery Service Only",{"$f":"'GS FP per Tariff'!B85","v":"Over 10  KW Winter"},null,null,{"$f":"'GS FP per Tariff'!E85","v":8.3800000000000008},null,null,null,null,null,null,null,null,{"$f":"AE339","v":8.3800000000000008},"N/A"]
[null,null,null,null,null,null,null,null,null,null,null,null,null,null,null,null,null,null,null,null,null,null,null,null,null,null,"All Taxes Applicable & Included",{"$f":"'GS FP per Tariff'!B87","v":"Minimum Bill-Over 10 KW "},null,null,{"$f":"'GS FP per Tariff'!E87","v":4.08},null,null,null,null,null,null,null,null,{"$f":"AE340","v":4.08},"N/A",null,null,null,null,null,null,null,{"$f":"AF$2","v":"Rates Effective with Service Rendered June 1, 2025"},null,null,null,null,null,null,null,"Delivery"]
[null,null,null,null,null,null,null,null,null,null,null,null,null,null,null,null,null,null,null,null,null,null,null,null,null,null,null,{"$f":"'GS FP per Tariff'!B89","v":"First 1,000 kWh Summer"},null,"N/A",{"$f":"'GS FP per Tariff'!E89+'GS FP per Tariff'!E$99","v":3.6904999999999993E-2},{"$f":"'GS FP per Tariff'!F89","v":3.5799999999999997E-4},"N/A","N/A",{"$f":"'GS FP per Tariff'!I89","v":0},{"$f":"'GS FP per Tariff'!J89","v":4.7289999999999997E-3},{"$f":"'GS FP per Tariff'!K89","v":7.7000000000000002E-3},{"$f":"'GS FP per Tariff'!L89","v":4.9399999999999997E-4},{"$f":"'GS FP per Tariff'!M89","v":-2.34E-4},{"$f":"SUM(AE341:AF341,AI341:AM341)","v":4.9951999999999989E-2},"N/A",null,null,null,"Charge or","Customer",null,null,null,"Energy &","BGS-FP Reconciliation Charge*",{"$f":"$AI$3","v":"Zero Emission Certificate Recovery Charge (ZEC)"},"RGGI\nRecovery\nCharge (RRC)",null,null,null,"Service","Full Service"]
[null,null,null,null,null,null,null,null,null,null,null,null,null,null,null,null,null,null,null,null,null,null,null,null,null,null,null,{"$f":"'GS FP per Tariff'!B90","v":"First 1,000 kWh Winter"},null,"N/A",{"$f":"'GS FP per Tariff'!E90+'GS FP per Tariff'!E$99","v":3.1279000000000001E-2},{"$f":"'GS FP per Tariff'!F90","v":3.5799999999999997E-4},"N/A","N/A",{"$f":"'GS FP per Tariff'!I90","v":0},{"$f":"'GS FP per Tariff'!J90","v":4.7289999999999997E-3},{"$f":"'GS FP per Tariff'!K90","v":7.7000000000000002E-3},{"$f":"'GS FP per Tariff'!L90","v":4.9399999999999997E-4},{"$f":"'GS FP per Tariff'!M90","v":-2.34E-4},4.4325999999999997E-2,"N/A",null,"Rate Category","Description","Price Block","Charge","Transmission*","Distribution","SRC","Capacity*",null,null,null,"SBC","TAA","MTC","Total","Total"]
[null,null,null,null,null,null,null,null,null,null,null,null,null,null,null,null,null,null,null,null,null,null,null,null,null,null,null,{"$f":"'GS FP per Tariff'!B91","v":"Over 1,000 kWh Summer"},null,"N/A",{"$f":"'GS FP per Tariff'!E91","v":6.0210000000000003E-3},{"$f":"'GS FP per Tariff'!F91","v":3.5799999999999997E-4},"N/A","N/A",{"$f":"'GS FP per Tariff'!I91","v":0},{"$f":"'GS FP per Tariff'!J91","v":4.7289999999999997E-3},{"$f":"'GS FP per Tariff'!K91","v":7.7000000000000002E-3},{"$f":"'GS FP per Tariff'!L91","v":4.9399999999999997E-4},{"$f":"'GS FP per Tariff'!M91","v":-2.34E-4},1.9067999999999998E-2,"N/A",null,"JC_GS3_08D","General Service Secondary - 3 Phase","Customer Charge",{"$f":"'GS FP per Tariff'!C78","v":16.690000000000001},null,null,null,null,null,null,null,null,null,null,{"$f":"AT343","v":16.690000000000001},"N/A"]
[null,null,null,null,null,null,null,null,null,null,null,null,null,null,null,null,null,null,null,null,null,null,null,null,null,null,null,{"$f":"'GS FP per Tariff'!B92","v":"Over 1,000 kWh Winter"},null,"N/A",{"$f":"'GS FP per Tariff'!E92","v":6.0210000000000003E-3},{"$f":"'GS FP per Tariff'!F92","v":3.5799999999999997E-4},"N/A","N/A",{"$f":"'GS FP per Tariff'!I92","v":0},{"$f":"'GS FP per Tariff'!J92","v":4.7289999999999997E-3},{"$f":"'GS FP per Tariff'!K92","v":7.7000000000000002E-3},{"$f":"'GS FP per Tariff'!L92","v":4.9399999999999997E-4},{"$f":"'GS FP per Tariff'!M92","v":-2.34E-4},1.9067999999999998E-2,"N/A",null,null,"Religious House of Worship Provision**",{"$f":"'GS FP per Tariff'!B84","v":"Over 10  KW Summer"},null,null,{"$f":"'GS FP per Tariff'!E84","v":9},null,null,null,null,null,null,null,null,{"$f":"AV344","v":9},"N/A"]
[null,null,null,null,null,null,null,null,null,null,null,null,null,null,null,null,null,null,null,null,null,null,null,null,null,null,null,null,"* Charge applies only to Full Service Customers",null,null,{"$f":"\"** First 1,000 kWh includes distribution charge credit of  - $\" & FIXED(-'GS FP per Tariff'!$E$99,6) & \" per kWh.\"","v":"** First 1,000 kWh includes distribution charge credit of  - $0.038383 per kWh."},null,null,null,null,null,null,null,null,null,null,null,"Delivery Service Only",{"$f":"'GS FP per Tariff'!B85","v":"Over 10  KW Winter"},null,null,{"$f":"'GS FP per Tariff'!E85","v":8.3800000000000008},null,null,null,null,null,null,null,null,{"$f":"AV345","v":8.3800000000000008},"N/A"]
[null,null,null,null,null,null,null,null,null,null,null,null,null,null,null,null,null,null,null,null,null,null,null,null,null,null,null,null,null,null,null,null,null,null,null,null,null,null,null,null,null,null,null,"All Taxes Applicable & Included",{"$f":"'GS FP per Tariff'!B87","v":"Minimum Bill-Over 10 KW "},null,null,{"$f":"'GS FP per Tariff'!E87","v":4.08},null,null,null,null,null,null,null,null,{"$f":"AV346","v":4.08},"N/A"]
[null,null,null,null,null,null,null,null,null,null,null,null,null,null,null,null,null,null,null,null,null,null,null,null,null,null,null,null,null,null,null,{"$f":"AF$2","v":"Rates Effective with Service Rendered June 1, 2025"},null,null,null,null,null,null,null,"Delivery",null,null,null,null,{"$f":"'GS FP per Tariff'!B89","v":"First 1,000 kWh Summer"},null,"N/A",{"$f":"'GS FP per Tariff'!E89+'GS FP per Tariff'!E$99","v":3.6904999999999993E-2},{"$f":"'GS FP per Tariff'!F89","v":3.5799999999999997E-4},"N/A","N/A",{"$f":"'GS FP per Tariff'!I89","v":0},{"$f":"'GS FP per Tariff'!J89","v":4.7289999999999997E-3},{"$f":"'GS FP per Tariff'!K89","v":7.7000000000000002E-3},{"$f":"'GS FP per Tariff'!L89","v":4.9399999999999997E-4},{"$f":"'GS FP per Tariff'!M89","v":-2.34E-4},{"$f":"SUM(AV347:AW347,AZ347:BD347)","v":4.9951999999999989E-2},"N/A"]
[null,null,null,null,null,null,null,null,null,null,null,null,null,null,null,null,null,null,null,null,null,null,null,null,null,null,null,"Charge or","Customer",null,null,null,"Energy &","BGS-FP Reconciliation Charge*",{"$f":"$AI$3","v":"Zero Emission Certificate Recovery Charge (ZEC)"},"RGGI\nRecovery\nCharge (RRC)",null,null,null,"Service","Full Service",null,null,null,{"$f":"'GS FP per Tariff'!B90","v":"First 1,000 kWh Winter"},null,"N/A",{"$f":"'GS FP per Tariff'!E90+'GS FP per Tariff'!E$99","v":3.1279000000000001E-2},{"$f":"'GS FP per Tariff'!F90","v":3.5799999999999997E-4},"N/A","N/A",{"$f":"'GS FP per Tariff'!I90","v":0},{"$f":"'GS FP per Tariff'!J90","v":4.7289999999999997E-3},{"$f":"'GS FP per Tariff'!K90","v":7.7000000000000002E-3},{"$f":"'GS FP per Tariff'!L90","v":4.9399999999999997E-4},{"$f":"'GS FP per Tariff'!M90","v":-2.34E-4},4.4325999999999997E-2,"N/A"]
[null,null,null,null,null,null,null,null,null,null,null,null,null,null,null,null,null,null,null,null,null,null,null,null,null,"Rate Category","Description","Price Block","Charge","Transmission*","Distribution","Covid-19 Recovery","Capacity*",null,null,null,"SBC","LRAM","NGC","Charges","Total",null,null,null,{"$f":"'GS FP per Tariff'!B91","v":"Over 1,000 kWh Summer"},null,"N/A",{"$f":"'GS FP per Tariff'!E91","v":6.0210000000000003E-3},{"$f":"'GS FP per Tariff'!F91","v":3.5799999999999997E-4},"N/A","N/A",{"$f":"'GS FP per Tariff'!I91","v":0},{"$f":"'GS FP per Tariff'!J91","v":4.7289999999999997E-3},{"$f":"'GS FP per Tariff'!K91","v":7.7000000000000002E-3},{"$f":"'GS FP per Tariff'!L91","v":4.9399999999999997E-4},{"$f":"'GS FP per Tariff'!M91","v":-2.34E-4},1.9067999999999998E-2,"N/A"]
[null,null,null,null,null,null,null,null,null,null,null,null,null,null,null,null,null,null,null,null,null,null,null,null,null,"JC_GS1_08F","General Service Secondary - 1 Phase","Customer Charge",{"$f":"'GS FP per Tariff'!C77","v":4.6500000000000004},null,null,null,null,null,null,null,null,null,null,{"$f":"AC350","v":4.6500000000000004},{"$f":"AC350","v":4.6500000000000004},null,null,null,{"$f":"'GS FP per Tariff'!B92","v":"Over 1,000 kWh Winter"},null,"N/A",{"$f":"'GS FP per Tariff'!E92","v":6.0210000000000003E-3},{"$f":"'GS FP per Tariff'!F92","v":3.5799999999999997E-4},"N/A","N/A",{"$f":"'GS FP per Tariff'!I92","v":0},{"$f":"'GS FP per Tariff'!J92","v":4.7289999999999997E-3},{"$f":"'GS FP per Tariff'!K92","v":7.7000000000000002E-3},{"$f":"'GS FP per Tariff'!L92","v":4.9399999999999997E-4},{"$f":"'GS FP per Tariff'!M92","v":-2.34E-4},1.9067999999999998E-2,"N/A"]
[null,null,null,null,null,null,null,null,null,null,null,null,null,null,null,null,null,null,null,null,null,null,null,null,null,null,"Religious House of Worship Provision**",{"$f":"'GS FP per Tariff'!B84","v":"Over 10  KW Summer"},null,null,{"$f":"'GS FP per Tariff'!E84","v":9},null,null,null,null,null,null,null,null,{"$f":"AE351","v":9},{"$f":"AE351","v":9},null,null,null,null,"* Charge applies only to Full Service Customers",null,null,{"$f":"\"** First 1,000 kWh includes distribution charge credit of  - $\" & FIXED(-'GS FP per Tariff'!$E$99,6) & \" per kWh.\"","v":"** First 1,000 kWh includes distribution charge credit of  - $0.038383 per kWh."}]
[null,null,null,null,null,null,null,null,null,null,null,null,null,null,null,null,null,null,null,null,null,null,null,null,null,null,"Full Service",{"$f":"'GS FP per Tariff'!B85","v":"Over 10  KW Winter"},null,null,{"$f":"'GS FP per Tariff'!E85","v":8.3800000000000008},null,null,null,null,null,null,null,null,{"$f":"AE352","v":8.3800000000000008},{"$f":"AE352","v":8.3800000000000008}]
[null,null,null,null,null,null,null,null,null,null,null,null,null,null,null,null,null,null,null,null,null,null,null,null,null,null,"All Taxes Applicable & Included",{"$f":"'GS FP per Tariff'!B87","v":"Minimum Bill-Over 10 KW "},null,null,{"$f":"'GS FP per Tariff'!E87","v":4.08},null,null,null,null,null,null,null,null,{"$f":"AE353","v":4.08},{"$f":"AE353","v":4.08},null,null,null,null,null,null,null,{"$f":"AF$2","v":"Rates Effective with Service Rendered June 1, 2025"},null,null,null,null,null,null,null,"Delivery"]
[null,null,null,null,null,null,null,null,null,null,null,null,null,null,null,null,null,null,null,null,null,null,null,null,null,null,null,{"$f":"'GS FP per Tariff'!B89","v":"First 1,000 kWh Summer"},null,{"$f":"'GS FP per Tariff'!D89","v":1.9212E-2},{"$f":"'GS FP per Tariff'!E89+'GS FP per Tariff'!E99","v":3.6904999999999993E-2},{"$f":"'GS FP per Tariff'!F89","v":3.5799999999999997E-4},{"$f":"'GS FP per Tariff'!G89","v":0.124982},{"$f":"'GS FP per Tariff'!H89","v":3.8999999999999999E-5},{"$f":"'GS FP per Tariff'!I89","v":0},{"$f":"'GS FP per Tariff'!J89","v":4.7289999999999997E-3},{"$f":"'GS FP per Tariff'!K89","v":7.7000000000000002E-3},{"$f":"'GS FP per Tariff'!L89","v":4.9399999999999997E-4},{"$f":"'GS FP per Tariff'!M89","v":-2.34E-4},{"$f":"SUM(AE354:AF354,AI354:AM354)","v":4.9951999999999989E-2},{"$f":"'GS FP per Tariff'!N89+'GS FP per Tariff'!E99","v":0.194185},null,null,null,"Charge or","Customer",null,null,null,"Energy &","BGS-FP Reconciliation Charge*",{"$f":"$AI$3","v":"Zero Emission Certificate Recovery Charge (ZEC)"},"RGGI\nRecovery\nCharge (RRC)",null,null,null,"Service","Full Service"]
[null,null,null,null,null,null,null,null,null,null,null,null,null,null,null,null,null,null,null,null,null,null,null,null,null,null,null,{"$f":"'GS FP per Tariff'!B90","v":"First 1,000 kWh Winter"},null,{"$f":"'GS FP per Tariff'!D90","v":1.9212E-2},{"$f":"'GS FP per Tariff'!E90+'GS FP per Tariff'!E99","v":3.1279000000000001E-2},{"$f":"'GS FP per Tariff'!F90","v":3.5799999999999997E-4},{"$f":"'GS FP per Tariff'!G90","v":0.124626},{"$f":"'GS FP per Tariff'!H90","v":3.8999999999999999E-5},{"$f":"'GS FP per Tariff'!I90","v":0},{"$f":"'GS FP per Tariff'!J90","v":4.7289999999999997E-3},{"$f":"'GS FP per Tariff'!K90","v":7.7000000000000002E-3},{"$f":"'GS FP per Tariff'!L90","v":4.9399999999999997E-4},{"$f":"'GS FP per Tariff'!M90","v":-2.34E-4},4.4325999999999997E-2,{"$f":"'GS FP per Tariff'!N90+'GS FP per Tariff'!E99","v":0.18820300000000001},null,"Rate Category","Description","Price Block","Charge","Transmission*","Distribution","SRC","Capacity*",null,null,null,"SBC","TAA","MTC","Charges","Total"]
[null,null,null,null,null,null,null,null,null,null,null,null,null,null,null,null,null,null,null,null,null,null,null,null,null,null,null,{"$f":"'GS FP per Tariff'!B91","v":"Over 1,000 kWh Summer"},null,{"$f":"'GS FP per Tariff'!D91","v":1.9212E-2},{"$f":"'GS FP per Tariff'!E91","v":6.0210000000000003E-3},{"$f":"'GS FP per Tariff'!F91","v":3.5799999999999997E-4},{"$f":"'GS FP per Tariff'!G91","v":0.124982},{"$f":"'GS FP per Tariff'!H91","v":3.8999999999999999E-5},{"$f":"'GS FP per Tariff'!I91","v":0},{"$f":"'GS FP per Tariff'!J91","v":4.7289999999999997E-3},{"$f":"'GS FP per Tariff'!K91","v":7.7000000000000002E-3},{"$f":"'GS FP per Tariff'!L91","v":4.9399999999999997E-4},{"$f":"'GS FP per Tariff'!M91","v":-2.34E-4},1.9067999999999998E-2,{"$f":"'GS FP per Tariff'!N91","v":0.163301},null,"JC_GS3_08F","General Service Secondary - 3 Phase","Customer Charge",{"$f":"'GS FP per Tariff'!C78","v":16.690000000000001},null,null,null,null,null,null,null,null,null,null,{"$f":"AT356","v":16.690000000000001},{"$f":"AT356","v":16.690000000000001}]
[null,null,null,null,null,null,null,null,null,null,null,null,null,null,null,null,null,null,null,null,null,null,null,null,null,null,null,{"$f":"'GS FP per Tariff'!B92","v":"Over 1,000 kWh Winter"},null,{"$f":"'GS FP per Tariff'!D92","v":1.9212E-2},{"$f":"'GS FP per Tariff'!E92","v":6.0210000000000003E-3},{"$f":"'GS FP per Tariff'!F92","v":3.5799999999999997E-4},{"$f":"'GS FP per Tariff'!G92","v":0.124626},{"$f":"'GS FP per Tariff'!H92","v":3.8999999999999999E-5},{"$f":"'GS FP per Tariff'!I92","v":0},{"$f":"'GS FP per Tariff'!J92","v":4.7289999999999997E-3},{"$f":"'GS FP per Tariff'!K92","v":7.7000000000000002E-3},{"$f":"'GS FP per Tariff'!L92","v":4.9399999999999997E-4},{"$f":"'GS FP per Tariff'!M92","v":-2.34E-4},1.9067999999999998E-2,{"$f":"'GS FP per Tariff'!N92","v":0.16294500000000001},null,null,"Religious House of Worship Provision**",{"$f":"'GS FP per Tariff'!B84","v":"Over 10  KW Summer"},null,null,{"$f":"'GS FP per Tariff'!E84","v":9},null,null,null,null,null,null,null,null,{"$f":"AV357","v":9},{"$f":"AV357","v":9}]
[null,null,null,null,null,null,null,null,null,null,null,null,null,null,null,null,null,null,null,null,null,null,null,null,null,null,null,null,"* Charge applies only to Full Service Customers",null,null,{"$f":"\"** First 1,000 kWh includes distribution charge credit of  - $\" & FIXED(-'GS FP per Tariff'!$E$99,6) & \" per kWh.\"","v":"** First 1,000 kWh includes distribution charge credit of  - $0.038383 per kWh."},null,null,null,null,null,null,null,null,null,null,null,"Full service",{"$f":"'GS FP per Tariff'!B85","v":"Over 10  KW Winter"},null,null,{"$f":"'GS FP per Tariff'!E85","v":8.3800000000000008},null,null,null,null,null,null,null,null,{"$f":"AV358","v":8.3800000000000008},{"$f":"AV358","v":8.3800000000000008}]
[null,null,null,null,null,null,null,null,null,null,null,null,null,null,null,null,null,null,null,null,null,null,null,null,null,null,null,null,null,null,null,null,null,null,null,null,null,null,null,null,null,null,null,"All Taxes Applicable & Included",{"$f":"'GS FP per Tariff'!B87","v":"Minimum Bill-Over 10 KW "},null,null,{"$f":"'GS FP per Tariff'!E87","v":4.08},null,null,null,null,null,null,null,null,{"$f":"AV359","v":4.08},{"$f":"AV359","v":4.08}]
[null,null,null,null,null,null,null,null,null,null,null,null,null,null,null,null,null,null,null,null,null,null,null,null,null,null,null,null,null,null,null,{"$f":"AF$2","v":"Rates Effective with Service Rendered June 1, 2025"},null,null,null,null,null,null,null,"Delivery",null,null,null,null,{"$f":"'GS FP per Tariff'!B89","v":"First 1,000 kWh Summer"},null,{"$f":"'GS FP per Tariff'!D89","v":1.9212E-2},{"$f":"'GS FP per Tariff'!E89+'GS FP per Tariff'!E99","v":3.6904999999999993E-2},{"$f":"'GS FP per Tariff'!F89","v":3.5799999999999997E-4},{"$f":"'GS FP per Tariff'!G89","v":0.124982},{"$f":"'GS FP per Tariff'!H89","v":3.8999999999999999E-5},{"$f":"'GS FP per Tariff'!I89","v":0},{"$f":"'GS FP per Tariff'!J89","v":4.7289999999999997E-3},{"$f":"'GS FP per Tariff'!K89","v":7.7000000000000002E-3},{"$f":"'GS FP per Tariff'!L89","v":4.9399999999999997E-4},{"$f":"'GS FP per Tariff'!M89","v":-2.34E-4},{"$f":"SUM(AV360:AW360,AZ360:BD360)","v":4.9951999999999989E-2},{"$f":"'GS FP per Tariff'!N89+'GS FP per Tariff'!E99","v":0.194185},{"$f":"BF360-BE360-AU360-AX360-AY360","v":-2.6291902682773483E-18}]
[null,null,null,null,null,null,null,null,null,null,null,null,null,null,null,null,null,null,null,null,null,null,null,null,null,null,null,"Charge or","Customer",null,null,null,"Energy &","BGS-FP Reconciliation Charge*",{"$f":"$AI$3","v":"Zero Emission Certificate Recovery Charge (ZEC)"},"RGGI\nRecovery\nCharge (RRC)",null,null,null,"Service","Full Service",null,null,null,{"$f":"'GS FP per Tariff'!B90","v":"First 1,000 kWh Winter"},null,{"$f":"'GS FP per Tariff'!D90","v":1.9212E-2},{"$f":"'GS FP per Tariff'!E90+'GS FP per Tariff'!E99","v":3.1279000000000001E-2},{"$f":"'GS FP per Tariff'!F90","v":3.5799999999999997E-4},{"$f":"'GS FP per Tariff'!G90","v":0.124626},{"$f":"'GS FP per Tariff'!H90","v":3.8999999999999999E-5},{"$f":"'GS FP per Tariff'!I90","v":0},{"$f":"'GS FP per Tariff'!J90","v":4.7289999999999997E-3},{"$f":"'GS FP per Tariff'!K90","v":7.7000000000000002E-3},{"$f":"'GS FP per Tariff'!L90","v":4.9399999999999997E-4},{"$f":"'GS FP per Tariff'!M90","v":-2.34E-4},4.4325999999999997E-2,{"$f":"'GS FP per Tariff'!N90+'GS FP per Tariff'!E99","v":0.18820300000000001},{"$f":"BF361-BE361-AU361-AX361-AY361","v":-2.6291902682773483E-18}]
[null,null,null,null,null,null,null,null,null,null,null,null,null,null,null,null,null,null,null,null,null,null,null,null,null,"Rate Category","Description","Price Block","Charge","Transmission*","Distribution","Covid-19 Recovery","Capacity*",null,null,null,"SBC","LRAM","NGC","Total","Total",null,null,null,{"$f":"'GS FP per Tariff'!B91","v":"Over 1,000 kWh Summer"},null,{"$f":"'GS FP per Tariff'!D91","v":1.9212E-2},{"$f":"'GS FP per Tariff'!E91","v":6.0210000000000003E-3},{"$f":"'GS FP per Tariff'!F91","v":3.5799999999999997E-4},{"$f":"'GS FP per Tariff'!G91","v":0.124982},{"$f":"'GS FP per Tariff'!H91","v":3.8999999999999999E-5},{"$f":"'GS FP per Tariff'!I91","v":0},{"$f":"'GS FP per Tariff'!J91","v":4.7289999999999997E-3},{"$f":"'GS FP per Tariff'!K91","v":7.7000000000000002E-3},{"$f":"'GS FP per Tariff'!L91","v":4.9399999999999997E-4},{"$f":"'GS FP per Tariff'!M91","v":-2.34E-4},1.9067999999999998E-2,{"$f":"'GS FP per Tariff'!N91","v":0.163301},{"$f":"BF362-BE362-AU362-AX362-AY362","v":-2.6291902682773483E-18}]
[null,null,null,null,null,null,null,null,null,null,null,null,null,null,null,null,null,null,null,null,null,null,null,null,null,"JC_GS1_09D","General Service Secondary - 1 Phase","Customer Charge",{"$f":"'GS FP per Tariff'!C77","v":4.6500000000000004},null,null,null,null,null,null,null,null,null,null,{"$f":"AC363","v":4.6500000000000004},"N/A",null,null,null,{"$f":"'GS FP per Tariff'!B92","v":"Over 1,000 kWh Winter"},null,{"$f":"'GS FP per Tariff'!D92","v":1.9212E-2},{"$f":"'GS FP per Tariff'!E92","v":6.0210000000000003E-3},{"$f":"'GS FP per Tariff'!F92","v":3.5799999999999997E-4},{"$f":"'GS FP per Tariff'!G92","v":0.124626},{"$f":"'GS FP per Tariff'!H92","v":3.8999999999999999E-5},{"$f":"'GS FP per Tariff'!I92","v":0},{"$f":"'GS FP per Tariff'!J92","v":4.7289999999999997E-3},{"$f":"'GS FP per Tariff'!K92","v":7.7000000000000002E-3},{"$f":"'GS FP per Tariff'!L92","v":4.9399999999999997E-4},{"$f":"'GS FP per Tariff'!M92","v":-2.34E-4},1.9067999999999998E-2,{"$f":"'GS FP per Tariff'!N92","v":0.16294500000000001},{"$f":"BF363-BE363-AU363-AX363-AY363","v":-2.6291902682773483E-18}]
[null,null,null,null,null,null,null,null,null,null,null,null,null,null,null,null,null,null,null,null,null,null,null,null,null,null,"Religious House of Worship Provision**","Suppl D/N Cust Charge",{"$f":"'GS FP per Tariff'!C81","v":3.81},null,null,null,null,null,null,null,null,null,null,{"$f":"AC364","v":3.81},"N/A",null,null,null,null,"* Charge applies only to Full Service Customers",null,null,{"$f":"\"** First 1,000 kWh includes distribution charge credit of  - $\" & FIXED(-'GS FP per Tariff'!$E$99,6) & \" per kWh.\"","v":"** First 1,000 kWh includes distribution charge credit of  - $0.038383 per kWh."}]
[null,null,null,null,null,null,null,null,null,null,null,null,null,null,null,null,null,null,null,null,null,null,null,null,null,null,"Day/Night Provision*** ",{"$f":"'GS FP per Tariff'!B84","v":"Over 10  KW Summer"},null,null,{"$f":"'GS FP per Tariff'!E84","v":9},null,null,null,null,null,null,null,null,{"$f":"AE365","v":9},"N/A"]
[null,null,null,null,null,null,null,null,null,null,null,null,null,null,null,null,null,null,null,null,null,null,null,null,null,null,"Delivery Service Only",{"$f":"'GS FP per Tariff'!B85","v":"Over 10  KW Winter"},null,null,{"$f":"'GS FP per Tariff'!E85","v":8.3800000000000008},null,null,null,null,null,null,null,null,{"$f":"AE366","v":8.3800000000000008},"N/A",null,null,null,null,null,null,null,{"$f":"AF$2","v":"Rates Effective with Service Rendered June 1, 2025"},null,null,null,null,null,null,null,"Delivery"]
[null,null,null,null,null,null,null,null,null,null,null,null,null,null,null,null,null,null,null,null,null,null,null,null,null,null,"All Taxes Applicable & Included",{"$f":"'GS FP per Tariff'!B87","v":"Minimum Bill-Over 10 KW "},null,null,{"$f":"'GS FP per Tariff'!E87","v":4.08},null,null,null,null,null,null,null,null,{"$f":"AE367","v":4.08},"N/A",null,null,null,"Charge or","Customer",null,null,null,"Energy &","BGS-FP Reconciliation Charge*",{"$f":"$AI$3","v":"Zero Emission Certificate Recovery Charge (ZEC)"},"RGGI\nRecovery\nCharge (RRC)",null,null,null,"Service","Full Service"]
[null,null,null,null,null,null,null,null,null,null,null,null,null,null,null,null,null,null,null,null,null,null,null,null,null,null,null,{"$f":"'GS FP per Tariff'!B89","v":"First 1,000 kWh Summer"},null,"N/A",{"$f":"'GS FP per Tariff'!E89+'GS FP per Tariff'!E$99","v":3.6904999999999993E-2},{"$f":"'GS FP per Tariff'!F89","v":3.5799999999999997E-4},"N/A","N/A",{"$f":"'GS FP per Tariff'!I89","v":0},{"$f":"'GS FP per Tariff'!J89","v":4.7289999999999997E-3},{"$f":"'GS FP per Tariff'!K89","v":7.7000000000000002E-3},{"$f":"'GS FP per Tariff'!L89","v":4.9399999999999997E-4},{"$f":"'GS FP per Tariff'!M89","v":-2.34E-4},{"$f":"SUM(AE368:AF368,AI368:AM368)","v":4.9951999999999989E-2},"N/A",null,"Rate Category","Description","Price Block","Charge","Transmission*","Distribution","SRC","Capacity*",null,null,null,"SBC","TAA","MTC","Total","Total"]
[null,null,null,null,null,null,null,null,null,null,null,null,null,null,null,null,null,null,null,null,null,null,null,null,null,null,null,{"$f":"'GS FP per Tariff'!B90","v":"First 1,000 kWh Winter"},null,"N/A",{"$f":"'GS FP per Tariff'!E90+'GS FP per Tariff'!E$99","v":3.1279000000000001E-2},{"$f":"'GS FP per Tariff'!F90","v":3.5799999999999997E-4},"N/A","N/A",{"$f":"'GS FP per Tariff'!I90","v":0},{"$f":"'GS FP per Tariff'!J90","v":4.7289999999999997E-3},{"$f":"'GS FP per Tariff'!K90","v":7.7000000000000002E-3},{"$f":"'GS FP per Tariff'!L90","v":4.9399999999999997E-4},{"$f":"'GS FP per Tariff'!M90","v":-2.34E-4},4.4325999999999997E-2,"N/A",null,"JC_GS3_09D","General Service Secondary - 3 Phase","Customer Charge",{"$f":"'GS FP per Tariff'!C78","v":16.690000000000001},null,null,null,null,null,null,null,null,null,null,{"$f":"AT369","v":16.690000000000001},"N/A"]
[null,null,null,null,null,null,null,null,null,null,null,null,null,null,null,null,null,null,null,null,null,null,null,null,null,null,null,{"$f":"'GS FP per Tariff'!B91","v":"Over 1,000 kWh Summer"},null,"N/A",{"$f":"'GS FP per Tariff'!E91","v":6.0210000000000003E-3},{"$f":"'GS FP per Tariff'!F91","v":3.5799999999999997E-4},"N/A","N/A",{"$f":"'GS FP per Tariff'!I91","v":0},{"$f":"'GS FP per Tariff'!J91","v":4.7289999999999997E-3},{"$f":"'GS FP per Tariff'!K91","v":7.7000000000000002E-3},{"$f":"'GS FP per Tariff'!L91","v":4.9399999999999997E-4},{"$f":"'GS FP per Tariff'!M91","v":-2.34E-4},1.9067999999999998E-2,"N/A",null,null,"Religious House of Worship Provision**","Suppl D/N Cust Charge",{"$f":"'GS FP per Tariff'!C81","v":3.81},null,null,null,null,null,null,null,null,null,null,{"$f":"AT370","v":3.81},"N/A"]
[null,null,null,null,null,null,null,null,null,null,null,null,null,null,null,null,null,null,null,null,null,null,null,null,null,null,null,{"$f":"'GS FP per Tariff'!B92","v":"Over 1,000 kWh Winter"},null,"N/A",{"$f":"'GS FP per Tariff'!E92","v":6.0210000000000003E-3},{"$f":"'GS FP per Tariff'!F92","v":3.5799999999999997E-4},"N/A","N/A",{"$f":"'GS FP per Tariff'!I92","v":0},{"$f":"'GS FP per Tariff'!J92","v":4.7289999999999997E-3},{"$f":"'GS FP per Tariff'!K92","v":7.7000000000000002E-3},{"$f":"'GS FP per Tariff'!L92","v":4.9399999999999997E-4},{"$f":"'GS FP per Tariff'!M92","v":-2.34E-4},1.9067999999999998E-2,"N/A",null,null,"Day/Night Provision*** ",{"$f":"'GS FP per Tariff'!B84","v":"Over 10  KW Summer"},null,null,{"$f":"'GS FP per Tariff'!E84","v":9},null,null,null,null,null,null,null,null,{"$f":"AV371","v":9},"N/A"]
[null,null,null,null,null,null,null,null,null,null,null,null,null,null,null,null,null,null,null,null,null,null,null,null,null,null,null,null,"* Charge applies only to Full Service Customers",null,null,{"$f":"\"** First 1,000 kWh includes distribution charge credit of  - $\" & FIXED(-'GS FP per Tariff'!$E$99,6) & \" per kWh.\"","v":"** First 1,000 kWh includes distribution charge credit of  - $0.038383 per kWh."},null,null,null,null,null,null,null,null,null,null,null,"Delivery Service Only",{"$f":"'GS FP per Tariff'!B85","v":"Over 10  KW Winter"},null,null,{"$f":"'GS FP per Tariff'!E85","v":8.3800000000000008},null,null,null,null,null,null,null,null,{"$f":"AV372","v":8.3800000000000008},"N/A"]
[null,null,null,null,null,null,null,null,null,null,null,null,null,null,null,null,null,null,null,null,null,null,null,null,null,null,null,null,"*** Demand charges are based on the greater of 100% on-peak kW or 40% off-peak kW",null,null,null,null,null,null,null,null,null,null,null,null,null,null,"All Taxes Applicable & Included",{"$f":"'GS FP per Tariff'!B87","v":"Minimum Bill-Over 10 KW "},null,null,{"$f":"'GS FP per Tariff'!E87","v":4.08},null,null,null,null,null,null,null,null,{"$f":"AV373","v":4.08},"N/A"]
[null,null,null,null,null,null,null,null,null,null,null,null,null,null,null,null,null,null,null,null,null,null,null,null,null,null,null,null,null,null,null,null,null,null,null,null,null,null,null,null,null,null,null,null,{"$f":"'GS FP per Tariff'!B89","v":"First 1,000 kWh Summer"},null,"N/A",{"$f":"'GS FP per Tariff'!E89+'GS FP per Tariff'!E$99","v":3.6904999999999993E-2},{"$f":"'GS FP per Tariff'!F89","v":3.5799999999999997E-4},"N/A","N/A",{"$f":"'GS FP per Tariff'!I89","v":0},{"$f":"'GS FP per Tariff'!J89","v":4.7289999999999997E-3},{"$f":"'GS FP per Tariff'!K89","v":7.7000000000000002E-3},{"$f":"'GS FP per Tariff'!L89","v":4.9399999999999997E-4},{"$f":"'GS FP per Tariff'!M89","v":-2.34E-4},{"$f":"SUM(AV374:AW374,AZ374:BD374)","v":4.9951999999999989E-2},"N/A"]
[null,null,null,null,null,null,null,null,null,null,null,null,null,null,null,null,null,null,null,null,null,null,null,null,null,null,null,null,null,null,null,{"$f":"AF$2","v":"Rates Effective with Service Rendered June 1, 2025"},null,null,null,null,null,null,null,"Delivery",null,null,null,null,{"$f":"'GS FP per Tariff'!B90","v":"First 1,000 kWh Winter"},null,"N/A",{"$f":"'GS FP per Tariff'!E90+'GS FP per Tariff'!E$99","v":3.1279000000000001E-2},{"$f":"'GS FP per Tariff'!F90","v":3.5799999999999997E-4},"N/A","N/A",{"$f":"'GS FP per Tariff'!I90","v":0},{"$f":"'GS FP per Tariff'!J90","v":4.7289999999999997E-3},{"$f":"'GS FP per Tariff'!K90","v":7.7000000000000002E-3},{"$f":"'GS FP per Tariff'!L90","v":4.9399999999999997E-4},{"$f":"'GS FP per Tariff'!M90","v":-2.34E-4},4.4325999999999997E-2,"N/A"]
[null,null,null,null,null,null,null,null,null,null,null,null,null,null,null,null,null,null,null,null,null,null,null,null,null,null,null,"Charge or","Customer",null,null,null,"Energy &","BGS-FP Reconciliation Charge*",{"$f":"$AI$3","v":"Zero Emission Certificate Recovery Charge (ZEC)"},"RGGI\nRecovery\nCharge (RRC)",null,null,null,"Service","Full Service",null,null,null,{"$f":"'GS FP per Tariff'!B91","v":"Over 1,000 kWh Summer"},null,"N/A",{"$f":"'GS FP per Tariff'!E91","v":6.0210000000000003E-3},{"$f":"'GS FP per Tariff'!F91","v":3.5799999999999997E-4},"N/A","N/A",{"$f":"'GS FP per Tariff'!I91","v":0},{"$f":"'GS FP per Tariff'!J91","v":4.7289999999999997E-3},{"$f":"'GS FP per Tariff'!K91","v":7.7000000000000002E-3},{"$f":"'GS FP per Tariff'!L91","v":4.9399999999999997E-4},{"$f":"'GS FP per Tariff'!M91","v":-2.34E-4},1.9067999999999998E-2,"N/A"]
[null,null,null,null,null,null,null,null,null,null,null,null,null,null,null,null,null,null,null,null,null,null,null,null,null,"Rate Category","Description","Price Block","Charge","Transmission*","Distribution","Covid-19 Recovery","Capacity*",null,null,null,"SBC","LRAM","NGC","Charges","Total",null,null,null,{"$f":"'GS FP per Tariff'!B92","v":"Over 1,000 kWh Winter"},null,"N/A",{"$f":"'GS FP per Tariff'!E92","v":6.0210000000000003E-3},{"$f":"'GS FP per Tariff'!F92","v":3.5799999999999997E-4},"N/A","N/A",{"$f":"'GS FP per Tariff'!I92","v":0},{"$f":"'GS FP per Tariff'!J92","v":4.7289999999999997E-3},{"$f":"'GS FP per Tariff'!K92","v":7.7000000000000002E-3},{"$f":"'GS FP per Tariff'!L92","v":4.9399999999999997E-4},{"$f":"'GS FP per Tariff'!M92","v":-2.34E-4},1.9067999999999998E-2,"N/A"]
[null,null,null,null,null,null,null,null,null,null,null,null,null,null,null,null,null,null,null,null,null,null,null,null,null,"JC_GS1_09F","General Service Secondary - 1 Phase","Customer Charge",{"$f":"'GS FP per Tariff'!C77","v":4.6500000000000004},null,null,null,null,null,null,null,null,null,null,{"$f":"AC378","v":4.6500000000000004},{"$f":"AC378","v":4.6500000000000004},null,null,null,null,"* Charge applies only to Full Service Customers",null,null,{"$f":"\"** First 1,000 kWh includes distribution charge credit of  - $\" & FIXED(-'GS FP per Tariff'!$E$99,6) & \" per kWh.\"","v":"** First 1,000 kWh includes distribution charge credit of  - $0.038383 per kWh."}]
[null,null,null,null,null,null,null,null,null,null,null,null,null,null,null,null,null,null,null,null,null,null,null,null,null,null,"Religious House of Worship Provision**","Suppl D/N Cust Charge",{"$f":"'GS FP per Tariff'!C81","v":3.81},null,null,null,null,null,null,null,null,null,null,{"$f":"AC379","v":3.81},{"$f":"AC379","v":3.81},null,null,null,null,"*** Demand charges are based on the greater of 100% on-peak kW or 40% off-peak kW"]
[null,null,null,null,null,null,null,null,null,null,null,null,null,null,null,null,null,null,null,null,null,null,null,null,null,null,"Day/Night Provision*** ",{"$f":"'GS FP per Tariff'!B84","v":"Over 10  KW Summer"},null,null,{"$f":"'GS FP per Tariff'!E84","v":9},null,null,null,null,null,null,null,null,{"$f":"AE380","v":9},{"$f":"AE380","v":9}]
[null,null,null,null,null,null,null,null,null,null,null,null,null,null,null,null,null,null,null,null,null,null,null,null,null,null,"Full Service",{"$f":"'GS FP per Tariff'!B85","v":"Over 10  KW Winter"},null,null,{"$f":"'GS FP per Tariff'!E85","v":8.3800000000000008},null,null,null,null,null,null,null,null,{"$f":"AE381","v":8.3800000000000008},{"$f":"AE381","v":8.3800000000000008},null,null,null,null,null,null,null,{"$f":"AF$2","v":"Rates Effective with Service Rendered June 1, 2025"},null,null,null,null,null,null,null,"Delivery"]
[null,null,null,null,null,null,null,null,null,null,null,null,null,null,null,null,null,null,null,null,null,null,null,null,null,null,"All Taxes Applicable & Included",{"$f":"'GS FP per Tariff'!B87","v":"Minimum Bill-Over 10 KW "},null,null,{"$f":"'GS FP per Tariff'!E87","v":4.08},null,null,null,null,null,null,null,null,{"$f":"AE382","v":4.08},{"$f":"AE382","v":4.08},null,null,null,"Charge or","Customer",null,null,null,"Energy &","BGS-FP Reconciliation Charge*",{"$f":"$AI$3","v":"Zero Emission Certificate Recovery Charge (ZEC)"},"RGGI\nRecovery\nCharge (RRC)",null,null,null,"Service","Full Service"]
[null,null,null,null,null,null,null,null,null,null,null,null,null,null,null,null,null,null,null,null,null,null,null,null,null,null,null,{"$f":"'GS FP per Tariff'!B89","v":"First 1,000 kWh Summer"},null,{"$f":"'GS FP per Tariff'!D89","v":1.9212E-2},{"$f":"'GS FP per Tariff'!E89+'GS FP per Tariff'!E99","v":3.6904999999999993E-2},{"$f":"'GS FP per Tariff'!F89","v":3.5799999999999997E-4},{"$f":"'GS FP per Tariff'!G89","v":0.124982},{"$f":"'GS FP per Tariff'!H89","v":3.8999999999999999E-5},{"$f":"'GS FP per Tariff'!I89","v":0},{"$f":"'GS FP per Tariff'!J89","v":4.7289999999999997E-3},{"$f":"'GS FP per Tariff'!K89","v":7.7000000000000002E-3},{"$f":"'GS FP per Tariff'!L89","v":4.9399999999999997E-4},{"$f":"'GS FP per Tariff'!M89","v":-2.34E-4},{"$f":"SUM(AE383:AF383,AI383:AM383)","v":4.9951999999999989E-2},{"$f":"'GS FP per Tariff'!N89+'GS FP per Tariff'!E99","v":0.194185},null,"Rate Category","Description","Price Block","Charge","Transmission*","Distribution","SRC","Capacity*",null,null,null,"SBC","TAA","MTC","Charges","Total"]
[null,null,null,null,null,null,null,null,null,null,null,null,null,null,null,null,null,null,null,null,null,null,null,null,null,null,null,{"$f":"'GS FP per Tariff'!B90","v":"First 1,000 kWh Winter"},null,{"$f":"'GS FP per Tariff'!D90","v":1.9212E-2},{"$f":"'GS FP per Tariff'!E90+'GS FP per Tariff'!E99","v":3.1279000000000001E-2},{"$f":"'GS FP per Tariff'!F90","v":3.5799999999999997E-4},{"$f":"'GS FP per Tariff'!G90","v":0.124626},{"$f":"'GS FP per Tariff'!H90","v":3.8999999999999999E-5},{"$f":"'GS FP per Tariff'!I90","v":0},{"$f":"'GS FP per Tariff'!J90","v":4.7289999999999997E-3},{"$f":"'GS FP per Tariff'!K90","v":7.7000000000000002E-3},{"$f":"'GS FP per Tariff'!L90","v":4.9399999999999997E-4},{"$f":"'GS FP per Tariff'!M90","v":-2.34E-4},4.4325999999999997E-2,{"$f":"'GS FP per Tariff'!N90+'GS FP per Tariff'!E99","v":0.18820300000000001},null,"JC_GS3_09F","General Service Secondary - 3 Phase","Customer Charge",{"$f":"'GS FP per Tariff'!C78","v":16.690000000000001},null,null,null,null,null,null,null,null,null,null,{"$f":"AT384","v":16.690000000000001},{"$f":"AT384","v":16.690000000000001}]
[null,null,null,null,null,null,null,null,null,null,null,null,null,null,null,null,null,null,null,null,null,null,null,null,null,null,null,{"$f":"'GS FP per Tariff'!B91","v":"Over 1,000 kWh Summer"},null,{"$f":"'GS FP per Tariff'!D91","v":1.9212E-2},{"$f":"'GS FP per Tariff'!E91","v":6.0210000000000003E-3},{"$f":"'GS FP per Tariff'!F91","v":3.5799999999999997E-4},{"$f":"'GS FP per Tariff'!G91","v":0.124982},{"$f":"'GS FP per Tariff'!H91","v":3.8999999999999999E-5},{"$f":"'GS FP per Tariff'!I91","v":0},{"$f":"'GS FP per Tariff'!J91","v":4.7289999999999997E-3},{"$f":"'GS FP per Tariff'!K91","v":7.7000000000000002E-3},{"$f":"'GS FP per Tariff'!L91","v":4.9399999999999997E-4},{"$f":"'GS FP per Tariff'!M91","v":-2.34E-4},1.9067999999999998E-2,{"$f":"'GS FP per Tariff'!N91","v":0.163301},null,null,"Religious House of Worship Provision**","Suppl D/N Cust Charge",{"$f":"'GS FP per Tariff'!C81","v":3.81},null,null,null,null,null,null,null,null,null,null,{"$f":"AT385","v":3.81},{"$f":"AT385","v":3.81}]
[null,null,null,null,null,null,null,null,null,null,null,null,null,null,null,null,null,null,null,null,null,null,null,null,null,null,null,{"$f":"'GS FP per Tariff'!B92","v":"Over 1,000 kWh Winter"},null,{"$f":"'GS FP per Tariff'!D92","v":1.9212E-2},{"$f":"'GS FP per Tariff'!E92","v":6.0210000000000003E-3},{"$f":"'GS FP per Tariff'!F92","v":3.5799999999999997E-4},{"$f":"'GS FP per Tariff'!G92","v":0.124626},{"$f":"'GS FP per Tariff'!H92","v":3.8999999999999999E-5},{"$f":"'GS FP per Tariff'!I92","v":0},{"$f":"'GS FP per Tariff'!J92","v":4.7289999999999997E-3},{"$f":"'GS FP per Tariff'!K92","v":7.7000000000000002E-3},{"$f":"'GS FP per Tariff'!L92","v":4.9399999999999997E-4},{"$f":"'GS FP per Tariff'!M92","v":-2.34E-4},1.9067999999999998E-2,{"$f":"'GS FP per Tariff'!N92","v":0.16294500000000001},null,null,"Day/Night Provision*** ",{"$f":"'GS FP per Tariff'!B84","v":"Over 10  KW Summer"},null,null,{"$f":"'GS FP per Tariff'!E84","v":9},null,null,null,null,null,null,null,null,{"$f":"AV386","v":9},{"$f":"AV386","v":9}]
[null,null,null,null,null,null,null,null,null,null,null,null,null,null,null,null,null,null,null,null,null,null,null,null,null,null,null,null,"* Charge applies only to Full Service Customers",null,null,{"$f":"\"** First 1,000 kWh includes distribution charge credit of  - $\" & FIXED(-'GS FP per Tariff'!$E$99,6) & \" per kWh.\"","v":"** First 1,000 kWh includes distribution charge credit of  - $0.038383 per kWh."},null,null,null,null,null,null,null,null,null,null,null,"Full service",{"$f":"'GS FP per Tariff'!B85","v":"Over 10  KW Winter"},null,null,{"$f":"'GS FP per Tariff'!E85","v":8.3800000000000008},null,null,null,null,null,null,null,null,{"$f":"AV387","v":8.3800000000000008},{"$f":"AV387","v":8.3800000000000008}]
[null,null,null,null,null,null,null,null,null,null,null,null,null,null,null,null,null,null,null,null,null,null,null,null,null,null,null,null,"*** Demand charges are based on the greater of 100% on-peak kW or 40% off-peak kW",null,null,null,null,null,null,null,null,null,null,null,null,null,null,"All Taxes Applicable & Included",{"$f":"'GS FP per Tariff'!B87","v":"Minimum Bill-Over 10 KW "},null,null,{"$f":"'GS FP per Tariff'!E87","v":4.08},null,null,null,null,null,null,null,null,{"$f":"AV388","v":4.08},{"$f":"AV388","v":4.08}]
[null,null,null,null,null,null,null,null,null,null,null,null,null,null,null,null,null,null,null,null,null,null,null,null,null,null,null,null,null,null,null,null,null,null,null,null,null,null,null,null,null,null,null,null,{"$f":"'GS FP per Tariff'!B89","v":"First 1,000 kWh Summer"},null,{"$f":"'GS FP per Tariff'!D89","v":1.9212E-2},{"$f":"'GS FP per Tariff'!E89+'GS FP per Tariff'!E99","v":3.6904999999999993E-2},{"$f":"'GS FP per Tariff'!F89","v":3.5799999999999997E-4},{"$f":"'GS FP per Tariff'!G89","v":0.124982},{"$f":"'GS FP per Tariff'!H89","v":3.8999999999999999E-5},{"$f":"'GS FP per Tariff'!I89","v":0},{"$f":"'GS FP per Tariff'!J89","v":4.7289999999999997E-3},{"$f":"'GS FP per Tariff'!K89","v":7.7000000000000002E-3},{"$f":"'GS FP per Tariff'!L89","v":4.9399999999999997E-4},{"$f":"'GS FP per Tariff'!M89","v":-2.34E-4},{"$f":"SUM(AV389:AW389,AZ389:BD389)","v":4.9951999999999989E-2},{"$f":"'GS FP per Tariff'!N89+'GS FP per Tariff'!E99","v":0.194185},{"$f":"BF389-BE389-AU389-AX389-AY389","v":-2.6291902682773483E-18}]
[null,null,null,null,null,null,null,null,null,null,null,null,null,null,null,null,null,null,null,null,null,null,null,null,null,null,null,null,null,null,null,{"$f":"AF$2","v":"Rates Effective with Service Rendered June 1, 2025"},null,null,null,null,null,null,null,"Delivery",null,null,null,null,{"$f":"'GS FP per Tariff'!B90","v":"First 1,000 kWh Winter"},null,{"$f":"'GS FP per Tariff'!D90","v":1.9212E-2},{"$f":"'GS FP per Tariff'!E90+'GS FP per Tariff'!E99","v":3.1279000000000001E-2},{"$f":"'GS FP per Tariff'!F90","v":3.5799999999999997E-4},{"$f":"'GS FP per Tariff'!G90","v":0.124626},{"$f":"'GS FP per Tariff'!H90","v":3.8999999999999999E-5},{"$f":"'GS FP per Tariff'!I90","v":0},{"$f":"'GS FP per Tariff'!J90","v":4.7289999999999997E-3},{"$f":"'GS FP per Tariff'!K90","v":7.7000000000000002E-3},{"$f":"'GS FP per Tariff'!L90","v":4.9399999999999997E-4},{"$f":"'GS FP per Tariff'!M90","v":-2.34E-4},4.4325999999999997E-2,{"$f":"'GS FP per Tariff'!N90+'GS FP per Tariff'!E99","v":0.18820300000000001},{"$f":"BF390-BE390-AU390-AX390-AY390","v":-2.6291902682773483E-18}]
[null,null,null,null,null,null,null,null,null,null,null,null,null,null,null,null,null,null,null,null,null,null,null,null,null,null,null,"Charge or","Customer",null,null,null,"Energy &","BGS-FP Reconciliation Charge*",{"$f":"$AI$3","v":"Zero Emission Certificate Recovery Charge (ZEC)"},"RGGI\nRecovery\nCharge (RRC)",null,null,null,"Service","Full Service",null,null,null,{"$f":"'GS FP per Tariff'!B91","v":"Over 1,000 kWh Summer"},null,{"$f":"'GS FP per Tariff'!D91","v":1.9212E-2},{"$f":"'GS FP per Tariff'!E91","v":6.0210000000000003E-3},{"$f":"'GS FP per Tariff'!F91","v":3.5799999999999997E-4},{"$f":"'GS FP per Tariff'!G91","v":0.124982},{"$f":"'GS FP per Tariff'!H91","v":3.8999999999999999E-5},{"$f":"'GS FP per Tariff'!I91","v":0},{"$f":"'GS FP per Tariff'!J91","v":4.7289999999999997E-3},{"$f":"'GS FP per Tariff'!K91","v":7.7000000000000002E-3},{"$f":"'GS FP per Tariff'!L91","v":4.9399999999999997E-4},{"$f":"'GS FP per Tariff'!M91","v":-2.34E-4},1.9067999999999998E-2,{"$f":"'GS FP per Tariff'!N91","v":0.163301},{"$f":"BF391-BE391-AU391-AX391-AY391","v":-2.6291902682773483E-18}]
[null,null,null,null,null,null,null,null,null,null,null,null,null,null,null,null,null,null,null,null,null,null,null,null,null,"Rate Category","Description","Price Block","Charge","Transmission*","Distribution","Covid-19 Recovery","Capacity*",null,null,null,"SBC","LRAM","NGC","Total","Total",null,null,null,{"$f":"'GS FP per Tariff'!B92","v":"Over 1,000 kWh Winter"},null,{"$f":"'GS FP per Tariff'!D92","v":1.9212E-2},{"$f":"'GS FP per Tariff'!E92","v":6.0210000000000003E-3},{"$f":"'GS FP per Tariff'!F92","v":3.5799999999999997E-4},{"$f":"'GS FP per Tariff'!G92","v":0.124626},{"$f":"'GS FP per Tariff'!H92","v":3.8999999999999999E-5},{"$f":"'GS FP per Tariff'!I92","v":0},{"$f":"'GS FP per Tariff'!J92","v":4.7289999999999997E-3},{"$f":"'GS FP per Tariff'!K92","v":7.7000000000000002E-3},{"$f":"'GS FP per Tariff'!L92","v":4.9399999999999997E-4},{"$f":"'GS FP per Tariff'!M92","v":-2.34E-4},1.9067999999999998E-2,{"$f":"'GS FP per Tariff'!N92","v":0.16294500000000001},{"$f":"BF392-BE392-AU392-AX392-AY392","v":-2.6291902682773483E-18}]
[null,null,null,null,null,null,null,null,null,null,null,null,null,null,null,null,null,null,null,null,null,null,null,null,null,"JC_GS1_10D","General Service Secondary - 1 Phase","Customer Charge",{"$f":"'GS FP per Tariff'!C77","v":4.6500000000000004},null,null,null,null,null,null,null,null,null,null,{"$f":"AC393","v":4.6500000000000004},"N/A",null,null,null,null,"* Charge applies only to Full Service Customers",null,null,{"$f":"\"** First 1,000 kWh includes distribution charge credit of  - $\" & FIXED(-'GS FP per Tariff'!$E$99,6) & \" per kWh.\"","v":"** First 1,000 kWh includes distribution charge credit of  - $0.038383 per kWh."}]
[null,null,null,null,null,null,null,null,null,null,null,null,null,null,null,null,null,null,null,null,null,null,null,null,null,null,"Religious House of Worship Provision**","Suppl CTWH Cust Charge",{"$f":"'GS FP per Tariff'!C80","v":2.23},null,null,null,null,null,null,null,null,null,null,{"$f":"AC394","v":2.23},"N/A",null,null,null,null,"*** Demand charges are based on the greater of 100% on-peak kW or 40% off-peak kW"]
[null,null,null,null,null,null,null,null,null,null,null,null,null,null,null,null,null,null,null,null,null,null,null,null,null,null,"Controlled Water Heating Provision ***",{"$f":"'GS FP per Tariff'!B84","v":"Over 10  KW Summer"},null,null,{"$f":"'GS FP per Tariff'!E84","v":9},null,null,null,null,null,null,null,null,{"$f":"AE395","v":9},"N/A"]
[null,null,null,null,null,null,null,null,null,null,null,null,null,null,null,null,null,null,null,null,null,null,null,null,null,null,"Delivery Service Only",{"$f":"'GS FP per Tariff'!B85","v":"Over 10  KW Winter"},null,null,{"$f":"'GS FP per Tariff'!E85","v":8.3800000000000008},null,null,null,null,null,null,null,null,{"$f":"AE396","v":8.3800000000000008},"N/A",null,null,null,null,null,null,null,{"$f":"AF$2","v":"Rates Effective with Service Rendered June 1, 2025"},null,null,null,null,null,null,null,"Delivery"]
[null,null,null,null,null,null,null,null,null,null,null,null,null,null,null,null,null,null,null,null,null,null,null,null,null,null,"All Taxes Applicable & Included",{"$f":"'GS FP per Tariff'!B87","v":"Minimum Bill-Over 10 KW "},null,null,{"$f":"'GS FP per Tariff'!E87","v":4.08},null,null,null,null,null,null,null,null,{"$f":"AE397","v":4.08},"N/A",null,null,null,"Charge or","Customer",null,null,null,"Energy &","BGS-FP Reconciliation Charge*",{"$f":"$AI$3","v":"Zero Emission Certificate Recovery Charge (ZEC)"},"RGGI\nRecovery\nCharge (RRC)",null,null,null,"Service","Full Service"]
[null,null,null,null,null,null,null,null,null,null,null,null,null,null,null,null,null,null,null,null,null,null,null,null,null,null,null,{"$f":"'GS FP per Tariff'!B89","v":"First 1,000 kWh Summer"},null,"N/A",{"$f":"'GS FP per Tariff'!E89+'GS FP per Tariff'!E99","v":3.6904999999999993E-2},{"$f":"'GS FP per Tariff'!F89","v":3.5799999999999997E-4},"N/A","N/A",{"$f":"'GS FP per Tariff'!I89","v":0},{"$f":"'GS FP per Tariff'!J89","v":4.7289999999999997E-3},{"$f":"'GS FP per Tariff'!K89","v":7.7000000000000002E-3},{"$f":"'GS FP per Tariff'!L89","v":4.9399999999999997E-4},{"$f":"'GS FP per Tariff'!M89","v":-2.34E-4},{"$f":"SUM(AE398:AF398,AI398:AM398)","v":4.9951999999999989E-2},"N/A",null,"Rate Category","Description","Price Block","Charge","Transmission*","Distribution","SRC","Capacity*",null,null,null,"SBC","TAA","MTC","Total","Total"]
[null,null,null,null,null,null,null,null,null,null,null,null,null,null,null,null,null,null,null,null,null,null,null,null,null,null,null,{"$f":"'GS FP per Tariff'!B90","v":"First 1,000 kWh Winter"},null,"N/A",{"$f":"'GS FP per Tariff'!E90+'GS FP per Tariff'!E99","v":3.1279000000000001E-2},{"$f":"'GS FP per Tariff'!F90","v":3.5799999999999997E-4},"N/A","N/A",{"$f":"'GS FP per Tariff'!I90","v":0},{"$f":"'GS FP per Tariff'!J90","v":4.7289999999999997E-3},{"$f":"'GS FP per Tariff'!K90","v":7.7000000000000002E-3},{"$f":"'GS FP per Tariff'!L90","v":4.9399999999999997E-4},{"$f":"'GS FP per Tariff'!M90","v":-2.34E-4},4.4325999999999997E-2,"N/A",null,"JC_GS3_10D","General Service Secondary - 3 Phase","Customer Charge",{"$f":"'GS FP per Tariff'!C78","v":16.690000000000001},null,null,null,null,null,null,null,null,null,null,{"$f":"AT399","v":16.690000000000001},"N/A"]
[null,null,null,null,null,null,null,null,null,null,null,null,null,null,null,null,null,null,null,null,null,null,null,null,null,null,null,{"$f":"'GS FP per Tariff'!B91","v":"Over 1,000 kWh Summer"},null,"N/A",{"$f":"'GS FP per Tariff'!E91","v":6.0210000000000003E-3},{"$f":"'GS FP per Tariff'!F91","v":3.5799999999999997E-4},"N/A","N/A",{"$f":"'GS FP per Tariff'!I91","v":0},{"$f":"'GS FP per Tariff'!J91","v":4.7289999999999997E-3},{"$f":"'GS FP per Tariff'!K91","v":7.7000000000000002E-3},{"$f":"'GS FP per Tariff'!L91","v":4.9399999999999997E-4},{"$f":"'GS FP per Tariff'!M91","v":-2.34E-4},1.9067999999999998E-2,"N/A",null,null,"Religious House of Worship Provision**","Suppl CTWH Cust Charge",{"$f":"'GS FP per Tariff'!C80","v":2.23},null,null,null,null,null,null,null,null,null,null,{"$f":"AT400","v":2.23},"N/A"]
[null,null,null,null,null,null,null,null,null,null,null,null,null,null,null,null,null,null,null,null,null,null,null,null,null,null,null,{"$f":"'GS FP per Tariff'!B92","v":"Over 1,000 kWh Winter"},null,"N/A",{"$f":"'GS FP per Tariff'!E92","v":6.0210000000000003E-3},{"$f":"'GS FP per Tariff'!F92","v":3.5799999999999997E-4},"N/A","N/A",{"$f":"'GS FP per Tariff'!I92","v":0},{"$f":"'GS FP per Tariff'!J92","v":4.7289999999999997E-3},{"$f":"'GS FP per Tariff'!K92","v":7.7000000000000002E-3},{"$f":"'GS FP per Tariff'!L92","v":4.9399999999999997E-4},{"$f":"'GS FP per Tariff'!M92","v":-2.34E-4},1.9067999999999998E-2,"N/A",null,null,"Controlled Water Heating Provision ***",{"$f":"'GS FP per Tariff'!B84","v":"Over 10  KW Summer"},null,null,{"$f":"'GS FP per Tariff'!E84","v":9},null,null,null,null,null,null,null,null,{"$f":"AV401","v":9},"N/A"]
[null,null,null,null,null,null,null,null,null,null,null,null,null,null,null,null,null,null,null,null,null,null,null,null,null,null,null,{"$f":"'GS FP per Tariff'!B95","v":"CTWH-kWh Summer"},null,"N/A",{"$f":"'GS FP per Tariff'!E95","v":2.9064E-2},{"$f":"'GS FP per Tariff'!F95","v":3.5799999999999997E-4},"N/A","N/A",{"$f":"'GS FP per Tariff'!I95","v":0},{"$f":"'GS FP per Tariff'!J95","v":4.7289999999999997E-3},{"$f":"'GS FP per Tariff'!K95","v":7.7000000000000002E-3},{"$f":"'GS FP per Tariff'!L95","v":4.9399999999999997E-4},{"$f":"'GS FP per Tariff'!M95","v":-2.34E-4},4.2111000000000003E-2,"N/A",null,null,"Delivery Service Only",{"$f":"'GS FP per Tariff'!B85","v":"Over 10  KW Winter"},null,null,{"$f":"'GS FP per Tariff'!E85","v":8.3800000000000008},null,null,null,null,null,null,null,null,{"$f":"AV402","v":8.3800000000000008},"N/A"]
[null,null,null,null,null,null,null,null,null,null,null,null,null,null,null,null,null,null,null,null,null,null,null,null,null,null,null,{"$f":"'GS FP per Tariff'!B95","v":"CTWH-kWh Summer"},null,"N/A",{"$f":"'GS FP per Tariff'!E96","v":2.9064E-2},{"$f":"'GS FP per Tariff'!F96","v":3.5799999999999997E-4},"N/A","N/A",{"$f":"'GS FP per Tariff'!I96","v":0},{"$f":"'GS FP per Tariff'!J96","v":4.7289999999999997E-3},{"$f":"'GS FP per Tariff'!K96","v":7.7000000000000002E-3},{"$f":"'GS FP per Tariff'!L96","v":4.9399999999999997E-4},{"$f":"'GS FP per Tariff'!M96","v":-2.34E-4},4.2111000000000003E-2,"N/A",null,null,"All Taxes Applicable & Included",{"$f":"'GS FP per Tariff'!B87","v":"Minimum Bill-Over 10 KW "},null,null,{"$f":"'GS FP per Tariff'!E87","v":4.08},null,null,null,null,null,null,null,null,{"$f":"AV403","v":4.08},"N/A"]
[null,null,null,null,null,null,null,null,null,null,null,null,null,null,null,null,null,null,null,null,null,null,null,null,null,null,null,"* Charge applies only to Full Service Customers",null,null,{"$f":"\"** First 1,000 kWh includes distribution charge credit of  - $\" & FIXED(-'GS FP per Tariff'!$E$99,6) & \" per kWh.\"","v":"** First 1,000 kWh includes distribution charge credit of  - $0.038383 per kWh."},null,null,null,null,null,null,null,null,null,null,null,null,null,{"$f":"'GS FP per Tariff'!B89","v":"First 1,000 kWh Summer"},null,"N/A",{"$f":"'GS FP per Tariff'!E89+'GS FP per Tariff'!E99","v":3.6904999999999993E-2},{"$f":"'GS FP per Tariff'!F89","v":3.5799999999999997E-4},"N/A","N/A",{"$f":"'GS FP per Tariff'!I89","v":0},{"$f":"'GS FP per Tariff'!J89","v":4.7289999999999997E-3},{"$f":"'GS FP per Tariff'!K89","v":7.7000000000000002E-3},{"$f":"'GS FP per Tariff'!L89","v":4.9399999999999997E-4},{"$f":"'GS FP per Tariff'!M89","v":-2.34E-4},{"$f":"SUM(AV404:AW404,AZ404:BD404)","v":4.9951999999999989E-2},"N/A"]
[null,null,null,null,null,null,null,null,null,null,null,null,null,null,null,null,null,null,null,null,null,null,null,null,null,null,null,"*** The Controlled Water Heating (CTWH) usage is measured only on the water heating meter.",null,null,null,null,null,null,null,null,null,null,null,null,null,null,null,null,{"$f":"'GS FP per Tariff'!B90","v":"First 1,000 kWh Winter"},null,"N/A",{"$f":"'GS FP per Tariff'!E90+'GS FP per Tariff'!E99","v":3.1279000000000001E-2},{"$f":"'GS FP per Tariff'!F90","v":3.5799999999999997E-4},"N/A","N/A",{"$f":"'GS FP per Tariff'!I90","v":0},{"$f":"'GS FP per Tariff'!J90","v":4.7289999999999997E-3},{"$f":"'GS FP per Tariff'!K90","v":7.7000000000000002E-3},{"$f":"'GS FP per Tariff'!L90","v":4.9399999999999997E-4},{"$f":"'GS FP per Tariff'!M90","v":-2.34E-4},4.4325999999999997E-2,"N/A"]
[null,null,null,null,null,null,null,null,null,null,null,null,null,null,null,null,null,null,null,null,null,null,null,null,null,null,null,null,null,null,null,null,null,null,null,null,null,null,null,null,null,null,null,null,{"$f":"'GS FP per Tariff'!B91","v":"Over 1,000 kWh Summer"},null,"N/A",{"$f":"'GS FP per Tariff'!E91","v":6.0210000000000003E-3},{"$f":"'GS FP per Tariff'!F91","v":3.5799999999999997E-4},"N/A","N/A",{"$f":"'GS FP per Tariff'!I91","v":0},{"$f":"'GS FP per Tariff'!J91","v":4.7289999999999997E-3},{"$f":"'GS FP per Tariff'!K91","v":7.7000000000000002E-3},{"$f":"'GS FP per Tariff'!L91","v":4.9399999999999997E-4},{"$f":"'GS FP per Tariff'!M91","v":-2.34E-4},1.9067999999999998E-2,"N/A"]
[null,null,null,null,null,null,null,null,null,null,null,null,null,null,null,null,null,null,null,null,null,null,null,null,null,null,null,null,null,null,null,{"$f":"AF$2","v":"Rates Effective with Service Rendered June 1, 2025"},null,null,null,null,null,null,null,"Delivery",null,null,null,null,{"$f":"'GS FP per Tariff'!B92","v":"Over 1,000 kWh Winter"},null,"N/A",{"$f":"'GS FP per Tariff'!E92","v":6.0210000000000003E-3},{"$f":"'GS FP per Tariff'!F92","v":3.5799999999999997E-4},"N/A","N/A",{"$f":"'GS FP per Tariff'!I92","v":0},{"$f":"'GS FP per Tariff'!J92","v":4.7289999999999997E-3},{"$f":"'GS FP per Tariff'!K92","v":7.7000000000000002E-3},{"$f":"'GS FP per Tariff'!L92","v":4.9399999999999997E-4},{"$f":"'GS FP per Tariff'!M92","v":-2.34E-4},1.9067999999999998E-2,"N/A"]
[null,null,null,null,null,null,null,null,null,null,null,null,null,null,null,null,null,null,null,null,null,null,null,null,null,null,null,"Charge or","Customer",null,null,null,"Energy &","BGS-FP Reconciliation Charge*",{"$f":"$AI$3","v":"Zero Emission Certificate Recovery Charge (ZEC)"},"RGGI\nRecovery\nCharge (RRC)",null,null,null,"Service","Full Service",null,null,null,{"$f":"'GS FP per Tariff'!B95","v":"CTWH-kWh Summer"},null,"N/A",{"$f":"'GS FP per Tariff'!E95","v":2.9064E-2},{"$f":"'GS FP per Tariff'!F95","v":3.5799999999999997E-4},"N/A","N/A",{"$f":"'GS FP per Tariff'!I95","v":0},{"$f":"'GS FP per Tariff'!J95","v":4.7289999999999997E-3},{"$f":"'GS FP per Tariff'!K95","v":7.7000000000000002E-3},{"$f":"'GS FP per Tariff'!L95","v":4.9399999999999997E-4},{"$f":"'GS FP per Tariff'!M95","v":-2.34E-4},4.2111000000000003E-2,"N/A"]
[null,null,null,null,null,null,null,null,null,null,null,null,null,null,null,null,null,null,null,null,null,null,null,null,null,"Rate Category","Description","Price Block","Charge","Transmission*","Distribution","Covid-19 Recovery","Capacity*",null,null,null,"SBC","LRAM","NGC","Charges","Total",null,null,null,{"$f":"'GS FP per Tariff'!B95","v":"CTWH-kWh Summer"},null,"N/A",{"$f":"'GS FP per Tariff'!E96","v":2.9064E-2},{"$f":"'GS FP per Tariff'!F96","v":3.5799999999999997E-4},"N/A","N/A",{"$f":"'GS FP per Tariff'!I96","v":0},{"$f":"'GS FP per Tariff'!J96","v":4.7289999999999997E-3},{"$f":"'GS FP per Tariff'!K96","v":7.7000000000000002E-3},{"$f":"'GS FP per Tariff'!L96","v":4.9399999999999997E-4},{"$f":"'GS FP per Tariff'!M96","v":-2.34E-4},4.2111000000000003E-2,"N/A"]
[null,null,null,null,null,null,null,null,null,null,null,null,null,null,null,null,null,null,null,null,null,null,null,null,null,"JC_GS1_10F","General Service Secondary - 1 Phase","Customer Charge",{"$f":"'GS FP per Tariff'!C77","v":4.6500000000000004},null,null,null,null,null,null,null,null,null,null,{"$f":"AC410","v":4.6500000000000004},{"$f":"AC410","v":4.6500000000000004},null,null,null,"* Charge applies only to Full Service Customers",null,null,{"$f":"\"** First 1,000 kWh includes distribution charge credit of  - $\" & FIXED(-'GS FP per Tariff'!$E$99,6) & \" per kWh.\"","v":"** First 1,000 kWh includes distribution charge credit of  - $0.038383 per kWh."}]
[null,null,null,null,null,null,null,null,null,null,null,null,null,null,null,null,null,null,null,null,null,null,null,null,null,null,"Religious House of Worship Provision**","Suppl CTWH Cust Charge",{"$f":"'GS FP per Tariff'!C80","v":2.23},null,null,null,null,null,null,null,null,null,null,{"$f":"AC411","v":2.23},{"$f":"AC411","v":2.23},null,null,null,"*** The Controlled Water Heating (CTWH) usage is measured only on the water heating meter."]
[null,null,null,null,null,null,null,null,null,null,null,null,null,null,null,null,null,null,null,null,null,null,null,null,null,null,"Controlled Water Heating Provision ***",{"$f":"'GS FP per Tariff'!B84","v":"Over 10  KW Summer"},null,null,{"$f":"'GS FP per Tariff'!E84","v":9},null,null,null,null,null,null,null,null,{"$f":"AE412","v":9},{"$f":"AE412","v":9}]
[null,null,null,null,null,null,null,null,null,null,null,null,null,null,null,null,null,null,null,null,null,null,null,null,null,null,"Full Service",{"$f":"'GS FP per Tariff'!B85","v":"Over 10  KW Winter"},null,null,{"$f":"'GS FP per Tariff'!E85","v":8.3800000000000008},null,null,null,null,null,null,null,null,{"$f":"AE413","v":8.3800000000000008},{"$f":"AE413","v":8.3800000000000008},null,null,null,null,null,null,null,{"$f":"AF$2","v":"Rates Effective with Service Rendered June 1, 2025"},null,null,null,null,null,null,null,"Delivery"]
[null,null,null,null,null,null,null,null,null,null,null,null,null,null,null,null,null,null,null,null,null,null,null,null,null,null,"All Taxes Applicable & Included",{"$f":"'GS FP per Tariff'!B87","v":"Minimum Bill-Over 10 KW "},null,null,{"$f":"'GS FP per Tariff'!E87","v":4.08},null,null,null,null,null,null,null,null,{"$f":"AE414","v":4.08},{"$f":"AE414","v":4.08},null,null,null,"Charge or","Customer",null,null,null,"Energy &","BGS-FP Reconciliation Charge*",{"$f":"$AI$3","v":"Zero Emission Certificate Recovery Charge (ZEC)"},"RGGI\nRecovery\nCharge (RRC)",null,null,null,"Service","Full Service"]
[null,null,null,null,null,null,null,null,null,null,null,null,null,null,null,null,null,null,null,null,null,null,null,null,null,null,null,{"$f":"'GS FP per Tariff'!B89","v":"First 1,000 kWh Summer"},null,{"$f":"'GS FP per Tariff'!D89","v":1.9212E-2},{"$f":"'GS FP per Tariff'!E89+'GS FP per Tariff'!E99","v":3.6904999999999993E-2},{"$f":"'GS FP per Tariff'!F89","v":3.5799999999999997E-4},{"$f":"'GS FP per Tariff'!G89","v":0.124982},{"$f":"'GS FP per Tariff'!H89","v":3.8999999999999999E-5},{"$f":"'GS FP per Tariff'!I89","v":0},{"$f":"'GS FP per Tariff'!J89","v":4.7289999999999997E-3},{"$f":"'GS FP per Tariff'!K89","v":7.7000000000000002E-3},{"$f":"'GS FP per Tariff'!L89","v":4.9399999999999997E-4},{"$f":"'GS FP per Tariff'!M89","v":-2.34E-4},{"$f":"SUM(AE415:AF415,AI415:AM415)","v":4.9951999999999989E-2},{"$f":"'GS FP per Tariff'!N89+'GS FP per Tariff'!E99","v":0.194185},null,"Rate Category","Description","Price Block","Charge","Transmission*","Distribution","SRC","Capacity*",null,null,null,"SBC","TAA","MTC","Charges","Total"]
[null,null,null,null,null,null,null,null,null,null,null,null,null,null,null,null,null,null,null,null,null,null,null,null,null,null,null,{"$f":"'GS FP per Tariff'!B90","v":"First 1,000 kWh Winter"},null,{"$f":"'GS FP per Tariff'!D90","v":1.9212E-2},{"$f":"'GS FP per Tariff'!E90+'GS FP per Tariff'!E99","v":3.1279000000000001E-2},{"$f":"'GS FP per Tariff'!F90","v":3.5799999999999997E-4},{"$f":"'GS FP per Tariff'!G90","v":0.124626},{"$f":"'GS FP per Tariff'!H90","v":3.8999999999999999E-5},{"$f":"'GS FP per Tariff'!I90","v":0},{"$f":"'GS FP per Tariff'!J90","v":4.7289999999999997E-3},{"$f":"'GS FP per Tariff'!K90","v":7.7000000000000002E-3},{"$f":"'GS FP per Tariff'!L90","v":4.9399999999999997E-4},{"$f":"'GS FP per Tariff'!M90","v":-2.34E-4},4.4325999999999997E-2,{"$f":"'GS FP per Tariff'!N90+'GS FP per Tariff'!E99","v":0.18820300000000001},null,"JC_GS3_10F","General Service Secondary - 3 Phase","Customer Charge",{"$f":"'GS FP per Tariff'!C78","v":16.690000000000001},null,null,null,null,null,null,null,null,null,null,{"$f":"AT416","v":16.690000000000001},{"$f":"AT416","v":16.690000000000001}]
[null,null,null,null,null,null,null,null,null,null,null,null,null,null,null,null,null,null,null,null,null,null,null,null,null,null,null,{"$f":"'GS FP per Tariff'!B91","v":"Over 1,000 kWh Summer"},null,{"$f":"'GS FP per Tariff'!D91","v":1.9212E-2},{"$f":"'GS FP per Tariff'!E91","v":6.0210000000000003E-3},{"$f":"'GS FP per Tariff'!F91","v":3.5799999999999997E-4},{"$f":"'GS FP per Tariff'!G91","v":0.124982},{"$f":"'GS FP per Tariff'!H91","v":3.8999999999999999E-5},{"$f":"'GS FP per Tariff'!I91","v":0},{"$f":"'GS FP per Tariff'!J91","v":4.7289999999999997E-3},{"$f":"'GS FP per Tariff'!K91","v":7.7000000000000002E-3},{"$f":"'GS FP per Tariff'!L91","v":4.9399999999999997E-4},{"$f":"'GS FP per Tariff'!M91","v":-2.34E-4},1.9067999999999998E-2,{"$f":"'GS FP per Tariff'!N91","v":0.163301},null,null,"Religious House of Worship Provision**","Suppl CTWH Cust Charge",{"$f":"'GS FP per Tariff'!C80","v":2.23},null,null,null,null,null,null,null,null,null,null,{"$f":"AT417","v":2.23},{"$f":"AT417","v":2.23}]
[null,null,null,null,null,null,null,null,null,null,null,null,null,null,null,null,null,null,null,null,null,null,null,null,null,null,null,{"$f":"'GS FP per Tariff'!B92","v":"Over 1,000 kWh Winter"},null,{"$f":"'GS FP per Tariff'!D92","v":1.9212E-2},{"$f":"'GS FP per Tariff'!E92","v":6.0210000000000003E-3},{"$f":"'GS FP per Tariff'!F92","v":3.5799999999999997E-4},{"$f":"'GS FP per Tariff'!G92","v":0.124626},{"$f":"'GS FP per Tariff'!H92","v":3.8999999999999999E-5},{"$f":"'GS FP per Tariff'!I92","v":0},{"$f":"'GS FP per Tariff'!J92","v":4.7289999999999997E-3},{"$f":"'GS FP per Tariff'!K92","v":7.7000000000000002E-3},{"$f":"'GS FP per Tariff'!L92","v":4.9399999999999997E-4},{"$f":"'GS FP per Tariff'!M92","v":-2.34E-4},1.9067999999999998E-2,{"$f":"'GS FP per Tariff'!N92","v":0.16294500000000001},null,null,"Controlled Water Heating Provision ***",{"$f":"'GS FP per Tariff'!B84","v":"Over 10  KW Summer"},null,null,{"$f":"'GS FP per Tariff'!E84","v":9},null,null,null,null,null,null,null,null,{"$f":"AV418","v":9},{"$f":"AV418","v":9}]
[null,null,null,null,null,null,null,null,null,null,null,null,null,null,null,null,null,null,null,null,null,null,null,null,null,null,null,{"$f":"'GS FP per Tariff'!B95","v":"CTWH-kWh Summer"},null,{"$f":"'GS FP per Tariff'!D95","v":1.9212E-2},{"$f":"'GS FP per Tariff'!E95","v":2.9064E-2},{"$f":"'GS FP per Tariff'!F95","v":3.5799999999999997E-4},{"$f":"'GS FP per Tariff'!G95","v":0.128414},{"$f":"'GS FP per Tariff'!H95","v":3.8999999999999999E-5},{"$f":"'GS FP per Tariff'!I95","v":0},{"$f":"'GS FP per Tariff'!J95","v":4.7289999999999997E-3},{"$f":"'GS FP per Tariff'!K95","v":7.7000000000000002E-3},{"$f":"'GS FP per Tariff'!L95","v":4.9399999999999997E-4},{"$f":"'GS FP per Tariff'!M95","v":-2.34E-4},4.2111000000000003E-2,{"$f":"'GS FP per Tariff'!N95","v":0.189776},null,null,"Full service",{"$f":"'GS FP per Tariff'!B85","v":"Over 10  KW Winter"},null,null,{"$f":"'GS FP per Tariff'!E85","v":8.3800000000000008},null,null,null,null,null,null,null,null,{"$f":"AV419","v":8.3800000000000008},{"$f":"AV419","v":8.3800000000000008}]
[null,null,null,null,null,null,null,null,null,null,null,null,null,null,null,null,null,null,null,null,null,null,null,null,null,null,null,{"$f":"'GS FP per Tariff'!B96","v":"CTWH-kWh Winter"},null,{"$f":"'GS FP per Tariff'!D96","v":1.9212E-2},{"$f":"'GS FP per Tariff'!E96","v":2.9064E-2},{"$f":"'GS FP per Tariff'!F96","v":3.5799999999999997E-4},{"$f":"'GS FP per Tariff'!G96","v":0.12782199999999999},{"$f":"'GS FP per Tariff'!H96","v":3.8999999999999999E-5},{"$f":"'GS FP per Tariff'!I96","v":0},{"$f":"'GS FP per Tariff'!J96","v":4.7289999999999997E-3},{"$f":"'GS FP per Tariff'!K96","v":7.7000000000000002E-3},{"$f":"'GS FP per Tariff'!L96","v":4.9399999999999997E-4},{"$f":"'GS FP per Tariff'!M96","v":-2.34E-4},4.2111000000000003E-2,{"$f":"'GS FP per Tariff'!N96","v":0.18918400000000002},null,null,"All Taxes Applicable & Included",{"$f":"'GS FP per Tariff'!B87","v":"Minimum Bill-Over 10 KW "},null,null,{"$f":"'GS FP per Tariff'!E87","v":4.08},null,null,null,null,null,null,null,null,{"$f":"AV420","v":4.08},{"$f":"AV420","v":4.08}]
[null,null,null,null,null,null,null,null,null,null,null,null,null,null,null,null,null,null,null,null,null,null,null,null,null,null,null,"* Charge applies only to Full Service Customers",null,null,{"$f":"\"** First 1,000 kWh includes distribution charge credit of  - $\" & FIXED(-'GS FP per Tariff'!$E$99,6) & \" per kWh.\"","v":"** First 1,000 kWh includes distribution charge credit of  - $0.038383 per kWh."},null,null,null,null,null,null,null,null,null,null,null,null,null,{"$f":"'GS FP per Tariff'!B89","v":"First 1,000 kWh Summer"},null,{"$f":"'GS FP per Tariff'!D89","v":1.9212E-2},{"$f":"'GS FP per Tariff'!E89+'GS FP per Tariff'!E99","v":3.6904999999999993E-2},{"$f":"'GS FP per Tariff'!F89","v":3.5799999999999997E-4},{"$f":"'GS FP per Tariff'!G89","v":0.124982},{"$f":"'GS FP per Tariff'!H89","v":3.8999999999999999E-5},{"$f":"'GS FP per Tariff'!I89","v":0},{"$f":"'GS FP per Tariff'!J89","v":4.7289999999999997E-3},{"$f":"'GS FP per Tariff'!K89","v":7.7000000000000002E-3},{"$f":"'GS FP per Tariff'!L89","v":4.9399999999999997E-4},{"$f":"'GS FP per Tariff'!M89","v":-2.34E-4},{"$f":"SUM(AV421:AW421,AZ421:BD421)","v":4.9951999999999989E-2},{"$f":"'GS FP per Tariff'!N89+'GS FP per Tariff'!E99","v":0.194185},{"$f":"BF421-BE421-AU421-AX421-AY421","v":-2.6291902682773483E-18}]
[null,null,null,null,null,null,null,null,null,null,null,null,null,null,null,null,null,null,null,null,null,null,null,null,null,null,null,"*** The Controlled Water Heating (CTWH) usage is measured only on the water heating meter.",null,null,null,null,null,null,null,null,null,null,null,null,null,null,null,null,{"$f":"'GS FP per Tariff'!B90","v":"First 1,000 kWh Winter"},null,{"$f":"'GS FP per Tariff'!D90","v":1.9212E-2},{"$f":"'GS FP per Tariff'!E90+'GS FP per Tariff'!E99","v":3.1279000000000001E-2},{"$f":"'GS FP per Tariff'!F90","v":3.5799999999999997E-4},{"$f":"'GS FP per Tariff'!G90","v":0.124626},{"$f":"'GS FP per Tariff'!H90","v":3.8999999999999999E-5},{"$f":"'GS FP per Tariff'!I90","v":0},{"$f":"'GS FP per Tariff'!J90","v":4.7289999999999997E-3},{"$f":"'GS FP per Tariff'!K90","v":7.7000000000000002E-3},{"$f":"'GS FP per Tariff'!L90","v":4.9399999999999997E-4},{"$f":"'GS FP per Tariff'!M90","v":-2.34E-4},4.4325999999999997E-2,{"$f":"'GS FP per Tariff'!N90+'GS FP per Tariff'!E99","v":0.18820300000000001},-2.6291902682773483E-18]
[null,null,null,null,null,null,null,null,null,null,null,null,null,null,null,null,null,null,null,null,null,null,null,null,null,null,null,null,null,null,null,null,null,null,null,null,null,null,null,null,null,null,null,null,{"$f":"'GS FP per Tariff'!B91","v":"Over 1,000 kWh Summer"},null,{"$f":"'GS FP per Tariff'!D91","v":1.9212E-2},{"$f":"'GS FP per Tariff'!E91","v":6.0210000000000003E-3},{"$f":"'GS FP per Tariff'!F91","v":3.5799999999999997E-4},{"$f":"'GS FP per Tariff'!G91","v":0.124982},{"$f":"'GS FP per Tariff'!H91","v":3.8999999999999999E-5},{"$f":"'GS FP per Tariff'!I91","v":0},{"$f":"'GS FP per Tariff'!J91","v":4.7289999999999997E-3},{"$f":"'GS FP per Tariff'!K91","v":7.7000000000000002E-3},{"$f":"'GS FP per Tariff'!L91","v":4.9399999999999997E-4},{"$f":"'GS FP per Tariff'!M91","v":-2.34E-4},1.9067999999999998E-2,{"$f":"'GS FP per Tariff'!N91","v":0.163301},-2.6291902682773483E-18]
[null,null,null,null,null,null,null,null,null,null,null,null,null,null,null,null,null,null,null,null,null,null,null,null,null,null,null,null,null,null,null,{"$f":"AF$2","v":"Rates Effective with Service Rendered June 1, 2025"},null,null,null,null,null,null,null,"Delivery",null,null,null,null,{"$f":"'GS FP per Tariff'!B92","v":"Over 1,000 kWh Winter"},null,{"$f":"'GS FP per Tariff'!D92","v":1.9212E-2},{"$f":"'GS FP per Tariff'!E92","v":6.0210000000000003E-3},{"$f":"'GS FP per Tariff'!F92","v":3.5799999999999997E-4},{"$f":"'GS FP per Tariff'!G92","v":0.124626},{"$f":"'GS FP per Tariff'!H92","v":3.8999999999999999E-5},{"$f":"'GS FP per Tariff'!I92","v":0},{"$f":"'GS FP per Tariff'!J92","v":4.7289999999999997E-3},{"$f":"'GS FP per Tariff'!K92","v":7.7000000000000002E-3},{"$f":"'GS FP per Tariff'!L92","v":4.9399999999999997E-4},{"$f":"'GS FP per Tariff'!M92","v":-2.34E-4},1.9067999999999998E-2,{"$f":"'GS FP per Tariff'!N92","v":0.16294500000000001},-2.6291902682773483E-18]
[null,null,null,null,null,null,null,null,null,null,null,null,null,null,null,null,null,null,null,null,null,null,null,null,null,null,null,"Charge or","Customer",null,null,null,"Energy &","BGS-FP Reconciliation Charge*",{"$f":"$AI$3","v":"Zero Emission Certificate Recovery Charge (ZEC)"},"RGGI\nRecovery\nCharge (RRC)",null,null,null,"Service","Full Service",null,null,null,{"$f":"'GS FP per Tariff'!B95","v":"CTWH-kWh Summer"},null,{"$f":"'GS FP per Tariff'!D95","v":1.9212E-2},{"$f":"'GS FP per Tariff'!E95","v":2.9064E-2},{"$f":"'GS FP per Tariff'!F95","v":3.5799999999999997E-4},{"$f":"'GS FP per Tariff'!G95","v":0.128414},{"$f":"'GS FP per Tariff'!H95","v":3.8999999999999999E-5},{"$f":"'GS FP per Tariff'!I95","v":0},{"$f":"'GS FP per Tariff'!J95","v":4.7289999999999997E-3},{"$f":"'GS FP per Tariff'!K95","v":7.7000000000000002E-3},{"$f":"'GS FP per Tariff'!L95","v":4.9399999999999997E-4},{"$f":"'GS FP per Tariff'!M95","v":-2.34E-4},4.2111000000000003E-2,{"$f":"'GS FP per Tariff'!N95","v":0.189776},-1.6506978076091805E-17]
[null,null,null,null,null,null,null,null,null,null,null,null,null,null,null,null,null,null,null,null,null,null,null,null,null,"Rate Category","Description","Price Block","Charge","Transmission*","Distribution","Covid-19 Recovery","Capacity*",null,null,null,"SBC","LRAM","NGC","Total","Total",null,null,null,{"$f":"'GS FP per Tariff'!B96","v":"CTWH-kWh Winter"},null,{"$f":"'GS FP per Tariff'!D96","v":1.9212E-2},{"$f":"'GS FP per Tariff'!E96","v":2.9064E-2},{"$f":"'GS FP per Tariff'!F96","v":3.5799999999999997E-4},{"$f":"'GS FP per Tariff'!G96","v":0.12782199999999999},{"$f":"'GS FP per Tariff'!H96","v":3.8999999999999999E-5},{"$f":"'GS FP per Tariff'!I96","v":0},{"$f":"'GS FP per Tariff'!J96","v":4.7289999999999997E-3},{"$f":"'GS FP per Tariff'!K96","v":7.7000000000000002E-3},{"$f":"'GS FP per Tariff'!L96","v":4.9399999999999997E-4},{"$f":"'GS FP per Tariff'!M96","v":-2.34E-4},4.2111000000000003E-2,{"$f":"'GS FP per Tariff'!N96","v":0.18918400000000002},1.1248597539537109E-17]
[null,null,null,null,null,null,null,null,null,null,null,null,null,null,null,null,null,null,null,null,null,null,null,null,null,"JC_GS1_11D","General Service Secondary - 1 Phase","Customer Charge",{"$f":"'GS FP per Tariff'!C77","v":4.6500000000000004},null,null,null,null,null,null,null,null,null,null,{"$f":"AC427","v":4.6500000000000004},"N/A",null,null,null,"* Charge applies only to Full Service Customers",null,null,{"$f":"\"** First 1,000 kWh includes distribution charge credit of  - $\" & FIXED(-'GS FP per Tariff'!$E$99,6) & \" per kWh.\"","v":"** First 1,000 kWh includes distribution charge credit of  - $0.038383 per kWh."}]
[null,null,null,null,null,null,null,null,null,null,null,null,null,null,null,null,null,null,null,null,null,null,null,null,null,null,"Religious House of Worship Provision**","Suppl OPWH Cust Charge",{"$f":"'GS FP per Tariff'!C79","v":2.23},null,null,null,null,null,null,null,null,null,null,{"$f":"AC428","v":2.23},"N/A",null,null,null,"*** The Controlled Water Heating (CTWH) usage is measured only on the water heating meter."]
[null,null,null,null,null,null,null,null,null,null,null,null,null,null,null,null,null,null,null,null,null,null,null,null,null,null,"Off-Peak Water Heating Provision ***",{"$f":"'GS FP per Tariff'!B84","v":"Over 10  KW Summer"},null,null,{"$f":"'GS FP per Tariff'!E84","v":9},null,null,null,null,null,null,null,null,{"$f":"AE429","v":9},"N/A"]
[null,null,null,null,null,null,null,null,null,null,null,null,null,null,null,null,null,null,null,null,null,null,null,null,null,null,"Delivery Service Only",{"$f":"'GS FP per Tariff'!B85","v":"Over 10  KW Winter"},null,null,{"$f":"'GS FP per Tariff'!E85","v":8.3800000000000008},null,null,null,null,null,null,null,null,{"$f":"AE430","v":8.3800000000000008},"N/A",null,null,null,null,null,null,null,{"$f":"AF$2","v":"Rates Effective with Service Rendered June 1, 2025"},null,null,null,null,null,null,null,"Delivery"]
[null,null,null,null,null,null,null,null,null,null,null,null,null,null,null,null,null,null,null,null,null,null,null,null,null,null,"All Taxes Applicable & Included",{"$f":"'GS FP per Tariff'!B87","v":"Minimum Bill-Over 10 KW "},null,null,{"$f":"'GS FP per Tariff'!E87","v":4.08},null,null,null,null,null,null,null,null,{"$f":"AE431","v":4.08},"N/A",null,null,null,"Charge or","Customer",null,null,null,"Energy &","BGS-FP Reconciliation Charge*",{"$f":"$AI$3","v":"Zero Emission Certificate Recovery Charge (ZEC)"},"RGGI\nRecovery\nCharge (RRC)",null,null,null,"Service","Full Service"]
[null,null,null,null,null,null,null,null,null,null,null,null,null,null,null,null,null,null,null,null,null,null,null,null,null,null,null,{"$f":"'GS FP per Tariff'!B89","v":"First 1,000 kWh Summer"},null,"N/A",{"$f":"'GS FP per Tariff'!E89+'GS FP per Tariff'!E99","v":3.6904999999999993E-2},{"$f":"'GS FP per Tariff'!F89","v":3.5799999999999997E-4},"N/A","N/A",{"$f":"'GS FP per Tariff'!I89","v":0},{"$f":"'GS FP per Tariff'!J89","v":4.7289999999999997E-3},{"$f":"'GS FP per Tariff'!K89","v":7.7000000000000002E-3},{"$f":"'GS FP per Tariff'!L89","v":4.9399999999999997E-4},{"$f":"'GS FP per Tariff'!M89","v":-2.34E-4},{"$f":"SUM(AE432:AF432,AI432:AM432)","v":4.9951999999999989E-2},"N/A",null,"Rate Category","Description","Price Block","Charge","Transmission*","Distribution","SRC","Capacity*",null,null,null,"SBC","TAA","MTC","Total","Total"]
[null,null,null,null,null,null,null,null,null,null,null,null,null,null,null,null,null,null,null,null,null,null,null,null,null,null,null,{"$f":"'GS FP per Tariff'!B90","v":"First 1,000 kWh Winter"},null,"N/A",{"$f":"'GS FP per Tariff'!E90+'GS FP per Tariff'!E99","v":3.1279000000000001E-2},{"$f":"'GS FP per Tariff'!F90","v":3.5799999999999997E-4},"N/A","N/A",{"$f":"'GS FP per Tariff'!I90","v":0},{"$f":"'GS FP per Tariff'!J90","v":4.7289999999999997E-3},{"$f":"'GS FP per Tariff'!K90","v":7.7000000000000002E-3},{"$f":"'GS FP per Tariff'!L90","v":4.9399999999999997E-4},{"$f":"'GS FP per Tariff'!M90","v":-2.34E-4},4.4325999999999997E-2,"N/A",null,"JC_GS3_11D","General Service Secondary - 3 Phase","Customer Charge",{"$f":"'GS FP per Tariff'!C78","v":16.690000000000001},null,null,null,null,null,null,null,null,null,null,{"$f":"AT433","v":16.690000000000001},"N/A"]
[null,null,null,null,null,null,null,null,null,null,null,null,null,null,null,null,null,null,null,null,null,null,null,null,null,null,null,{"$f":"'GS FP per Tariff'!B91","v":"Over 1,000 kWh Summer"},null,"N/A",{"$f":"'GS FP per Tariff'!E91","v":6.0210000000000003E-3},{"$f":"'GS FP per Tariff'!F91","v":3.5799999999999997E-4},"N/A","N/A",{"$f":"'GS FP per Tariff'!I91","v":0},{"$f":"'GS FP per Tariff'!J91","v":4.7289999999999997E-3},{"$f":"'GS FP per Tariff'!K91","v":7.7000000000000002E-3},{"$f":"'GS FP per Tariff'!L91","v":4.9399999999999997E-4},{"$f":"'GS FP per Tariff'!M91","v":-2.34E-4},1.9067999999999998E-2,"N/A",null,null,"Religious House of Worship Provision**","Suppl OPWH Cust Charge",{"$f":"'GS FP per Tariff'!C79","v":2.23},null,null,null,null,null,null,null,null,null,null,{"$f":"AT434","v":2.23},"N/A"]
[null,null,null,null,null,null,null,null,null,null,null,null,null,null,null,null,null,null,null,null,null,null,null,null,null,null,null,{"$f":"'GS FP per Tariff'!B92","v":"Over 1,000 kWh Winter"},null,"N/A",{"$f":"'GS FP per Tariff'!E92","v":6.0210000000000003E-3},{"$f":"'GS FP per Tariff'!F92","v":3.5799999999999997E-4},"N/A","N/A",{"$f":"'GS FP per Tariff'!I92","v":0},{"$f":"'GS FP per Tariff'!J92","v":4.7289999999999997E-3},{"$f":"'GS FP per Tariff'!K92","v":7.7000000000000002E-3},{"$f":"'GS FP per Tariff'!L92","v":4.9399999999999997E-4},{"$f":"'GS FP per Tariff'!M92","v":-2.34E-4},1.9067999999999998E-2,"N/A",null,null,"Off-Peak Water Heating Provision ***",{"$f":"'GS FP per Tariff'!B84","v":"Over 10  KW Summer"},null,null,{"$f":"'GS FP per Tariff'!E84","v":9},null,null,null,null,null,null,null,null,{"$f":"AV435","v":9},"N/A"]
[null,null,null,null,null,null,null,null,null,null,null,null,null,null,null,null,null,null,null,null,null,null,null,null,null,null,null,{"$f":"'GS FP per Tariff'!B93","v":"OPWH-kWh Summer"},null,"N/A",{"$f":"'GS FP per Tariff'!E93","v":2.2065999999999999E-2},{"$f":"'GS FP per Tariff'!F93","v":3.5799999999999997E-4},"N/A","N/A",{"$f":"'GS FP per Tariff'!I93","v":0},{"$f":"'GS FP per Tariff'!J93","v":4.7289999999999997E-3},{"$f":"'GS FP per Tariff'!K93","v":7.7000000000000002E-3},{"$f":"'GS FP per Tariff'!L93","v":4.9399999999999997E-4},{"$f":"'GS FP per Tariff'!M93","v":-2.34E-4},3.5113000000000005E-2,"N/A",null,null,"Delivery Service Only",{"$f":"'GS FP per Tariff'!B85","v":"Over 10  KW Winter"},null,null,{"$f":"'GS FP per Tariff'!E85","v":8.3800000000000008},null,null,null,null,null,null,null,null,{"$f":"AV436","v":8.3800000000000008},"N/A"]
[null,null,null,null,null,null,null,null,null,null,null,null,null,null,null,null,null,null,null,null,null,null,null,null,null,null,null,{"$f":"'GS FP per Tariff'!B93","v":"OPWH-kWh Summer"},null,"N/A",{"$f":"'GS FP per Tariff'!E94","v":2.2065999999999999E-2},{"$f":"'GS FP per Tariff'!F94","v":3.5799999999999997E-4},"N/A","N/A",{"$f":"'GS FP per Tariff'!I94","v":0},{"$f":"'GS FP per Tariff'!J94","v":4.7289999999999997E-3},{"$f":"'GS FP per Tariff'!K94","v":7.7000000000000002E-3},{"$f":"'GS FP per Tariff'!L94","v":4.9399999999999997E-4},{"$f":"'GS FP per Tariff'!M94","v":-2.34E-4},3.5113000000000005E-2,"N/A",null,null,"All Taxes Applicable & Included",{"$f":"'GS FP per Tariff'!B87","v":"Minimum Bill-Over 10 KW "},null,null,{"$f":"'GS FP per Tariff'!E87","v":4.08},null,null,null,null,null,null,null,null,{"$f":"AV437","v":4.08},"N/A"]
[null,null,null,null,null,null,null,null,null,null,null,null,null,null,null,null,null,null,null,null,null,null,null,null,null,null,null,"* Charge applies only to Full Service Customers",null,null,{"$f":"\"** First 1,000 kWh includes distribution charge credit of  - $\" & FIXED(-'GS FP per Tariff'!$E$99,6) & \" per kWh.\"","v":"** First 1,000 kWh includes distribution charge credit of  - $0.038383 per kWh."},null,null,null,null,null,null,null,null,null,null,null,null,null,{"$f":"'GS FP per Tariff'!B89","v":"First 1,000 kWh Summer"},null,"N/A",{"$f":"'GS FP per Tariff'!E89+'GS FP per Tariff'!E99","v":3.6904999999999993E-2},{"$f":"'GS FP per Tariff'!F89","v":3.5799999999999997E-4},"N/A","N/A",{"$f":"'GS FP per Tariff'!I89","v":0},{"$f":"'GS FP per Tariff'!J89","v":4.7289999999999997E-3},{"$f":"'GS FP per Tariff'!K89","v":7.7000000000000002E-3},{"$f":"'GS FP per Tariff'!L89","v":4.9399999999999997E-4},{"$f":"'GS FP per Tariff'!M89","v":-2.34E-4},{"$f":"SUM(AV438:AW438,AZ438:BD438)","v":4.9951999999999989E-2},"N/A"]
[null,null,null,null,null,null,null,null,null,null,null,null,null,null,null,null,null,null,null,null,null,null,null,null,null,null,null,"*** The Off-Peak Water Heating (OPWH) usage is measured on both the primary meter and the water heating meter.",null,null,null,null,null,null,null,null,null,null,null,null,null,null,null,null,{"$f":"'GS FP per Tariff'!B90","v":"First 1,000 kWh Winter"},null,"N/A",{"$f":"'GS FP per Tariff'!E90+'GS FP per Tariff'!E99","v":3.1279000000000001E-2},{"$f":"'GS FP per Tariff'!F90","v":3.5799999999999997E-4},"N/A","N/A",{"$f":"'GS FP per Tariff'!I90","v":0},{"$f":"'GS FP per Tariff'!J90","v":4.7289999999999997E-3},{"$f":"'GS FP per Tariff'!K90","v":7.7000000000000002E-3},{"$f":"'GS FP per Tariff'!L90","v":4.9399999999999997E-4},{"$f":"'GS FP per Tariff'!M90","v":-2.34E-4},4.4325999999999997E-2,"N/A"]
[null,null,null,null,null,null,null,null,null,null,null,null,null,null,null,null,null,null,null,null,null,null,null,null,null,null,null,"      The water heating usage is subtracted from primary meter before billing non-water heating usage.",null,null,null,null,null,null,null,null,null,null,null,null,null,null,null,null,{"$f":"'GS FP per Tariff'!B91","v":"Over 1,000 kWh Summer"},null,"N/A",{"$f":"'GS FP per Tariff'!E91","v":6.0210000000000003E-3},{"$f":"'GS FP per Tariff'!F91","v":3.5799999999999997E-4},"N/A","N/A",{"$f":"'GS FP per Tariff'!I91","v":0},{"$f":"'GS FP per Tariff'!J91","v":4.7289999999999997E-3},{"$f":"'GS FP per Tariff'!K91","v":7.7000000000000002E-3},{"$f":"'GS FP per Tariff'!L91","v":4.9399999999999997E-4},{"$f":"'GS FP per Tariff'!M91","v":-2.34E-4},1.9067999999999998E-2,"N/A"]
[null,null,null,null,null,null,null,null,null,null,null,null,null,null,null,null,null,null,null,null,null,null,null,null,null,null,null,null,null,null,null,null,null,null,null,null,null,null,null,null,null,null,null,null,{"$f":"'GS FP per Tariff'!B92","v":"Over 1,000 kWh Winter"},null,"N/A",{"$f":"'GS FP per Tariff'!E92","v":6.0210000000000003E-3},{"$f":"'GS FP per Tariff'!F92","v":3.5799999999999997E-4},"N/A","N/A",{"$f":"'GS FP per Tariff'!I92","v":0},{"$f":"'GS FP per Tariff'!J92","v":4.7289999999999997E-3},{"$f":"'GS FP per Tariff'!K92","v":7.7000000000000002E-3},{"$f":"'GS FP per Tariff'!L92","v":4.9399999999999997E-4},{"$f":"'GS FP per Tariff'!M92","v":-2.34E-4},1.9067999999999998E-2,"N/A"]
[null,null,null,null,null,null,null,null,null,null,null,null,null,null,null,null,null,null,null,null,null,null,null,null,null,null,null,null,null,null,null,{"$f":"AF$2","v":"Rates Effective with Service Rendered June 1, 2025"},null,null,null,null,null,null,null,"Delivery",null,null,null,null,{"$f":"'GS FP per Tariff'!B93","v":"OPWH-kWh Summer"},null,"N/A",{"$f":"'GS FP per Tariff'!E93","v":2.2065999999999999E-2},{"$f":"'GS FP per Tariff'!F93","v":3.5799999999999997E-4},"N/A","N/A",{"$f":"'GS FP per Tariff'!I93","v":0},{"$f":"'GS FP per Tariff'!J93","v":4.7289999999999997E-3},{"$f":"'GS FP per Tariff'!K93","v":7.7000000000000002E-3},{"$f":"'GS FP per Tariff'!L93","v":4.9399999999999997E-4},{"$f":"'GS FP per Tariff'!M93","v":-2.34E-4},3.5113000000000005E-2,"N/A"]
[null,null,null,null,null,null,null,null,null,null,null,null,null,null,null,null,null,null,null,null,null,null,null,null,null,null,null,"Charge or","Customer",null,null,null,"Energy &","BGS-FP Reconciliation Charge*",{"$f":"$AI$3","v":"Zero Emission Certificate Recovery Charge (ZEC)"},"RGGI\nRecovery\nCharge (RRC)",null,null,null,"Service","Full Service",null,null,null,{"$f":"'GS FP per Tariff'!B93","v":"OPWH-kWh Summer"},null,"N/A",{"$f":"'GS FP per Tariff'!E94","v":2.2065999999999999E-2},{"$f":"'GS FP per Tariff'!F94","v":3.5799999999999997E-4},"N/A","N/A",{"$f":"'GS FP per Tariff'!I94","v":0},{"$f":"'GS FP per Tariff'!J94","v":4.7289999999999997E-3},{"$f":"'GS FP per Tariff'!K94","v":7.7000000000000002E-3},{"$f":"'GS FP per Tariff'!L94","v":4.9399999999999997E-4},{"$f":"'GS FP per Tariff'!M94","v":-2.34E-4},3.5113000000000005E-2,"N/A"]
[null,null,null,null,null,null,null,null,null,null,null,null,null,null,null,null,null,null,null,null,null,null,null,null,null,"Rate Category","Description","Price Block","Charge","Transmission*","Distribution","Covid-19 Recovery","Capacity*",null,null,null,"SBC","LRAM","NGC","Charges","Total",null,null,null,"* Charge applies only to Full Service Customers",null,null,{"$f":"\"** First 1,000 kWh includes distribution charge credit of  - $\" & FIXED(-'GS FP per Tariff'!$E$99,6) & \" per kWh.\"","v":"** First 1,000 kWh includes distribution charge credit of  - $0.038383 per kWh."}]
[null,null,null,null,null,null,null,null,null,null,null,null,null,null,null,null,null,null,null,null,null,null,null,null,null,"JC_GS1_11F","General Service Secondary - 1 Phase","Customer Charge",{"$f":"'GS FP per Tariff'!C77","v":4.6500000000000004},null,null,null,null,null,null,null,null,null,null,{"$f":"AC445","v":4.6500000000000004},{"$f":"AC445","v":4.6500000000000004},null,null,null,"*** The Off-Peak Water Heating (OPWH) usage is measured on both the primary meter and the water heating meter."]
[null,null,null,null,null,null,null,null,null,null,null,null,null,null,null,null,null,null,null,null,null,null,null,null,null,null,"Religious House of Worship Provision**","Suppl OPWH Cust Charge",{"$f":"'GS FP per Tariff'!C79","v":2.23},null,null,null,null,null,null,null,null,null,null,{"$f":"AC446","v":2.23},{"$f":"AC446","v":2.23},null,null,null,"      The water heating usage is subtracted from primary meter before billing non-water heating usage."]
[null,null,null,null,null,null,null,null,null,null,null,null,null,null,null,null,null,null,null,null,null,null,null,null,null,null,"Off-Peak Water Heating Provision ***",{"$f":"'GS FP per Tariff'!B84","v":"Over 10  KW Summer"},null,null,{"$f":"'GS FP per Tariff'!E84","v":9},null,null,null,null,null,null,null,null,{"$f":"AE447","v":9},{"$f":"AE447","v":9}]
[null,null,null,null,null,null,null,null,null,null,null,null,null,null,null,null,null,null,null,null,null,null,null,null,null,null,"Full Service",{"$f":"'GS FP per Tariff'!B85","v":"Over 10  KW Winter"},null,null,{"$f":"'GS FP per Tariff'!E85","v":8.3800000000000008},null,null,null,null,null,null,null,null,{"$f":"AE448","v":8.3800000000000008},{"$f":"AE448","v":8.3800000000000008},null,null,null,null,null,null,null,{"$f":"AF$2","v":"Rates Effective with Service Rendered June 1, 2025"},null,null,null,null,null,null,null,"Delivery"]
[null,null,null,null,null,null,null,null,null,null,null,null,null,null,null,null,null,null,null,null,null,null,null,null,null,null,"All Taxes Applicable & Included",{"$f":"'GS FP per Tariff'!B87","v":"Minimum Bill-Over 10 KW "},null,null,{"$f":"'GS FP per Tariff'!E87","v":4.08},null,null,null,null,null,null,null,null,{"$f":"AE449","v":4.08},{"$f":"AE449","v":4.08},null,null,null,"Charge or","Customer",null,null,null,"Energy &","BGS-FP Reconciliation Charge*",{"$f":"$AI$3","v":"Zero Emission Certificate Recovery Charge (ZEC)"},"RGGI\nRecovery\nCharge (RRC)",null,null,null,"Service","Full Service"]
[null,null,null,null,null,null,null,null,null,null,null,null,null,null,null,null,null,null,null,null,null,null,null,null,null,null,null,{"$f":"'GS FP per Tariff'!B89","v":"First 1,000 kWh Summer"},null,{"$f":"'GS FP per Tariff'!D89","v":1.9212E-2},{"$f":"'GS FP per Tariff'!E89+'GS FP per Tariff'!E99","v":3.6904999999999993E-2},{"$f":"'GS FP per Tariff'!F89","v":3.5799999999999997E-4},{"$f":"'GS FP per Tariff'!G89","v":0.124982},{"$f":"'GS FP per Tariff'!H89","v":3.8999999999999999E-5},{"$f":"'GS FP per Tariff'!I89","v":0},{"$f":"'GS FP per Tariff'!J89","v":4.7289999999999997E-3},{"$f":"'GS FP per Tariff'!K89","v":7.7000000000000002E-3},{"$f":"'GS FP per Tariff'!L89","v":4.9399999999999997E-4},{"$f":"'GS FP per Tariff'!M89","v":-2.34E-4},{"$f":"SUM(AE450:AF450,AI450:AM450)","v":4.9951999999999989E-2},{"$f":"'GS FP per Tariff'!N89+'GS FP per Tariff'!E99","v":0.194185},null,"Rate Category","Description","Price Block","Charge","Transmission*","Distribution","SRC","Capacity*",null,null,null,"SBC","TAA","MTC","Charges","Total"]
[null,null,null,null,null,null,null,null,null,null,null,null,null,null,null,null,null,null,null,null,null,null,null,null,null,null,null,{"$f":"'GS FP per Tariff'!B90","v":"First 1,000 kWh Winter"},null,{"$f":"'GS FP per Tariff'!D90","v":1.9212E-2},{"$f":"'GS FP per Tariff'!E90+'GS FP per Tariff'!E99","v":3.1279000000000001E-2},{"$f":"'GS FP per Tariff'!F90","v":3.5799999999999997E-4},{"$f":"'GS FP per Tariff'!G90","v":0.124626},{"$f":"'GS FP per Tariff'!H90","v":3.8999999999999999E-5},{"$f":"'GS FP per Tariff'!I90","v":0},{"$f":"'GS FP per Tariff'!J90","v":4.7289999999999997E-3},{"$f":"'GS FP per Tariff'!K90","v":7.7000000000000002E-3},{"$f":"'GS FP per Tariff'!L90","v":4.9399999999999997E-4},{"$f":"'GS FP per Tariff'!M90","v":-2.34E-4},4.4325999999999997E-2,{"$f":"'GS FP per Tariff'!N90+'GS FP per Tariff'!E99","v":0.18820300000000001},null,"JC_GS3_11F","General Service Secondary - 3 Phase","Customer Charge",{"$f":"'GS FP per Tariff'!C78","v":16.690000000000001},null,null,null,null,null,null,null,null,null,null,{"$f":"AT451","v":16.690000000000001},{"$f":"AT451","v":16.690000000000001}]
[null,null,null,null,null,null,null,null,null,null,null,null,null,null,null,null,null,null,null,null,null,null,null,null,null,null,null,{"$f":"'GS FP per Tariff'!B91","v":"Over 1,000 kWh Summer"},null,{"$f":"'GS FP per Tariff'!D91","v":1.9212E-2},{"$f":"'GS FP per Tariff'!E91","v":6.0210000000000003E-3},{"$f":"'GS FP per Tariff'!F91","v":3.5799999999999997E-4},{"$f":"'GS FP per Tariff'!G91","v":0.124982},{"$f":"'GS FP per Tariff'!H91","v":3.8999999999999999E-5},{"$f":"'GS FP per Tariff'!I91","v":0},{"$f":"'GS FP per Tariff'!J91","v":4.7289999999999997E-3},{"$f":"'GS FP per Tariff'!K91","v":7.7000000000000002E-3},{"$f":"'GS FP per Tariff'!L91","v":4.9399999999999997E-4},{"$f":"'GS FP per Tariff'!M91","v":-2.34E-4},1.9067999999999998E-2,{"$f":"'GS FP per Tariff'!N91","v":0.163301},null,null,"Religious House of Worship Provision**","Suppl OPWH Cust Charge",{"$f":"'GS FP per Tariff'!C79","v":2.23},null,null,null,null,null,null,null,null,null,null,{"$f":"AT452","v":2.23},{"$f":"AT452","v":2.23}]
[null,null,null,null,null,null,null,null,null,null,null,null,null,null,null,null,null,null,null,null,null,null,null,null,null,null,null,{"$f":"'GS FP per Tariff'!B92","v":"Over 1,000 kWh Winter"},null,{"$f":"'GS FP per Tariff'!D92","v":1.9212E-2},{"$f":"'GS FP per Tariff'!E92","v":6.0210000000000003E-3},{"$f":"'GS FP per Tariff'!F92","v":3.5799999999999997E-4},{"$f":"'GS FP per Tariff'!G92","v":0.124626},{"$f":"'GS FP per Tariff'!H92","v":3.8999999999999999E-5},{"$f":"'GS FP per Tariff'!I92","v":0},{"$f":"'GS FP per Tariff'!J92","v":4.7289999999999997E-3},{"$f":"'GS FP per Tariff'!K92","v":7.7000000000000002E-3},{"$f":"'GS FP per Tariff'!L92","v":4.9399999999999997E-4},{"$f":"'GS FP per Tariff'!M92","v":-2.34E-4},1.9067999999999998E-2,{"$f":"'GS FP per Tariff'!N92","v":0.16294500000000001},null,null,"Off-Peak Water Heating Provision ***",{"$f":"'GS FP per Tariff'!B84","v":"Over 10  KW Summer"},null,null,{"$f":"'GS FP per Tariff'!E84","v":9},null,null,null,null,null,null,null,null,{"$f":"AV453","v":9},{"$f":"AV453","v":9}]
[null,null,null,null,null,null,null,null,null,null,null,null,null,null,null,null,null,null,null,null,null,null,null,null,null,null,null,{"$f":"'GS FP per Tariff'!B93","v":"OPWH-kWh Summer"},null,{"$f":"'GS FP per Tariff'!D93","v":1.9212E-2},{"$f":"'GS FP per Tariff'!E93","v":2.2065999999999999E-2},{"$f":"'GS FP per Tariff'!F93","v":3.5799999999999997E-4},{"$f":"'GS FP per Tariff'!G93","v":0.128414},{"$f":"'GS FP per Tariff'!H93","v":3.8999999999999999E-5},{"$f":"'GS FP per Tariff'!I93","v":0},{"$f":"'GS FP per Tariff'!J93","v":4.7289999999999997E-3},{"$f":"'GS FP per Tariff'!K93","v":7.7000000000000002E-3},{"$f":"'GS FP per Tariff'!L93","v":4.9399999999999997E-4},{"$f":"'GS FP per Tariff'!M93","v":-2.34E-4},3.5113000000000005E-2,{"$f":"'GS FP per Tariff'!N93","v":0.182778},null,null,"Full service",{"$f":"'GS FP per Tariff'!B85","v":"Over 10  KW Winter"},null,null,{"$f":"'GS FP per Tariff'!E85","v":8.3800000000000008},null,null,null,null,null,null,null,null,{"$f":"AV454","v":8.3800000000000008},{"$f":"AV454","v":8.3800000000000008}]
[null,null,null,null,null,null,null,null,null,null,null,null,null,null,null,null,null,null,null,null,null,null,null,null,null,null,null,{"$f":"'GS FP per Tariff'!B94","v":"OPWH-kWh Winter"},null,{"$f":"'GS FP per Tariff'!D94","v":1.9212E-2},{"$f":"'GS FP per Tariff'!E94","v":2.2065999999999999E-2},{"$f":"'GS FP per Tariff'!F94","v":3.5799999999999997E-4},{"$f":"'GS FP per Tariff'!G94","v":0.12782199999999999},{"$f":"'GS FP per Tariff'!H94","v":3.8999999999999999E-5},{"$f":"'GS FP per Tariff'!I94","v":0},{"$f":"'GS FP per Tariff'!J94","v":4.7289999999999997E-3},{"$f":"'GS FP per Tariff'!K94","v":7.7000000000000002E-3},{"$f":"'GS FP per Tariff'!L94","v":4.9399999999999997E-4},{"$f":"'GS FP per Tariff'!M94","v":-2.34E-4},3.5113000000000005E-2,{"$f":"'GS FP per Tariff'!N94","v":0.18218600000000001},null,null,"All Taxes Applicable & Included",{"$f":"'GS FP per Tariff'!B87","v":"Minimum Bill-Over 10 KW "},null,null,{"$f":"'GS FP per Tariff'!E87","v":4.08},null,null,null,null,null,null,null,null,{"$f":"AV455","v":4.08},{"$f":"AV455","v":4.08}]
[null,null,null,null,null,null,null,null,null,null,null,null,null,null,null,null,null,null,null,null,null,null,null,null,null,null,null,"* Charge applies only to Full Service Customers",null,null,{"$f":"\"** First 1,000 kWh includes distribution charge credit of  - $\" & FIXED(-'GS FP per Tariff'!$E$99,6) & \" per kWh.\"","v":"** First 1,000 kWh includes distribution charge credit of  - $0.038383 per kWh."},null,null,null,null,null,null,null,null,null,null,null,null,null,{"$f":"'GS FP per Tariff'!B89","v":"First 1,000 kWh Summer"},null,{"$f":"'GS FP per Tariff'!D89","v":1.9212E-2},{"$f":"'GS FP per Tariff'!E89+'GS FP per Tariff'!E99","v":3.6904999999999993E-2},{"$f":"'GS FP per Tariff'!F89","v":3.5799999999999997E-4},{"$f":"'GS FP per Tariff'!G89","v":0.124982},{"$f":"'GS FP per Tariff'!H89","v":3.8999999999999999E-5},{"$f":"'GS FP per Tariff'!I89","v":0},{"$f":"'GS FP per Tariff'!J89","v":4.7289999999999997E-3},{"$f":"'GS FP per Tariff'!K89","v":7.7000000000000002E-3},{"$f":"'GS FP per Tariff'!L89","v":4.9399999999999997E-4},{"$f":"'GS FP per Tariff'!M89","v":-2.34E-4},{"$f":"SUM(AV456:AW456,AZ456:BD456)","v":4.9951999999999989E-2},{"$f":"'GS FP per Tariff'!N89+'GS FP per Tariff'!E99","v":0.194185},{"$f":"BF456-BE456-AU456-AX456-AY456","v":-2.6291902682773483E-18}]
[null,null,null,null,null,null,null,null,null,null,null,null,null,null,null,null,null,null,null,null,null,null,null,null,null,null,null,"*** The Off-Peak Water Heating (OPWH) usage is measured on both the primary meter and the water heating meter.",null,null,null,null,null,null,null,null,null,null,null,null,null,null,null,null,{"$f":"'GS FP per Tariff'!B90","v":"First 1,000 kWh Winter"},null,{"$f":"'GS FP per Tariff'!D90","v":1.9212E-2},{"$f":"'GS FP per Tariff'!E90+'GS FP per Tariff'!E99","v":3.1279000000000001E-2},{"$f":"'GS FP per Tariff'!F90","v":3.5799999999999997E-4},{"$f":"'GS FP per Tariff'!G90","v":0.124626},{"$f":"'GS FP per Tariff'!H90","v":3.8999999999999999E-5},{"$f":"'GS FP per Tariff'!I90","v":0},{"$f":"'GS FP per Tariff'!J90","v":4.7289999999999997E-3},{"$f":"'GS FP per Tariff'!K90","v":7.7000000000000002E-3},{"$f":"'GS FP per Tariff'!L90","v":4.9399999999999997E-4},{"$f":"'GS FP per Tariff'!M90","v":-2.34E-4},4.4325999999999997E-2,{"$f":"'GS FP per Tariff'!N90+'GS FP per Tariff'!E99","v":0.18820300000000001},-2.6291902682773483E-18]
[null,null,null,null,null,null,null,null,null,null,null,null,null,null,null,null,null,null,null,null,null,null,null,null,null,null,null,"      The water heating usage is subtracted from primary meter before billing non-water heating usage.",null,null,null,null,null,null,null,null,null,null,null,null,null,null,null,null,{"$f":"'GS FP per Tariff'!B91","v":"Over 1,000 kWh Summer"},null,{"$f":"'GS FP per Tariff'!D91","v":1.9212E-2},{"$f":"'GS FP per Tariff'!E91","v":6.0210000000000003E-3},{"$f":"'GS FP per Tariff'!F91","v":3.5799999999999997E-4},{"$f":"'GS FP per Tariff'!G91","v":0.124982},{"$f":"'GS FP per Tariff'!H91","v":3.8999999999999999E-5},{"$f":"'GS FP per Tariff'!I91","v":0},{"$f":"'GS FP per Tariff'!J91","v":4.7289999999999997E-3},{"$f":"'GS FP per Tariff'!K91","v":7.7000000000000002E-3},{"$f":"'GS FP per Tariff'!L91","v":4.9399999999999997E-4},{"$f":"'GS FP per Tariff'!M91","v":-2.34E-4},1.9067999999999998E-2,{"$f":"'GS FP per Tariff'!N91","v":0.163301},-2.6291902682773483E-18]
[null,null,null,null,null,null,null,null,null,null,null,null,null,null,null,null,null,null,null,null,null,null,null,null,null,null,null,null,null,null,null,null,null,null,null,null,null,null,null,null,null,null,null,null,{"$f":"'GS FP per Tariff'!B92","v":"Over 1,000 kWh Winter"},null,{"$f":"'GS FP per Tariff'!D92","v":1.9212E-2},{"$f":"'GS FP per Tariff'!E92","v":6.0210000000000003E-3},{"$f":"'GS FP per Tariff'!F92","v":3.5799999999999997E-4},{"$f":"'GS FP per Tariff'!G92","v":0.124626},{"$f":"'GS FP per Tariff'!H92","v":3.8999999999999999E-5},{"$f":"'GS FP per Tariff'!I92","v":0},{"$f":"'GS FP per Tariff'!J92","v":4.7289999999999997E-3},{"$f":"'GS FP per Tariff'!K92","v":7.7000000000000002E-3},{"$f":"'GS FP per Tariff'!L92","v":4.9399999999999997E-4},{"$f":"'GS FP per Tariff'!M92","v":-2.34E-4},1.9067999999999998E-2,{"$f":"'GS FP per Tariff'!N92","v":0.16294500000000001},-2.6291902682773483E-18]
[null,null,null,null,null,null,null,null,null,null,null,null,null,null,null,null,null,null,null,null,null,null,null,null,null,null,null,null,null,null,null,{"$f":"AF$2","v":"Rates Effective with Service Rendered June 1, 2025"},null,null,null,null,null,null,null,"Delivery",null,null,null,null,{"$f":"'GS FP per Tariff'!B93","v":"OPWH-kWh Summer"},null,{"$f":"'GS FP per Tariff'!D93","v":1.9212E-2},{"$f":"'GS FP per Tariff'!E93","v":2.2065999999999999E-2},{"$f":"'GS FP per Tariff'!F93","v":3.5799999999999997E-4},{"$f":"'GS FP per Tariff'!G93","v":0.128414},{"$f":"'GS FP per Tariff'!H93","v":3.8999999999999999E-5},{"$f":"'GS FP per Tariff'!I93","v":0},{"$f":"'GS FP per Tariff'!J93","v":4.7289999999999997E-3},{"$f":"'GS FP per Tariff'!K93","v":7.7000000000000002E-3},{"$f":"'GS FP per Tariff'!L93","v":4.9399999999999997E-4},{"$f":"'GS FP per Tariff'!M93","v":-2.34E-4},3.5113000000000005E-2,{"$f":"'GS FP per Tariff'!N93","v":0.182778},-1.6506978076091805E-17]
[null,null,null,null,null,null,null,null,null,null,null,null,null,null,null,null,null,null,null,null,null,null,null,null,null,null,null,"Charge or","Customer",null,null,null,"Energy &","BGS-FP Reconciliation Charge*",{"$f":"$AI$3","v":"Zero Emission Certificate Recovery Charge (ZEC)"},"RGGI\nRecovery\nCharge (RRC)",null,null,null,"Service","Full Service",null,null,null,{"$f":"'GS FP per Tariff'!B94","v":"OPWH-kWh Winter"},null,{"$f":"'GS FP per Tariff'!D94","v":1.9212E-2},{"$f":"'GS FP per Tariff'!E94","v":2.2065999999999999E-2},{"$f":"'GS FP per Tariff'!F94","v":3.5799999999999997E-4},{"$f":"'GS FP per Tariff'!G94","v":0.12782199999999999},{"$f":"'GS FP per Tariff'!H94","v":3.8999999999999999E-5},{"$f":"'GS FP per Tariff'!I94","v":0},{"$f":"'GS FP per Tariff'!J94","v":4.7289999999999997E-3},{"$f":"'GS FP per Tariff'!K94","v":7.7000000000000002E-3},{"$f":"'GS FP per Tariff'!L94","v":4.9399999999999997E-4},{"$f":"'GS FP per Tariff'!M94","v":-2.34E-4},3.5113000000000005E-2,{"$f":"'GS FP per Tariff'!N94","v":0.18218600000000001},1.1248597539537109E-17]
[null,null,null,null,null,null,null,null,null,null,null,null,null,null,null,null,null,null,null,null,null,null,null,null,null,"Rate Category","Description","Price Block","Charge","Transmission*","Distribution","Covid-19 Recovery","Capacity*",null,null,null,"SBC","LRAM","NGC","Total","Total",null,null,null,"* Charge applies only to Full Service Customers",null,null,{"$f":"\"** First 1,000 kWh includes distribution charge credit of  - $\" & FIXED(-'GS FP per Tariff'!$E$99,6) & \" per kWh.\"","v":"** First 1,000 kWh includes distribution charge credit of  - $0.038383 per kWh."}]
[null,null,null,null,null,null,null,null,null,null,null,null,null,null,null,null,null,null,null,null,null,null,null,null,null,"JC_GS1_12D","General Service Secondary - 1 Phase","Customer Charge",{"$f":"'GS FP per Tariff'!C77","v":4.6500000000000004},null,null,null,null,null,null,null,null,null,null,{"$f":"AC463","v":4.6500000000000004},"N/A",null,null,null,"*** The Off-Peak Water Heating (OPWH) usage is measured on both the primary meter and the water heating meter."]
[null,null,null,null,null,null,null,null,null,null,null,null,null,null,null,null,null,null,null,null,null,null,null,null,null,null,"Religious House of Worship Provision**",{"$f":"'GS FP per Tariff'!B84","v":"Over 10  KW Summer"},null,null,{"$f":"'GS FP per Tariff'!E84","v":9},null,null,null,null,null,null,null,null,{"$f":"AE464","v":9},"N/A",null,null,null,"      The water heating usage is subtracted from primary meter before billing non-water heating usage."]
[null,null,null,null,null,null,null,null,null,null,null,null,null,null,null,null,null,null,null,null,null,null,null,null,null,null,"Electric Space Heating Provision***",{"$f":"'GS FP per Tariff'!B85","v":"Over 10  KW Winter"},null,null,{"$f":"'GS FP per Tariff'!E85","v":8.3800000000000008},null,null,null,null,null,null,null,null,{"$f":"AE465","v":8.3800000000000008},"N/A"]
[null,null,null,null,null,null,null,null,null,null,null,null,null,null,null,null,null,null,null,null,null,null,null,null,null,null,"Delivery Service Only",{"$f":"'GS FP per Tariff'!B87","v":"Minimum Bill-Over 10 KW "},null,null,{"$f":"'GS FP per Tariff'!E87","v":4.08},null,null,null,null,null,null,null,null,{"$f":"AE466","v":4.08},"N/A",null,null,null,null,null,null,null,{"$f":"AF$2","v":"Rates Effective with Service Rendered June 1, 2025"},null,null,null,null,null,null,null,"Delivery"]
[null,null,null,null,null,null,null,null,null,null,null,null,null,null,null,null,null,null,null,null,null,null,null,null,null,null,"All Taxes Applicable & Included",{"$f":"'GS FP per Tariff'!B89","v":"First 1,000 kWh Summer"},null,"N/A",{"$f":"'GS FP per Tariff'!E89+'GS FP per Tariff'!E99","v":3.6904999999999993E-2},{"$f":"'GS FP per Tariff'!F89","v":3.5799999999999997E-4},"N/A","N/A",{"$f":"'GS FP per Tariff'!I89","v":0},{"$f":"'GS FP per Tariff'!J89","v":4.7289999999999997E-3},{"$f":"'GS FP per Tariff'!K89","v":7.7000000000000002E-3},{"$f":"'GS FP per Tariff'!L89","v":4.9399999999999997E-4},{"$f":"'GS FP per Tariff'!M89","v":-2.34E-4},{"$f":"SUM(AE467:AF467,AI467:AM467)","v":4.9951999999999989E-2},"N/A",null,null,null,"Charge or","Customer",null,null,null,"Energy &","BGS-FP Reconciliation Charge*",{"$f":"$AI$3","v":"Zero Emission Certificate Recovery Charge (ZEC)"},"RGGI\nRecovery\nCharge (RRC)",null,null,null,"Service","Full Service"]
[null,null,null,null,null,null,null,null,null,null,null,null,null,null,null,null,null,null,null,null,null,null,null,null,null,null,null,{"$f":"'GS FP per Tariff'!B90","v":"First 1,000 kWh Winter"},null,"N/A",{"$f":"'GS FP per Tariff'!E90+'GS FP per Tariff'!E99","v":3.1279000000000001E-2},{"$f":"'GS FP per Tariff'!F90","v":3.5799999999999997E-4},"N/A","N/A",{"$f":"'GS FP per Tariff'!I90","v":0},{"$f":"'GS FP per Tariff'!J90","v":4.7289999999999997E-3},{"$f":"'GS FP per Tariff'!K90","v":7.7000000000000002E-3},{"$f":"'GS FP per Tariff'!L90","v":4.9399999999999997E-4},{"$f":"'GS FP per Tariff'!M90","v":-2.34E-4},4.4325999999999997E-2,"N/A",null,"Rate Category","Description","Price Block","Charge","Transmission*","Distribution","SRC","Capacity*",null,null,null,"SBC","TAA","MTC","Total","Total"]
[null,null,null,null,null,null,null,null,null,null,null,null,null,null,null,null,null,null,null,null,null,null,null,null,null,null,null,{"$f":"'GS FP per Tariff'!B91","v":"Over 1,000 kWh Summer"},null,"N/A",{"$f":"'GS FP per Tariff'!E91","v":6.0210000000000003E-3},{"$f":"'GS FP per Tariff'!F91","v":3.5799999999999997E-4},"N/A","N/A",{"$f":"'GS FP per Tariff'!I91","v":0},{"$f":"'GS FP per Tariff'!J91","v":4.7289999999999997E-3},{"$f":"'GS FP per Tariff'!K91","v":7.7000000000000002E-3},{"$f":"'GS FP per Tariff'!L91","v":4.9399999999999997E-4},{"$f":"'GS FP per Tariff'!M91","v":-2.34E-4},1.9067999999999998E-2,"N/A",null,"JC_GS3_12D","General Service Secondary - 3 Phase","Customer Charge",{"$f":"'GS FP per Tariff'!C78","v":16.690000000000001},null,null,null,null,null,null,null,null,null,null,{"$f":"AT469","v":16.690000000000001},"N/A"]
[null,null,null,null,null,null,null,null,null,null,null,null,null,null,null,null,null,null,null,null,null,null,null,null,null,null,null,{"$f":"'GS FP per Tariff'!B92","v":"Over 1,000 kWh Winter"},null,"N/A",{"$f":"'GS FP per Tariff'!E92","v":6.0210000000000003E-3},{"$f":"'GS FP per Tariff'!F92","v":3.5799999999999997E-4},"N/A","N/A",{"$f":"'GS FP per Tariff'!I92","v":0},{"$f":"'GS FP per Tariff'!J92","v":4.7289999999999997E-3},{"$f":"'GS FP per Tariff'!K92","v":7.7000000000000002E-3},{"$f":"'GS FP per Tariff'!L92","v":4.9399999999999997E-4},{"$f":"'GS FP per Tariff'!M92","v":-2.34E-4},1.9067999999999998E-2,"N/A",null,null,"Religious House of Worship Provision**",{"$f":"'GS FP per Tariff'!B84","v":"Over 10  KW Summer"},null,null,{"$f":"'GS FP per Tariff'!E84","v":9},null,null,null,null,null,null,null,null,{"$f":"AV470","v":9},"N/A"]
[null,null,null,null,null,null,null,null,null,null,null,null,null,null,null,null,null,null,null,null,null,null,null,null,null,null,null,"* Charge applies only to Full Service Customers",null,null,{"$f":"\"** First 1,000 kWh includes distribution charge credit of  - $\" & FIXED(-'GS FP per Tariff'!$E$99,6) & \" per kWh.\"","v":"** First 1,000 kWh includes distribution charge credit of  - $0.038383 per kWh."},null,null,null,null,null,null,null,null,null,null,null,null,"Electric Space Heating Provision***",{"$f":"'GS FP per Tariff'!B85","v":"Over 10  KW Winter"},null,null,{"$f":"'GS FP per Tariff'!E85","v":8.3800000000000008},null,null,null,null,null,null,null,null,{"$f":"AV471","v":8.3800000000000008},"N/A"]
[null,null,null,null,null,null,null,null,null,null,null,null,null,null,null,null,null,null,null,null,null,null,null,null,null,null,null,"*** Minimum demand charge calculation is based on summer kW only",null,null,null,null,null,null,null,null,null,null,null,null,null,null,null,"Delivery Service Only",{"$f":"'GS FP per Tariff'!B87","v":"Minimum Bill-Over 10 KW "},null,null,{"$f":"'GS FP per Tariff'!E87","v":4.08},null,null,null,null,null,null,null,null,{"$f":"AV472","v":4.08},"N/A"]
[null,null,null,null,null,null,null,null,null,null,null,null,null,null,null,null,null,null,null,null,null,null,null,null,null,null,null,null,null,null,null,null,null,null,null,null,null,null,null,null,null,null,null,"All Taxes Applicable & Included",{"$f":"'GS FP per Tariff'!B89","v":"First 1,000 kWh Summer"},null,"N/A",{"$f":"'GS FP per Tariff'!E89+'GS FP per Tariff'!E99","v":3.6904999999999993E-2},{"$f":"'GS FP per Tariff'!F89","v":3.5799999999999997E-4},"N/A","N/A",{"$f":"'GS FP per Tariff'!I89","v":0},{"$f":"'GS FP per Tariff'!J89","v":4.7289999999999997E-3},{"$f":"'GS FP per Tariff'!K89","v":7.7000000000000002E-3},{"$f":"'GS FP per Tariff'!L89","v":4.9399999999999997E-4},{"$f":"'GS FP per Tariff'!M89","v":-2.34E-4},{"$f":"SUM(AV473:AW473,AZ473:BD473)","v":4.9951999999999989E-2},"N/A"]
[null,null,null,null,null,null,null,null,null,null,null,null,null,null,null,null,null,null,null,null,null,null,null,null,null,null,null,null,null,null,null,{"$f":"AF$2","v":"Rates Effective with Service Rendered June 1, 2025"},null,null,null,null,null,null,null,"Delivery",null,null,null,null,{"$f":"'GS FP per Tariff'!B90","v":"First 1,000 kWh Winter"},null,"N/A",{"$f":"'GS FP per Tariff'!E90+'GS FP per Tariff'!E99","v":3.1279000000000001E-2},{"$f":"'GS FP per Tariff'!F90","v":3.5799999999999997E-4},"N/A","N/A",{"$f":"'GS FP per Tariff'!I90","v":0},{"$f":"'GS FP per Tariff'!J90","v":4.7289999999999997E-3},{"$f":"'GS FP per Tariff'!K90","v":7.7000000000000002E-3},{"$f":"'GS FP per Tariff'!L90","v":4.9399999999999997E-4},{"$f":"'GS FP per Tariff'!M90","v":-2.34E-4},4.4325999999999997E-2,"N/A"]
[null,null,null,null,null,null,null,null,null,null,null,null,null,null,null,null,null,null,null,null,null,null,null,null,null,null,null,"Charge or","Customer",null,null,null,"Energy &","BGS-FP Reconciliation Charge*",{"$f":"$AI$3","v":"Zero Emission Certificate Recovery Charge (ZEC)"},"RGGI\nRecovery\nCharge (RRC)",null,null,null,"Service","Full Service",null,null,null,{"$f":"'GS FP per Tariff'!B91","v":"Over 1,000 kWh Summer"},null,"N/A",{"$f":"'GS FP per Tariff'!E91","v":6.0210000000000003E-3},{"$f":"'GS FP per Tariff'!F91","v":3.5799999999999997E-4},"N/A","N/A",{"$f":"'GS FP per Tariff'!I91","v":0},{"$f":"'GS FP per Tariff'!J91","v":4.7289999999999997E-3},{"$f":"'GS FP per Tariff'!K91","v":7.7000000000000002E-3},{"$f":"'GS FP per Tariff'!L91","v":4.9399999999999997E-4},{"$f":"'GS FP per Tariff'!M91","v":-2.34E-4},1.9067999999999998E-2,"N/A"]
[null,null,null,null,null,null,null,null,null,null,null,null,null,null,null,null,null,null,null,null,null,null,null,null,null,"Rate Category","Description","Price Block","Charge","Transmission*","Distribution","Covid-19 Recovery","Capacity*",null,null,null,"SBC","LRAM","NGC","Charges","Total",null,null,null,{"$f":"'GS FP per Tariff'!B92","v":"Over 1,000 kWh Winter"},null,"N/A",{"$f":"'GS FP per Tariff'!E92","v":6.0210000000000003E-3},{"$f":"'GS FP per Tariff'!F92","v":3.5799999999999997E-4},"N/A","N/A",{"$f":"'GS FP per Tariff'!I92","v":0},{"$f":"'GS FP per Tariff'!J92","v":4.7289999999999997E-3},{"$f":"'GS FP per Tariff'!K92","v":7.7000000000000002E-3},{"$f":"'GS FP per Tariff'!L92","v":4.9399999999999997E-4},{"$f":"'GS FP per Tariff'!M92","v":-2.34E-4},1.9067999999999998E-2,"N/A"]
[null,null,null,null,null,null,null,null,null,null,null,null,null,null,null,null,null,null,null,null,null,null,null,null,null,"JC_GS1_12F","General Service Secondary - 1 Phase","Customer Charge",{"$f":"'GS FP per Tariff'!C77","v":4.6500000000000004},null,null,null,null,null,null,null,null,null,null,{"$f":"AC477","v":4.6500000000000004},{"$f":"AC477","v":4.6500000000000004},null,null,null,"* Charge applies only to Full Service Customers",null,null,{"$f":"\"** First 1,000 kWh includes distribution charge credit of  - $\" & FIXED(-'GS FP per Tariff'!$E$99,6) & \" per kWh.\"","v":"** First 1,000 kWh includes distribution charge credit of  - $0.038383 per kWh."}]
[null,null,null,null,null,null,null,null,null,null,null,null,null,null,null,null,null,null,null,null,null,null,null,null,null,null,"Religious House of Worship Provision**",{"$f":"'GS FP per Tariff'!B84","v":"Over 10  KW Summer"},null,null,{"$f":"'GS FP per Tariff'!E84","v":9},null,null,null,null,null,null,null,null,{"$f":"AE478","v":9},{"$f":"AE478","v":9},null,null,null,"*** Minimum demand charge calculation is based on summer kW only"]
[null,null,null,null,null,null,null,null,null,null,null,null,null,null,null,null,null,null,null,null,null,null,null,null,null,null,"Electric Space Heating Provision***",{"$f":"'GS FP per Tariff'!B85","v":"Over 10  KW Winter"},null,null,{"$f":"'GS FP per Tariff'!E85","v":8.3800000000000008},null,null,null,null,null,null,null,null,{"$f":"AE479","v":8.3800000000000008},{"$f":"AE479","v":8.3800000000000008}]
[null,null,null,null,null,null,null,null,null,null,null,null,null,null,null,null,null,null,null,null,null,null,null,null,null,null,"Full Service",{"$f":"'GS FP per Tariff'!B87","v":"Minimum Bill-Over 10 KW "},null,null,{"$f":"'GS FP per Tariff'!E87","v":4.08},null,null,null,null,null,null,null,null,{"$f":"AE480","v":4.08},{"$f":"AE480","v":4.08},null,null,null,null,null,null,null,{"$f":"AF$2","v":"Rates Effective with Service Rendered June 1, 2025"},null,null,null,null,null,null,null,"Delivery"]
[null,null,null,null,null,null,null,null,null,null,null,null,null,null,null,null,null,null,null,null,null,null,null,null,null,null,"All Taxes Applicable & Included",{"$f":"'GS FP per Tariff'!B89","v":"First 1,000 kWh Summer"},null,{"$f":"'GS FP per Tariff'!D89","v":1.9212E-2},{"$f":"'GS FP per Tariff'!E89+'GS FP per Tariff'!E99","v":3.6904999999999993E-2},{"$f":"'GS FP per Tariff'!F89","v":3.5799999999999997E-4},{"$f":"'GS FP per Tariff'!G89","v":0.124982},{"$f":"'GS FP per Tariff'!H89","v":3.8999999999999999E-5},{"$f":"'GS FP per Tariff'!I89","v":0},{"$f":"'GS FP per Tariff'!J89","v":4.7289999999999997E-3},{"$f":"'GS FP per Tariff'!K89","v":7.7000000000000002E-3},{"$f":"'GS FP per Tariff'!L89","v":4.9399999999999997E-4},{"$f":"'GS FP per Tariff'!M89","v":-2.34E-4},{"$f":"SUM(AE481:AF481,AI481:AM481)","v":4.9951999999999989E-2},{"$f":"'GS FP per Tariff'!N89+'GS FP per Tariff'!E99","v":0.194185},null,null,null,"Charge or","Customer",null,null,null,"Energy &","BGS-FP Reconciliation Charge*",{"$f":"$AI$3","v":"Zero Emission Certificate Recovery Charge (ZEC)"},"RGGI\nRecovery\nCharge (RRC)",null,null,null,"Service","Full Service"]
[null,null,null,null,null,null,null,null,null,null,null,null,null,null,null,null,null,null,null,null,null,null,null,null,null,null,null,{"$f":"'GS FP per Tariff'!B90","v":"First 1,000 kWh Winter"},null,{"$f":"'GS FP per Tariff'!D90","v":1.9212E-2},{"$f":"'GS FP per Tariff'!E90+'GS FP per Tariff'!E99","v":3.1279000000000001E-2},{"$f":"'GS FP per Tariff'!F90","v":3.5799999999999997E-4},{"$f":"'GS FP per Tariff'!G90","v":0.124626},{"$f":"'GS FP per Tariff'!H90","v":3.8999999999999999E-5},{"$f":"'GS FP per Tariff'!I90","v":0},{"$f":"'GS FP per Tariff'!J90","v":4.7289999999999997E-3},{"$f":"'GS FP per Tariff'!K90","v":7.7000000000000002E-3},{"$f":"'GS FP per Tariff'!L90","v":4.9399999999999997E-4},{"$f":"'GS FP per Tariff'!M90","v":-2.34E-4},4.4325999999999997E-2,{"$f":"'GS FP per Tariff'!N90+'GS FP per Tariff'!E99","v":0.18820300000000001},null,"Rate Category","Description","Price Block","Charge","Transmission*","Distribution","SRC","Capacity*",null,null,null,"SBC","TAA","MTC","Charges","Total"]
[null,null,null,null,null,null,null,null,null,null,null,null,null,null,null,null,null,null,null,null,null,null,null,null,null,null,null,{"$f":"'GS FP per Tariff'!B91","v":"Over 1,000 kWh Summer"},null,{"$f":"'GS FP per Tariff'!D91","v":1.9212E-2},{"$f":"'GS FP per Tariff'!E91","v":6.0210000000000003E-3},{"$f":"'GS FP per Tariff'!F91","v":3.5799999999999997E-4},{"$f":"'GS FP per Tariff'!G91","v":0.124982},{"$f":"'GS FP per Tariff'!H91","v":3.8999999999999999E-5},{"$f":"'GS FP per Tariff'!I91","v":0},{"$f":"'GS FP per Tariff'!J91","v":4.7289999999999997E-3},{"$f":"'GS FP per Tariff'!K91","v":7.7000000000000002E-3},{"$f":"'GS FP per Tariff'!L91","v":4.9399999999999997E-4},{"$f":"'GS FP per Tariff'!M91","v":-2.34E-4},1.9067999999999998E-2,{"$f":"'GS FP per Tariff'!N91","v":0.163301},null,"JC_GS3_12F","General Service Secondary - 3 Phase","Customer Charge",{"$f":"'GS FP per Tariff'!C78","v":16.690000000000001},null,null,null,null,null,null,null,null,null,null,{"$f":"AT483","v":16.690000000000001},{"$f":"AT483","v":16.690000000000001}]
[null,null,null,null,null,null,null,null,null,null,null,null,null,null,null,null,null,null,null,null,null,null,null,null,null,null,null,{"$f":"'GS FP per Tariff'!B92","v":"Over 1,000 kWh Winter"},null,{"$f":"'GS FP per Tariff'!D92","v":1.9212E-2},{"$f":"'GS FP per Tariff'!E92","v":6.0210000000000003E-3},{"$f":"'GS FP per Tariff'!F92","v":3.5799999999999997E-4},{"$f":"'GS FP per Tariff'!G92","v":0.124626},{"$f":"'GS FP per Tariff'!H92","v":3.8999999999999999E-5},{"$f":"'GS FP per Tariff'!I92","v":0},{"$f":"'GS FP per Tariff'!J92","v":4.7289999999999997E-3},{"$f":"'GS FP per Tariff'!K92","v":7.7000000000000002E-3},{"$f":"'GS FP per Tariff'!L92","v":4.9399999999999997E-4},{"$f":"'GS FP per Tariff'!M92","v":-2.34E-4},1.9067999999999998E-2,{"$f":"'GS FP per Tariff'!N92","v":0.16294500000000001},null,null,"Religious House of Worship Provision**",{"$f":"'GS FP per Tariff'!B84","v":"Over 10  KW Summer"},null,null,{"$f":"'GS FP per Tariff'!E84","v":9},null,null,null,null,null,null,null,null,{"$f":"AV484","v":9},{"$f":"AV484","v":9}]
[null,null,null,null,null,null,null,null,null,null,null,null,null,null,null,null,null,null,null,null,null,null,null,null,null,null,null,"* Charge applies only to Full Service Customers",null,null,{"$f":"\"** First 1,000 kWh includes distribution charge credit of  - $\" & FIXED(-'GS FP per Tariff'!$E$99,6) & \" per kWh.\"","v":"** First 1,000 kWh includes distribution charge credit of  - $0.038383 per kWh."},null,null,null,null,null,null,null,null,null,null,null,null,"Electric Space Heating Provision***",{"$f":"'GS FP per Tariff'!B85","v":"Over 10  KW Winter"},null,null,{"$f":"'GS FP per Tariff'!E85","v":8.3800000000000008},null,null,null,null,null,null,null,null,{"$f":"AV485","v":8.3800000000000008},{"$f":"AV485","v":8.3800000000000008}]
[null,null,null,null,null,null,null,null,null,null,null,null,null,null,null,null,null,null,null,null,null,null,null,null,null,null,null,"*** Minimum demand charge calculation is based on summer kW only",null,null,null,null,null,null,null,null,null,null,null,null,null,null,null,"Full service",{"$f":"'GS FP per Tariff'!B87","v":"Minimum Bill-Over 10 KW "},null,null,{"$f":"'GS FP per Tariff'!E87","v":4.08},null,null,null,null,null,null,null,null,{"$f":"AV486","v":4.08},{"$f":"AV486","v":4.08}]
[null,null,null,null,null,null,null,null,null,null,null,null,null,null,null,null,null,null,null,null,null,null,null,null,null,null,null,null,null,null,null,null,null,null,null,null,null,null,null,null,null,null,null,"All Taxes Applicable & Included",{"$f":"'GS FP per Tariff'!B89","v":"First 1,000 kWh Summer"},null,{"$f":"'GS FP per Tariff'!D89","v":1.9212E-2},{"$f":"'GS FP per Tariff'!E89+'GS FP per Tariff'!E99","v":3.6904999999999993E-2},{"$f":"'GS FP per Tariff'!F89","v":3.5799999999999997E-4},{"$f":"'GS FP per Tariff'!G89","v":0.124982},{"$f":"'GS FP per Tariff'!H89","v":3.8999999999999999E-5},{"$f":"'GS FP per Tariff'!I89","v":0},{"$f":"'GS FP per Tariff'!J89","v":4.7289999999999997E-3},{"$f":"'GS FP per Tariff'!K89","v":7.7000000000000002E-3},{"$f":"'GS FP per Tariff'!L89","v":4.9399999999999997E-4},{"$f":"'GS FP per Tariff'!M89","v":-2.34E-4},{"$f":"SUM(AV487:AW487,AZ487:BD487)","v":4.9951999999999989E-2},{"$f":"'GS FP per Tariff'!N89+'GS FP per Tariff'!E99","v":0.194185},{"$f":"BF487-BE487-AU487-AX487-AY487","v":-2.6291902682773483E-18}]
[null,null,null,null,null,null,null,null,null,null,null,null,null,null,null,null,null,null,null,null,null,null,null,null,null,null,null,null,null,null,null,{"$f":"AF$2","v":"Rates Effective with Service Rendered June 1, 2025"},null,null,null,null,null,null,null,"Delivery",null,null,null,null,{"$f":"'GS FP per Tariff'!B90","v":"First 1,000 kWh Winter"},null,{"$f":"'GS FP per Tariff'!D90","v":1.9212E-2},{"$f":"'GS FP per Tariff'!E90+'GS FP per Tariff'!E99","v":3.1279000000000001E-2},{"$f":"'GS FP per Tariff'!F90","v":3.5799999999999997E-4},{"$f":"'GS FP per Tariff'!G90","v":0.124626},{"$f":"'GS FP per Tariff'!H90","v":3.8999999999999999E-5},{"$f":"'GS FP per Tariff'!I90","v":0},{"$f":"'GS FP per Tariff'!J90","v":4.7289999999999997E-3},{"$f":"'GS FP per Tariff'!K90","v":7.7000000000000002E-3},{"$f":"'GS FP per Tariff'!L90","v":4.9399999999999997E-4},{"$f":"'GS FP per Tariff'!M90","v":-2.34E-4},4.4325999999999997E-2,{"$f":"'GS FP per Tariff'!N90+'GS FP per Tariff'!E99","v":0.18820300000000001},{"$f":"BF488-BE488-AU488-AX488-AY488","v":-2.6291902682773483E-18}]
[null,null,null,null,null,null,null,null,null,null,null,null,null,null,null,null,null,null,null,null,null,null,null,null,null,null,null,"Charge or","Customer",null,null,null,"Energy &","BGS-FP Reconciliation Charge*",{"$f":"$AI$3","v":"Zero Emission Certificate Recovery Charge (ZEC)"},"RGGI\nRecovery\nCharge (RRC)",null,null,null,"Service","Full Service",null,null,null,{"$f":"'GS FP per Tariff'!B91","v":"Over 1,000 kWh Summer"},null,{"$f":"'GS FP per Tariff'!D91","v":1.9212E-2},{"$f":"'GS FP per Tariff'!E91","v":6.0210000000000003E-3},{"$f":"'GS FP per Tariff'!F91","v":3.5799999999999997E-4},{"$f":"'GS FP per Tariff'!G91","v":0.124982},{"$f":"'GS FP per Tariff'!H91","v":3.8999999999999999E-5},{"$f":"'GS FP per Tariff'!I91","v":0},{"$f":"'GS FP per Tariff'!J91","v":4.7289999999999997E-3},{"$f":"'GS FP per Tariff'!K91","v":7.7000000000000002E-3},{"$f":"'GS FP per Tariff'!L91","v":4.9399999999999997E-4},{"$f":"'GS FP per Tariff'!M91","v":-2.34E-4},1.9067999999999998E-2,{"$f":"'GS FP per Tariff'!N91","v":0.163301},{"$f":"BF489-BE489-AU489-AX489-AY489","v":-2.6291902682773483E-18}]
[null,null,null,null,null,null,null,null,null,null,null,null,null,null,null,null,null,null,null,null,null,null,null,null,null,"Rate Category","Description","Price Block","Charge","Transmission*","Distribution","Covid-19 Recovery","Capacity*",null,null,null,"SBC","LRAM","NGC","Total","Total",null,null,null,{"$f":"'GS FP per Tariff'!B92","v":"Over 1,000 kWh Winter"},null,{"$f":"'GS FP per Tariff'!D92","v":1.9212E-2},{"$f":"'GS FP per Tariff'!E92","v":6.0210000000000003E-3},{"$f":"'GS FP per Tariff'!F92","v":3.5799999999999997E-4},{"$f":"'GS FP per Tariff'!G92","v":0.124626},{"$f":"'GS FP per Tariff'!H92","v":3.8999999999999999E-5},{"$f":"'GS FP per Tariff'!I92","v":0},{"$f":"'GS FP per Tariff'!J92","v":4.7289999999999997E-3},{"$f":"'GS FP per Tariff'!K92","v":7.7000000000000002E-3},{"$f":"'GS FP per Tariff'!L92","v":4.9399999999999997E-4},{"$f":"'GS FP per Tariff'!M92","v":-2.34E-4},1.9067999999999998E-2,{"$f":"'GS FP per Tariff'!N92","v":0.16294500000000001},{"$f":"BF490-BE490-AU490-AX490-AY490","v":-2.6291902682773483E-18}]
[null,null,null,null,null,null,null,null,null,null,null,null,null,null,null,null,null,null,null,null,null,null,null,null,null,"JC_GS1_13D","General Service Secondary - 1 Phase","Customer Charge",{"$f":"'GS FP per Tariff'!C77","v":4.6500000000000004},null,null,null,null,null,null,null,null,null,null,{"$f":"AC491","v":4.6500000000000004},"N/A",null,null,null,"* Charge applies only to Full Service Customers",null,null,{"$f":"\"** First 1,000 kWh includes distribution charge credit of  - $\" & FIXED(-'GS FP per Tariff'!$E$99,6) & \" per kWh.\"","v":"** First 1,000 kWh includes distribution charge credit of  - $0.038383 per kWh."}]
[null,null,null,null,null,null,null,null,null,null,null,null,null,null,null,null,null,null,null,null,null,null,null,null,null,null,"Day/Night Provision**","Suppl D/N Cust Charge",{"$f":"'GS FP per Tariff'!C81","v":3.81},null,null,null,null,null,null,null,null,null,null,{"$f":"AC492","v":3.81},"N/A",null,null,null,"*** Minimum demand charge calculation is based on summer kW only"]
[null,null,null,null,null,null,null,null,null,null,null,null,null,null,null,null,null,null,null,null,null,null,null,null,null,null,"Electric Space Heating Provision***",{"$f":"'GS FP per Tariff'!B84","v":"Over 10  KW Summer"},null,null,{"$f":"'GS FP per Tariff'!E84","v":9},null,null,null,null,null,null,null,null,{"$f":"AE493","v":9},"N/A"]
[null,null,null,null,null,null,null,null,null,null,null,null,null,null,null,null,null,null,null,null,null,null,null,null,null,null,"Delivery Service Only",{"$f":"'GS FP per Tariff'!B85","v":"Over 10  KW Winter"},null,null,{"$f":"'GS FP per Tariff'!E85","v":8.3800000000000008},null,null,null,null,null,null,null,null,{"$f":"AE494","v":8.3800000000000008},"N/A",null,null,null,null,null,null,null,{"$f":"AF$2","v":"Rates Effective with Service Rendered June 1, 2025"},null,null,null,null,null,null,null,"Delivery"]
[null,null,null,null,null,null,null,null,null,null,null,null,null,null,null,null,null,null,null,null,null,null,null,null,null,null,"All Taxes Applicable & Included",{"$f":"'GS FP per Tariff'!B87","v":"Minimum Bill-Over 10 KW "},null,null,{"$f":"'GS FP per Tariff'!E87","v":4.08},null,null,null,null,null,null,null,null,{"$f":"AE495","v":4.08},"N/A",null,null,null,"Charge or","Customer",null,null,null,"Energy &","BGS-FP Reconciliation Charge*",{"$f":"$AI$3","v":"Zero Emission Certificate Recovery Charge (ZEC)"},"RGGI\nRecovery\nCharge (RRC)",null,null,null,"Service","Full Service"]
[null,null,null,null,null,null,null,null,null,null,null,null,null,null,null,null,null,null,null,null,null,null,null,null,null,null,null,{"$f":"'GS FP per Tariff'!B89","v":"First 1,000 kWh Summer"},null,"N/A",{"$f":"'GS FP per Tariff'!E89","v":7.5287999999999994E-2},{"$f":"'GS FP per Tariff'!F89","v":3.5799999999999997E-4},"N/A","N/A",{"$f":"'GS FP per Tariff'!I89","v":0},{"$f":"'GS FP per Tariff'!J89","v":4.7289999999999997E-3},{"$f":"'GS FP per Tariff'!K89","v":7.7000000000000002E-3},{"$f":"'GS FP per Tariff'!L89","v":4.9399999999999997E-4},{"$f":"'GS FP per Tariff'!M89","v":-2.34E-4},{"$f":"SUM(AE496:AF496,AI496:AM496)","v":8.8334999999999983E-2},"N/A",null,"Rate Category","Description","Price Block","Charge","Transmission*","Distribution","SRC","Capacity*",null,null,null,"SBC","TAA","MTC","Total","Total"]
[null,null,null,null,null,null,null,null,null,null,null,null,null,null,null,null,null,null,null,null,null,null,null,null,null,null,null,{"$f":"'GS FP per Tariff'!B90","v":"First 1,000 kWh Winter"},null,"N/A",{"$f":"'GS FP per Tariff'!E90","v":6.9662000000000002E-2},{"$f":"'GS FP per Tariff'!F90","v":3.5799999999999997E-4},"N/A","N/A",{"$f":"'GS FP per Tariff'!I90","v":0},{"$f":"'GS FP per Tariff'!J90","v":4.7289999999999997E-3},{"$f":"'GS FP per Tariff'!K90","v":7.7000000000000002E-3},{"$f":"'GS FP per Tariff'!L90","v":4.9399999999999997E-4},{"$f":"'GS FP per Tariff'!M90","v":-2.34E-4},8.2708999999999991E-2,"N/A",null,"JC_GS3_13D","General Service Secondary - 3 Phase","Customer Charge",{"$f":"'GS FP per Tariff'!C78","v":16.690000000000001},null,null,null,null,null,null,null,null,null,null,{"$f":"AT497","v":16.690000000000001},"N/A"]
[null,null,null,null,null,null,null,null,null,null,null,null,null,null,null,null,null,null,null,null,null,null,null,null,null,null,null,{"$f":"'GS FP per Tariff'!B91","v":"Over 1,000 kWh Summer"},null,"N/A",{"$f":"'GS FP per Tariff'!E91","v":6.0210000000000003E-3},{"$f":"'GS FP per Tariff'!F91","v":3.5799999999999997E-4},"N/A","N/A",{"$f":"'GS FP per Tariff'!I91","v":0},{"$f":"'GS FP per Tariff'!J91","v":4.7289999999999997E-3},{"$f":"'GS FP per Tariff'!K91","v":7.7000000000000002E-3},{"$f":"'GS FP per Tariff'!L91","v":4.9399999999999997E-4},{"$f":"'GS FP per Tariff'!M91","v":-2.34E-4},1.9067999999999998E-2,"N/A",null,null,"Day/Night Provision**","Suppl D/N Cust Charge",{"$f":"'GS FP per Tariff'!C81","v":3.81},null,null,null,null,null,null,null,null,null,null,{"$f":"AT498","v":3.81},"N/A"]
[null,null,null,null,null,null,null,null,null,null,null,null,null,null,null,null,null,null,null,null,null,null,null,null,null,null,null,{"$f":"'GS FP per Tariff'!B92","v":"Over 1,000 kWh Winter"},null,"N/A",{"$f":"'GS FP per Tariff'!E92","v":6.0210000000000003E-3},{"$f":"'GS FP per Tariff'!F92","v":3.5799999999999997E-4},"N/A","N/A",{"$f":"'GS FP per Tariff'!I92","v":0},{"$f":"'GS FP per Tariff'!J92","v":4.7289999999999997E-3},{"$f":"'GS FP per Tariff'!K92","v":7.7000000000000002E-3},{"$f":"'GS FP per Tariff'!L92","v":4.9399999999999997E-4},{"$f":"'GS FP per Tariff'!M92","v":-2.34E-4},1.9067999999999998E-2,"N/A",null,null,"Electric Space Heating Provision***",{"$f":"'GS FP per Tariff'!B84","v":"Over 10  KW Summer"},null,null,{"$f":"'GS FP per Tariff'!E84","v":9},null,null,null,null,null,null,null,null,{"$f":"AV499","v":9},"N/A"]
[null,null,null,null,null,null,null,null,null,null,null,null,null,null,null,null,null,null,null,null,null,null,null,null,null,null,null,"* Charge applies only to Full Service Customers",null,null,"** Demand charges are based on the greater of 100% on-peak kW or 40% off-peak kW",null,null,null,null,null,null,null,null,null,null,null,null,"Delivery Service Only",{"$f":"'GS FP per Tariff'!B85","v":"Over 10  KW Winter"},null,null,{"$f":"'GS FP per Tariff'!E85","v":8.3800000000000008},null,null,null,null,null,null,null,null,{"$f":"AV500","v":8.3800000000000008},"N/A"]
[null,null,null,null,null,null,null,null,null,null,null,null,null,null,null,null,null,null,null,null,null,null,null,null,null,null,null,"*** Minimum demand charge calculation is based on summer kW only",null,null,null,null,null,null,null,null,null,null,null,null,null,null,null,"All Taxes Applicable & Included",{"$f":"'GS FP per Tariff'!B87","v":"Minimum Bill-Over 10 KW "},null,null,{"$f":"'GS FP per Tariff'!E87","v":4.08},null,null,null,null,null,null,null,null,{"$f":"AV501","v":4.08},"N/A"]
[null,null,null,null,null,null,null,null,null,null,null,null,null,null,null,null,null,null,null,null,null,null,null,null,null,null,null,null,null,null,null,null,null,null,null,null,null,null,null,null,null,null,null,null,{"$f":"'GS FP per Tariff'!B89","v":"First 1,000 kWh Summer"},null,"N/A",{"$f":"'GS FP per Tariff'!E89","v":7.5287999999999994E-2},{"$f":"'GS FP per Tariff'!F89","v":3.5799999999999997E-4},"N/A","N/A",{"$f":"'GS FP per Tariff'!I89","v":0},{"$f":"'GS FP per Tariff'!J89","v":4.7289999999999997E-3},{"$f":"'GS FP per Tariff'!K89","v":7.7000000000000002E-3},{"$f":"'GS FP per Tariff'!L89","v":4.9399999999999997E-4},{"$f":"'GS FP per Tariff'!M89","v":-2.34E-4},{"$f":"SUM(AV502:AW502,AZ502:BD502)","v":8.8334999999999983E-2},"N/A"]
[null,null,null,null,null,null,null,null,null,null,null,null,null,null,null,null,null,null,null,null,null,null,null,null,null,null,null,null,null,null,null,{"$f":"AF$2","v":"Rates Effective with Service Rendered June 1, 2025"},null,null,null,null,null,null,null,"Delivery",null,null,null,null,{"$f":"'GS FP per Tariff'!B90","v":"First 1,000 kWh Winter"},null,"N/A",{"$f":"'GS FP per Tariff'!E90","v":6.9662000000000002E-2},{"$f":"'GS FP per Tariff'!F90","v":3.5799999999999997E-4},"N/A","N/A",{"$f":"'GS FP per Tariff'!I90","v":0},{"$f":"'GS FP per Tariff'!J90","v":4.7289999999999997E-3},{"$f":"'GS FP per Tariff'!K90","v":7.7000000000000002E-3},{"$f":"'GS FP per Tariff'!L90","v":4.9399999999999997E-4},{"$f":"'GS FP per Tariff'!M90","v":-2.34E-4},8.2708999999999991E-2,"N/A"]
[null,null,null,null,null,null,null,null,null,null,null,null,null,null,null,null,null,null,null,null,null,null,null,null,null,null,null,"Charge or","Customer",null,null,null,"Energy &","BGS-FP Reconciliation Charge*",{"$f":"$AI$3","v":"Zero Emission Certificate Recovery Charge (ZEC)"},"RGGI\nRecovery\nCharge (RRC)",null,null,null,"Service","Full Service",null,null,null,{"$f":"'GS FP per Tariff'!B91","v":"Over 1,000 kWh Summer"},null,"N/A",{"$f":"'GS FP per Tariff'!E91","v":6.0210000000000003E-3},{"$f":"'GS FP per Tariff'!F91","v":3.5799999999999997E-4},"N/A","N/A",{"$f":"'GS FP per Tariff'!I91","v":0},{"$f":"'GS FP per Tariff'!J91","v":4.7289999999999997E-3},{"$f":"'GS FP per Tariff'!K91","v":7.7000000000000002E-3},{"$f":"'GS FP per Tariff'!L91","v":4.9399999999999997E-4},{"$f":"'GS FP per Tariff'!M91","v":-2.34E-4},1.9067999999999998E-2,"N/A"]
[null,null,null,null,null,null,null,null,null,null,null,null,null,null,null,null,null,null,null,null,null,null,null,null,null,"Rate Category","Description","Price Block","Charge","Transmission*","Distribution","Covid-19 Recovery","Capacity*",null,null,null,"SBC","LRAM","NGC","Charges","Total",null,null,null,{"$f":"'GS FP per Tariff'!B92","v":"Over 1,000 kWh Winter"},null,"N/A",{"$f":"'GS FP per Tariff'!E92","v":6.0210000000000003E-3},{"$f":"'GS FP per Tariff'!F92","v":3.5799999999999997E-4},"N/A","N/A",{"$f":"'GS FP per Tariff'!I92","v":0},{"$f":"'GS FP per Tariff'!J92","v":4.7289999999999997E-3},{"$f":"'GS FP per Tariff'!K92","v":7.7000000000000002E-3},{"$f":"'GS FP per Tariff'!L92","v":4.9399999999999997E-4},{"$f":"'GS FP per Tariff'!M92","v":-2.34E-4},1.9067999999999998E-2,"N/A"]
[null,null,null,null,null,null,null,null,null,null,null,null,null,null,null,null,null,null,null,null,null,null,null,null,null,"JC_GS1_13F","General Service Secondary - 1 Phase","Customer Charge",{"$f":"'GS FP per Tariff'!C77","v":4.6500000000000004},null,null,null,null,null,null,null,null,null,null,{"$f":"AC506","v":4.6500000000000004},{"$f":"AC506","v":4.6500000000000004},null,null,null,"* Charge applies only to Full Service Customers",null,null,"** Demand charges are based on the greater of 100% on-peak kW or 40% off-peak kW"]
[null,null,null,null,null,null,null,null,null,null,null,null,null,null,null,null,null,null,null,null,null,null,null,null,null,null,"Day/Night Provision**","Suppl D/N Cust Charge",{"$f":"'GS FP per Tariff'!C81","v":3.81},null,null,null,null,null,null,null,null,null,null,{"$f":"AC507","v":3.81},{"$f":"AC507","v":3.81},null,null,null,"*** Minimum demand charge calculation is based on summer kW only"]
[null,null,null,null,null,null,null,null,null,null,null,null,null,null,null,null,null,null,null,null,null,null,null,null,null,null,"Electric Space Heating Provision***",{"$f":"'GS FP per Tariff'!B84","v":"Over 10  KW Summer"},null,null,{"$f":"'GS FP per Tariff'!E84","v":9},null,null,null,null,null,null,null,null,{"$f":"AE508","v":9},{"$f":"AE508","v":9}]
[null,null,null,null,null,null,null,null,null,null,null,null,null,null,null,null,null,null,null,null,null,null,null,null,null,null,"Full Service",{"$f":"'GS FP per Tariff'!B85","v":"Over 10  KW Winter"},null,null,{"$f":"'GS FP per Tariff'!E85","v":8.3800000000000008},null,null,null,null,null,null,null,null,{"$f":"AE509","v":8.3800000000000008},{"$f":"AE509","v":8.3800000000000008},null,null,null,null,null,null,null,{"$f":"AF$2","v":"Rates Effective with Service Rendered June 1, 2025"},null,null,null,null,null,null,null,"Delivery"]
[null,null,null,null,null,null,null,null,null,null,null,null,null,null,null,null,null,null,null,null,null,null,null,null,null,null,"All Taxes Applicable & Included",{"$f":"'GS FP per Tariff'!B87","v":"Minimum Bill-Over 10 KW "},null,null,{"$f":"'GS FP per Tariff'!E87","v":4.08},null,null,null,null,null,null,null,null,{"$f":"AE510","v":4.08},{"$f":"AE510","v":4.08},null,null,null,"Charge or","Customer",null,null,null,"Energy &","BGS-FP Reconciliation Charge*",{"$f":"$AI$3","v":"Zero Emission Certificate Recovery Charge (ZEC)"},"RGGI\nRecovery\nCharge (RRC)",null,null,null,"Service","Full Service"]
[null,null,null,null,null,null,null,null,null,null,null,null,null,null,null,null,null,null,null,null,null,null,null,null,null,null,null,{"$f":"'GS FP per Tariff'!B89","v":"First 1,000 kWh Summer"},null,{"$f":"'GS FP per Tariff'!D89","v":1.9212E-2},{"$f":"'GS FP per Tariff'!E89","v":7.5287999999999994E-2},{"$f":"'GS FP per Tariff'!F89","v":3.5799999999999997E-4},{"$f":"'GS FP per Tariff'!G89","v":0.124982},{"$f":"'GS FP per Tariff'!H89","v":3.8999999999999999E-5},{"$f":"'GS FP per Tariff'!I89","v":0},{"$f":"'GS FP per Tariff'!J89","v":4.7289999999999997E-3},{"$f":"'GS FP per Tariff'!K89","v":7.7000000000000002E-3},{"$f":"'GS FP per Tariff'!L89","v":4.9399999999999997E-4},{"$f":"'GS FP per Tariff'!M89","v":-2.34E-4},{"$f":"SUM(AE511:AF511,AI511:AM511)","v":8.8334999999999983E-2},{"$f":"'GS FP per Tariff'!N89","v":0.232568},null,"Rate Category","Description","Price Block","Charge","Transmission*","Distribution","SRC","Capacity*",null,null,null,"SBC","TAA","MTC","Charges","Total"]
[null,null,null,null,null,null,null,null,null,null,null,null,null,null,null,null,null,null,null,null,null,null,null,null,null,null,null,{"$f":"'GS FP per Tariff'!B90","v":"First 1,000 kWh Winter"},null,{"$f":"'GS FP per Tariff'!D90","v":1.9212E-2},{"$f":"'GS FP per Tariff'!E90","v":6.9662000000000002E-2},{"$f":"'GS FP per Tariff'!F90","v":3.5799999999999997E-4},{"$f":"'GS FP per Tariff'!G90","v":0.124626},{"$f":"'GS FP per Tariff'!H90","v":3.8999999999999999E-5},{"$f":"'GS FP per Tariff'!I90","v":0},{"$f":"'GS FP per Tariff'!J90","v":4.7289999999999997E-3},{"$f":"'GS FP per Tariff'!K90","v":7.7000000000000002E-3},{"$f":"'GS FP per Tariff'!L90","v":4.9399999999999997E-4},{"$f":"'GS FP per Tariff'!M90","v":-2.34E-4},8.2708999999999991E-2,{"$f":"'GS FP per Tariff'!N90","v":0.22658600000000001},null,"JC_GS3_13F","General Service Secondary - 3 Phase","Customer Charge",{"$f":"'GS FP per Tariff'!C78","v":16.690000000000001},null,null,null,null,null,null,null,null,null,null,{"$f":"AT512","v":16.690000000000001},{"$f":"AT512","v":16.690000000000001}]
[null,null,null,null,null,null,null,null,null,null,null,null,null,null,null,null,null,null,null,null,null,null,null,null,null,null,null,{"$f":"'GS FP per Tariff'!B91","v":"Over 1,000 kWh Summer"},null,{"$f":"'GS FP per Tariff'!D91","v":1.9212E-2},{"$f":"'GS FP per Tariff'!E91","v":6.0210000000000003E-3},{"$f":"'GS FP per Tariff'!F91","v":3.5799999999999997E-4},{"$f":"'GS FP per Tariff'!G91","v":0.124982},{"$f":"'GS FP per Tariff'!H91","v":3.8999999999999999E-5},{"$f":"'GS FP per Tariff'!I91","v":0},{"$f":"'GS FP per Tariff'!J91","v":4.7289999999999997E-3},{"$f":"'GS FP per Tariff'!K91","v":7.7000000000000002E-3},{"$f":"'GS FP per Tariff'!L91","v":4.9399999999999997E-4},{"$f":"'GS FP per Tariff'!M91","v":-2.34E-4},1.9067999999999998E-2,{"$f":"'GS FP per Tariff'!N91","v":0.163301},null,null,"Day/Night Provision**","Suppl D/N Cust Charge",{"$f":"'GS FP per Tariff'!C81","v":3.81},null,null,null,null,null,null,null,null,null,null,{"$f":"AT513","v":3.81},{"$f":"AT513","v":3.81}]
[null,null,null,null,null,null,null,null,null,null,null,null,null,null,null,null,null,null,null,null,null,null,null,null,null,null,null,{"$f":"'GS FP per Tariff'!B92","v":"Over 1,000 kWh Winter"},null,{"$f":"'GS FP per Tariff'!D92","v":1.9212E-2},{"$f":"'GS FP per Tariff'!E92","v":6.0210000000000003E-3},{"$f":"'GS FP per Tariff'!F92","v":3.5799999999999997E-4},{"$f":"'GS FP per Tariff'!G92","v":0.124626},{"$f":"'GS FP per Tariff'!H92","v":3.8999999999999999E-5},{"$f":"'GS FP per Tariff'!I92","v":0},{"$f":"'GS FP per Tariff'!J92","v":4.7289999999999997E-3},{"$f":"'GS FP per Tariff'!K92","v":7.7000000000000002E-3},{"$f":"'GS FP per Tariff'!L92","v":4.9399999999999997E-4},{"$f":"'GS FP per Tariff'!M92","v":-2.34E-4},1.9067999999999998E-2,{"$f":"'GS FP per Tariff'!N92","v":0.16294500000000001},null,null,"Electric Space Heating Provision***",{"$f":"'GS FP per Tariff'!B84","v":"Over 10  KW Summer"},null,null,{"$f":"'GS FP per Tariff'!E84","v":9},null,null,null,null,null,null,null,null,{"$f":"AV514","v":9},{"$f":"AV514","v":9}]
[null,null,null,null,null,null,null,null,null,null,null,null,null,null,null,null,null,null,null,null,null,null,null,null,null,null,null,"* Charge applies only to Full Service Customers",null,null,"** Demand charges are based on the greater of 100% on-peak kW or 40% off-peak kW",null,null,null,null,null,null,null,null,null,null,null,null,"Full service",{"$f":"'GS FP per Tariff'!B85","v":"Over 10  KW Winter"},null,null,{"$f":"'GS FP per Tariff'!E85","v":8.3800000000000008},null,null,null,null,null,null,null,null,{"$f":"AV515","v":8.3800000000000008},{"$f":"AV515","v":8.3800000000000008}]
[null,null,null,null,null,null,null,null,null,null,null,null,null,null,null,null,null,null,null,null,null,null,null,null,null,null,null,"*** Minimum demand charge calculation is based on summer kW only",null,null,null,null,null,null,null,null,null,null,null,null,null,null,null,"All Taxes Applicable & Included",{"$f":"'GS FP per Tariff'!B87","v":"Minimum Bill-Over 10 KW "},null,null,{"$f":"'GS FP per Tariff'!E87","v":4.08},null,null,null,null,null,null,null,null,{"$f":"AV516","v":4.08},{"$f":"AV516","v":4.08}]
[null,null,null,null,null,null,null,null,null,null,null,null,null,null,null,null,null,null,null,null,null,null,null,null,null,null,null,null,null,null,null,null,null,null,null,null,null,null,null,null,null,null,null,null,{"$f":"'GS FP per Tariff'!B89","v":"First 1,000 kWh Summer"},null,{"$f":"'GS FP per Tariff'!D89","v":1.9212E-2},{"$f":"'GS FP per Tariff'!E89","v":7.5287999999999994E-2},{"$f":"'GS FP per Tariff'!F89","v":3.5799999999999997E-4},{"$f":"'GS FP per Tariff'!G89","v":0.124982},{"$f":"'GS FP per Tariff'!H89","v":3.8999999999999999E-5},{"$f":"'GS FP per Tariff'!I89","v":0},{"$f":"'GS FP per Tariff'!J89","v":4.7289999999999997E-3},{"$f":"'GS FP per Tariff'!K89","v":7.7000000000000002E-3},{"$f":"'GS FP per Tariff'!L89","v":4.9399999999999997E-4},{"$f":"'GS FP per Tariff'!M89","v":-2.34E-4},{"$f":"SUM(AV517:AW517,AZ517:BD517)","v":8.8334999999999983E-2},{"$f":"'GS FP per Tariff'!N89","v":0.232568},{"$f":"BF517-BE517-AU517-AX517-AY517","v":-2.6291902682773483E-18}]
[null,null,null,null,null,null,null,null,null,null,null,null,null,null,null,null,null,null,null,null,null,null,null,null,null,null,null,null,null,null,null,{"$f":"AF$2","v":"Rates Effective with Service Rendered June 1, 2025"},null,null,null,null,null,null,null,"Delivery",null,null,null,null,{"$f":"'GS FP per Tariff'!B90","v":"First 1,000 kWh Winter"},null,{"$f":"'GS FP per Tariff'!D90","v":1.9212E-2},{"$f":"'GS FP per Tariff'!E90","v":6.9662000000000002E-2},{"$f":"'GS FP per Tariff'!F90","v":3.5799999999999997E-4},{"$f":"'GS FP per Tariff'!G90","v":0.124626},{"$f":"'GS FP per Tariff'!H90","v":3.8999999999999999E-5},{"$f":"'GS FP per Tariff'!I90","v":0},{"$f":"'GS FP per Tariff'!J90","v":4.7289999999999997E-3},{"$f":"'GS FP per Tariff'!K90","v":7.7000000000000002E-3},{"$f":"'GS FP per Tariff'!L90","v":4.9399999999999997E-4},{"$f":"'GS FP per Tariff'!M90","v":-2.34E-4},8.2708999999999991E-2,{"$f":"'GS FP per Tariff'!N90","v":0.22658600000000001},{"$f":"BF518-BE518-AU518-AX518-AY518","v":2.5126385347351565E-17}]
[null,null,null,null,null,null,null,null,null,null,null,null,null,null,null,null,null,null,null,null,null,null,null,null,null,null,null,"Charge or","Customer",null,null,null,"Energy &","BGS-FP Reconciliation Charge*",{"$f":"$AI$3","v":"Zero Emission Certificate Recovery Charge (ZEC)"},"RGGI\nRecovery\nCharge (RRC)",null,null,null,"Service","Full Service",null,null,null,{"$f":"'GS FP per Tariff'!B91","v":"Over 1,000 kWh Summer"},null,{"$f":"'GS FP per Tariff'!D91","v":1.9212E-2},{"$f":"'GS FP per Tariff'!E91","v":6.0210000000000003E-3},{"$f":"'GS FP per Tariff'!F91","v":3.5799999999999997E-4},{"$f":"'GS FP per Tariff'!G91","v":0.124982},{"$f":"'GS FP per Tariff'!H91","v":3.8999999999999999E-5},{"$f":"'GS FP per Tariff'!I91","v":0},{"$f":"'GS FP per Tariff'!J91","v":4.7289999999999997E-3},{"$f":"'GS FP per Tariff'!K91","v":7.7000000000000002E-3},{"$f":"'GS FP per Tariff'!L91","v":4.9399999999999997E-4},{"$f":"'GS FP per Tariff'!M91","v":-2.34E-4},1.9067999999999998E-2,{"$f":"'GS FP per Tariff'!N91","v":0.163301},{"$f":"BF519-BE519-AU519-AX519-AY519","v":-2.6291902682773483E-18}]
[null,null,null,null,null,null,null,null,null,null,null,null,null,null,null,null,null,null,null,null,null,null,null,null,null,"Rate Category","Description","Price Block","Charge","Transmission*","Distribution","Covid-19 Recovery","Capacity*",null,null,null,"SBC","LRAM","NGC","Total","Total",null,null,null,{"$f":"'GS FP per Tariff'!B92","v":"Over 1,000 kWh Winter"},null,{"$f":"'GS FP per Tariff'!D92","v":1.9212E-2},{"$f":"'GS FP per Tariff'!E92","v":6.0210000000000003E-3},{"$f":"'GS FP per Tariff'!F92","v":3.5799999999999997E-4},{"$f":"'GS FP per Tariff'!G92","v":0.124626},{"$f":"'GS FP per Tariff'!H92","v":3.8999999999999999E-5},{"$f":"'GS FP per Tariff'!I92","v":0},{"$f":"'GS FP per Tariff'!J92","v":4.7289999999999997E-3},{"$f":"'GS FP per Tariff'!K92","v":7.7000000000000002E-3},{"$f":"'GS FP per Tariff'!L92","v":4.9399999999999997E-4},{"$f":"'GS FP per Tariff'!M92","v":-2.34E-4},1.9067999999999998E-2,{"$f":"'GS FP per Tariff'!N92","v":0.16294500000000001},{"$f":"BF520-BE520-AU520-AX520-AY520","v":-2.6291902682773483E-18}]
[null,null,null,null,null,null,null,null,null,null,null,null,null,null,null,null,null,null,null,null,null,null,null,null,null,"JC_GS1_14D","General Service Secondary - 1 Phase","Customer Charge",{"$f":"'GS FP per Tariff'!C77","v":4.6500000000000004},null,null,null,null,null,null,null,null,null,null,{"$f":"AC521","v":4.6500000000000004},"N/A",null,null,null,"* Charge applies only to Full Service Customers",null,null,"** Demand charges are based on the greater of 100% on-peak kW or 40% off-peak kW"]
[null,null,null,null,null,null,null,null,null,null,null,null,null,null,null,null,null,null,null,null,null,null,null,null,null,null,"Religious House of Worship Provision**","Suppl D/N Cust Charge",{"$f":"'GS FP per Tariff'!C81","v":3.81},null,null,null,null,null,null,null,null,null,null,{"$f":"AC522","v":3.81},"N/A",null,null,null,"*** Minimum demand charge calculation is based on summer kW only"]
[null,null,null,null,null,null,null,null,null,null,null,null,null,null,null,null,null,null,null,null,null,null,null,null,null,null,"Electric Space Heating Provision***",{"$f":"'GS FP per Tariff'!B84","v":"Over 10  KW Summer"},null,null,{"$f":"'GS FP per Tariff'!E84","v":9},null,null,null,null,null,null,null,null,{"$f":"AE523","v":9},"N/A"]
[null,null,null,null,null,null,null,null,null,null,null,null,null,null,null,null,null,null,null,null,null,null,null,null,null,null,"Day/Night Provision****",{"$f":"'GS FP per Tariff'!B85","v":"Over 10  KW Winter"},null,null,{"$f":"'GS FP per Tariff'!E85","v":8.3800000000000008},null,null,null,null,null,null,null,null,{"$f":"AE524","v":8.3800000000000008},"N/A",null,null,null,null,null,null,null,{"$f":"AF$2","v":"Rates Effective with Service Rendered June 1, 2025"},null,null,null,null,null,null,null,"Delivery"]
[null,null,null,null,null,null,null,null,null,null,null,null,null,null,null,null,null,null,null,null,null,null,null,null,null,null,"Delivery Service Only",{"$f":"'GS FP per Tariff'!B87","v":"Minimum Bill-Over 10 KW "},null,null,{"$f":"'GS FP per Tariff'!E87","v":4.08},null,null,null,null,null,null,null,null,{"$f":"AE525","v":4.08},"N/A",null,null,null,"Charge or","Customer",null,null,null,"Energy &","BGS-FP Reconciliation Charge*",{"$f":"$AI$3","v":"Zero Emission Certificate Recovery Charge (ZEC)"},"RGGI\nRecovery\nCharge (RRC)",null,null,null,"Service","Full Service"]
[null,null,null,null,null,null,null,null,null,null,null,null,null,null,null,null,null,null,null,null,null,null,null,null,null,null,"All Taxes Applicable & Included",{"$f":"'GS FP per Tariff'!B89","v":"First 1,000 kWh Summer"},null,"N/A",{"$f":"'GS FP per Tariff'!E89+'GS FP per Tariff'!E99","v":3.6904999999999993E-2},{"$f":"'GS FP per Tariff'!F89","v":3.5799999999999997E-4},"N/A","N/A",{"$f":"'GS FP per Tariff'!I89","v":0},{"$f":"'GS FP per Tariff'!J89","v":4.7289999999999997E-3},{"$f":"'GS FP per Tariff'!K89","v":7.7000000000000002E-3},{"$f":"'GS FP per Tariff'!L89","v":4.9399999999999997E-4},{"$f":"'GS FP per Tariff'!M89","v":-2.34E-4},{"$f":"SUM(AE526:AF526,AI526:AM526)","v":4.9951999999999989E-2},"N/A",null,"Rate Category","Description","Price Block","Charge","Transmission*","Distribution","SRC","Capacity*",null,null,null,"SBC","TAA","MTC","Total","Total"]
[null,null,null,null,null,null,null,null,null,null,null,null,null,null,null,null,null,null,null,null,null,null,null,null,null,null,null,{"$f":"'GS FP per Tariff'!B90","v":"First 1,000 kWh Winter"},null,"N/A",{"$f":"'GS FP per Tariff'!E90+'GS FP per Tariff'!E99","v":3.1279000000000001E-2},{"$f":"'GS FP per Tariff'!F90","v":3.5799999999999997E-4},"N/A","N/A",{"$f":"'GS FP per Tariff'!I90","v":0},{"$f":"'GS FP per Tariff'!J90","v":4.7289999999999997E-3},{"$f":"'GS FP per Tariff'!K90","v":7.7000000000000002E-3},{"$f":"'GS FP per Tariff'!L90","v":4.9399999999999997E-4},{"$f":"'GS FP per Tariff'!M90","v":-2.34E-4},4.4325999999999997E-2,"N/A",null,"JC_GS3_14D","General Service Secondary - 3 Phase","Customer Charge",{"$f":"'GS FP per Tariff'!C78","v":16.690000000000001},null,null,null,null,null,null,null,null,null,null,{"$f":"AT527","v":16.690000000000001},"N/A"]
[null,null,null,null,null,null,null,null,null,null,null,null,null,null,null,null,null,null,null,null,null,null,null,null,null,null,null,{"$f":"'GS FP per Tariff'!B91","v":"Over 1,000 kWh Summer"},null,"N/A",{"$f":"'GS FP per Tariff'!E91","v":6.0210000000000003E-3},{"$f":"'GS FP per Tariff'!F91","v":3.5799999999999997E-4},"N/A","N/A",{"$f":"'GS FP per Tariff'!I91","v":0},{"$f":"'GS FP per Tariff'!J91","v":4.7289999999999997E-3},{"$f":"'GS FP per Tariff'!K91","v":7.7000000000000002E-3},{"$f":"'GS FP per Tariff'!L91","v":4.9399999999999997E-4},{"$f":"'GS FP per Tariff'!M91","v":-2.34E-4},1.9067999999999998E-2,"N/A",null,null,"Religious House of Worship Provision**","Suppl D/N Cust Charge",{"$f":"'GS FP per Tariff'!C81","v":3.81},null,null,null,null,null,null,null,null,null,null,{"$f":"AT528","v":3.81},"N/A"]
[null,null,null,null,null,null,null,null,null,null,null,null,null,null,null,null,null,null,null,null,null,null,null,null,null,null,null,{"$f":"'GS FP per Tariff'!B92","v":"Over 1,000 kWh Winter"},null,"N/A",{"$f":"'GS FP per Tariff'!E92","v":6.0210000000000003E-3},{"$f":"'GS FP per Tariff'!F92","v":3.5799999999999997E-4},"N/A","N/A",{"$f":"'GS FP per Tariff'!I92","v":0},{"$f":"'GS FP per Tariff'!J92","v":4.7289999999999997E-3},{"$f":"'GS FP per Tariff'!K92","v":7.7000000000000002E-3},{"$f":"'GS FP per Tariff'!L92","v":4.9399999999999997E-4},{"$f":"'GS FP per Tariff'!M92","v":-2.34E-4},1.9067999999999998E-2,"N/A",null,null,"Electric Space Heating Provision***",{"$f":"'GS FP per Tariff'!B84","v":"Over 10  KW Summer"},null,null,{"$f":"'GS FP per Tariff'!E84","v":9},null,null,null,null,null,null,null,null,{"$f":"AV529","v":9},"N/A"]
[null,null,null,null,null,null,null,null,null,null,null,null,null,null,null,null,null,null,null,null,null,null,null,null,null,null,null,"* Charge applies only to Full Service Customers",null,null,{"$f":"\"** First 1,000 kWh includes distribution charge credit of  - $\" & FIXED(-'GS FP per Tariff'!$E$99,6) & \" per kWh.\"","v":"** First 1,000 kWh includes distribution charge credit of  - $0.038383 per kWh."},null,null,null,null,null,null,null,null,null,null,null,null,"Day/Night Provision****",{"$f":"'GS FP per Tariff'!B85","v":"Over 10  KW Winter"},null,null,{"$f":"'GS FP per Tariff'!E85","v":8.3800000000000008},null,null,null,null,null,null,null,null,{"$f":"AV530","v":8.3800000000000008},"N/A"]
[null,null,null,null,null,null,null,null,null,null,null,null,null,null,null,null,null,null,null,null,null,null,null,null,null,null,null,"*** Minimum demand charge calculation is based on summer kW only",null,null,null,"**** Demand charges are based on the greater of 100% on-peak kW or 40% off-peak kW",null,null,null,null,null,null,null,null,null,null,null,"Delivery Service Only",{"$f":"'GS FP per Tariff'!B87","v":"Minimum Bill-Over 10 KW "},null,null,{"$f":"'GS FP per Tariff'!E87","v":4.08},null,null,null,null,null,null,null,null,{"$f":"AV531","v":4.08},"N/A"]
[null,null,null,null,null,null,null,null,null,null,null,null,null,null,null,null,null,null,null,null,null,null,null,null,null,null,null,null,null,null,null,null,null,null,null,null,null,null,null,null,null,null,null,"All Taxes Applicable & Included",{"$f":"'GS FP per Tariff'!B89","v":"First 1,000 kWh Summer"},null,"N/A",{"$f":"'GS FP per Tariff'!E89+'GS FP per Tariff'!E99","v":3.6904999999999993E-2},{"$f":"'GS FP per Tariff'!F89","v":3.5799999999999997E-4},"N/A","N/A",{"$f":"'GS FP per Tariff'!I89","v":0},{"$f":"'GS FP per Tariff'!J89","v":4.7289999999999997E-3},{"$f":"'GS FP per Tariff'!K89","v":7.7000000000000002E-3},{"$f":"'GS FP per Tariff'!L89","v":4.9399999999999997E-4},{"$f":"'GS FP per Tariff'!M89","v":-2.34E-4},{"$f":"SUM(AV532:AW532,AZ532:BD532)","v":4.9951999999999989E-2},"N/A"]
[null,null,null,null,null,null,null,null,null,null,null,null,null,null,null,null,null,null,null,null,null,null,null,null,null,null,null,null,null,null,null,{"$f":"AF$2","v":"Rates Effective with Service Rendered June 1, 2025"},null,null,null,null,null,null,null,"Delivery",null,null,null,null,{"$f":"'GS FP per Tariff'!B90","v":"First 1,000 kWh Winter"},null,"N/A",{"$f":"'GS FP per Tariff'!E90+'GS FP per Tariff'!E99","v":3.1279000000000001E-2},{"$f":"'GS FP per Tariff'!F90","v":3.5799999999999997E-4},"N/A","N/A",{"$f":"'GS FP per Tariff'!I90","v":0},{"$f":"'GS FP per Tariff'!J90","v":4.7289999999999997E-3},{"$f":"'GS FP per Tariff'!K90","v":7.7000000000000002E-3},{"$f":"'GS FP per Tariff'!L90","v":4.9399999999999997E-4},{"$f":"'GS FP per Tariff'!M90","v":-2.34E-4},4.4325999999999997E-2,"N/A"]
[null,null,null,null,null,null,null,null,null,null,null,null,null,null,null,null,null,null,null,null,null,null,null,null,null,null,null,"Charge or","Customer",null,null,null,"Energy &","BGS-FP Reconciliation Charge*",{"$f":"$AI$3","v":"Zero Emission Certificate Recovery Charge (ZEC)"},"RGGI\nRecovery\nCharge (RRC)",null,null,null,"Service","Full Service",null,null,null,{"$f":"'GS FP per Tariff'!B91","v":"Over 1,000 kWh Summer"},null,"N/A",{"$f":"'GS FP per Tariff'!E91","v":6.0210000000000003E-3},{"$f":"'GS FP per Tariff'!F91","v":3.5799999999999997E-4},"N/A","N/A",{"$f":"'GS FP per Tariff'!I91","v":0},{"$f":"'GS FP per Tariff'!J91","v":4.7289999999999997E-3},{"$f":"'GS FP per Tariff'!K91","v":7.7000000000000002E-3},{"$f":"'GS FP per Tariff'!L91","v":4.9399999999999997E-4},{"$f":"'GS FP per Tariff'!M91","v":-2.34E-4},1.9067999999999998E-2,"N/A"]
[null,null,null,null,null,null,null,null,null,null,null,null,null,null,null,null,null,null,null,null,null,null,null,null,null,"Rate Category","Description","Price Block","Charge","Transmission*","Distribution","Covid-19 Recovery","Capacity*",null,null,null,"SBC","LRAM","NGC","Charges","Total",null,null,null,{"$f":"'GS FP per Tariff'!B92","v":"Over 1,000 kWh Winter"},null,"N/A",{"$f":"'GS FP per Tariff'!E92","v":6.0210000000000003E-3},{"$f":"'GS FP per Tariff'!F92","v":3.5799999999999997E-4},"N/A","N/A",{"$f":"'GS FP per Tariff'!I92","v":0},{"$f":"'GS FP per Tariff'!J92","v":4.7289999999999997E-3},{"$f":"'GS FP per Tariff'!K92","v":7.7000000000000002E-3},{"$f":"'GS FP per Tariff'!L92","v":4.9399999999999997E-4},{"$f":"'GS FP per Tariff'!M92","v":-2.34E-4},1.9067999999999998E-2,"N/A"]
[null,null,null,null,null,null,null,null,null,null,null,null,null,null,null,null,null,null,null,null,null,null,null,null,null,"JC_GS1_14F","General Service Secondary - 1 Phase","Customer Charge",{"$f":"'GS FP per Tariff'!C77","v":4.6500000000000004},null,null,null,null,null,null,null,null,null,null,{"$f":"AC536","v":4.6500000000000004},{"$f":"AC536","v":4.6500000000000004},null,null,null,"* Charge applies only to Full Service Customers",null,null,{"$f":"\"** First 1,000 kWh includes distribution charge credit of  - $\" & FIXED(-'GS FP per Tariff'!$E$99,6) & \" per kWh.\"","v":"** First 1,000 kWh includes distribution charge credit of  - $0.038383 per kWh."}]
[null,null,null,null,null,null,null,null,null,null,null,null,null,null,null,null,null,null,null,null,null,null,null,null,null,null,"Religious House of Worship Provision**","Suppl D/N Cust Charge",{"$f":"'GS FP per Tariff'!C81","v":3.81},null,null,null,null,null,null,null,null,null,null,{"$f":"AC537","v":3.81},{"$f":"AC537","v":3.81},null,null,null,"*** Minimum demand charge calculation is based on summer kW only",null,null,null,"**** Demand charges are based on the greater of 100% on-peak kW or 40% off-peak kW"]
[null,null,null,null,null,null,null,null,null,null,null,null,null,null,null,null,null,null,null,null,null,null,null,null,null,null,"Electric Space Heating Provision***",{"$f":"'GS FP per Tariff'!B84","v":"Over 10  KW Summer"},null,null,{"$f":"'GS FP per Tariff'!E84","v":9},null,null,null,null,null,null,null,null,{"$f":"AE538","v":9},{"$f":"AE538","v":9}]
[null,null,null,null,null,null,null,null,null,null,null,null,null,null,null,null,null,null,null,null,null,null,null,null,null,null,"Day/Night Provision****",{"$f":"'GS FP per Tariff'!B85","v":"Over 10  KW Winter"},null,null,{"$f":"'GS FP per Tariff'!E85","v":8.3800000000000008},null,null,null,null,null,null,null,null,{"$f":"AE539","v":8.3800000000000008},{"$f":"AE539","v":8.3800000000000008},null,null,null,null,null,null,null,{"$f":"AF$2","v":"Rates Effective with Service Rendered June 1, 2025"},null,null,null,null,null,null,null,"Delivery"]
[null,null,null,null,null,null,null,null,null,null,null,null,null,null,null,null,null,null,null,null,null,null,null,null,null,null,"Full Service",{"$f":"'GS FP per Tariff'!B87","v":"Minimum Bill-Over 10 KW "},null,null,{"$f":"'GS FP per Tariff'!E87","v":4.08},null,null,null,null,null,null,null,null,{"$f":"AE540","v":4.08},{"$f":"AE540","v":4.08},null,null,null,"Charge or","Customer",null,null,null,"Energy &","BGS-FP Reconciliation Charge*",{"$f":"$AI$3","v":"Zero Emission Certificate Recovery Charge (ZEC)"},"RGGI\nRecovery\nCharge (RRC)",null,null,null,"Service","Full Service"]
[null,null,null,null,null,null,null,null,null,null,null,null,null,null,null,null,null,null,null,null,null,null,null,null,null,null,"All Taxes Applicable & Included",{"$f":"'GS FP per Tariff'!B89","v":"First 1,000 kWh Summer"},null,{"$f":"'GS FP per Tariff'!D89","v":1.9212E-2},{"$f":"'GS FP per Tariff'!E89+'GS FP per Tariff'!E99","v":3.6904999999999993E-2},{"$f":"'GS FP per Tariff'!F89","v":3.5799999999999997E-4},{"$f":"'GS FP per Tariff'!G89","v":0.124982},{"$f":"'GS FP per Tariff'!H89","v":3.8999999999999999E-5},{"$f":"'GS FP per Tariff'!I89","v":0},{"$f":"'GS FP per Tariff'!J89","v":4.7289999999999997E-3},{"$f":"'GS FP per Tariff'!K89","v":7.7000000000000002E-3},{"$f":"'GS FP per Tariff'!L89","v":4.9399999999999997E-4},{"$f":"'GS FP per Tariff'!M89","v":-2.34E-4},{"$f":"SUM(AE541:AF541,AI541:AM541)","v":4.9951999999999989E-2},{"$f":"'GS FP per Tariff'!N89+'GS FP per Tariff'!E99","v":0.194185},null,"Rate Category","Description","Price Block","Charge","Transmission*","Distribution","SRC","Capacity*",null,null,null,"SBC","TAA","MTC","Charges","Total"]
[null,null,null,null,null,null,null,null,null,null,null,null,null,null,null,null,null,null,null,null,null,null,null,null,null,null,null,{"$f":"'GS FP per Tariff'!B90","v":"First 1,000 kWh Winter"},null,{"$f":"'GS FP per Tariff'!D90","v":1.9212E-2},{"$f":"'GS FP per Tariff'!E90+'GS FP per Tariff'!E99","v":3.1279000000000001E-2},{"$f":"'GS FP per Tariff'!F90","v":3.5799999999999997E-4},{"$f":"'GS FP per Tariff'!G90","v":0.124626},{"$f":"'GS FP per Tariff'!H90","v":3.8999999999999999E-5},{"$f":"'GS FP per Tariff'!I90","v":0},{"$f":"'GS FP per Tariff'!J90","v":4.7289999999999997E-3},{"$f":"'GS FP per Tariff'!K90","v":7.7000000000000002E-3},{"$f":"'GS FP per Tariff'!L90","v":4.9399999999999997E-4},{"$f":"'GS FP per Tariff'!M90","v":-2.34E-4},4.4325999999999997E-2,{"$f":"'GS FP per Tariff'!N90+'GS FP per Tariff'!E99","v":0.18820300000000001},null,"JC_GS3_14F","General Service Secondary - 3 Phase","Customer Charge",{"$f":"'GS FP per Tariff'!C78","v":16.690000000000001},null,null,null,null,null,null,null,null,null,null,{"$f":"AT542","v":16.690000000000001},{"$f":"AT542","v":16.690000000000001}]
[null,null,null,null,null,null,null,null,null,null,null,null,null,null,null,null,null,null,null,null,null,null,null,null,null,null,null,{"$f":"'GS FP per Tariff'!B91","v":"Over 1,000 kWh Summer"},null,{"$f":"'GS FP per Tariff'!D91","v":1.9212E-2},{"$f":"'GS FP per Tariff'!E91","v":6.0210000000000003E-3},{"$f":"'GS FP per Tariff'!F91","v":3.5799999999999997E-4},{"$f":"'GS FP per Tariff'!G91","v":0.124982},{"$f":"'GS FP per Tariff'!H91","v":3.8999999999999999E-5},{"$f":"'GS FP per Tariff'!I91","v":0},{"$f":"'GS FP per Tariff'!J91","v":4.7289999999999997E-3},{"$f":"'GS FP per Tariff'!K91","v":7.7000000000000002E-3},{"$f":"'GS FP per Tariff'!L91","v":4.9399999999999997E-4},{"$f":"'GS FP per Tariff'!M91","v":-2.34E-4},1.9067999999999998E-2,{"$f":"'GS FP per Tariff'!N91","v":0.163301},null,null,"Religious House of Worship Provision**","Suppl D/N Cust Charge",{"$f":"'GS FP per Tariff'!C81","v":3.81},null,null,null,null,null,null,null,null,null,null,{"$f":"AT543","v":3.81},{"$f":"AT543","v":3.81}]
[null,null,null,null,null,null,null,null,null,null,null,null,null,null,null,null,null,null,null,null,null,null,null,null,null,null,null,{"$f":"'GS FP per Tariff'!B92","v":"Over 1,000 kWh Winter"},null,{"$f":"'GS FP per Tariff'!D92","v":1.9212E-2},{"$f":"'GS FP per Tariff'!E92","v":6.0210000000000003E-3},{"$f":"'GS FP per Tariff'!F92","v":3.5799999999999997E-4},{"$f":"'GS FP per Tariff'!G92","v":0.124626},{"$f":"'GS FP per Tariff'!H92","v":3.8999999999999999E-5},{"$f":"'GS FP per Tariff'!I92","v":0},{"$f":"'GS FP per Tariff'!J92","v":4.7289999999999997E-3},{"$f":"'GS FP per Tariff'!K92","v":7.7000000000000002E-3},{"$f":"'GS FP per Tariff'!L92","v":4.9399999999999997E-4},{"$f":"'GS FP per Tariff'!M92","v":-2.34E-4},1.9067999999999998E-2,{"$f":"'GS FP per Tariff'!N92","v":0.16294500000000001},null,null,"Electric Space Heating Provision***",{"$f":"'GS FP per Tariff'!B84","v":"Over 10  KW Summer"},null,null,{"$f":"'GS FP per Tariff'!E84","v":9},null,null,null,null,null,null,null,null,{"$f":"AV544","v":9},{"$f":"AV544","v":9}]
[null,null,null,null,null,null,null,null,null,null,null,null,null,null,null,null,null,null,null,null,null,null,null,null,null,null,null,"* Charge applies only to Full Service Customers",null,null,{"$f":"\"** First 1,000 kWh includes distribution charge credit of  - $\" & FIXED(-'GS FP per Tariff'!$E$99,6) & \" per kWh.\"","v":"** First 1,000 kWh includes distribution charge credit of  - $0.038383 per kWh."},null,null,null,null,null,null,null,null,null,null,null,null,"Day/Night Provision****",{"$f":"'GS FP per Tariff'!B85","v":"Over 10  KW Winter"},null,null,{"$f":"'GS FP per Tariff'!E85","v":8.3800000000000008},null,null,null,null,null,null,null,null,{"$f":"AV545","v":8.3800000000000008},{"$f":"AV545","v":8.3800000000000008}]
[null,null,null,null,null,null,null,null,null,null,null,null,null,null,null,null,null,null,null,null,null,null,null,null,null,null,null,"*** Minimum demand charge calculation is based on summer kW only",null,null,null,"**** Demand charges are based on the greater of 100% on-peak kW or 40% off-peak kW",null,null,null,null,null,null,null,null,null,null,null,"Full service",{"$f":"'GS FP per Tariff'!B87","v":"Minimum Bill-Over 10 KW "},null,null,{"$f":"'GS FP per Tariff'!E87","v":4.08},null,null,null,null,null,null,null,null,{"$f":"AV546","v":4.08},{"$f":"AV546","v":4.08}]
[null,null,null,null,null,null,null,null,null,null,null,null,null,null,null,null,null,null,null,null,null,null,null,null,null,null,null,null,null,null,null,null,null,null,null,null,null,null,null,null,null,null,null,"All Taxes Applicable & Included",{"$f":"'GS FP per Tariff'!B89","v":"First 1,000 kWh Summer"},null,{"$f":"'GS FP per Tariff'!D89","v":1.9212E-2},{"$f":"'GS FP per Tariff'!E89+'GS FP per Tariff'!E99","v":3.6904999999999993E-2},{"$f":"'GS FP per Tariff'!F89","v":3.5799999999999997E-4},{"$f":"'GS FP per Tariff'!G89","v":0.124982},{"$f":"'GS FP per Tariff'!H89","v":3.8999999999999999E-5},{"$f":"'GS FP per Tariff'!I89","v":0},{"$f":"'GS FP per Tariff'!J89","v":4.7289999999999997E-3},{"$f":"'GS FP per Tariff'!K89","v":7.7000000000000002E-3},{"$f":"'GS FP per Tariff'!L89","v":4.9399999999999997E-4},{"$f":"'GS FP per Tariff'!M89","v":-2.34E-4},{"$f":"SUM(AV547:AW547,AZ547:BD547)","v":4.9951999999999989E-2},{"$f":"'GS FP per Tariff'!N89+'GS FP per Tariff'!E99","v":0.194185},{"$f":"BF547-BE547-AU547-AX547-AY547","v":-2.6291902682773483E-18}]
[null,null,null,null,null,null,null,null,null,null,null,null,null,null,null,null,null,null,null,null,null,null,null,null,null,null,null,null,null,null,null,{"$f":"AF$2","v":"Rates Effective with Service Rendered June 1, 2025"},null,null,null,null,null,null,null,"Delivery",null,null,null,null,{"$f":"'GS FP per Tariff'!B90","v":"First 1,000 kWh Winter"},null,{"$f":"'GS FP per Tariff'!D90","v":1.9212E-2},{"$f":"'GS FP per Tariff'!E90+'GS FP per Tariff'!E99","v":3.1279000000000001E-2},{"$f":"'GS FP per Tariff'!F90","v":3.5799999999999997E-4},{"$f":"'GS FP per Tariff'!G90","v":0.124626},{"$f":"'GS FP per Tariff'!H90","v":3.8999999999999999E-5},{"$f":"'GS FP per Tariff'!I90","v":0},{"$f":"'GS FP per Tariff'!J90","v":4.7289999999999997E-3},{"$f":"'GS FP per Tariff'!K90","v":7.7000000000000002E-3},{"$f":"'GS FP per Tariff'!L90","v":4.9399999999999997E-4},{"$f":"'GS FP per Tariff'!M90","v":-2.34E-4},4.4325999999999997E-2,{"$f":"'GS FP per Tariff'!N90+'GS FP per Tariff'!E99","v":0.18820300000000001},{"$f":"BF548-BE548-AU548-AX548-AY548","v":-2.6291902682773483E-18}]
[null,null,null,null,null,null,null,null,null,null,null,null,null,null,null,null,null,null,null,null,null,null,null,null,null,null,null,"Charge or","Customer",null,null,null,"Energy &","BGS-FP Reconciliation Charge*",{"$f":"$AI$3","v":"Zero Emission Certificate Recovery Charge (ZEC)"},"RGGI\nRecovery\nCharge (RRC)",null,null,null,"Service","Full Service",null,null,null,{"$f":"'GS FP per Tariff'!B91","v":"Over 1,000 kWh Summer"},null,{"$f":"'GS FP per Tariff'!D91","v":1.9212E-2},{"$f":"'GS FP per Tariff'!E91","v":6.0210000000000003E-3},{"$f":"'GS FP per Tariff'!F91","v":3.5799999999999997E-4},{"$f":"'GS FP per Tariff'!G91","v":0.124982},{"$f":"'GS FP per Tariff'!H91","v":3.8999999999999999E-5},{"$f":"'GS FP per Tariff'!I91","v":0},{"$f":"'GS FP per Tariff'!J91","v":4.7289999999999997E-3},{"$f":"'GS FP per Tariff'!K91","v":7.7000000000000002E-3},{"$f":"'GS FP per Tariff'!L91","v":4.9399999999999997E-4},{"$f":"'GS FP per Tariff'!M91","v":-2.34E-4},1.9067999999999998E-2,{"$f":"'GS FP per Tariff'!N91","v":0.163301},{"$f":"BF549-BE549-AU549-AX549-AY549","v":-2.6291902682773483E-18}]
[null,null,null,null,null,null,null,null,null,null,null,null,null,null,null,null,null,null,null,null,null,null,null,null,null,"Rate Category","Description","Price Block","Charge","Transmission*","Distribution","Covid-19 Recovery","Capacity*",null,null,null,"SBC","LRAM","NGC","Total","Total",null,null,null,{"$f":"'GS FP per Tariff'!B92","v":"Over 1,000 kWh Winter"},null,{"$f":"'GS FP per Tariff'!D92","v":1.9212E-2},{"$f":"'GS FP per Tariff'!E92","v":6.0210000000000003E-3},{"$f":"'GS FP per Tariff'!F92","v":3.5799999999999997E-4},{"$f":"'GS FP per Tariff'!G92","v":0.124626},{"$f":"'GS FP per Tariff'!H92","v":3.8999999999999999E-5},{"$f":"'GS FP per Tariff'!I92","v":0},{"$f":"'GS FP per Tariff'!J92","v":4.7289999999999997E-3},{"$f":"'GS FP per Tariff'!K92","v":7.7000000000000002E-3},{"$f":"'GS FP per Tariff'!L92","v":4.9399999999999997E-4},{"$f":"'GS FP per Tariff'!M92","v":-2.34E-4},1.9067999999999998E-2,{"$f":"'GS FP per Tariff'!N92","v":0.16294500000000001},{"$f":"BF550-BE550-AU550-AX550-AY550","v":-2.6291902682773483E-18}]
[null,null,null,null,null,null,null,null,null,null,null,null,null,null,null,null,null,null,null,null,null,null,null,null,null,"JC_GS1_15D","General Service Secondary - 1 Phase","Customer Charge",{"$f":"'GS FP per Tariff'!C77","v":4.6500000000000004},null,null,null,null,null,null,null,null,null,null,{"$f":"AC551","v":4.6500000000000004},"N/A",null,null,null,"* Charge applies only to Full Service Customers",null,null,{"$f":"\"** First 1,000 kWh includes distribution charge credit of  - $\" & FIXED(-'GS FP per Tariff'!$E$99,6) & \" per kWh.\"","v":"** First 1,000 kWh includes distribution charge credit of  - $0.038383 per kWh."}]
[null,null,null,null,null,null,null,null,null,null,null,null,null,null,null,null,null,null,null,null,null,null,null,null,null,null,"Electric Space Heating Provision**","Suppl OPWH Cust Charge",{"$f":"'GS FP per Tariff'!C79","v":2.23},null,null,null,null,null,null,null,null,null,null,{"$f":"AC552","v":2.23},"N/A",null,null,null,"*** Minimum demand charge calculation is based on summer kW only",null,null,null,"**** Demand charges are based on the greater of 100% on-peak kW or 40% off-peak kW"]
[null,null,null,null,null,null,null,null,null,null,null,null,null,null,null,null,null,null,null,null,null,null,null,null,null,null,"Off-Peak Water Heating Provision***",{"$f":"'GS FP per Tariff'!B84","v":"Over 10  KW Summer"},null,null,{"$f":"'GS FP per Tariff'!E84","v":9},null,null,null,null,null,null,null,null,{"$f":"AE553","v":9},"N/A"]
[null,null,null,null,null,null,null,null,null,null,null,null,null,null,null,null,null,null,null,null,null,null,null,null,null,null,"Delivery Service Only",{"$f":"'GS FP per Tariff'!B85","v":"Over 10  KW Winter"},null,null,{"$f":"'GS FP per Tariff'!E85","v":8.3800000000000008},null,null,null,null,null,null,null,null,{"$f":"AE554","v":8.3800000000000008},"N/A",null,null,null,null,null,null,null,{"$f":"AF$2","v":"Rates Effective with Service Rendered June 1, 2025"},null,null,null,null,null,null,null,"Delivery"]
[null,null,null,null,null,null,null,null,null,null,null,null,null,null,null,null,null,null,null,null,null,null,null,null,null,null,"All Taxes Applicable & Included",{"$f":"'GS FP per Tariff'!B87","v":"Minimum Bill-Over 10 KW "},null,null,{"$f":"'GS FP per Tariff'!E87","v":4.08},null,null,null,null,null,null,null,null,{"$f":"AE555","v":4.08},"N/A",null,null,null,"Charge or","Customer",null,null,null,"Energy &","BGS-FP Reconciliation Charge*",{"$f":"$AI$3","v":"Zero Emission Certificate Recovery Charge (ZEC)"},"RGGI\nRecovery\nCharge (RRC)",null,null,null,"Service","Full Service"]
[null,null,null,null,null,null,null,null,null,null,null,null,null,null,null,null,null,null,null,null,null,null,null,null,null,null,null,{"$f":"'GS FP per Tariff'!B89","v":"First 1,000 kWh Summer"},null,"N/A",{"$f":"'GS FP per Tariff'!E89","v":7.5287999999999994E-2},{"$f":"'GS FP per Tariff'!F89","v":3.5799999999999997E-4},"N/A","N/A",{"$f":"'GS FP per Tariff'!I89","v":0},{"$f":"'GS FP per Tariff'!J89","v":4.7289999999999997E-3},{"$f":"'GS FP per Tariff'!K89","v":7.7000000000000002E-3},{"$f":"'GS FP per Tariff'!L89","v":4.9399999999999997E-4},{"$f":"'GS FP per Tariff'!M89","v":-2.34E-4},{"$f":"SUM(AE556:AF556,AI556:AM556)","v":8.8334999999999983E-2},"N/A",null,"Rate Category","Description","Price Block","Charge","Transmission*","Distribution","SRC","Capacity*",null,null,null,"SBC","TAA","MTC","Total","Total"]
[null,null,null,null,null,null,null,null,null,null,null,null,null,null,null,null,null,null,null,null,null,null,null,null,null,null,null,{"$f":"'GS FP per Tariff'!B90","v":"First 1,000 kWh Winter"},null,"N/A",{"$f":"'GS FP per Tariff'!E90","v":6.9662000000000002E-2},{"$f":"'GS FP per Tariff'!F90","v":3.5799999999999997E-4},"N/A","N/A",{"$f":"'GS FP per Tariff'!I90","v":0},{"$f":"'GS FP per Tariff'!J90","v":4.7289999999999997E-3},{"$f":"'GS FP per Tariff'!K90","v":7.7000000000000002E-3},{"$f":"'GS FP per Tariff'!L90","v":4.9399999999999997E-4},{"$f":"'GS FP per Tariff'!M90","v":-2.34E-4},8.2708999999999991E-2,"N/A",null,"JC_GS3_15D","General Service Secondary - 3 Phase","Customer Charge",{"$f":"'GS FP per Tariff'!C78","v":16.690000000000001},null,null,null,null,null,null,null,null,null,null,{"$f":"AT557","v":16.690000000000001},"N/A"]
[null,null,null,null,null,null,null,null,null,null,null,null,null,null,null,null,null,null,null,null,null,null,null,null,null,null,null,{"$f":"'GS FP per Tariff'!B91","v":"Over 1,000 kWh Summer"},null,"N/A",{"$f":"'GS FP per Tariff'!E91","v":6.0210000000000003E-3},{"$f":"'GS FP per Tariff'!F91","v":3.5799999999999997E-4},"N/A","N/A",{"$f":"'GS FP per Tariff'!I91","v":0},{"$f":"'GS FP per Tariff'!J91","v":4.7289999999999997E-3},{"$f":"'GS FP per Tariff'!K91","v":7.7000000000000002E-3},{"$f":"'GS FP per Tariff'!L91","v":4.9399999999999997E-4},{"$f":"'GS FP per Tariff'!M91","v":-2.34E-4},1.9067999999999998E-2,"N/A",null,null,"Electric Space Heating Provision**","Suppl OPWH Cust Charge",{"$f":"'GS FP per Tariff'!C79","v":2.23},null,null,null,null,null,null,null,null,null,null,{"$f":"AT558","v":2.23},"N/A"]
[null,null,null,null,null,null,null,null,null,null,null,null,null,null,null,null,null,null,null,null,null,null,null,null,null,null,null,{"$f":"'GS FP per Tariff'!B92","v":"Over 1,000 kWh Winter"},null,"N/A",{"$f":"'GS FP per Tariff'!E92","v":6.0210000000000003E-3},{"$f":"'GS FP per Tariff'!F92","v":3.5799999999999997E-4},"N/A","N/A",{"$f":"'GS FP per Tariff'!I92","v":0},{"$f":"'GS FP per Tariff'!J92","v":4.7289999999999997E-3},{"$f":"'GS FP per Tariff'!K92","v":7.7000000000000002E-3},{"$f":"'GS FP per Tariff'!L92","v":4.9399999999999997E-4},{"$f":"'GS FP per Tariff'!M92","v":-2.34E-4},1.9067999999999998E-2,"N/A",null,null,"Off-Peak Water Heating Provision***",{"$f":"'GS FP per Tariff'!B84","v":"Over 10  KW Summer"},null,null,{"$f":"'GS FP per Tariff'!E84","v":9},null,null,null,null,null,null,null,null,{"$f":"AV559","v":9},"N/A"]
[null,null,null,null,null,null,null,null,null,null,null,null,null,null,null,null,null,null,null,null,null,null,null,null,null,null,null,{"$f":"'GS FP per Tariff'!B93","v":"OPWH-kWh Summer"},null,"N/A",{"$f":"'GS FP per Tariff'!E93","v":2.2065999999999999E-2},{"$f":"'GS FP per Tariff'!F93","v":3.5799999999999997E-4},"N/A","N/A",{"$f":"'GS FP per Tariff'!I93","v":0},{"$f":"'GS FP per Tariff'!J93","v":4.7289999999999997E-3},{"$f":"'GS FP per Tariff'!K93","v":7.7000000000000002E-3},{"$f":"'GS FP per Tariff'!L93","v":4.9399999999999997E-4},{"$f":"'GS FP per Tariff'!M93","v":-2.34E-4},3.5113000000000005E-2,"N/A",null,null,"Delivery Service Only",{"$f":"'GS FP per Tariff'!B85","v":"Over 10  KW Winter"},null,null,{"$f":"'GS FP per Tariff'!E85","v":8.3800000000000008},null,null,null,null,null,null,null,null,{"$f":"AV560","v":8.3800000000000008},"N/A"]
[null,null,null,null,null,null,null,null,null,null,null,null,null,null,null,null,null,null,null,null,null,null,null,null,null,null,null,{"$f":"'GS FP per Tariff'!B94","v":"OPWH-kWh Winter"},null,"N/A",{"$f":"'GS FP per Tariff'!E94","v":2.2065999999999999E-2},{"$f":"'GS FP per Tariff'!F94","v":3.5799999999999997E-4},"N/A","N/A",{"$f":"'GS FP per Tariff'!I94","v":0},{"$f":"'GS FP per Tariff'!J94","v":4.7289999999999997E-3},{"$f":"'GS FP per Tariff'!K94","v":7.7000000000000002E-3},{"$f":"'GS FP per Tariff'!L94","v":4.9399999999999997E-4},{"$f":"'GS FP per Tariff'!M94","v":-2.34E-4},3.5113000000000005E-2,"N/A",null,null,"All Taxes Applicable & Included",{"$f":"'GS FP per Tariff'!B87","v":"Minimum Bill-Over 10 KW "},null,null,{"$f":"'GS FP per Tariff'!E87","v":4.08},null,null,null,null,null,null,null,null,{"$f":"AV561","v":4.08},"N/A"]
[null,null,null,null,null,null,null,null,null,null,null,null,null,null,null,null,null,null,null,null,null,null,null,null,null,null,null,"* Charge applies only to Full Service Customers",null,null,"** Minimum demand charge calculation is based on summer kW only",null,null,null,null,null,null,null,null,null,null,null,null,null,{"$f":"'GS FP per Tariff'!B89","v":"First 1,000 kWh Summer"},null,"N/A",{"$f":"'GS FP per Tariff'!E89","v":7.5287999999999994E-2},{"$f":"'GS FP per Tariff'!F89","v":3.5799999999999997E-4},"N/A","N/A",{"$f":"'GS FP per Tariff'!I89","v":0},{"$f":"'GS FP per Tariff'!J89","v":4.7289999999999997E-3},{"$f":"'GS FP per Tariff'!K89","v":7.7000000000000002E-3},{"$f":"'GS FP per Tariff'!L89","v":4.9399999999999997E-4},{"$f":"'GS FP per Tariff'!M89","v":-2.34E-4},{"$f":"SUM(AV562:AW562,AZ562:BD562)","v":8.8334999999999983E-2},"N/A"]
[null,null,null,null,null,null,null,null,null,null,null,null,null,null,null,null,null,null,null,null,null,null,null,null,null,null,null,"*** The Off-Peak Water Heating (OPWH) usage is measured on both the primary meter and the water heating meter.",null,null,null,null,null,null,null,null,null,null,null,null,null,null,null,null,{"$f":"'GS FP per Tariff'!B90","v":"First 1,000 kWh Winter"},null,"N/A",{"$f":"'GS FP per Tariff'!E90","v":6.9662000000000002E-2},{"$f":"'GS FP per Tariff'!F90","v":3.5799999999999997E-4},"N/A","N/A",{"$f":"'GS FP per Tariff'!I90","v":0},{"$f":"'GS FP per Tariff'!J90","v":4.7289999999999997E-3},{"$f":"'GS FP per Tariff'!K90","v":7.7000000000000002E-3},{"$f":"'GS FP per Tariff'!L90","v":4.9399999999999997E-4},{"$f":"'GS FP per Tariff'!M90","v":-2.34E-4},8.2708999999999991E-2,"N/A"]
[null,null,null,null,null,null,null,null,null,null,null,null,null,null,null,null,null,null,null,null,null,null,null,null,null,null,null,"      The water heating usage is subtracted from primary meter before billing non-water heating usage.",null,null,null,null,null,null,null,null,null,null,null,null,null,null,null,null,{"$f":"'GS FP per Tariff'!B91","v":"Over 1,000 kWh Summer"},null,"N/A",{"$f":"'GS FP per Tariff'!E91","v":6.0210000000000003E-3},{"$f":"'GS FP per Tariff'!F91","v":3.5799999999999997E-4},"N/A","N/A",{"$f":"'GS FP per Tariff'!I91","v":0},{"$f":"'GS FP per Tariff'!J91","v":4.7289999999999997E-3},{"$f":"'GS FP per Tariff'!K91","v":7.7000000000000002E-3},{"$f":"'GS FP per Tariff'!L91","v":4.9399999999999997E-4},{"$f":"'GS FP per Tariff'!M91","v":-2.34E-4},1.9067999999999998E-2,"N/A"]
[null,null,null,null,null,null,null,null,null,null,null,null,null,null,null,null,null,null,null,null,null,null,null,null,null,null,null,null,null,null,null,null,null,null,null,null,null,null,null,null,null,null,null,null,{"$f":"'GS FP per Tariff'!B92","v":"Over 1,000 kWh Winter"},null,"N/A",{"$f":"'GS FP per Tariff'!E92","v":6.0210000000000003E-3},{"$f":"'GS FP per Tariff'!F92","v":3.5799999999999997E-4},"N/A","N/A",{"$f":"'GS FP per Tariff'!I92","v":0},{"$f":"'GS FP per Tariff'!J92","v":4.7289999999999997E-3},{"$f":"'GS FP per Tariff'!K92","v":7.7000000000000002E-3},{"$f":"'GS FP per Tariff'!L92","v":4.9399999999999997E-4},{"$f":"'GS FP per Tariff'!M92","v":-2.34E-4},1.9067999999999998E-2,"N/A"]
[null,null,null,null,null,null,null,null,null,null,null,null,null,null,null,null,null,null,null,null,null,null,null,null,null,null,null,null,null,null,null,{"$f":"AF$2","v":"Rates Effective with Service Rendered June 1, 2025"},null,null,null,null,null,null,null,"Delivery",null,null,null,null,{"$f":"'GS FP per Tariff'!B93","v":"OPWH-kWh Summer"},null,"N/A",{"$f":"'GS FP per Tariff'!E93","v":2.2065999999999999E-2},{"$f":"'GS FP per Tariff'!F93","v":3.5799999999999997E-4},"N/A","N/A",{"$f":"'GS FP per Tariff'!I93","v":0},{"$f":"'GS FP per Tariff'!J93","v":4.7289999999999997E-3},{"$f":"'GS FP per Tariff'!K93","v":7.7000000000000002E-3},{"$f":"'GS FP per Tariff'!L93","v":4.9399999999999997E-4},{"$f":"'GS FP per Tariff'!M93","v":-2.34E-4},3.5113000000000005E-2,"N/A"]
[null,null,null,null,null,null,null,null,null,null,null,null,null,null,null,null,null,null,null,null,null,null,null,null,null,null,null,"Charge or","Customer",null,null,null,"Energy &","BGS-FP Reconciliation Charge*",{"$f":"$AI$3","v":"Zero Emission Certificate Recovery Charge (ZEC)"},"RGGI\nRecovery\nCharge (RRC)",null,null,null,"Service","Full Service",null,null,null,{"$f":"'GS FP per Tariff'!B94","v":"OPWH-kWh Winter"},null,"N/A",{"$f":"'GS FP per Tariff'!E94","v":2.2065999999999999E-2},{"$f":"'GS FP per Tariff'!F94","v":3.5799999999999997E-4},"N/A","N/A",{"$f":"'GS FP per Tariff'!I94","v":0},{"$f":"'GS FP per Tariff'!J94","v":4.7289999999999997E-3},{"$f":"'GS FP per Tariff'!K94","v":7.7000000000000002E-3},{"$f":"'GS FP per Tariff'!L94","v":4.9399999999999997E-4},{"$f":"'GS FP per Tariff'!M94","v":-2.34E-4},3.5113000000000005E-2,"N/A"]
[null,null,null,null,null,null,null,null,null,null,null,null,null,null,null,null,null,null,null,null,null,null,null,null,null,"Rate Category","Description","Price Block","Charge","Transmission*","Distribution","Covid-19 Recovery","Capacity*",null,null,null,"SBC","LRAM","NGC","Charges","Total",null,null,null,"* Charge applies only to Full Service Customers",null,null,"** Minimum demand charge calculation is based on summer kW only"]
[null,null,null,null,null,null,null,null,null,null,null,null,null,null,null,null,null,null,null,null,null,null,null,null,null,"JC_GS1_15F","General Service Secondary - 1 Phase","Customer Charge",{"$f":"'GS FP per Tariff'!C77","v":4.6500000000000004},null,null,null,null,null,null,null,null,null,null,{"$f":"AC569","v":4.6500000000000004},{"$f":"AC569","v":4.6500000000000004},null,null,null,"*** The Off-Peak Water Heating (OPWH) usage is measured on both the primary meter and the water heating meter."]
[null,null,null,null,null,null,null,null,null,null,null,null,null,null,null,null,null,null,null,null,null,null,null,null,null,null,"Electric Space Heating Provision**","Suppl OPWH Cust Charge",{"$f":"'GS FP per Tariff'!C79","v":2.23},null,null,null,null,null,null,null,null,null,null,{"$f":"AC570","v":2.23},{"$f":"AC570","v":2.23},null,null,null,"      The water heating usage is subtracted from primary meter before billing non-water heating usage."]
[null,null,null,null,null,null,null,null,null,null,null,null,null,null,null,null,null,null,null,null,null,null,null,null,null,null,"Off-Peak Water Heating Provision***",{"$f":"'GS FP per Tariff'!B84","v":"Over 10  KW Summer"},null,null,{"$f":"'GS FP per Tariff'!E84","v":9},null,null,null,null,null,null,null,null,{"$f":"AE571","v":9},{"$f":"AE571","v":9}]
[null,null,null,null,null,null,null,null,null,null,null,null,null,null,null,null,null,null,null,null,null,null,null,null,null,null,"Full Service",{"$f":"'GS FP per Tariff'!B85","v":"Over 10  KW Winter"},null,null,{"$f":"'GS FP per Tariff'!E85","v":8.3800000000000008},null,null,null,null,null,null,null,null,{"$f":"AE572","v":8.3800000000000008},{"$f":"AE572","v":8.3800000000000008},null,null,null,null,null,null,null,{"$f":"AF$2","v":"Rates Effective with Service Rendered June 1, 2025"},null,null,null,null,null,null,null,"Delivery"]
[null,null,null,null,null,null,null,null,null,null,null,null,null,null,null,null,null,null,null,null,null,null,null,null,null,null,"All Taxes Applicable & Included",{"$f":"'GS FP per Tariff'!B87","v":"Minimum Bill-Over 10 KW "},null,null,{"$f":"'GS FP per Tariff'!E87","v":4.08},null,null,null,null,null,null,null,null,{"$f":"AE573","v":4.08},{"$f":"AE573","v":4.08},null,null,null,"Charge or","Customer",null,null,null,"Energy &","BGS-FP Reconciliation Charge*",{"$f":"$AI$3","v":"Zero Emission Certificate Recovery Charge (ZEC)"},"RGGI\nRecovery\nCharge (RRC)",null,null,null,"Service","Full Service"]
[null,null,null,null,null,null,null,null,null,null,null,null,null,null,null,null,null,null,null,null,null,null,null,null,null,null,null,{"$f":"'GS FP per Tariff'!B89","v":"First 1,000 kWh Summer"},null,{"$f":"'GS FP per Tariff'!D89","v":1.9212E-2},{"$f":"'GS FP per Tariff'!E89","v":7.5287999999999994E-2},{"$f":"'GS FP per Tariff'!F89","v":3.5799999999999997E-4},{"$f":"'GS FP per Tariff'!G89","v":0.124982},{"$f":"'GS FP per Tariff'!H89","v":3.8999999999999999E-5},{"$f":"'GS FP per Tariff'!I89","v":0},{"$f":"'GS FP per Tariff'!J89","v":4.7289999999999997E-3},{"$f":"'GS FP per Tariff'!K89","v":7.7000000000000002E-3},{"$f":"'GS FP per Tariff'!L89","v":4.9399999999999997E-4},{"$f":"'GS FP per Tariff'!M89","v":-2.34E-4},{"$f":"SUM(AE574:AF574,AI574:AM574)","v":8.8334999999999983E-2},{"$f":"'GS FP per Tariff'!N89","v":0.232568},null,"Rate Category","Description","Price Block","Charge","Transmission*","Distribution","SRC","Capacity*",null,null,null,"SBC","TAA","MTC","Charges","Total"]
[null,null,null,null,null,null,null,null,null,null,null,null,null,null,null,null,null,null,null,null,null,null,null,null,null,null,null,{"$f":"'GS FP per Tariff'!B90","v":"First 1,000 kWh Winter"},null,{"$f":"'GS FP per Tariff'!D90","v":1.9212E-2},{"$f":"'GS FP per Tariff'!E90","v":6.9662000000000002E-2},{"$f":"'GS FP per Tariff'!F90","v":3.5799999999999997E-4},{"$f":"'GS FP per Tariff'!G90","v":0.124626},{"$f":"'GS FP per Tariff'!H90","v":3.8999999999999999E-5},{"$f":"'GS FP per Tariff'!I90","v":0},{"$f":"'GS FP per Tariff'!J90","v":4.7289999999999997E-3},{"$f":"'GS FP per Tariff'!K90","v":7.7000000000000002E-3},{"$f":"'GS FP per Tariff'!L90","v":4.9399999999999997E-4},{"$f":"'GS FP per Tariff'!M90","v":-2.34E-4},8.2708999999999991E-2,{"$f":"'GS FP per Tariff'!N90","v":0.22658600000000001},null,"JC_GS3_15F","General Service Secondary - 3 Phase","Customer Charge",{"$f":"'GS FP per Tariff'!C78","v":16.690000000000001},null,null,null,null,null,null,null,null,null,null,{"$f":"AT575","v":16.690000000000001},{"$f":"AT575","v":16.690000000000001}]
[null,null,null,null,null,null,null,null,null,null,null,null,null,null,null,null,null,null,null,null,null,null,null,null,null,null,null,{"$f":"'GS FP per Tariff'!B91","v":"Over 1,000 kWh Summer"},null,{"$f":"'GS FP per Tariff'!D91","v":1.9212E-2},{"$f":"'GS FP per Tariff'!E91","v":6.0210000000000003E-3},{"$f":"'GS FP per Tariff'!F91","v":3.5799999999999997E-4},{"$f":"'GS FP per Tariff'!G91","v":0.124982},{"$f":"'GS FP per Tariff'!H91","v":3.8999999999999999E-5},{"$f":"'GS FP per Tariff'!I91","v":0},{"$f":"'GS FP per Tariff'!J91","v":4.7289999999999997E-3},{"$f":"'GS FP per Tariff'!K91","v":7.7000000000000002E-3},{"$f":"'GS FP per Tariff'!L91","v":4.9399999999999997E-4},{"$f":"'GS FP per Tariff'!M91","v":-2.34E-4},1.9067999999999998E-2,{"$f":"'GS FP per Tariff'!N91","v":0.163301},null,null,"Electric Space Heating Provision**","Suppl OPWH Cust Charge",{"$f":"'GS FP per Tariff'!C79","v":2.23},null,null,null,null,null,null,null,null,null,null,{"$f":"AT576","v":2.23},{"$f":"AT576","v":2.23}]
[null,null,null,null,null,null,null,null,null,null,null,null,null,null,null,null,null,null,null,null,null,null,null,null,null,null,null,{"$f":"'GS FP per Tariff'!B92","v":"Over 1,000 kWh Winter"},null,{"$f":"'GS FP per Tariff'!D92","v":1.9212E-2},{"$f":"'GS FP per Tariff'!E92","v":6.0210000000000003E-3},{"$f":"'GS FP per Tariff'!F92","v":3.5799999999999997E-4},{"$f":"'GS FP per Tariff'!G92","v":0.124626},{"$f":"'GS FP per Tariff'!H92","v":3.8999999999999999E-5},{"$f":"'GS FP per Tariff'!I92","v":0},{"$f":"'GS FP per Tariff'!J92","v":4.7289999999999997E-3},{"$f":"'GS FP per Tariff'!K92","v":7.7000000000000002E-3},{"$f":"'GS FP per Tariff'!L92","v":4.9399999999999997E-4},{"$f":"'GS FP per Tariff'!M92","v":-2.34E-4},1.9067999999999998E-2,{"$f":"'GS FP per Tariff'!N92","v":0.16294500000000001},null,null,"Off-Peak Water Heating Provision***",{"$f":"'GS FP per Tariff'!B84","v":"Over 10  KW Summer"},null,null,{"$f":"'GS FP per Tariff'!E84","v":9},null,null,null,null,null,null,null,null,{"$f":"AV577","v":9},{"$f":"AV577","v":9}]
[null,null,null,null,null,null,null,null,null,null,null,null,null,null,null,null,null,null,null,null,null,null,null,null,null,null,null,{"$f":"'GS FP per Tariff'!B93","v":"OPWH-kWh Summer"},null,{"$f":"'GS FP per Tariff'!D93","v":1.9212E-2},{"$f":"'GS FP per Tariff'!E93","v":2.2065999999999999E-2},{"$f":"'GS FP per Tariff'!F93","v":3.5799999999999997E-4},{"$f":"'GS FP per Tariff'!G93","v":0.128414},{"$f":"'GS FP per Tariff'!H93","v":3.8999999999999999E-5},{"$f":"'GS FP per Tariff'!I93","v":0},{"$f":"'GS FP per Tariff'!J93","v":4.7289999999999997E-3},{"$f":"'GS FP per Tariff'!K93","v":7.7000000000000002E-3},{"$f":"'GS FP per Tariff'!L93","v":4.9399999999999997E-4},{"$f":"'GS FP per Tariff'!M93","v":-2.34E-4},3.5113000000000005E-2,{"$f":"'GS FP per Tariff'!N93","v":0.182778},null,null,"Full service",{"$f":"'GS FP per Tariff'!B85","v":"Over 10  KW Winter"},null,null,{"$f":"'GS FP per Tariff'!E85","v":8.3800000000000008},null,null,null,null,null,null,null,null,{"$f":"AV578","v":8.3800000000000008},{"$f":"AV578","v":8.3800000000000008}]
[null,null,null,null,null,null,null,null,null,null,null,null,null,null,null,null,null,null,null,null,null,null,null,null,null,null,null,{"$f":"'GS FP per Tariff'!B94","v":"OPWH-kWh Winter"},null,{"$f":"'GS FP per Tariff'!D94","v":1.9212E-2},{"$f":"'GS FP per Tariff'!E94","v":2.2065999999999999E-2},{"$f":"'GS FP per Tariff'!F94","v":3.5799999999999997E-4},{"$f":"'GS FP per Tariff'!G94","v":0.12782199999999999},{"$f":"'GS FP per Tariff'!H94","v":3.8999999999999999E-5},{"$f":"'GS FP per Tariff'!I94","v":0},{"$f":"'GS FP per Tariff'!J94","v":4.7289999999999997E-3},{"$f":"'GS FP per Tariff'!K94","v":7.7000000000000002E-3},{"$f":"'GS FP per Tariff'!L94","v":4.9399999999999997E-4},{"$f":"'GS FP per Tariff'!M94","v":-2.34E-4},3.5113000000000005E-2,{"$f":"'GS FP per Tariff'!N94","v":0.18218600000000001},null,null,"All Taxes Applicable & Included",{"$f":"'GS FP per Tariff'!B87","v":"Minimum Bill-Over 10 KW "},null,null,{"$f":"'GS FP per Tariff'!E87","v":4.08},null,null,null,null,null,null,null,null,{"$f":"AV579","v":4.08},{"$f":"AV579","v":4.08}]
[null,null,null,null,null,null,null,null,null,null,null,null,null,null,null,null,null,null,null,null,null,null,null,null,null,null,null,"* Charge applies only to Full Service Customers",null,null,"** Minimum demand charge calculation is based on summer kW only",null,null,null,null,null,null,null,null,null,null,null,null,null,{"$f":"'GS FP per Tariff'!B89","v":"First 1,000 kWh Summer"},null,{"$f":"'GS FP per Tariff'!D89","v":1.9212E-2},{"$f":"'GS FP per Tariff'!E89","v":7.5287999999999994E-2},{"$f":"'GS FP per Tariff'!F89","v":3.5799999999999997E-4},{"$f":"'GS FP per Tariff'!G89","v":0.124982},{"$f":"'GS FP per Tariff'!H89","v":3.8999999999999999E-5},{"$f":"'GS FP per Tariff'!I89","v":0},{"$f":"'GS FP per Tariff'!J89","v":4.7289999999999997E-3},{"$f":"'GS FP per Tariff'!K89","v":7.7000000000000002E-3},{"$f":"'GS FP per Tariff'!L89","v":4.9399999999999997E-4},{"$f":"'GS FP per Tariff'!M89","v":-2.34E-4},{"$f":"SUM(AV580:AW580,AZ580:BD580)","v":8.8334999999999983E-2},{"$f":"'GS FP per Tariff'!N89","v":0.232568},{"$f":"BF580-BE580-AU580-AX580-AY580","v":-2.6291902682773483E-18}]
[null,null,null,null,null,null,null,null,null,null,null,null,null,null,null,null,null,null,null,null,null,null,null,null,null,null,null,"*** The Off-Peak Water Heating (OPWH) usage is measured on both the primary meter and the water heating meter.",null,null,null,null,null,null,null,null,null,null,null,null,null,null,null,null,{"$f":"'GS FP per Tariff'!B90","v":"First 1,000 kWh Winter"},null,{"$f":"'GS FP per Tariff'!D90","v":1.9212E-2},{"$f":"'GS FP per Tariff'!E90","v":6.9662000000000002E-2},{"$f":"'GS FP per Tariff'!F90","v":3.5799999999999997E-4},{"$f":"'GS FP per Tariff'!G90","v":0.124626},{"$f":"'GS FP per Tariff'!H90","v":3.8999999999999999E-5},{"$f":"'GS FP per Tariff'!I90","v":0},{"$f":"'GS FP per Tariff'!J90","v":4.7289999999999997E-3},{"$f":"'GS FP per Tariff'!K90","v":7.7000000000000002E-3},{"$f":"'GS FP per Tariff'!L90","v":4.9399999999999997E-4},{"$f":"'GS FP per Tariff'!M90","v":-2.34E-4},8.2708999999999991E-2,{"$f":"'GS FP per Tariff'!N90","v":0.22658600000000001},2.5126385347351565E-17]
[null,null,null,null,null,null,null,null,null,null,null,null,null,null,null,null,null,null,null,null,null,null,null,null,null,null,null,"      The water heating usage is subtracted from primary meter before billing non-water heating usage.",null,null,null,null,null,null,null,null,null,null,null,null,null,null,null,null,{"$f":"'GS FP per Tariff'!B91","v":"Over 1,000 kWh Summer"},null,{"$f":"'GS FP per Tariff'!D91","v":1.9212E-2},{"$f":"'GS FP per Tariff'!E91","v":6.0210000000000003E-3},{"$f":"'GS FP per Tariff'!F91","v":3.5799999999999997E-4},{"$f":"'GS FP per Tariff'!G91","v":0.124982},{"$f":"'GS FP per Tariff'!H91","v":3.8999999999999999E-5},{"$f":"'GS FP per Tariff'!I91","v":0},{"$f":"'GS FP per Tariff'!J91","v":4.7289999999999997E-3},{"$f":"'GS FP per Tariff'!K91","v":7.7000000000000002E-3},{"$f":"'GS FP per Tariff'!L91","v":4.9399999999999997E-4},{"$f":"'GS FP per Tariff'!M91","v":-2.34E-4},1.9067999999999998E-2,{"$f":"'GS FP per Tariff'!N91","v":0.163301},-2.6291902682773483E-18]
[null,null,null,null,null,null,null,null,null,null,null,null,null,null,null,null,null,null,null,null,null,null,null,null,null,null,null,null,null,null,null,null,null,null,null,null,null,null,null,null,null,null,null,null,{"$f":"'GS FP per Tariff'!B92","v":"Over 1,000 kWh Winter"},null,{"$f":"'GS FP per Tariff'!D92","v":1.9212E-2},{"$f":"'GS FP per Tariff'!E92","v":6.0210000000000003E-3},{"$f":"'GS FP per Tariff'!F92","v":3.5799999999999997E-4},{"$f":"'GS FP per Tariff'!G92","v":0.124626},{"$f":"'GS FP per Tariff'!H92","v":3.8999999999999999E-5},{"$f":"'GS FP per Tariff'!I92","v":0},{"$f":"'GS FP per Tariff'!J92","v":4.7289999999999997E-3},{"$f":"'GS FP per Tariff'!K92","v":7.7000000000000002E-3},{"$f":"'GS FP per Tariff'!L92","v":4.9399999999999997E-4},{"$f":"'GS FP per Tariff'!M92","v":-2.34E-4},1.9067999999999998E-2,{"$f":"'GS FP per Tariff'!N92","v":0.16294500000000001},-2.6291902682773483E-18]
[null,null,null,null,null,null,null,null,null,null,null,null,null,null,null,null,null,null,null,null,null,null,null,null,null,null,null,null,null,null,null,{"$f":"AF$2","v":"Rates Effective with Service Rendered June 1, 2025"},null,null,null,null,null,null,null,"Delivery",null,null,null,null,{"$f":"'GS FP per Tariff'!B93","v":"OPWH-kWh Summer"},null,{"$f":"'GS FP per Tariff'!D93","v":1.9212E-2},{"$f":"'GS FP per Tariff'!E93","v":2.2065999999999999E-2},{"$f":"'GS FP per Tariff'!F93","v":3.5799999999999997E-4},{"$f":"'GS FP per Tariff'!G93","v":0.128414},{"$f":"'GS FP per Tariff'!H93","v":3.8999999999999999E-5},{"$f":"'GS FP per Tariff'!I93","v":0},{"$f":"'GS FP per Tariff'!J93","v":4.7289999999999997E-3},{"$f":"'GS FP per Tariff'!K93","v":7.7000000000000002E-3},{"$f":"'GS FP per Tariff'!L93","v":4.9399999999999997E-4},{"$f":"'GS FP per Tariff'!M93","v":-2.34E-4},3.5113000000000005E-2,{"$f":"'GS FP per Tariff'!N93","v":0.182778},-1.6506978076091805E-17]
[null,null,null,null,null,null,null,null,null,null,null,null,null,null,null,null,null,null,null,null,null,null,null,null,null,null,null,"Charge or","Customer",null,null,null,"Energy &","BGS-FP Reconciliation Charge*",{"$f":"$AI$3","v":"Zero Emission Certificate Recovery Charge (ZEC)"},"RGGI\nRecovery\nCharge (RRC)",null,null,null,"Service","Full Service",null,null,null,{"$f":"'GS FP per Tariff'!B94","v":"OPWH-kWh Winter"},null,{"$f":"'GS FP per Tariff'!D94","v":1.9212E-2},{"$f":"'GS FP per Tariff'!E94","v":2.2065999999999999E-2},{"$f":"'GS FP per Tariff'!F94","v":3.5799999999999997E-4},{"$f":"'GS FP per Tariff'!G94","v":0.12782199999999999},{"$f":"'GS FP per Tariff'!H94","v":3.8999999999999999E-5},{"$f":"'GS FP per Tariff'!I94","v":0},{"$f":"'GS FP per Tariff'!J94","v":4.7289999999999997E-3},{"$f":"'GS FP per Tariff'!K94","v":7.7000000000000002E-3},{"$f":"'GS FP per Tariff'!L94","v":4.9399999999999997E-4},{"$f":"'GS FP per Tariff'!M94","v":-2.34E-4},3.5113000000000005E-2,{"$f":"'GS FP per Tariff'!N94","v":0.18218600000000001},1.1248597539537109E-17]
[null,null,null,null,null,null,null,null,null,null,null,null,null,null,null,null,null,null,null,null,null,null,null,null,null,"Rate Category","Description","Price Block","Charge","Transmission*","Distribution","Covid-19 Recovery","Capacity*",null,null,null,"SBC","LRAM","NGC","Total","Total",null,null,null,"* Charge applies only to Full Service Customers",null,null,"** Minimum demand charge calculation is based on summer kW only"]
[null,null,null,null,null,null,null,null,null,null,null,null,null,null,null,null,null,null,null,null,null,null,null,null,null,"JC_GS1_16D","General Service Secondary - 1 Phase","Customer Charge",{"$f":"'GS FP per Tariff'!C77","v":4.6500000000000004},null,null,null,null,null,null,null,null,null,null,{"$f":"AC587","v":4.6500000000000004},"N/A",null,null,null,"*** The Off-Peak Water Heating (OPWH) usage is measured on both the primary meter and the water heating meter."]
[null,null,null,null,null,null,null,null,null,null,null,null,null,null,null,null,null,null,null,null,null,null,null,null,null,null,"Unmetered**",{"$f":"'GS FP per Tariff'!B84","v":"Over 10  KW Summer"},null,null,{"$f":"'GS FP per Tariff'!E84","v":9},null,null,null,null,null,null,null,null,{"$f":"AE588","v":9},"N/A",null,null,null,"      The water heating usage is subtracted from primary meter before billing non-water heating usage."]
[null,null,null,null,null,null,null,null,null,null,null,null,null,null,null,null,null,null,null,null,null,null,null,null,null,null,"Delivery Service Only",{"$f":"'GS FP per Tariff'!B85","v":"Over 10  KW Winter"},null,null,{"$f":"'GS FP per Tariff'!E85","v":8.3800000000000008},null,null,null,null,null,null,null,null,{"$f":"AE589","v":8.3800000000000008},"N/A"]
[null,null,null,null,null,null,null,null,null,null,null,null,null,null,null,null,null,null,null,null,null,null,null,null,null,null,"All Taxes Applicable & Included",{"$f":"'GS FP per Tariff'!B87","v":"Minimum Bill-Over 10 KW "},null,null,{"$f":"'GS FP per Tariff'!E87","v":4.08},null,null,null,null,null,null,null,null,{"$f":"AE590","v":4.08},"N/A",null,null,null,null,null,null,null,{"$f":"AF$2","v":"Rates Effective with Service Rendered June 1, 2025"},null,null,null,null,null,null,null,"Delivery"]
[null,null,null,null,null,null,null,null,null,null,null,null,null,null,null,null,null,null,null,null,null,null,null,null,null,null,null,{"$f":"'GS FP per Tariff'!B89","v":"First 1,000 kWh Summer"},null,"N/A",{"$f":"'GS FP per Tariff'!E89","v":7.5287999999999994E-2},{"$f":"'GS FP per Tariff'!F89","v":3.5799999999999997E-4},"N/A","N/A",{"$f":"'GS FP per Tariff'!I89","v":0},{"$f":"'GS FP per Tariff'!J89","v":4.7289999999999997E-3},{"$f":"'GS FP per Tariff'!K89","v":7.7000000000000002E-3},{"$f":"'GS FP per Tariff'!L89","v":4.9399999999999997E-4},{"$f":"'GS FP per Tariff'!M89","v":-2.34E-4},{"$f":"SUM(AE591:AF591,AI591:AM591)","v":8.8334999999999983E-2},"N/A",null,null,null,"Charge or","Customer",null,null,null,"Energy &","BGS-FP Reconciliation Charge*",{"$f":"$AI$3","v":"Zero Emission Certificate Recovery Charge (ZEC)"},"RGGI\nRecovery\nCharge (RRC)",null,null,null,"Service","Full Service"]
[null,null,null,null,null,null,null,null,null,null,null,null,null,null,null,null,null,null,null,null,null,null,null,null,null,null,null,{"$f":"'GS FP per Tariff'!B90","v":"First 1,000 kWh Winter"},null,"N/A",{"$f":"'GS FP per Tariff'!E90","v":6.9662000000000002E-2},{"$f":"'GS FP per Tariff'!F90","v":3.5799999999999997E-4},"N/A","N/A",{"$f":"'GS FP per Tariff'!I90","v":0},{"$f":"'GS FP per Tariff'!J90","v":4.7289999999999997E-3},{"$f":"'GS FP per Tariff'!K90","v":7.7000000000000002E-3},{"$f":"'GS FP per Tariff'!L90","v":4.9399999999999997E-4},{"$f":"'GS FP per Tariff'!M90","v":-2.34E-4},8.2708999999999991E-2,"N/A",null,"Rate Category","Description","Price Block","Charge","Transmission*","Distribution","SRC","Capacity*",null,null,null,"SBC","TAA","MTC","Total","Total"]
[null,null,null,null,null,null,null,null,null,null,null,null,null,null,null,null,null,null,null,null,null,null,null,null,null,null,null,{"$f":"'GS FP per Tariff'!B91","v":"Over 1,000 kWh Summer"},null,"N/A",{"$f":"'GS FP per Tariff'!E91","v":6.0210000000000003E-3},{"$f":"'GS FP per Tariff'!F91","v":3.5799999999999997E-4},"N/A","N/A",{"$f":"'GS FP per Tariff'!I91","v":0},{"$f":"'GS FP per Tariff'!J91","v":4.7289999999999997E-3},{"$f":"'GS FP per Tariff'!K91","v":7.7000000000000002E-3},{"$f":"'GS FP per Tariff'!L91","v":4.9399999999999997E-4},{"$f":"'GS FP per Tariff'!M91","v":-2.34E-4},1.9067999999999998E-2,"N/A",null,"JC_GS3_16D","General Service Secondary - 3 Phase","Customer Charge",{"$f":"'GS FP per Tariff'!C78","v":16.690000000000001},null,null,null,null,null,null,null,null,null,null,{"$f":"AT593","v":16.690000000000001},"N/A"]
[null,null,null,null,null,null,null,null,null,null,null,null,null,null,null,null,null,null,null,null,null,null,null,null,null,null,null,{"$f":"'GS FP per Tariff'!B92","v":"Over 1,000 kWh Winter"},null,"N/A",{"$f":"'GS FP per Tariff'!E92","v":6.0210000000000003E-3},{"$f":"'GS FP per Tariff'!F92","v":3.5799999999999997E-4},"N/A","N/A",{"$f":"'GS FP per Tariff'!I92","v":0},{"$f":"'GS FP per Tariff'!J92","v":4.7289999999999997E-3},{"$f":"'GS FP per Tariff'!K92","v":7.7000000000000002E-3},{"$f":"'GS FP per Tariff'!L92","v":4.9399999999999997E-4},{"$f":"'GS FP per Tariff'!M92","v":-2.34E-4},1.9067999999999998E-2,"N/A",null,null,"Unmetered**",{"$f":"'GS FP per Tariff'!B84","v":"Over 10  KW Summer"},null,null,{"$f":"'GS FP per Tariff'!E84","v":9},null,null,null,null,null,null,null,null,{"$f":"AV594","v":9},"N/A"]
[null,null,null,null,null,null,null,null,null,null,null,null,null,null,null,null,null,null,null,null,null,null,null,null,null,null,null,"* Charge applies only to Full Service Customers",null,null,null,null,null,null,null,null,null,null,null,null,null,null,null,"Delivery Service Only",{"$f":"'GS FP per Tariff'!B85","v":"Over 10  KW Winter"},null,null,{"$f":"'GS FP per Tariff'!E85","v":8.3800000000000008},null,null,null,null,null,null,null,null,{"$f":"AV595","v":8.3800000000000008},"N/A"]
[null,null,null,null,null,null,null,null,null,null,null,null,null,null,null,null,null,null,null,null,null,null,null,null,null,null,null,"** Unmetered Service is billed on the standard GS rate.  Unmetered Service is only available for installations where metering and/or reading",null,null,null,null,null,null,null,null,null,null,null,null,null,null,null,"All Taxes Applicable & Included",{"$f":"'GS FP per Tariff'!B87","v":"Minimum Bill-Over 10 KW "},null,null,{"$f":"'GS FP per Tariff'!E87","v":4.08},null,null,null,null,null,null,null,null,{"$f":"AV596","v":4.08},"N/A"]
[null,null,null,null,null,null,null,null,null,null,null,null,null,null,null,null,null,null,null,null,null,null,null,null,null,null,null,"    of the meter would be hazardous or impractical and usage is consistent/predictable and not easily altered by the customer without our knowledge/consent.  ",null,null,null,null,null,null,null,null,null,null,null,null,null,null,null,null,{"$f":"'GS FP per Tariff'!B89","v":"First 1,000 kWh Summer"},null,"N/A",{"$f":"'GS FP per Tariff'!E89","v":7.5287999999999994E-2},{"$f":"'GS FP per Tariff'!F89","v":3.5799999999999997E-4},"N/A","N/A",{"$f":"'GS FP per Tariff'!I89","v":0},{"$f":"'GS FP per Tariff'!J89","v":4.7289999999999997E-3},{"$f":"'GS FP per Tariff'!K89","v":7.7000000000000002E-3},{"$f":"'GS FP per Tariff'!L89","v":4.9399999999999997E-4},{"$f":"'GS FP per Tariff'!M89","v":-2.34E-4},{"$f":"SUM(AV597:AW597,AZ597:BD597)","v":8.8334999999999983E-2},"N/A"]
[null,null,null,null,null,null,null,null,null,null,null,null,null,null,null,null,null,null,null,null,null,null,null,null,null,null,null,"    Billing is based on an estimated monthly kWh (and kW if applicable) which are recorded in the installation facts.",null,null,null,null,null,null,null,null,null,null,null,null,null,null,null,null,{"$f":"'GS FP per Tariff'!B90","v":"First 1,000 kWh Winter"},null,"N/A",{"$f":"'GS FP per Tariff'!E90","v":6.9662000000000002E-2},{"$f":"'GS FP per Tariff'!F90","v":3.5799999999999997E-4},"N/A","N/A",{"$f":"'GS FP per Tariff'!I90","v":0},{"$f":"'GS FP per Tariff'!J90","v":4.7289999999999997E-3},{"$f":"'GS FP per Tariff'!K90","v":7.7000000000000002E-3},{"$f":"'GS FP per Tariff'!L90","v":4.9399999999999997E-4},{"$f":"'GS FP per Tariff'!M90","v":-2.34E-4},8.2708999999999991E-2,"N/A"]
[null,null,null,null,null,null,null,null,null,null,null,null,null,null,null,null,null,null,null,null,null,null,null,null,null,null,null,null,null,null,null,null,null,null,null,null,null,null,null,null,null,null,null,null,{"$f":"'GS FP per Tariff'!B91","v":"Over 1,000 kWh Summer"},null,"N/A",{"$f":"'GS FP per Tariff'!E91","v":6.0210000000000003E-3},{"$f":"'GS FP per Tariff'!F91","v":3.5799999999999997E-4},"N/A","N/A",{"$f":"'GS FP per Tariff'!I91","v":0},{"$f":"'GS FP per Tariff'!J91","v":4.7289999999999997E-3},{"$f":"'GS FP per Tariff'!K91","v":7.7000000000000002E-3},{"$f":"'GS FP per Tariff'!L91","v":4.9399999999999997E-4},{"$f":"'GS FP per Tariff'!M91","v":-2.34E-4},1.9067999999999998E-2,"N/A"]
[null,null,null,null,null,null,null,null,null,null,null,null,null,null,null,null,null,null,null,null,null,null,null,null,null,null,null,null,null,null,null,{"$f":"AF$2","v":"Rates Effective with Service Rendered June 1, 2025"},null,null,null,null,null,null,null,"Delivery",null,null,null,null,{"$f":"'GS FP per Tariff'!B92","v":"Over 1,000 kWh Winter"},null,"N/A",{"$f":"'GS FP per Tariff'!E92","v":6.0210000000000003E-3},{"$f":"'GS FP per Tariff'!F92","v":3.5799999999999997E-4},"N/A","N/A",{"$f":"'GS FP per Tariff'!I92","v":0},{"$f":"'GS FP per Tariff'!J92","v":4.7289999999999997E-3},{"$f":"'GS FP per Tariff'!K92","v":7.7000000000000002E-3},{"$f":"'GS FP per Tariff'!L92","v":4.9399999999999997E-4},{"$f":"'GS FP per Tariff'!M92","v":-2.34E-4},1.9067999999999998E-2,"N/A"]
[null,null,null,null,null,null,null,null,null,null,null,null,null,null,null,null,null,null,null,null,null,null,null,null,null,null,null,"Charge or","Customer",null,null,null,"Energy &","BGS-FP Reconciliation Charge*",{"$f":"$AI$3","v":"Zero Emission Certificate Recovery Charge (ZEC)"},"RGGI\nRecovery\nCharge (RRC)",null,null,null,"Service","Full Service",null,null,null,"* Charge applies only to Full Service Customers"]
[null,null,null,null,null,null,null,null,null,null,null,null,null,null,null,null,null,null,null,null,null,null,null,null,null,"Rate Category","Description","Price Block","Charge","Transmission*","Distribution","Covid-19 Recovery","Capacity*",null,null,null,"SBC","LRAM","NGC","Charges","Total",null,null,null,"** Unmetered Service is billed on the standard GS rate.  Unmetered Service is only available for installations where metering and/or reading"]
[null,null,null,null,null,null,null,null,null,null,null,null,null,null,null,null,null,null,null,null,null,null,null,null,null,"JC_GS1_16F","General Service Secondary - 1 Phase","Customer Charge",{"$f":"'GS FP per Tariff'!C77","v":4.6500000000000004},null,null,null,null,null,null,null,null,null,null,{"$f":"AC603","v":4.6500000000000004},{"$f":"AC603","v":4.6500000000000004},null,null,null,"    of the meter would be hazardous or impractical and usage is consistent/predictable and not easily altered by the customer without our knowledge/consent.  "]
[null,null,null,null,null,null,null,null,null,null,null,null,null,null,null,null,null,null,null,null,null,null,null,null,null,null,"Unmetered**",{"$f":"'GS FP per Tariff'!B84","v":"Over 10  KW Summer"},null,null,{"$f":"'GS FP per Tariff'!E84","v":9},null,null,null,null,null,null,null,null,{"$f":"AE604","v":9},{"$f":"AE604","v":9},null,null,null,"    Billing is based on an estimated monthly kWh (and kW if applicable) which are recorded in the installation facts."]
[null,null,null,null,null,null,null,null,null,null,null,null,null,null,null,null,null,null,null,null,null,null,null,null,null,null,"Full Service",{"$f":"'GS FP per Tariff'!B85","v":"Over 10  KW Winter"},null,null,{"$f":"'GS FP per Tariff'!E85","v":8.3800000000000008},null,null,null,null,null,null,null,null,{"$f":"AE605","v":8.3800000000000008},{"$f":"AE605","v":8.3800000000000008}]
[null,null,null,null,null,null,null,null,null,null,null,null,null,null,null,null,null,null,null,null,null,null,null,null,null,null,"All Taxes Applicable & Included",{"$f":"'GS FP per Tariff'!B87","v":"Minimum Bill-Over 10 KW "},null,null,{"$f":"'GS FP per Tariff'!E87","v":4.08},null,null,null,null,null,null,null,null,{"$f":"AE606","v":4.08},{"$f":"AE606","v":4.08},null,null,null,null,null,null,null,{"$f":"AF$2","v":"Rates Effective with Service Rendered June 1, 2025"},null,null,null,null,null,null,null,"Delivery"]
[null,null,null,null,null,null,null,null,null,null,null,null,null,null,null,null,null,null,null,null,null,null,null,null,null,null,null,{"$f":"'GS FP per Tariff'!B89","v":"First 1,000 kWh Summer"},null,{"$f":"'GS FP per Tariff'!D89","v":1.9212E-2},{"$f":"'GS FP per Tariff'!E89","v":7.5287999999999994E-2},{"$f":"'GS FP per Tariff'!F89","v":3.5799999999999997E-4},{"$f":"'GS FP per Tariff'!G89","v":0.124982},{"$f":"'GS FP per Tariff'!H89","v":3.8999999999999999E-5},{"$f":"'GS FP per Tariff'!I89","v":0},{"$f":"'GS FP per Tariff'!J89","v":4.7289999999999997E-3},{"$f":"'GS FP per Tariff'!K89","v":7.7000000000000002E-3},{"$f":"'GS FP per Tariff'!L89","v":4.9399999999999997E-4},{"$f":"'GS FP per Tariff'!M89","v":-2.34E-4},{"$f":"SUM(AE607:AF607,AI607:AM607)","v":8.8334999999999983E-2},{"$f":"'GS FP per Tariff'!N89","v":0.232568},null,null,null,"Charge or","Customer",null,null,null,"Energy &","BGS-FP Reconciliation Charge*",{"$f":"$AI$3","v":"Zero Emission Certificate Recovery Charge (ZEC)"},"RGGI\nRecovery\nCharge (RRC)",null,null,null,"Service","Full Service"]
[null,null,null,null,null,null,null,null,null,null,null,null,null,null,null,null,null,null,null,null,null,null,null,null,null,null,null,{"$f":"'GS FP per Tariff'!B90","v":"First 1,000 kWh Winter"},null,{"$f":"'GS FP per Tariff'!D90","v":1.9212E-2},{"$f":"'GS FP per Tariff'!E90","v":6.9662000000000002E-2},{"$f":"'GS FP per Tariff'!F90","v":3.5799999999999997E-4},{"$f":"'GS FP per Tariff'!G90","v":0.124626},{"$f":"'GS FP per Tariff'!H90","v":3.8999999999999999E-5},{"$f":"'GS FP per Tariff'!I90","v":0},{"$f":"'GS FP per Tariff'!J90","v":4.7289999999999997E-3},{"$f":"'GS FP per Tariff'!K90","v":7.7000000000000002E-3},{"$f":"'GS FP per Tariff'!L90","v":4.9399999999999997E-4},{"$f":"'GS FP per Tariff'!M90","v":-2.34E-4},8.2708999999999991E-2,{"$f":"'GS FP per Tariff'!N90","v":0.22658600000000001},null,"Rate Category","Description","Price Block","Charge","Transmission*","Distribution","SRC","Capacity*",null,null,null,"SBC","TAA","MTC","Charges","Total"]
[null,null,null,null,null,null,null,null,null,null,null,null,null,null,null,null,null,null,null,null,null,null,null,null,null,null,null,{"$f":"'GS FP per Tariff'!B91","v":"Over 1,000 kWh Summer"},null,{"$f":"'GS FP per Tariff'!D91","v":1.9212E-2},{"$f":"'GS FP per Tariff'!E91","v":6.0210000000000003E-3},{"$f":"'GS FP per Tariff'!F91","v":3.5799999999999997E-4},{"$f":"'GS FP per Tariff'!G91","v":0.124982},{"$f":"'GS FP per Tariff'!H91","v":3.8999999999999999E-5},{"$f":"'GS FP per Tariff'!I91","v":0},{"$f":"'GS FP per Tariff'!J91","v":4.7289999999999997E-3},{"$f":"'GS FP per Tariff'!K91","v":7.7000000000000002E-3},{"$f":"'GS FP per Tariff'!L91","v":4.9399999999999997E-4},{"$f":"'GS FP per Tariff'!M91","v":-2.34E-4},1.9067999999999998E-2,{"$f":"'GS FP per Tariff'!N91","v":0.163301},null,"JC_GS3_16F","General Service Secondary - 3 Phase","Customer Charge",{"$f":"'GS FP per Tariff'!C78","v":16.690000000000001},null,null,null,null,null,null,null,null,null,null,{"$f":"AT609","v":16.690000000000001},{"$f":"AT609","v":16.690000000000001}]
[null,null,null,null,null,null,null,null,null,null,null,null,null,null,null,null,null,null,null,null,null,null,null,null,null,null,null,{"$f":"'GS FP per Tariff'!B92","v":"Over 1,000 kWh Winter"},null,{"$f":"'GS FP per Tariff'!D92","v":1.9212E-2},{"$f":"'GS FP per Tariff'!E92","v":6.0210000000000003E-3},{"$f":"'GS FP per Tariff'!F92","v":3.5799999999999997E-4},{"$f":"'GS FP per Tariff'!G92","v":0.124626},{"$f":"'GS FP per Tariff'!H92","v":3.8999999999999999E-5},{"$f":"'GS FP per Tariff'!I92","v":0},{"$f":"'GS FP per Tariff'!J92","v":4.7289999999999997E-3},{"$f":"'GS FP per Tariff'!K92","v":7.7000000000000002E-3},{"$f":"'GS FP per Tariff'!L92","v":4.9399999999999997E-4},{"$f":"'GS FP per Tariff'!M92","v":-2.34E-4},1.9067999999999998E-2,{"$f":"'GS FP per Tariff'!N92","v":0.16294500000000001},null,null,"Unmetered**",{"$f":"'GS FP per Tariff'!B84","v":"Over 10  KW Summer"},null,null,{"$f":"'GS FP per Tariff'!E84","v":9},null,null,null,null,null,null,null,null,{"$f":"AV610","v":9},{"$f":"AV610","v":9}]
[null,null,null,null,null,null,null,null,null,null,null,null,null,null,null,null,null,null,null,null,null,null,null,null,null,null,null,"* Charge applies only to Full Service Customers",null,null,null,null,null,null,null,null,null,null,null,null,null,null,null,"Full service",{"$f":"'GS FP per Tariff'!B85","v":"Over 10  KW Winter"},null,null,{"$f":"'GS FP per Tariff'!E85","v":8.3800000000000008},null,null,null,null,null,null,null,null,{"$f":"AV611","v":8.3800000000000008},{"$f":"AV611","v":8.3800000000000008}]
[null,null,null,null,null,null,null,null,null,null,null,null,null,null,null,null,null,null,null,null,null,null,null,null,null,null,null,"** Unmetered Service is billed on standard GS rate.  Unmetered Service is only available for installations where metering and/or reading",null,null,null,null,null,null,null,null,null,null,null,null,null,null,null,"All Taxes Applicable & Included",{"$f":"'GS FP per Tariff'!B87","v":"Minimum Bill-Over 10 KW "},null,null,{"$f":"'GS FP per Tariff'!E87","v":4.08},null,null,null,null,null,null,null,null,{"$f":"AV612","v":4.08},{"$f":"AV612","v":4.08}]
[null,null,null,null,null,null,null,null,null,null,null,null,null,null,null,null,null,null,null,null,null,null,null,null,null,null,null,"    of the meter is hazardous or impractical and usage is consistent/predictable and not easily altered by the customer without our knowledge/consent.  ",null,null,null,null,null,null,null,null,null,null,null,null,null,null,null,null,{"$f":"'GS FP per Tariff'!B89","v":"First 1,000 kWh Summer"},null,{"$f":"'GS FP per Tariff'!D89","v":1.9212E-2},{"$f":"'GS FP per Tariff'!E89","v":7.5287999999999994E-2},{"$f":"'GS FP per Tariff'!F89","v":3.5799999999999997E-4},{"$f":"'GS FP per Tariff'!G89","v":0.124982},{"$f":"'GS FP per Tariff'!H89","v":3.8999999999999999E-5},{"$f":"'GS FP per Tariff'!I89","v":0},{"$f":"'GS FP per Tariff'!J89","v":4.7289999999999997E-3},{"$f":"'GS FP per Tariff'!K89","v":7.7000000000000002E-3},{"$f":"'GS FP per Tariff'!L89","v":4.9399999999999997E-4},{"$f":"'GS FP per Tariff'!M89","v":-2.34E-4},{"$f":"SUM(AV613:AW613,AZ613:BD613)","v":8.8334999999999983E-2},{"$f":"'GS FP per Tariff'!N89","v":0.232568},{"$f":"BF613-BE613-AU613-AX613-AY613","v":-2.6291902682773483E-18}]
[null,null,null,null,null,null,null,null,null,null,null,null,null,null,null,null,null,null,null,null,null,null,null,null,null,null,null,"    Billing is based on an estimated monthly kWh (and kW if applicable) which are recorded in the installation facts.",null,null,null,null,null,null,null,null,null,null,null,null,null,null,null,null,{"$f":"'GS FP per Tariff'!B90","v":"First 1,000 kWh Winter"},null,{"$f":"'GS FP per Tariff'!D90","v":1.9212E-2},{"$f":"'GS FP per Tariff'!E90","v":6.9662000000000002E-2},{"$f":"'GS FP per Tariff'!F90","v":3.5799999999999997E-4},{"$f":"'GS FP per Tariff'!G90","v":0.124626},{"$f":"'GS FP per Tariff'!H90","v":3.8999999999999999E-5},{"$f":"'GS FP per Tariff'!I90","v":0},{"$f":"'GS FP per Tariff'!J90","v":4.7289999999999997E-3},{"$f":"'GS FP per Tariff'!K90","v":7.7000000000000002E-3},{"$f":"'GS FP per Tariff'!L90","v":4.9399999999999997E-4},{"$f":"'GS FP per Tariff'!M90","v":-2.34E-4},8.2708999999999991E-2,{"$f":"'GS FP per Tariff'!N90","v":0.22658600000000001},{"$f":"BF614-BE614-AU614-AX614-AY614","v":2.5126385347351565E-17}]
[null,null,null,null,null,null,null,null,null,null,null,null,null,null,null,null,null,null,null,null,null,null,null,null,null,null,null,null,null,null,null,null,null,null,null,null,null,null,null,null,null,null,null,null,{"$f":"'GS FP per Tariff'!B91","v":"Over 1,000 kWh Summer"},null,{"$f":"'GS FP per Tariff'!D91","v":1.9212E-2},{"$f":"'GS FP per Tariff'!E91","v":6.0210000000000003E-3},{"$f":"'GS FP per Tariff'!F91","v":3.5799999999999997E-4},{"$f":"'GS FP per Tariff'!G91","v":0.124982},{"$f":"'GS FP per Tariff'!H91","v":3.8999999999999999E-5},{"$f":"'GS FP per Tariff'!I91","v":0},{"$f":"'GS FP per Tariff'!J91","v":4.7289999999999997E-3},{"$f":"'GS FP per Tariff'!K91","v":7.7000000000000002E-3},{"$f":"'GS FP per Tariff'!L91","v":4.9399999999999997E-4},{"$f":"'GS FP per Tariff'!M91","v":-2.34E-4},1.9067999999999998E-2,{"$f":"'GS FP per Tariff'!N91","v":0.163301},{"$f":"BF615-BE615-AU615-AX615-AY615","v":-2.6291902682773483E-18}]
[null,null,null,null,null,null,null,null,null,null,null,null,null,null,null,null,null,null,null,null,null,null,null,null,null,null,null,null,null,null,null,{"$f":"AF$2","v":"Rates Effective with Service Rendered June 1, 2025"},null,null,null,null,null,null,null,"Delivery",null,null,null,null,{"$f":"'GS FP per Tariff'!B92","v":"Over 1,000 kWh Winter"},null,{"$f":"'GS FP per Tariff'!D92","v":1.9212E-2},{"$f":"'GS FP per Tariff'!E92","v":6.0210000000000003E-3},{"$f":"'GS FP per Tariff'!F92","v":3.5799999999999997E-4},{"$f":"'GS FP per Tariff'!G92","v":0.124626},{"$f":"'GS FP per Tariff'!H92","v":3.8999999999999999E-5},{"$f":"'GS FP per Tariff'!I92","v":0},{"$f":"'GS FP per Tariff'!J92","v":4.7289999999999997E-3},{"$f":"'GS FP per Tariff'!K92","v":7.7000000000000002E-3},{"$f":"'GS FP per Tariff'!L92","v":4.9399999999999997E-4},{"$f":"'GS FP per Tariff'!M92","v":-2.34E-4},1.9067999999999998E-2,{"$f":"'GS FP per Tariff'!N92","v":0.16294500000000001},{"$f":"BF616-BE616-AU616-AX616-AY616","v":-2.6291902682773483E-18}]
[null,null,null,null,null,null,null,null,null,null,null,null,null,null,null,null,null,null,null,null,null,null,null,null,null,null,null,"Charge or","Customer",null,null,null,"Energy &","BGS-FP Reconciliation Charge*",{"$f":"$AI$3","v":"Zero Emission Certificate Recovery Charge (ZEC)"},"RGGI\nRecovery\nCharge (RRC)",null,null,null,"Service","Full Service",null,null,null,"* Charge applies only to Full Service Customers"]
[null,null,null,null,null,null,null,null,null,null,null,null,null,null,null,null,null,null,null,null,null,null,null,null,null,"Rate Category","Description","Price Block","Charge","Transmission*","Distribution","Covid-19 Recovery","Capacity*",null,null,null,"SBC","LRAM","NGC","Total","Total",null,null,null,"** Unmetered Service is billed on standard GS rate.  Unmetered Service is only available for installations where metering and/or reading"]
[null,null,null,null,null,null,null,null,null,null,null,null,null,null,null,null,null,null,null,null,null,null,null,null,null,"JC_GS1_17D","General Service Secondary - 1 Phase","Customer Charge",{"$f":"'GS FP per Tariff'!C77","v":4.6500000000000004},null,null,null,null,null,null,null,null,null,null,{"$f":"AC619","v":4.6500000000000004},"N/A",null,null,null,"    of the meter is hazardous or impractical and usage is consistent/predictable and not easily altered by the customer without our knowledge/consent.  "]
[null,null,null,null,null,null,null,null,null,null,null,null,null,null,null,null,null,null,null,null,null,null,null,null,null,null,"Unmetered Traffic Signal Service**","Suppl Traf Sgnl Cust Chrg",{"$f":"'GS FP per Tariff'!C82","v":17.34},null,null,null,null,null,null,null,null,null,null,{"$f":"AC620","v":17.34},"N/A",null,null,null,"    Billing is based on an estimated monthly kWh (and kW if applicable) which are recorded in the installation facts."]
[null,null,null,null,null,null,null,null,null,null,null,null,null,null,null,null,null,null,null,null,null,null,null,null,null,null,"Delivery Service Only",{"$f":"'GS FP per Tariff'!B97","v":"Traffic Signal kWh Summer"},null,"N/A",{"$f":"'GS FP per Tariff'!E97","v":1.5776999999999999E-2},{"$f":"'GS FP per Tariff'!F97","v":3.5799999999999997E-4},"N/A","N/A",{"$f":"'GS FP per Tariff'!I97","v":0},{"$f":"'GS FP per Tariff'!J97","v":4.7289999999999997E-3},{"$f":"'GS FP per Tariff'!K97","v":7.7000000000000002E-3},{"$f":"'GS FP per Tariff'!L97","v":4.9399999999999997E-4},{"$f":"'GS FP per Tariff'!M97","v":-2.34E-4},{"$f":"SUM(AE621:AF621,AI621:AM621)","v":2.8823999999999999E-2},"N/A"]
[null,null,null,null,null,null,null,null,null,null,null,null,null,null,null,null,null,null,null,null,null,null,null,null,null,null,"All Taxes Applicable & Included",{"$f":"'GS FP per Tariff'!B98","v":"Traffic Signal kWh Winter"},null,"N/A",{"$f":"'GS FP per Tariff'!E98","v":1.5776999999999999E-2},{"$f":"'GS FP per Tariff'!F98","v":3.5799999999999997E-4},"N/A","N/A",{"$f":"'GS FP per Tariff'!I98","v":0},{"$f":"'GS FP per Tariff'!J98","v":4.7289999999999997E-3},{"$f":"'GS FP per Tariff'!K98","v":7.7000000000000002E-3},{"$f":"'GS FP per Tariff'!L98","v":4.9399999999999997E-4},{"$f":"'GS FP per Tariff'!M98","v":-2.34E-4},2.8823999999999999E-2,"N/A"]
[null,null,null,null,null,null,null,null,null,null,null,null,null,null,null,null,null,null,null,null,null,null,null,null,null,null,null,"* Charge applies only to Full Service Customers"]
[null,null,null,null,null,null,null,null,null,null,null,null,null,null,null,null,null,null,null,null,null,null,null,null,null,null,null,"** Unmetered Traffic Signal Service is billed on the GS Traffic Signal Provision.  Unmetered Service is only available for installations where metering and/or reading"]
[null,null,null,null,null,null,null,null,null,null,null,null,null,null,null,null,null,null,null,null,null,null,null,null,null,null,null,"    of the meter would be hazardous or impractical and usage is consistent/predictable and not easily altered by the customer without our knowledge/consent.  "]
[null,null,null,null,null,null,null,null,null,null,null,null,null,null,null,null,null,null,null,null,null,null,null,null,null,null,null,"    Billing is based on an estimated monthly kWh which is recorded in the installation facts."]
[]
[null,null,null,null,null,null,null,null,null,null,null,null,null,null,null,null,null,null,null,null,null,null,null,null,null,null,null,null,null,null,null,{"$f":"AF$2","v":"Rates Effective with Service Rendered June 1, 2025"},null,null,null,null,null,null,null,"Delivery"]
[null,null,null,null,null,null,null,null,null,null,null,null,null,null,null,null,null,null,null,null,null,null,null,null,null,null,null,"Charge or","Customer",null,null,null,"Energy &","BGS-FP Reconciliation Charge*",{"$f":"$AI$3","v":"Zero Emission Certificate Recovery Charge (ZEC)"},"RGGI\nRecovery\nCharge (RRC)",null,null,null,"Service","Full Service"]
[null,null,null,null,null,null,null,null,null,null,null,null,null,null,null,null,null,null,null,null,null,null,null,null,null,"Rate Category","Description","Price Block","Charge","Transmission*","Distribution","Covid-19 Recovery","Capacity*",null,null,null,"SBC","LRAM","NGC","Charges","Total"]
[null,null,null,null,null,null,null,null,null,null,null,null,null,null,null,null,null,null,null,null,null,null,null,null,null,"JC_GS1_17F","General Service Secondary - 1 Phase","Customer Charge",{"$f":"'GS FP per Tariff'!C77","v":4.6500000000000004},null,null,null,null,null,null,null,null,null,null,{"$f":"AC631","v":4.6500000000000004},{"$f":"AC631","v":4.6500000000000004}]
[null,null,null,null,null,null,null,null,null,null,null,null,null,null,null,null,null,null,null,null,null,null,null,null,null,null,"Unmetered Traffic Signal Service**","Suppl Traf Sgnl Cust Chrg",{"$f":"'GS FP per Tariff'!C82","v":17.34},null,null,null,null,null,null,null,null,null,null,{"$f":"AC632","v":17.34},{"$f":"AC632","v":17.34}]
[null,null,null,null,null,null,null,null,null,null,null,null,null,null,null,null,null,null,null,null,null,null,null,null,null,null,"Full Service",{"$f":"'GS FP per Tariff'!B97","v":"Traffic Signal kWh Summer"},null,{"$f":"'GS FP per Tariff'!D97","v":1.9212E-2},{"$f":"'GS FP per Tariff'!E97","v":1.5776999999999999E-2},{"$f":"'GS FP per Tariff'!F97","v":3.5799999999999997E-4},{"$f":"'GS FP per Tariff'!G97","v":0.124982},{"$f":"'GS FP per Tariff'!H97","v":3.8999999999999999E-5},{"$f":"'GS FP per Tariff'!I97","v":0},{"$f":"'GS FP per Tariff'!J97","v":4.7289999999999997E-3},{"$f":"'GS FP per Tariff'!K97","v":7.7000000000000002E-3},{"$f":"'GS FP per Tariff'!L97","v":4.9399999999999997E-4},{"$f":"'GS FP per Tariff'!M97","v":-2.34E-4},{"$f":"SUM(AE633:AF633,AI633:AM633)","v":2.8823999999999999E-2},{"$f":"SUM(AD633:AM633)","v":0.17305700000000002}]
[null,null,null,null,null,null,null,null,null,null,null,null,null,null,null,null,null,null,null,null,null,null,null,null,null,null,"All Taxes Applicable & Included",{"$f":"'GS FP per Tariff'!B98","v":"Traffic Signal kWh Winter"},null,{"$f":"'GS FP per Tariff'!D98","v":1.9212E-2},{"$f":"'GS FP per Tariff'!E98","v":1.5776999999999999E-2},{"$f":"'GS FP per Tariff'!F98","v":3.5799999999999997E-4},{"$f":"'GS FP per Tariff'!G98","v":0.124626},{"$f":"'GS FP per Tariff'!H98","v":3.8999999999999999E-5},{"$f":"'GS FP per Tariff'!I98","v":0},{"$f":"'GS FP per Tariff'!J98","v":4.7289999999999997E-3},{"$f":"'GS FP per Tariff'!K98","v":7.7000000000000002E-3},{"$f":"'GS FP per Tariff'!L98","v":4.9399999999999997E-4},{"$f":"'GS FP per Tariff'!M98","v":-2.34E-4},2.8823999999999999E-2,{"$f":"SUM(AD634:AM634)","v":0.17270100000000002}]
[null,null,null,null,null,null,null,null,null,null,null,null,null,null,null,null,null,null,null,null,null,null,null,null,null,null,null,"* Charge applies only to Full Service Customers"]
[null,null,null,null,null,null,null,null,null,null,null,null,null,null,null,null,null,null,null,null,null,null,null,null,null,null,null,"** Unmetered Traffic Signal Service is billed on the GS Traffic Signal Provision.  Unmetered Service is only available for installations where metering and/or reading"]
[null,null,null,null,null,null,null,null,null,null,null,null,null,null,null,null,null,null,null,null,null,null,null,null,null,null,null,"    of the meter is hazardous or impractical and usage is consistent/predictable and not easily altered by the customer without our knowledge/consent.  "]
[null,null,null,null,null,null,null,null,null,null,null,null,null,null,null,null,null,null,null,null,null,null,null,null,null,null,null,"    Billing is based on an estimated monthly kWh which is recorded in the installation facts."]
[]
[null,null,null,null,null,null,null,null,null,null,null,null,null,null,null,null,null,null,null,null,null,null,null,null,null,null,null,null,null,null,null,{"$f":"AF$2","v":"Rates Effective with Service Rendered June 1, 2025"},null,null,null,null,null,null,null,"Delivery"]
[null,null,null,null,null,null,null,null,null,null,null,null,null,null,null,null,null,null,null,null,null,null,null,null,null,null,null,"Charge or","Customer",null,null,null,"Energy &","BGS-FP Reconciliation Charge*",{"$f":"$AI$3","v":"Zero Emission Certificate Recovery Charge (ZEC)"},"RGGI\nRecovery\nCharge (RRC)",null,null,null,"Service","Full Service"]
[null,null,null,null,null,null,null,null,null,null,null,null,null,null,null,null,null,null,null,null,null,null,null,null,null,"Rate Category","Description","Price Block","Charge","Transmission*","Distribution","Covid-19 Recovery","Capacity*",null,null,null,"SBC","LRAM","NGC","Total","Total"]
[null,null,null,null,null,null,null,null,null,null,null,null,null,null,null,null,null,null,null,null,null,null,null,null,null,"JC_GS1F01D","General Service Secondary - 1 Phase","Customer Charge",{"$f":"'GS FP per Tariff'!C12","v":4.2},null,null,null,null,null,null,null,null,null,null,{"$f":"AC643","v":4.2},"N/A"]
[null,null,null,null,null,null,null,null,null,null,null,null,null,null,null,null,null,null,null,null,null,null,null,null,null,null,"Delivery Service Only",{"$f":"'GS FP per Tariff'!B19","v":"Over 10  KW Summer"},null,null,{"$f":"'GS FP per Tariff'!N19","v":"N/A"},null,null,null,null,null,null,null,null,{"$f":"AE644","v":"N/A"},"N/A"]
[null,null,null,null,null,null,null,null,null,null,null,null,null,null,null,null,null,null,null,null,null,null,null,null,null,null,"Franchise Tax Exempt **",{"$f":"'GS FP per Tariff'!B20","v":"Over 10  KW Winter"},null,null,{"$f":"'GS FP per Tariff'!N20","v":"N/A"},null,null,null,null,null,null,null,null,{"$f":"AE645","v":"N/A"},"N/A"]
[null,null,null,null,null,null,null,null,null,null,null,null,null,null,null,null,null,null,null,null,null,null,null,null,null,null,null,{"$f":"'GS FP per Tariff'!B22","v":"Minimum Bill-Over 10 KW "},null,null,{"$f":"'GS FP per Tariff'!N22","v":"N/A"},null,null,null,null,null,null,null,null,{"$f":"AE646","v":"N/A"},"N/A"]
[null,null,null,null,null,null,null,null,null,null,null,null,null,null,null,null,null,null,null,null,null,null,null,null,null,null,null,{"$f":"'GS FP per Tariff'!B24","v":"First 1,000 kWh Summer"},null,"N/A",{"$f":"'GS FP per Tariff'!E24","v":6.8053000000000002E-2},{"$f":"'GS FP per Tariff'!F24","v":3.3599999999999998E-4},"N/A","N/A",{"$f":"'GS FP per Tariff'!I24","v":0},{"$f":"'GS FP per Tariff'!J24","v":4.4350000000000006E-3},{"$f":"'GS FP per Tariff'!K24","v":7.2230000000000003E-3},{"$f":"'GS FP per Tariff'!L24","v":4.6299999999999998E-4},{"$f":"'GS FP per Tariff'!M24","v":-2.1900000000000001E-4},{"$f":"SUM(AE647:AF647,AI647:AM647)","v":8.0291000000000015E-2},"N/A"]
[null,null,null,null,null,null,null,null,null,null,null,null,null,null,null,null,null,null,null,null,null,null,null,null,null,null,null,{"$f":"'GS FP per Tariff'!B25","v":"First 1,000 kWh Winter"},null,"N/A",{"$f":"'GS FP per Tariff'!E25","v":6.2967999999999996E-2},{"$f":"'GS FP per Tariff'!F25","v":3.3599999999999998E-4},"N/A","N/A",{"$f":"'GS FP per Tariff'!I25","v":0},{"$f":"'GS FP per Tariff'!J25","v":4.4350000000000006E-3},{"$f":"'GS FP per Tariff'!K25","v":7.2230000000000003E-3},{"$f":"'GS FP per Tariff'!L25","v":4.6299999999999998E-4},{"$f":"'GS FP per Tariff'!M25","v":-2.1900000000000001E-4},7.5206000000000009E-2,"N/A"]
[null,null,null,null,null,null,null,null,null,null,null,null,null,null,null,null,null,null,null,null,null,null,null,null,null,null,null,{"$f":"'GS FP per Tariff'!B26","v":"Over 1,000 kWh Summer"},null,"N/A",{"$f":"'GS FP per Tariff'!E26","v":5.4429999999999999E-3},{"$f":"'GS FP per Tariff'!F26","v":3.3599999999999998E-4},"N/A","N/A",{"$f":"'GS FP per Tariff'!I26","v":0},{"$f":"'GS FP per Tariff'!J26","v":4.4350000000000006E-3},{"$f":"'GS FP per Tariff'!K26","v":7.2230000000000003E-3},{"$f":"'GS FP per Tariff'!L26","v":4.6299999999999998E-4},{"$f":"'GS FP per Tariff'!M26","v":-2.1900000000000001E-4},1.7681000000000002E-2,"N/A"]
[null,null,null,null,null,null,null,null,null,null,null,null,null,null,null,null,null,null,null,null,null,null,null,null,null,null,null,{"$f":"'GS FP per Tariff'!B27","v":"Over 1,000 kWh Winter"},null,"N/A",{"$f":"'GS FP per Tariff'!E27","v":5.4429999999999999E-3},{"$f":"'GS FP per Tariff'!F27","v":3.3599999999999998E-4},"N/A","N/A",{"$f":"'GS FP per Tariff'!I27","v":0},{"$f":"'GS FP per Tariff'!J27","v":4.4350000000000006E-3},{"$f":"'GS FP per Tariff'!K27","v":7.2230000000000003E-3},{"$f":"'GS FP per Tariff'!L27","v":4.6299999999999998E-4},{"$f":"'GS FP per Tariff'!M27","v":-2.1900000000000001E-4},1.7681000000000002E-2,"N/A"]
[null,null,null,null,null,null,null,null,null,null,null,null,null,null,null,null,null,null,null,null,null,null,null,null,null,null,null,"* Charge applies only to Full Service Customers"]
[null,null,null,null,null,null,null,null,null,null,null,null,null,null,null,null,null,null,null,null,null,null,null,null,null,null,null,"** Rate applies to franchised utilities and does not include Corporation Business Tax allowance (CBT) or Sales and Use Tax (SUT). "]
[null,null,null,null,null,null,null,null,null,null,null,null,null,null,null,null,null,null,null,null,null,null,null,null,null,null,null,"    Refer to JCP&L Tariff, Part III, Riders CBT, SUT for specific exemption criteria."]
[]
[null,null,null,null,null,null,null,null,null,null,null,null,null,null,null,null,null,null,null,null,null,null,null,null,null,null,null,null,null,null,null,{"$f":"AF$2","v":"Rates Effective with Service Rendered June 1, 2025"},null,null,null,null,null,null,null,"Delivery"]
[null,null,null,null,null,null,null,null,null,null,null,null,null,null,null,null,null,null,null,null,null,null,null,null,null,null,null,"Charge or","Customer",null,null,null,"Energy &","BGS-FP Reconciliation Charge*",{"$f":"$AI$3","v":"Zero Emission Certificate Recovery Charge (ZEC)"},"RGGI\nRecovery\nCharge (RRC)",null,null,null,"Service","Full Service"]
[null,null,null,null,null,null,null,null,null,null,null,null,null,null,null,null,null,null,null,null,null,null,null,null,null,"Rate Category","Description","Price Block","Charge","Transmission*","Distribution","Covid-19 Recovery","Capacity*",null,null,null,"SBC","LRAM","NGC","Charges","Total"]
[null,null,null,null,null,null,null,null,null,null,null,null,null,null,null,null,null,null,null,null,null,null,null,null,null,"JC_GS1F01F","General Service Secondary - 1 Phase","Customer Charge",{"$f":"'GS FP per Tariff'!C12","v":4.2},null,null,null,null,null,null,null,null,null,null,{"$f":"AC658","v":4.2},{"$f":"AC658","v":4.2}]
[null,null,null,null,null,null,null,null,null,null,null,null,null,null,null,null,null,null,null,null,null,null,null,null,null,null,"Full Service",{"$f":"'GS FP per Tariff'!B19","v":"Over 10  KW Summer"},null,null,{"$f":"'GS FP per Tariff'!E19","v":8.1300000000000008},null,null,null,null,null,null,null,null,{"$f":"AE659","v":8.1300000000000008},{"$f":"AE659","v":8.1300000000000008}]
[null,null,null,null,null,null,null,null,null,null,null,null,null,null,null,null,null,null,null,null,null,null,null,null,null,null,"Franchise Tax Exempt **",{"$f":"'GS FP per Tariff'!B20","v":"Over 10  KW Winter"},null,null,{"$f":"'GS FP per Tariff'!E20","v":7.58},null,null,null,null,null,null,null,null,{"$f":"AE660","v":7.58},{"$f":"AE660","v":7.58}]
[null,null,null,null,null,null,null,null,null,null,null,null,null,null,null,null,null,null,null,null,null,null,null,null,null,null,null,{"$f":"'GS FP per Tariff'!B22","v":"Minimum Bill-Over 10 KW "},null,null,{"$f":"'GS FP per Tariff'!E22","v":3.69},null,null,null,null,null,null,null,null,{"$f":"AE661","v":3.69},{"$f":"AE661","v":3.69}]
[null,null,null,null,null,null,null,null,null,null,null,null,null,null,null,null,null,null,null,null,null,null,null,null,null,null,null,{"$f":"'GS FP per Tariff'!B24","v":"First 1,000 kWh Summer"},null,{"$f":"'GS FP per Tariff'!D24","v":1.8019E-2},{"$f":"'GS FP per Tariff'!E24","v":6.8053000000000002E-2},{"$f":"'GS FP per Tariff'!F24","v":3.3599999999999998E-4},{"$f":"'GS FP per Tariff'!G24","v":0.117216},{"$f":"'GS FP per Tariff'!H24","v":3.6999999999999998E-5},{"$f":"'GS FP per Tariff'!I24","v":0},{"$f":"'GS FP per Tariff'!J24","v":4.4350000000000006E-3},{"$f":"'GS FP per Tariff'!K24","v":7.2230000000000003E-3},{"$f":"'GS FP per Tariff'!L24","v":4.6299999999999998E-4},{"$f":"'GS FP per Tariff'!M24","v":-2.1900000000000001E-4},{"$f":"SUM(AE662:AF662,AI662:AM662)","v":8.0291000000000015E-2},{"$f":"SUM(AD662:AM662)","v":0.21556300000000003}]
[null,null,null,null,null,null,null,null,null,null,null,null,null,null,null,null,null,null,null,null,null,null,null,null,null,null,null,{"$f":"'GS FP per Tariff'!B25","v":"First 1,000 kWh Winter"},null,{"$f":"'GS FP per Tariff'!D25","v":1.8019E-2},{"$f":"'GS FP per Tariff'!E25","v":6.2967999999999996E-2},{"$f":"'GS FP per Tariff'!F25","v":3.3599999999999998E-4},{"$f":"'GS FP per Tariff'!G25","v":0.116883},{"$f":"'GS FP per Tariff'!H25","v":3.6999999999999998E-5},{"$f":"'GS FP per Tariff'!I25","v":0},{"$f":"'GS FP per Tariff'!J25","v":4.4350000000000006E-3},{"$f":"'GS FP per Tariff'!K25","v":7.2230000000000003E-3},{"$f":"'GS FP per Tariff'!L25","v":4.6299999999999998E-4},{"$f":"'GS FP per Tariff'!M25","v":-2.1900000000000001E-4},7.5206000000000009E-2,{"$f":"SUM(AD663:AM663)","v":0.210145}]
[null,null,null,null,null,null,null,null,null,null,null,null,null,null,null,null,null,null,null,null,null,null,null,null,null,null,null,{"$f":"'GS FP per Tariff'!B26","v":"Over 1,000 kWh Summer"},null,{"$f":"'GS FP per Tariff'!D26","v":1.8019E-2},{"$f":"'GS FP per Tariff'!E26","v":5.4429999999999999E-3},{"$f":"'GS FP per Tariff'!F26","v":3.3599999999999998E-4},{"$f":"'GS FP per Tariff'!G26","v":0.117216},{"$f":"'GS FP per Tariff'!H26","v":3.6999999999999998E-5},{"$f":"'GS FP per Tariff'!I26","v":0},{"$f":"'GS FP per Tariff'!J26","v":4.4350000000000006E-3},{"$f":"'GS FP per Tariff'!K26","v":7.2230000000000003E-3},{"$f":"'GS FP per Tariff'!L26","v":4.6299999999999998E-4},{"$f":"'GS FP per Tariff'!M26","v":-2.1900000000000001E-4},1.7681000000000002E-2,{"$f":"SUM(AD664:AM664)","v":0.15295300000000001}]
[null,null,null,null,null,null,null,null,null,null,null,null,null,null,null,null,null,null,null,null,null,null,null,null,null,null,null,{"$f":"'GS FP per Tariff'!B27","v":"Over 1,000 kWh Winter"},null,{"$f":"'GS FP per Tariff'!D27","v":1.8019E-2},{"$f":"'GS FP per Tariff'!E27","v":5.4429999999999999E-3},{"$f":"'GS FP per Tariff'!F27","v":3.3599999999999998E-4},{"$f":"'GS FP per Tariff'!G27","v":0.116883},{"$f":"'GS FP per Tariff'!H27","v":3.6999999999999998E-5},{"$f":"'GS FP per Tariff'!I27","v":0},{"$f":"'GS FP per Tariff'!J27","v":4.4350000000000006E-3},{"$f":"'GS FP per Tariff'!K27","v":7.2230000000000003E-3},{"$f":"'GS FP per Tariff'!L27","v":4.6299999999999998E-4},{"$f":"'GS FP per Tariff'!M27","v":-2.1900000000000001E-4},1.7681000000000002E-2,{"$f":"SUM(AD665:AM665)","v":0.15262000000000001}]
[null,null,null,null,null,null,null,null,null,null,null,null,null,null,null,null,null,null,null,null,null,null,null,null,null,null,null,"* Charge applies only to Full Service Customers"]
[null,null,null,null,null,null,null,null,null,null,null,null,null,null,null,null,null,null,null,null,null,null,null,null,null,null,null,"** Rate applies to franchised utilities and does not include Corporation Business Tax allowance (CBT) or Sales and Use Tax (SUT). "]
[null,null,null,null,null,null,null,null,null,null,null,null,null,null,null,null,null,null,null,null,null,null,null,null,null,null,null,"    Refer to JCP&L Tariff, Part III, Riders CBT, SUT for specific exemption criteria."]
[]
[null,null,null,null,null,null,null,null,null,null,null,null,null,null,null,null,null,null,null,null,null,null,null,null,null,null,null,null,null,null,null,{"$f":"AF$2","v":"Rates Effective with Service Rendered June 1, 2025"},null,null,null,null,null,null,null,"Delivery"]
[null,null,null,null,null,null,null,null,null,null,null,null,null,null,null,null,null,null,null,null,null,null,null,null,null,null,null,"Charge or","Customer",null,null,null,"Energy &","BGS-FP Reconciliation Charge*",{"$f":"$AI$3","v":"Zero Emission Certificate Recovery Charge (ZEC)"},"RGGI\nRecovery\nCharge (RRC)",null,null,null,"Service","Full Service"]
[null,null,null,null,null,null,null,null,null,null,null,null,null,null,null,null,null,null,null,null,null,null,null,null,null,"Rate Category","Description","Price Block","Charge","Transmission*","Distribution","Covid-19 Recovery","Capacity*",null,null,null,"SBC","LRAM","NGC","Total","Total"]
[null,null,null,null,null,null,null,null,null,null,null,null,null,null,null,null,null,null,null,null,null,null,null,null,null,"JC_GS1F02D","General Service Secondary - 1 Phase","Customer Charge",{"$f":"'GS FP per Tariff'!C12","v":4.2},null,null,null,null,null,null,null,null,null,null,{"$f":"AC673","v":4.2},"N/A"]
[null,null,null,null,null,null,null,null,null,null,null,null,null,null,null,null,null,null,null,null,null,null,null,null,null,null,"Unmetered Service **",{"$f":"'GS FP per Tariff'!B19","v":"Over 10  KW Summer"},null,null,{"$f":"'GS FP per Tariff'!N19","v":"N/A"},null,null,null,null,null,null,null,null,{"$f":"AE674","v":"N/A"},"N/A"]
[null,null,null,null,null,null,null,null,null,null,null,null,null,null,null,null,null,null,null,null,null,null,null,null,null,null,"Delivery Service Only",{"$f":"'GS FP per Tariff'!B20","v":"Over 10  KW Winter"},null,null,{"$f":"'GS FP per Tariff'!N20","v":"N/A"},null,null,null,null,null,null,null,null,{"$f":"AE675","v":"N/A"},"N/A"]
[null,null,null,null,null,null,null,null,null,null,null,null,null,null,null,null,null,null,null,null,null,null,null,null,null,null,"Franchise Tax Exempt ***",{"$f":"'GS FP per Tariff'!B22","v":"Minimum Bill-Over 10 KW "},null,null,{"$f":"'GS FP per Tariff'!N22","v":"N/A"},null,null,null,null,null,null,null,null,{"$f":"AE676","v":"N/A"},"N/A"]
[null,null,null,null,null,null,null,null,null,null,null,null,null,null,null,null,null,null,null,null,null,null,null,null,null,null,null,{"$f":"'GS FP per Tariff'!B24","v":"First 1,000 kWh Summer"},null,"N/A",{"$f":"'GS FP per Tariff'!E24","v":6.8053000000000002E-2},{"$f":"'GS FP per Tariff'!F24","v":3.3599999999999998E-4},"N/A","N/A",{"$f":"'GS FP per Tariff'!I24","v":0},{"$f":"'GS FP per Tariff'!J24","v":4.4350000000000006E-3},{"$f":"'GS FP per Tariff'!K24","v":7.2230000000000003E-3},{"$f":"'GS FP per Tariff'!L24","v":4.6299999999999998E-4},{"$f":"'GS FP per Tariff'!M24","v":-2.1900000000000001E-4},{"$f":"SUM(AE677:AF677,AI677:AM677)","v":8.0291000000000015E-2},"N/A"]
[null,null,null,null,null,null,null,null,null,null,null,null,null,null,null,null,null,null,null,null,null,null,null,null,null,null,null,{"$f":"'GS FP per Tariff'!B25","v":"First 1,000 kWh Winter"},null,"N/A",{"$f":"'GS FP per Tariff'!E25","v":6.2967999999999996E-2},{"$f":"'GS FP per Tariff'!F25","v":3.3599999999999998E-4},"N/A","N/A",{"$f":"'GS FP per Tariff'!I25","v":0},{"$f":"'GS FP per Tariff'!J25","v":4.4350000000000006E-3},{"$f":"'GS FP per Tariff'!K25","v":7.2230000000000003E-3},{"$f":"'GS FP per Tariff'!L25","v":4.6299999999999998E-4},{"$f":"'GS FP per Tariff'!M25","v":-2.1900000000000001E-4},7.5206000000000009E-2,"N/A"]
[null,null,null,null,null,null,null,null,null,null,null,null,null,null,null,null,null,null,null,null,null,null,null,null,null,null,null,{"$f":"'GS FP per Tariff'!B26","v":"Over 1,000 kWh Summer"},null,"N/A",{"$f":"'GS FP per Tariff'!E26","v":5.4429999999999999E-3},{"$f":"'GS FP per Tariff'!F26","v":3.3599999999999998E-4},"N/A","N/A",{"$f":"'GS FP per Tariff'!I26","v":0},{"$f":"'GS FP per Tariff'!J26","v":4.4350000000000006E-3},{"$f":"'GS FP per Tariff'!K26","v":7.2230000000000003E-3},{"$f":"'GS FP per Tariff'!L26","v":4.6299999999999998E-4},{"$f":"'GS FP per Tariff'!M26","v":-2.1900000000000001E-4},1.7681000000000002E-2,"N/A"]
[null,null,null,null,null,null,null,null,null,null,null,null,null,null,null,null,null,null,null,null,null,null,null,null,null,null,null,{"$f":"'GS FP per Tariff'!B27","v":"Over 1,000 kWh Winter"},null,"N/A",{"$f":"'GS FP per Tariff'!E27","v":5.4429999999999999E-3},{"$f":"'GS FP per Tariff'!F27","v":3.3599999999999998E-4},"N/A","N/A",{"$f":"'GS FP per Tariff'!I27","v":0},{"$f":"'GS FP per Tariff'!J27","v":4.4350000000000006E-3},{"$f":"'GS FP per Tariff'!K27","v":7.2230000000000003E-3},{"$f":"'GS FP per Tariff'!L27","v":4.6299999999999998E-4},{"$f":"'GS FP per Tariff'!M27","v":-2.1900000000000001E-4},1.7681000000000002E-2,"N/A"]
[null,null,null,null,null,null,null,null,null,null,null,null,null,null,null,null,null,null,null,null,null,null,null,null,null,null,null,"* Charge applies only to Full Service Customers"]
[null,null,null,null,null,null,null,null,null,null,null,null,null,null,null,null,null,null,null,null,null,null,null,null,null,null,null,"** Unmetered Service is billed on the standard GS rate.  Unmetered Service is only available for installations where metering and/or reading"]
[null,null,null,null,null,null,null,null,null,null,null,null,null,null,null,null,null,null,null,null,null,null,null,null,null,null,null,"    of the meter would be hazardous or impractical and usage is consistent/predictable and not easily altered by the customer without our knowledge/consent.  "]
[null,null,null,null,null,null,null,null,null,null,null,null,null,null,null,null,null,null,null,null,null,null,null,null,null,null,null,"    Billing is based on an estimated monthly kWh (and kW if applicable) which are recorded in the installation facts."]
[null,null,null,null,null,null,null,null,null,null,null,null,null,null,null,null,null,null,null,null,null,null,null,null,null,null,null,"*** Rate applies to franchised utilities and does not include Corporation Business Tax allowance (CBT) or Sales and Use Tax (SUT). "]
[null,null,null,null,null,null,null,null,null,null,null,null,null,null,null,null,null,null,null,null,null,null,null,null,null,null,null,"     Refer to JCP&L Tariff, Part III, Riders CBT, SUT for specific exemption criteria."]
[]
[null,null,null,null,null,null,null,null,null,null,null,null,null,null,null,null,null,null,null,null,null,null,null,null,null,null,null,null,null,null,null,{"$f":"AF$2","v":"Rates Effective with Service Rendered June 1, 2025"},null,null,null,null,null,null,null,"Delivery"]
[null,null,null,null,null,null,null,null,null,null,null,null,null,null,null,null,null,null,null,null,null,null,null,null,null,null,null,"Charge or","Customer",null,null,null,"Energy &","BGS-FP Reconciliation Charge*",{"$f":"$AI$3","v":"Zero Emission Certificate Recovery Charge (ZEC)"},"RGGI\nRecovery\nCharge (RRC)",null,null,null,"Service","Full Service"]
[null,null,null,null,null,null,null,null,null,null,null,null,null,null,null,null,null,null,null,null,null,null,null,null,null,"Rate Category","Description","Price Block","Charge","Transmission*","Distribution","Covid-19 Recovery","Capacity*",null,null,null,"SBC","LRAM","NGC","Charges","Total"]
[null,null,null,null,null,null,null,null,null,null,null,null,null,null,null,null,null,null,null,null,null,null,null,null,null,"JC_GS1F02F","General Service Secondary - 1 Phase","Customer Charge",{"$f":"'GS FP per Tariff'!C12","v":4.2},null,null,null,null,null,null,null,null,null,null,{"$f":"AC691","v":4.2},{"$f":"AC691","v":4.2}]
[null,null,null,null,null,null,null,null,null,null,null,null,null,null,null,null,null,null,null,null,null,null,null,null,null,null,"Unmetered Service **",{"$f":"'GS FP per Tariff'!B19","v":"Over 10  KW Summer"},null,null,{"$f":"'GS FP per Tariff'!E19","v":8.1300000000000008},null,null,null,null,null,null,null,null,{"$f":"AE692","v":8.1300000000000008},{"$f":"AE692","v":8.1300000000000008}]
[null,null,null,null,null,null,null,null,null,null,null,null,null,null,null,null,null,null,null,null,null,null,null,null,null,null,"Full Service",{"$f":"'GS FP per Tariff'!B20","v":"Over 10  KW Winter"},null,null,{"$f":"'GS FP per Tariff'!E20","v":7.58},null,null,null,null,null,null,null,null,{"$f":"AE693","v":7.58},{"$f":"AE693","v":7.58}]
[null,null,null,null,null,null,null,null,null,null,null,null,null,null,null,null,null,null,null,null,null,null,null,null,null,null,"Franchise Tax Exempt ***",{"$f":"'GS FP per Tariff'!B22","v":"Minimum Bill-Over 10 KW "},null,null,{"$f":"'GS FP per Tariff'!E22","v":3.69},null,null,null,null,null,null,null,null,{"$f":"AE694","v":3.69},{"$f":"AE694","v":3.69}]
[null,null,null,null,null,null,null,null,null,null,null,null,null,null,null,null,null,null,null,null,null,null,null,null,null,null,null,{"$f":"'GS FP per Tariff'!B24","v":"First 1,000 kWh Summer"},null,{"$f":"'GS FP per Tariff'!D24","v":1.8019E-2},{"$f":"'GS FP per Tariff'!E24","v":6.8053000000000002E-2},{"$f":"'GS FP per Tariff'!F24","v":3.3599999999999998E-4},{"$f":"'GS FP per Tariff'!G24","v":0.117216},{"$f":"'GS FP per Tariff'!H24","v":3.6999999999999998E-5},{"$f":"'GS FP per Tariff'!I24","v":0},{"$f":"'GS FP per Tariff'!J24","v":4.4350000000000006E-3},{"$f":"'GS FP per Tariff'!K24","v":7.2230000000000003E-3},{"$f":"'GS FP per Tariff'!L24","v":4.6299999999999998E-4},{"$f":"'GS FP per Tariff'!M24","v":-2.1900000000000001E-4},{"$f":"SUM(AE695:AF695,AI695:AM695)","v":8.0291000000000015E-2},{"$f":"SUM(AD695:AM695)","v":0.21556300000000003}]
[null,null,null,null,null,null,null,null,null,null,null,null,null,null,null,null,null,null,null,null,null,null,null,null,null,null,null,{"$f":"'GS FP per Tariff'!B25","v":"First 1,000 kWh Winter"},null,{"$f":"'GS FP per Tariff'!D25","v":1.8019E-2},{"$f":"'GS FP per Tariff'!E25","v":6.2967999999999996E-2},{"$f":"'GS FP per Tariff'!F25","v":3.3599999999999998E-4},{"$f":"'GS FP per Tariff'!G25","v":0.116883},{"$f":"'GS FP per Tariff'!H25","v":3.6999999999999998E-5},{"$f":"'GS FP per Tariff'!I25","v":0},{"$f":"'GS FP per Tariff'!J25","v":4.4350000000000006E-3},{"$f":"'GS FP per Tariff'!K25","v":7.2230000000000003E-3},{"$f":"'GS FP per Tariff'!L25","v":4.6299999999999998E-4},{"$f":"'GS FP per Tariff'!M25","v":-2.1900000000000001E-4},7.5206000000000009E-2,{"$f":"SUM(AD696:AM696)","v":0.210145}]
[null,null,null,null,null,null,null,null,null,null,null,null,null,null,null,null,null,null,null,null,null,null,null,null,null,null,null,{"$f":"'GS FP per Tariff'!B26","v":"Over 1,000 kWh Summer"},null,{"$f":"'GS FP per Tariff'!D26","v":1.8019E-2},{"$f":"'GS FP per Tariff'!E26","v":5.4429999999999999E-3},{"$f":"'GS FP per Tariff'!F26","v":3.3599999999999998E-4},{"$f":"'GS FP per Tariff'!G26","v":0.117216},{"$f":"'GS FP per Tariff'!H26","v":3.6999999999999998E-5},{"$f":"'GS FP per Tariff'!I26","v":0},{"$f":"'GS FP per Tariff'!J26","v":4.4350000000000006E-3},{"$f":"'GS FP per Tariff'!K26","v":7.2230000000000003E-3},{"$f":"'GS FP per Tariff'!L26","v":4.6299999999999998E-4},{"$f":"'GS FP per Tariff'!M26","v":-2.1900000000000001E-4},1.7681000000000002E-2,{"$f":"SUM(AD697:AM697)","v":0.15295300000000001}]
[null,null,null,null,null,null,null,null,null,null,null,null,null,null,null,null,null,null,null,null,null,null,null,null,null,null,null,{"$f":"'GS FP per Tariff'!B27","v":"Over 1,000 kWh Winter"},null,{"$f":"'GS FP per Tariff'!D27","v":1.8019E-2},{"$f":"'GS FP per Tariff'!E27","v":5.4429999999999999E-3},{"$f":"'GS FP per Tariff'!F27","v":3.3599999999999998E-4},{"$f":"'GS FP per Tariff'!G27","v":0.116883},{"$f":"'GS FP per Tariff'!H27","v":3.6999999999999998E-5},{"$f":"'GS FP per Tariff'!I27","v":0},{"$f":"'GS FP per Tariff'!J27","v":4.4350000000000006E-3},{"$f":"'GS FP per Tariff'!K27","v":7.2230000000000003E-3},{"$f":"'GS FP per Tariff'!L27","v":4.6299999999999998E-4},{"$f":"'GS FP per Tariff'!M27","v":-2.1900000000000001E-4},1.7681000000000002E-2,{"$f":"SUM(AD698:AM698)","v":0.15262000000000001}]
[null,null,null,null,null,null,null,null,null,null,null,null,null,null,null,null,null,null,null,null,null,null,null,null,null,null,null,"* Charge applies only to Full Service Customers"]
[null,null,null,null,null,null,null,null,null,null,null,null,null,null,null,null,null,null,null,null,null,null,null,null,null,null,null,"** Unmetered Service is billed on the standard GS rate.  Unmetered Service is only available for installations where metering and/or reading"]
[null,null,null,null,null,null,null,null,null,null,null,null,null,null,null,null,null,null,null,null,null,null,null,null,null,null,null,"    of the meter would be hazardous or impractical and usage is consistent/predictable and not easily altered by the customer without our knowledge/consent.  "]
[null,null,null,null,null,null,null,null,null,null,null,null,null,null,null,null,null,null,null,null,null,null,null,null,null,null,null,"    Billing is based on an estimated monthly kWh (and kW if applicable) which are recorded in the installation facts."]
[null,null,null,null,null,null,null,null,null,null,null,null,null,null,null,null,null,null,null,null,null,null,null,null,null,null,null,"*** Rate applies to franchised utilities and does not include  Corporation Business Tax allowance (CBT) or Sales and Use Tax (SUT). "]
[null,null,null,null,null,null,null,null,null,null,null,null,null,null,null,null,null,null,null,null,null,null,null,null,null,null,null,"     Refer to JCP&L Tariff, Part III, Riders CBT, SUT  for specific exemption criteria."]
[]
[null,null,null,null,null,null,null,null,null,null,null,null,null,null,null,null,null,null,null,null,null,null,null,null,null,null,null,null,null,null,null,{"$f":"AF$2","v":"Rates Effective with Service Rendered June 1, 2025"},null,null,null,null,null,null,null,"Delivery"]
[null,null,null,null,null,null,null,null,null,null,null,null,null,null,null,null,null,null,null,null,null,null,null,null,null,null,null,"Charge or","Customer",null,null,null,"Energy &","BGS-FP Reconciliation Charge*",{"$f":"$AI$3","v":"Zero Emission Certificate Recovery Charge (ZEC)"},"RGGI\nRecovery\nCharge (RRC)",null,null,null,"Service","Full Service"]
[null,null,null,null,null,null,null,null,null,null,null,null,null,null,null,null,null,null,null,null,null,null,null,null,null,"Rate Category","Description","Price Block","Charge","Transmission*","Distribution","Covid-19 Recovery","Capacity*",null,null,null,"SBC","LRAM","NGC","Total","Total"]
[null,null,null,null,null,null,null,null,null,null,null,null,null,null,null,null,null,null,null,null,null,null,null,null,null,"JC_GS1F04D","General Service Secondary - 1 Phase","Customer Charge",{"$f":"'GS FP per Tariff'!C12","v":4.2},null,null,null,null,null,null,null,null,null,null,{"$f":"AC709","v":4.2},"N/A"]
[null,null,null,null,null,null,null,null,null,null,null,null,null,null,null,null,null,null,null,null,null,null,null,null,null,null,"Traffic Signal Provision","Suppl Traf Sgnl Cust Chrg",{"$f":"'GS FP per Tariff'!C17","v":15.67},null,null,null,null,null,null,null,null,null,null,{"$f":"AC710","v":15.67},"N/A"]
[null,null,null,null,null,null,null,null,null,null,null,null,null,null,null,null,null,null,null,null,null,null,null,null,null,null,"Delivery Service Only",{"$f":"'GS FP per Tariff'!B32","v":"Traffic Signal kWh Summer"},null,"N/A",{"$f":"'GS FP per Tariff'!E32","v":1.4260999999999999E-2},{"$f":"'GS FP per Tariff'!F26","v":3.3599999999999998E-4},"N/A","N/A",{"$f":"'GS FP per Tariff'!I26","v":0},{"$f":"'GS FP per Tariff'!J26","v":4.4350000000000006E-3},{"$f":"'GS FP per Tariff'!K32","v":7.2230000000000003E-3},{"$f":"'GS FP per Tariff'!L32","v":4.6299999999999998E-4},{"$f":"'GS FP per Tariff'!M32","v":-2.1900000000000001E-4},{"$f":"SUM(AE711:AF711,AI711:AM711)","v":2.6499000000000002E-2},"N/A"]
[null,null,null,null,null,null,null,null,null,null,null,null,null,null,null,null,null,null,null,null,null,null,null,null,null,null,"Franchise Tax Exempt **",{"$f":"'GS FP per Tariff'!B33","v":"Traffic Signal kWh Winter"},null,"N/A",{"$f":"'GS FP per Tariff'!E33","v":1.4260999999999999E-2},{"$f":"'GS FP per Tariff'!F27","v":3.3599999999999998E-4},"N/A","N/A",{"$f":"'GS FP per Tariff'!I27","v":0},{"$f":"'GS FP per Tariff'!J27","v":4.4350000000000006E-3},{"$f":"'GS FP per Tariff'!K33","v":7.2230000000000003E-3},{"$f":"'GS FP per Tariff'!L33","v":4.6299999999999998E-4},{"$f":"'GS FP per Tariff'!M33","v":-2.1900000000000001E-4},2.6499000000000002E-2,"N/A"]
[null,null,null,null,null,null,null,null,null,null,null,null,null,null,null,null,null,null,null,null,null,null,null,null,null,null,null,"* Charge applies only to Full Service Customers"]
[null,null,null,null,null,null,null,null,null,null,null,null,null,null,null,null,null,null,null,null,null,null,null,null,null,null,null,"** Rate applies to franchised utilities and does not include  Corporation Business Tax allowance (CBT) or Sales and Use Tax (SUT). "]
[null,null,null,null,null,null,null,null,null,null,null,null,null,null,null,null,null,null,null,null,null,null,null,null,null,null,null,"    Refer to JCP&L Tariff, Part III, Riders CBT, SUT  for specific exemption criteria."]
[]
[null,null,null,null,null,null,null,null,null,null,null,null,null,null,null,null,null,null,null,null,null,null,null,null,null,null,null,null,null,null,null,{"$f":"AF$2","v":"Rates Effective with Service Rendered June 1, 2025"},null,null,null,null,null,null,null,"Delivery"]
[null,null,null,null,null,null,null,null,null,null,null,null,null,null,null,null,null,null,null,null,null,null,null,null,null,null,null,"Charge or","Customer",null,null,null,"Energy &","BGS-FP Reconciliation Charge*",{"$f":"$AI$3","v":"Zero Emission Certificate Recovery Charge (ZEC)"},"RGGI\nRecovery\nCharge (RRC)",null,null,null,"Service","Full Service"]
[null,null,null,null,null,null,null,null,null,null,null,null,null,null,null,null,null,null,null,null,null,null,null,null,null,"Rate Category","Description","Price Block","Charge","Transmission*","Distribution","Covid-19 Recovery","Capacity*",null,null,null,"SBC","LRAM","NGC","Charges","Total"]
[null,null,null,null,null,null,null,null,null,null,null,null,null,null,null,null,null,null,null,null,null,null,null,null,null,"JC_GS1F04F","General Service Secondary - 1 Phase","Customer Charge",{"$f":"'GS FP per Tariff'!C12","v":4.2},null,null,null,null,null,null,null,null,null,null,{"$f":"AC720","v":4.2},{"$f":"AC720","v":4.2}]
[null,null,null,null,null,null,null,null,null,null,null,null,null,null,null,null,null,null,null,null,null,null,null,null,null,null,"Traffic Signal Provision","Suppl Traf Sgnl Cust Chrg",{"$f":"'GS FP per Tariff'!C17","v":15.67},null,null,null,null,null,null,null,null,null,null,{"$f":"AC721","v":15.67},{"$f":"AC721","v":15.67}]
[null,null,null,null,null,null,null,null,null,null,null,null,null,null,null,null,null,null,null,null,null,null,null,null,null,null,"Full Service",{"$f":"'GS FP per Tariff'!B32","v":"Traffic Signal kWh Summer"},null,{"$f":"'GS FP per Tariff'!D32","v":1.8019E-2},{"$f":"'GS FP per Tariff'!E32","v":1.4260999999999999E-2},{"$f":"'GS FP per Tariff'!F32","v":3.3599999999999998E-4},{"$f":"'GS FP per Tariff'!G32","v":0.117216},{"$f":"'GS FP per Tariff'!H32","v":3.6999999999999998E-5},{"$f":"'GS FP per Tariff'!I32","v":0},{"$f":"'GS FP per Tariff'!J32","v":4.4350000000000006E-3},{"$f":"'GS FP per Tariff'!K32","v":7.2230000000000003E-3},{"$f":"'GS FP per Tariff'!L32","v":4.6299999999999998E-4},{"$f":"'GS FP per Tariff'!M32","v":-2.1900000000000001E-4},{"$f":"SUM(AE722:AF722,AI722:AM722)","v":2.6499000000000002E-2},{"$f":"SUM(AD722:AM722)","v":0.16177100000000003}]
[null,null,null,null,null,null,null,null,null,null,null,null,null,null,null,null,null,null,null,null,null,null,null,null,null,null,"Franchise Tax Exempt **",{"$f":"'GS FP per Tariff'!B33","v":"Traffic Signal kWh Winter"},null,{"$f":"'GS FP per Tariff'!D33","v":1.8019E-2},{"$f":"'GS FP per Tariff'!E33","v":1.4260999999999999E-2},{"$f":"'GS FP per Tariff'!F33","v":3.3599999999999998E-4},{"$f":"'GS FP per Tariff'!G33","v":0.116883},{"$f":"'GS FP per Tariff'!H33","v":3.6999999999999998E-5},{"$f":"'GS FP per Tariff'!I33","v":0},{"$f":"'GS FP per Tariff'!J33","v":4.4350000000000006E-3},{"$f":"'GS FP per Tariff'!K33","v":7.2230000000000003E-3},{"$f":"'GS FP per Tariff'!L33","v":4.6299999999999998E-4},{"$f":"'GS FP per Tariff'!M33","v":-2.1900000000000001E-4},2.6499000000000002E-2,{"$f":"SUM(AD723:AM723)","v":0.161438}]
[null,null,null,null,null,null,null,null,null,null,null,null,null,null,null,null,null,null,null,null,null,null,null,null,null,null,null,"* Charge applies only to Full Service Customers"]
[null,null,null,null,null,null,null,null,null,null,null,null,null,null,null,null,null,null,null,null,null,null,null,null,null,null,null,"** Rate applies to franchised utilities and does not include Corporation Business Tax allowance (CBT) or Sales and Use Tax (SUT). "]
[null,null,null,null,null,null,null,null,null,null,null,null,null,null,null,null,null,null,null,null,null,null,null,null,null,null,null,"    Refer to JCP&L Tariff, Part III, Riders CBT, SUT for specific exemption criteria."]
[]
[null,null,null,null,null,null,null,null,null,null,null,null,null,null,null,null,null,null,null,null,null,null,null,null,null,null,null,null,null,null,null,{"$f":"AF$2","v":"Rates Effective with Service Rendered June 1, 2025"},null,null,null,null,null,null,null,"Delivery"]
[null,null,null,null,null,null,null,null,null,null,null,null,null,null,null,null,null,null,null,null,null,null,null,null,null,null,null,"Charge or","Customer",null,null,null,"Energy &","BGS-FP Reconciliation Charge*",{"$f":"$AI$3","v":"Zero Emission Certificate Recovery Charge (ZEC)"},"RGGI\nRecovery\nCharge (RRC)",null,null,null,"Service","Full Service"]
[null,null,null,null,null,null,null,null,null,null,null,null,null,null,null,null,null,null,null,null,null,null,null,null,null,"Rate Category","Description","Price Block","Charge","Transmission*","Distribution","Covid-19 Recovery","Capacity*",null,null,null,"SBC","LRAM","NGC","Total","Total"]
[null,null,null,null,null,null,null,null,null,null,null,null,null,null,null,null,null,null,null,null,null,null,null,null,null,"JC_GS1F05D","General Service Secondary - 1 Phase","Customer Charge",{"$f":"'GS FP per Tariff'!C12","v":4.2},null,null,null,null,null,null,null,null,null,null,{"$f":"AC731","v":4.2},"N/A"]
[null,null,null,null,null,null,null,null,null,null,null,null,null,null,null,null,null,null,null,null,null,null,null,null,null,null,"Traffic Signal - Unmetered**","Suppl Traf Sgnl Cust Chrg",{"$f":"'GS FP per Tariff'!C17","v":15.67},null,null,null,null,null,null,null,null,null,null,{"$f":"AC732","v":15.67},"N/A"]
[null,null,null,null,null,null,null,null,null,null,null,null,null,null,null,null,null,null,null,null,null,null,null,null,null,null,"Delivery Service Only",{"$f":"'GS FP per Tariff'!B32","v":"Traffic Signal kWh Summer"},null,"N/A",{"$f":"'GS FP per Tariff'!E32","v":1.4260999999999999E-2},{"$f":"'GS FP per Tariff'!F26","v":3.3599999999999998E-4},"N/A","N/A",{"$f":"'GS FP per Tariff'!I26","v":0},{"$f":"'GS FP per Tariff'!J26","v":4.4350000000000006E-3},{"$f":"'GS FP per Tariff'!K32","v":7.2230000000000003E-3},{"$f":"'GS FP per Tariff'!L32","v":4.6299999999999998E-4},{"$f":"'GS FP per Tariff'!M32","v":-2.1900000000000001E-4},{"$f":"SUM(AE733:AF733,AI733:AM733)","v":2.6499000000000002E-2},"N/A"]
[null,null,null,null,null,null,null,null,null,null,null,null,null,null,null,null,null,null,null,null,null,null,null,null,null,null,"Franchise Tax Exempt ***",{"$f":"'GS FP per Tariff'!B33","v":"Traffic Signal kWh Winter"},null,"N/A",{"$f":"'GS FP per Tariff'!E33","v":1.4260999999999999E-2},{"$f":"'GS FP per Tariff'!F27","v":3.3599999999999998E-4},"N/A","N/A",{"$f":"'GS FP per Tariff'!I27","v":0},{"$f":"'GS FP per Tariff'!J27","v":4.4350000000000006E-3},{"$f":"'GS FP per Tariff'!K33","v":7.2230000000000003E-3},{"$f":"'GS FP per Tariff'!L33","v":4.6299999999999998E-4},{"$f":"'GS FP per Tariff'!M33","v":-2.1900000000000001E-4},2.6499000000000002E-2,"N/A"]
[null,null,null,null,null,null,null,null,null,null,null,null,null,null,null,null,null,null,null,null,null,null,null,null,null,null,null,"* Charge applies only to Full Service Customers"]
[null,null,null,null,null,null,null,null,null,null,null,null,null,null,null,null,null,null,null,null,null,null,null,null,null,null,null,"** Unmetered Traffic Signal Service is billed on the GS Traffic Signal Provision.  Unmetered Service is only available for installations where metering and/or reading"]
[null,null,null,null,null,null,null,null,null,null,null,null,null,null,null,null,null,null,null,null,null,null,null,null,null,null,null,"    of the meter would be hazardous or impractical and usage is consistent/predictable and not easily altered by the customer without our knowledge/consent.  "]
[null,null,null,null,null,null,null,null,null,null,null,null,null,null,null,null,null,null,null,null,null,null,null,null,null,null,null,"    Billing is based on an estimated monthly kWh which is recorded in the installation facts."]
[null,null,null,null,null,null,null,null,null,null,null,null,null,null,null,null,null,null,null,null,null,null,null,null,null,null,null,"*** Rate applies to franchised utilities and does not include Corporation Business Tax allowance (CBT) or Sales and Use Tax (SUT). "]
[null,null,null,null,null,null,null,null,null,null,null,null,null,null,null,null,null,null,null,null,null,null,null,null,null,null,null,"    Refer to JCP&L Tariff, Part III, Riders CBT, SUT for specific exemption criteria."]
[]
[null,null,null,null,null,null,null,null,null,null,null,null,null,null,null,null,null,null,null,null,null,null,null,null,null,null,null,null,null,null,null,{"$f":"AF$2","v":"Rates Effective with Service Rendered June 1, 2025"},null,null,null,null,null,null,null,"Delivery"]
[null,null,null,null,null,null,null,null,null,null,null,null,null,null,null,null,null,null,null,null,null,null,null,null,null,null,null,"Charge or","Customer",null,null,null,"Energy &","BGS-FP Reconciliation Charge*",{"$f":"$AI$3","v":"Zero Emission Certificate Recovery Charge (ZEC)"},"RGGI\nRecovery\nCharge (RRC)",null,null,null,"Service","Full Service"]
[null,null,null,null,null,null,null,null,null,null,null,null,null,null,null,null,null,null,null,null,null,null,null,null,null,"Rate Category","Description","Price Block","Charge","Transmission*","Distribution","Covid-19 Recovery","Capacity*",null,null,null,"SBC","LRAM","NGC","Charges","Total"]
[null,null,null,null,null,null,null,null,null,null,null,null,null,null,null,null,null,null,null,null,null,null,null,null,null,"JC_GS1F05F","General Service Secondary - 1 Phase","Customer Charge",{"$f":"'GS FP per Tariff'!C12","v":4.2},null,null,null,null,null,null,null,null,null,null,{"$f":"AC745","v":4.2},{"$f":"AC745","v":4.2}]
[null,null,null,null,null,null,null,null,null,null,null,null,null,null,null,null,null,null,null,null,null,null,null,null,null,null,"Traffic Signal - Unmetered**","Suppl Traf Sgnl Cust Chrg",{"$f":"'GS FP per Tariff'!C17","v":15.67},null,null,null,null,null,null,null,null,null,null,{"$f":"AC746","v":15.67},{"$f":"AC746","v":15.67}]
[null,null,null,null,null,null,null,null,null,null,null,null,null,null,null,null,null,null,null,null,null,null,null,null,null,null,"Full Service",{"$f":"'GS FP per Tariff'!B32","v":"Traffic Signal kWh Summer"},null,{"$f":"'GS FP per Tariff'!D32","v":1.8019E-2},{"$f":"'GS FP per Tariff'!E32","v":1.4260999999999999E-2},{"$f":"'GS FP per Tariff'!F32","v":3.3599999999999998E-4},{"$f":"'GS FP per Tariff'!G32","v":0.117216},{"$f":"'GS FP per Tariff'!H32","v":3.6999999999999998E-5},{"$f":"'GS FP per Tariff'!I32","v":0},{"$f":"'GS FP per Tariff'!J32","v":4.4350000000000006E-3},{"$f":"'GS FP per Tariff'!K32","v":7.2230000000000003E-3},{"$f":"'GS FP per Tariff'!L32","v":4.6299999999999998E-4},{"$f":"'GS FP per Tariff'!M32","v":-2.1900000000000001E-4},{"$f":"SUM(AE747:AF747,AI747:AM747)","v":2.6499000000000002E-2},{"$f":"SUM(AD747:AM747)","v":0.16177100000000003}]
[null,null,null,null,null,null,null,null,null,null,null,null,null,null,null,null,null,null,null,null,null,null,null,null,null,null,"Franchise Tax Exempt ***",{"$f":"'GS FP per Tariff'!B33","v":"Traffic Signal kWh Winter"},null,{"$f":"'GS FP per Tariff'!D33","v":1.8019E-2},{"$f":"'GS FP per Tariff'!E33","v":1.4260999999999999E-2},{"$f":"'GS FP per Tariff'!F33","v":3.3599999999999998E-4},{"$f":"'GS FP per Tariff'!G33","v":0.116883},{"$f":"'GS FP per Tariff'!H33","v":3.6999999999999998E-5},{"$f":"'GS FP per Tariff'!I33","v":0},{"$f":"'GS FP per Tariff'!J33","v":4.4350000000000006E-3},{"$f":"'GS FP per Tariff'!K33","v":7.2230000000000003E-3},{"$f":"'GS FP per Tariff'!L33","v":4.6299999999999998E-4},{"$f":"'GS FP per Tariff'!M33","v":-2.1900000000000001E-4},2.6499000000000002E-2,{"$f":"SUM(AD748:AM748)","v":0.161438}]
[null,null,null,null,null,null,null,null,null,null,null,null,null,null,null,null,null,null,null,null,null,null,null,null,null,null,null,"* Charge applies only to Full Service Customers"]
[null,null,null,null,null,null,null,null,null,null,null,null,null,null,null,null,null,null,null,null,null,null,null,null,null,null,null,"** Unmetered Traffic Signal Service is billed on the GS Traffic Signal Provision.  Unmetered Service is only available for installations where metering and/or reading"]
[null,null,null,null,null,null,null,null,null,null,null,null,null,null,null,null,null,null,null,null,null,null,null,null,null,null,null,"    of the meter would be hazardous or impractical and usage is consistent/predictable and not easily altered by the customer without our knowledge/consent.  "]
[null,null,null,null,null,null,null,null,null,null,null,null,null,null,null,null,null,null,null,null,null,null,null,null,null,null,null,"    Billing is based on an estimated monthly kWh which is recorded in the installation facts."]
[null,null,null,null,null,null,null,null,null,null,null,null,null,null,null,null,null,null,null,null,null,null,null,null,null,null,null,"*** Rate applies to franchised utilities and does not include Corporation Business Tax allowance (CBT) or Sales and Use Tax (SUT). "]
[null,null,null,null,null,null,null,null,null,null,null,null,null,null,null,null,null,null,null,null,null,null,null,null,null,null,null,"    Refer to JCP&L Tariff, Part III, Riders CBT, SUT for specific exemption criteria."]
[]
[null,null,null,null,null,null,null,null,null,null,null,null,null,null,null,null,null,null,null,null,null,null,null,null,null,null,null,null,null,null,null,{"$f":"AF$2","v":"Rates Effective with Service Rendered June 1, 2025"},null,null,null,null,null,null,null,"Delivery"]
[null,null,null,null,null,null,null,null,null,null,null,null,null,null,null,null,null,null,null,null,null,null,null,null,null,null,null,"Charge or","Customer",null,null,null,"Energy &","BGS-FP Reconciliation Charge*",{"$f":"$AI$3","v":"Zero Emission Certificate Recovery Charge (ZEC)"},"RGGI\nRecovery\nCharge (RRC)",null,null,null,"Service","Full Service"]
[null,null,null,null,null,null,null,null,null,null,null,null,null,null,null,null,null,null,null,null,null,null,null,null,null,"Rate Category","Description","Price Block","Charge","Transmission*","Distribution","Covid-19 Recovery","Capacity*",null,null,null,"SBC","LRAM","NGC","Total","Total"]
[null,null,null,null,null,null,null,null,null,null,null,null,null,null,null,null,null,null,null,null,null,null,null,null,null,"JC_GS1G01D","General Service Secondary - 1 Phase","Customer Charge",{"$f":"'GS FP per Tariff'!C41","v":4.3600000000000003},null,null,null,null,null,null,null,null,null,null,{"$f":"AC759","v":4.3600000000000003},"N/A"]
[null,null,null,null,null,null,null,null,null,null,null,null,null,null,null,null,null,null,null,null,null,null,null,null,null,null,"Delivery Service Only",{"$f":"'GS FP per Tariff'!B48","v":"Over 10  KW Summer"},null,null,{"$f":"'GS FP per Tariff'!N48","v":"N/A"},null,null,null,null,null,null,null,null,{"$f":"AE760","v":"N/A"},"N/A"]
[null,null,null,null,null,null,null,null,null,null,null,null,null,null,null,null,null,null,null,null,null,null,null,null,null,null,"Sales & Use Tax (SUT) Exempt**",{"$f":"'GS FP per Tariff'!B49","v":"Over 10  KW Winter"},null,null,{"$f":"'GS FP per Tariff'!N49","v":"N/A"},null,null,null,null,null,null,null,null,{"$f":"AE761","v":"N/A"},"N/A"]
[null,null,null,null,null,null,null,null,null,null,null,null,null,null,null,null,null,null,null,null,null,null,null,null,null,null,null,{"$f":"'GS FP per Tariff'!B51","v":"Minimum Bill-Over 10 KW "},null,null,{"$f":"'GS FP per Tariff'!N51","v":"N/A"},null,null,null,null,null,null,null,null,{"$f":"AE762","v":"N/A"},"N/A"]
[null,null,null,null,null,null,null,null,null,null,null,null,null,null,null,null,null,null,null,null,null,null,null,null,null,null,null,{"$f":"'GS FP per Tariff'!B53","v":"First 1,000 kWh Summer"},null,"N/A",{"$f":"'GS FP per Tariff'!E53","v":7.0610000000000006E-2},{"$f":"'GS FP per Tariff'!F53","v":3.3599999999999998E-4},"N/A","N/A",{"$f":"'GS FP per Tariff'!I53","v":0},{"$f":"'GS FP per Tariff'!J53","v":4.4350000000000006E-3},{"$f":"'GS FP per Tariff'!K53","v":7.2230000000000003E-3},{"$f":"'GS FP per Tariff'!L53","v":4.6299999999999998E-4},{"$f":"'GS FP per Tariff'!M53","v":-2.1900000000000001E-4},{"$f":"SUM(AE763:AF763,AI763:AM763)","v":8.2848000000000019E-2},"N/A"]
[null,null,null,null,null,null,null,null,null,null,null,null,null,null,null,null,null,null,null,null,null,null,null,null,null,null,null,{"$f":"'GS FP per Tariff'!B54","v":"First 1,000 kWh Winter"},null,"N/A",{"$f":"'GS FP per Tariff'!E54","v":6.5334000000000003E-2},{"$f":"'GS FP per Tariff'!F54","v":3.3599999999999998E-4},"N/A","N/A",{"$f":"'GS FP per Tariff'!I54","v":0},{"$f":"'GS FP per Tariff'!J54","v":4.4350000000000006E-3},{"$f":"'GS FP per Tariff'!K54","v":7.2230000000000003E-3},{"$f":"'GS FP per Tariff'!L54","v":4.6299999999999998E-4},{"$f":"'GS FP per Tariff'!M54","v":-2.1900000000000001E-4},7.7572000000000016E-2,"N/A"]
[null,null,null,null,null,null,null,null,null,null,null,null,null,null,null,null,null,null,null,null,null,null,null,null,null,null,null,{"$f":"'GS FP per Tariff'!B55","v":"Over 1,000 kWh Summer"},null,"N/A",{"$f":"'GS FP per Tariff'!E55","v":5.6470000000000001E-3},{"$f":"'GS FP per Tariff'!F55","v":3.3599999999999998E-4},"N/A","N/A",{"$f":"'GS FP per Tariff'!I55","v":0},{"$f":"'GS FP per Tariff'!J55","v":4.4350000000000006E-3},{"$f":"'GS FP per Tariff'!K55","v":7.2230000000000003E-3},{"$f":"'GS FP per Tariff'!L55","v":4.6299999999999998E-4},{"$f":"'GS FP per Tariff'!M55","v":-2.1900000000000001E-4},1.7885000000000002E-2,"N/A"]
[null,null,null,null,null,null,null,null,null,null,null,null,null,null,null,null,null,null,null,null,null,null,null,null,null,null,null,{"$f":"'GS FP per Tariff'!B56","v":"Over 1,000 kWh Winter"},null,"N/A",{"$f":"'GS FP per Tariff'!E56","v":5.6470000000000001E-3},{"$f":"'GS FP per Tariff'!F56","v":3.3599999999999998E-4},"N/A","N/A",{"$f":"'GS FP per Tariff'!I56","v":0},{"$f":"'GS FP per Tariff'!J56","v":4.4350000000000006E-3},{"$f":"'GS FP per Tariff'!K56","v":7.2230000000000003E-3},{"$f":"'GS FP per Tariff'!L56","v":4.6299999999999998E-4},{"$f":"'GS FP per Tariff'!M56","v":-2.1900000000000001E-4},1.7885000000000002E-2,"N/A"]
[null,null,null,null,null,null,null,null,null,null,null,null,null,null,null,null,null,null,null,null,null,null,null,null,null,null,null,"* Charge applies only to Full Service Customers"]
[null,null,null,null,null,null,null,null,null,null,null,null,null,null,null,null,null,null,null,null,null,null,null,null,null,null,null,"** Applies primarily to Federal Government Accounts.  Refer to Tariff Part III Rider SUT for more details."]
[]
[null,null,null,null,null,null,null,null,null,null,null,null,null,null,null,null,null,null,null,null,null,null,null,null,null,null,null,null,null,null,null,{"$f":"AF$2","v":"Rates Effective with Service Rendered June 1, 2025"},null,null,null,null,null,null,null,"Delivery"]
[null,null,null,null,null,null,null,null,null,null,null,null,null,null,null,null,null,null,null,null,null,null,null,null,null,null,null,"Charge or","Customer",null,null,null,"Energy &","BGS-FP Reconciliation Charge*",{"$f":"$AI$3","v":"Zero Emission Certificate Recovery Charge (ZEC)"},"RGGI\nRecovery\nCharge (RRC)",null,null,null,"Service","Full Service"]
[null,null,null,null,null,null,null,null,null,null,null,null,null,null,null,null,null,null,null,null,null,null,null,null,null,"Rate Category","Description","Price Block","Charge","Transmission*","Distribution","Covid-19 Recovery","Capacity*",null,null,null,"SBC","LRAM","NGC","Charges","Total"]
[null,null,null,null,null,null,null,null,null,null,null,null,null,null,null,null,null,null,null,null,null,null,null,null,null,"JC_GS1G01F","General Service Secondary - 1 Phase","Customer Charge",{"$f":"'GS FP per Tariff'!C41","v":4.3600000000000003},null,null,null,null,null,null,null,null,null,null,{"$f":"AC773","v":4.3600000000000003},{"$f":"AC773","v":4.3600000000000003}]
[null,null,null,null,null,null,null,null,null,null,null,null,null,null,null,null,null,null,null,null,null,null,null,null,null,null,"Full Service",{"$f":"'GS FP per Tariff'!B48","v":"Over 10  KW Summer"},null,null,{"$f":"'GS FP per Tariff'!E48","v":8.44},null,null,null,null,null,null,null,null,{"$f":"AE774","v":8.44},{"$f":"AE774","v":8.44}]
[null,null,null,null,null,null,null,null,null,null,null,null,null,null,null,null,null,null,null,null,null,null,null,null,null,null,"Sales & Use Tax (SUT) Exempt**",{"$f":"'GS FP per Tariff'!B49","v":"Over 10  KW Winter"},null,null,{"$f":"'GS FP per Tariff'!E49","v":7.86},null,null,null,null,null,null,null,null,{"$f":"AE775","v":7.86},{"$f":"AE775","v":7.86}]
[null,null,null,null,null,null,null,null,null,null,null,null,null,null,null,null,null,null,null,null,null,null,null,null,null,null,null,{"$f":"'GS FP per Tariff'!B51","v":"Minimum Bill-Over 10 KW "},null,null,{"$f":"'GS FP per Tariff'!E51","v":3.83},null,null,null,null,null,null,null,null,{"$f":"AE776","v":3.83},{"$f":"AE776","v":3.83}]
[null,null,null,null,null,null,null,null,null,null,null,null,null,null,null,null,null,null,null,null,null,null,null,null,null,null,null,{"$f":"'GS FP per Tariff'!B53","v":"First 1,000 kWh Summer"},null,{"$f":"'GS FP per Tariff'!D53","v":1.8019E-2},{"$f":"'GS FP per Tariff'!E53","v":7.0610000000000006E-2},{"$f":"'GS FP per Tariff'!F53","v":3.3599999999999998E-4},{"$f":"'GS FP per Tariff'!G53","v":0.117216},{"$f":"'GS FP per Tariff'!H53","v":3.6999999999999998E-5},{"$f":"'GS FP per Tariff'!I53","v":0},{"$f":"'GS FP per Tariff'!J53","v":4.4350000000000006E-3},{"$f":"'GS FP per Tariff'!K53","v":7.2230000000000003E-3},{"$f":"'GS FP per Tariff'!L53","v":4.6299999999999998E-4},{"$f":"'GS FP per Tariff'!M53","v":-2.1900000000000001E-4},{"$f":"SUM(AE777:AF777,AI777:AM777)","v":8.2848000000000019E-2},{"$f":"SUM(AD777:AM777)","v":0.21812000000000001}]
[null,null,null,null,null,null,null,null,null,null,null,null,null,null,null,null,null,null,null,null,null,null,null,null,null,null,null,{"$f":"'GS FP per Tariff'!B54","v":"First 1,000 kWh Winter"},null,{"$f":"'GS FP per Tariff'!D54","v":1.8019E-2},{"$f":"'GS FP per Tariff'!E54","v":6.5334000000000003E-2},{"$f":"'GS FP per Tariff'!F54","v":3.3599999999999998E-4},{"$f":"'GS FP per Tariff'!G54","v":0.116883},{"$f":"'GS FP per Tariff'!H54","v":3.6999999999999998E-5},{"$f":"'GS FP per Tariff'!I54","v":0},{"$f":"'GS FP per Tariff'!J54","v":4.4350000000000006E-3},{"$f":"'GS FP per Tariff'!K54","v":7.2230000000000003E-3},{"$f":"'GS FP per Tariff'!L54","v":4.6299999999999998E-4},{"$f":"'GS FP per Tariff'!M54","v":-2.1900000000000001E-4},7.7572000000000016E-2,{"$f":"SUM(AD778:AM778)","v":0.21251100000000003}]
[null,null,null,null,null,null,null,null,null,null,null,null,null,null,null,null,null,null,null,null,null,null,null,null,null,null,null,{"$f":"'GS FP per Tariff'!B55","v":"Over 1,000 kWh Summer"},null,{"$f":"'GS FP per Tariff'!D55","v":1.8019E-2},{"$f":"'GS FP per Tariff'!E55","v":5.6470000000000001E-3},{"$f":"'GS FP per Tariff'!F55","v":3.3599999999999998E-4},{"$f":"'GS FP per Tariff'!G55","v":0.117216},{"$f":"'GS FP per Tariff'!H55","v":3.6999999999999998E-5},{"$f":"'GS FP per Tariff'!I55","v":0},{"$f":"'GS FP per Tariff'!J55","v":4.4350000000000006E-3},{"$f":"'GS FP per Tariff'!K55","v":7.2230000000000003E-3},{"$f":"'GS FP per Tariff'!L55","v":4.6299999999999998E-4},{"$f":"'GS FP per Tariff'!M55","v":-2.1900000000000001E-4},1.7885000000000002E-2,{"$f":"SUM(AD779:AM779)","v":0.15315700000000002}]
[null,null,null,null,null,null,null,null,null,null,null,null,null,null,null,null,null,null,null,null,null,null,null,null,null,null,null,{"$f":"'GS FP per Tariff'!B56","v":"Over 1,000 kWh Winter"},null,{"$f":"'GS FP per Tariff'!D56","v":1.8019E-2},{"$f":"'GS FP per Tariff'!E56","v":5.6470000000000001E-3},{"$f":"'GS FP per Tariff'!F56","v":3.3599999999999998E-4},{"$f":"'GS FP per Tariff'!G56","v":0.116883},{"$f":"'GS FP per Tariff'!H56","v":3.6999999999999998E-5},{"$f":"'GS FP per Tariff'!I56","v":0},{"$f":"'GS FP per Tariff'!J56","v":4.4350000000000006E-3},{"$f":"'GS FP per Tariff'!K56","v":7.2230000000000003E-3},{"$f":"'GS FP per Tariff'!L56","v":4.6299999999999998E-4},{"$f":"'GS FP per Tariff'!M56","v":-2.1900000000000001E-4},1.7885000000000002E-2,{"$f":"SUM(AD780:AM780)","v":0.15282400000000002}]
[null,null,null,null,null,null,null,null,null,null,null,null,null,null,null,null,null,null,null,null,null,null,null,null,null,null,null,"* Charge applies only to Full Service Customers"]
[null,null,null,null,null,null,null,null,null,null,null,null,null,null,null,null,null,null,null,null,null,null,null,null,null,null,null,"** Applies primarily to Federal Government Accounts.  Refer to Tariff Part III Rider SUT for more details."]
[]
[null,null,null,null,null,null,null,null,null,null,null,null,null,null,null,null,null,null,null,null,null,null,null,null,null,null,null,null,null,null,null,{"$f":"AF$2","v":"Rates Effective with Service Rendered June 1, 2025"},null,null,null,null,null,null,null,"Delivery"]
[null,null,null,null,null,null,null,null,null,null,null,null,null,null,null,null,null,null,null,null,null,null,null,null,null,null,null,"Charge or","Customer",null,null,null,"Energy &","BGS-FP Reconciliation Charge*",{"$f":"$AI$3","v":"Zero Emission Certificate Recovery Charge (ZEC)"},"RGGI\nRecovery\nCharge (RRC)",null,null,null,"Service","Full Service"]
[null,null,null,null,null,null,null,null,null,null,null,null,null,null,null,null,null,null,null,null,null,null,null,null,null,"Rate Category","Description","Price Block","Charge","Transmission*","Distribution","Covid-19 Recovery","Capacity*",null,null,null,"SBC","LRAM","NGC","Total","Total"]
[null,null,null,null,null,null,null,null,null,null,null,null,null,null,null,null,null,null,null,null,null,null,null,null,null,"JC_GS1G02D","General Service Secondary - 1 Phase","Customer Charge",{"$f":"'GS FP per Tariff'!C41","v":4.3600000000000003},null,null,null,null,null,null,null,null,null,null,{"$f":"AC787","v":4.3600000000000003},"N/A"]
[null,null,null,null,null,null,null,null,null,null,null,null,null,null,null,null,null,null,null,null,null,null,null,null,null,null,"Unmetered**",{"$f":"'GS FP per Tariff'!B48","v":"Over 10  KW Summer"},null,null,{"$f":"'GS FP per Tariff'!N48","v":"N/A"},null,null,null,null,null,null,null,null,{"$f":"AE788","v":"N/A"},"N/A"]
[null,null,null,null,null,null,null,null,null,null,null,null,null,null,null,null,null,null,null,null,null,null,null,null,null,null,"Delivery Service Only",{"$f":"'GS FP per Tariff'!B49","v":"Over 10  KW Winter"},null,null,{"$f":"'GS FP per Tariff'!N49","v":"N/A"},null,null,null,null,null,null,null,null,{"$f":"AE789","v":"N/A"},"N/A"]
[null,null,null,null,null,null,null,null,null,null,null,null,null,null,null,null,null,null,null,null,null,null,null,null,null,null,"Sales & Use Tax (SUT) Exempt***",{"$f":"'GS FP per Tariff'!B51","v":"Minimum Bill-Over 10 KW "},null,null,{"$f":"'GS FP per Tariff'!N51","v":"N/A"},null,null,null,null,null,null,null,null,{"$f":"AE790","v":"N/A"},"N/A"]
[null,null,null,null,null,null,null,null,null,null,null,null,null,null,null,null,null,null,null,null,null,null,null,null,null,null,null,{"$f":"'GS FP per Tariff'!B53","v":"First 1,000 kWh Summer"},null,"N/A",{"$f":"'GS FP per Tariff'!E53","v":7.0610000000000006E-2},{"$f":"'GS FP per Tariff'!F53","v":3.3599999999999998E-4},"N/A","N/A",{"$f":"'GS FP per Tariff'!I53","v":0},{"$f":"'GS FP per Tariff'!J53","v":4.4350000000000006E-3},{"$f":"'GS FP per Tariff'!K53","v":7.2230000000000003E-3},{"$f":"'GS FP per Tariff'!L53","v":4.6299999999999998E-4},{"$f":"'GS FP per Tariff'!M53","v":-2.1900000000000001E-4},{"$f":"SUM(AE791:AF791,AI791:AM791)","v":8.2848000000000019E-2},"N/A"]
[null,null,null,null,null,null,null,null,null,null,null,null,null,null,null,null,null,null,null,null,null,null,null,null,null,null,null,{"$f":"'GS FP per Tariff'!B54","v":"First 1,000 kWh Winter"},null,"N/A",{"$f":"'GS FP per Tariff'!E54","v":6.5334000000000003E-2},{"$f":"'GS FP per Tariff'!F54","v":3.3599999999999998E-4},"N/A","N/A",{"$f":"'GS FP per Tariff'!I54","v":0},{"$f":"'GS FP per Tariff'!J54","v":4.4350000000000006E-3},{"$f":"'GS FP per Tariff'!K54","v":7.2230000000000003E-3},{"$f":"'GS FP per Tariff'!L54","v":4.6299999999999998E-4},{"$f":"'GS FP per Tariff'!M54","v":-2.1900000000000001E-4},7.7572000000000016E-2,"N/A"]
[null,null,null,null,null,null,null,null,null,null,null,null,null,null,null,null,null,null,null,null,null,null,null,null,null,null,null,{"$f":"'GS FP per Tariff'!B55","v":"Over 1,000 kWh Summer"},null,"N/A",{"$f":"'GS FP per Tariff'!E55","v":5.6470000000000001E-3},{"$f":"'GS FP per Tariff'!F55","v":3.3599999999999998E-4},"N/A","N/A",{"$f":"'GS FP per Tariff'!I55","v":0},{"$f":"'GS FP per Tariff'!J55","v":4.4350000000000006E-3},{"$f":"'GS FP per Tariff'!K55","v":7.2230000000000003E-3},{"$f":"'GS FP per Tariff'!L55","v":4.6299999999999998E-4},{"$f":"'GS FP per Tariff'!M55","v":-2.1900000000000001E-4},1.7885000000000002E-2,"N/A"]
[null,null,null,null,null,null,null,null,null,null,null,null,null,null,null,null,null,null,null,null,null,null,null,null,null,null,null,{"$f":"'GS FP per Tariff'!B56","v":"Over 1,000 kWh Winter"},null,"N/A",{"$f":"'GS FP per Tariff'!E56","v":5.6470000000000001E-3},{"$f":"'GS FP per Tariff'!F56","v":3.3599999999999998E-4},"N/A","N/A",{"$f":"'GS FP per Tariff'!I56","v":0},{"$f":"'GS FP per Tariff'!J56","v":4.4350000000000006E-3},{"$f":"'GS FP per Tariff'!K56","v":7.2230000000000003E-3},{"$f":"'GS FP per Tariff'!L56","v":4.6299999999999998E-4},{"$f":"'GS FP per Tariff'!M56","v":-2.1900000000000001E-4},1.7885000000000002E-2,"N/A"]
[null,null,null,null,null,null,null,null,null,null,null,null,null,null,null,null,null,null,null,null,null,null,null,null,null,null,null,"* Charge applies only to Full Service Customers"]
[null,null,null,null,null,null,null,null,null,null,null,null,null,null,null,null,null,null,null,null,null,null,null,null,null,null,null,"** Unmetered Service is billed on the standard GS rate.  Unmetered Service is only available for installations where metering and/or reading"]
[null,null,null,null,null,null,null,null,null,null,null,null,null,null,null,null,null,null,null,null,null,null,null,null,null,null,null,"    of the meter would be hazardous or impractical and usage is consistent/predictable and not easily altered by the customer without our knowledge/consent.  "]
[null,null,null,null,null,null,null,null,null,null,null,null,null,null,null,null,null,null,null,null,null,null,null,null,null,null,null,"    Billing is based on an estimated monthly kWh (and kW if applicable) which are recorded in the installation facts."]
[null,null,null,null,null,null,null,null,null,null,null,null,null,null,null,null,null,null,null,null,null,null,null,null,null,null,null,"*** Applies primarily to Federal Government Accounts.  Refer to Tariff Part III Rider SUT for more details."]
[]
[null,null,null,null,null,null,null,null,null,null,null,null,null,null,null,null,null,null,null,null,null,null,null,null,null,null,null,null,null,null,null,{"$f":"AF$2","v":"Rates Effective with Service Rendered June 1, 2025"},null,null,null,null,null,null,null,"Delivery"]
[null,null,null,null,null,null,null,null,null,null,null,null,null,null,null,null,null,null,null,null,null,null,null,null,null,null,null,"Charge or","Customer",null,null,null,"Energy &","BGS-FP Reconciliation Charge*",{"$f":"$AI$3","v":"Zero Emission Certificate Recovery Charge (ZEC)"},"RGGI\nRecovery\nCharge (RRC)",null,null,null,"Service","Full Service"]
[null,null,null,null,null,null,null,null,null,null,null,null,null,null,null,null,null,null,null,null,null,null,null,null,null,"Rate Category","Description","Price Block","Charge","Transmission*","Distribution","Covid-19 Recovery","Capacity*",null,null,null,"SBC","LRAM","NGC","Charges","Total"]
[null,null,null,null,null,null,null,null,null,null,null,null,null,null,null,null,null,null,null,null,null,null,null,null,null,"JC_GS1G02F","General Service Secondary - 1 Phase","Customer Charge",{"$f":"'GS FP per Tariff'!C41","v":4.3600000000000003},null,null,null,null,null,null,null,null,null,null,{"$f":"AC804","v":4.3600000000000003},{"$f":"AC804","v":4.3600000000000003}]
[null,null,null,null,null,null,null,null,null,null,null,null,null,null,null,null,null,null,null,null,null,null,null,null,null,null,"Unmetered**",{"$f":"'GS FP per Tariff'!B48","v":"Over 10  KW Summer"},null,null,{"$f":"'GS FP per Tariff'!E48","v":8.44},null,null,null,null,null,null,null,null,{"$f":"AE805","v":8.44},{"$f":"AE805","v":8.44}]
[null,null,null,null,null,null,null,null,null,null,null,null,null,null,null,null,null,null,null,null,null,null,null,null,null,null,"Full Service",{"$f":"'GS FP per Tariff'!B49","v":"Over 10  KW Winter"},null,null,{"$f":"'GS FP per Tariff'!E49","v":7.86},null,null,null,null,null,null,null,null,{"$f":"AE806","v":7.86},{"$f":"AE806","v":7.86}]
[null,null,null,null,null,null,null,null,null,null,null,null,null,null,null,null,null,null,null,null,null,null,null,null,null,null,"Sales & Use Tax (SUT) Exempt***",{"$f":"'GS FP per Tariff'!B51","v":"Minimum Bill-Over 10 KW "},null,null,{"$f":"'GS FP per Tariff'!E51","v":3.83},null,null,null,null,null,null,null,null,{"$f":"AE807","v":3.83},{"$f":"AE807","v":3.83}]
[null,null,null,null,null,null,null,null,null,null,null,null,null,null,null,null,null,null,null,null,null,null,null,null,null,null,null,{"$f":"'GS FP per Tariff'!B53","v":"First 1,000 kWh Summer"},null,{"$f":"'GS FP per Tariff'!D53","v":1.8019E-2},{"$f":"'GS FP per Tariff'!E53","v":7.0610000000000006E-2},{"$f":"'GS FP per Tariff'!F53","v":3.3599999999999998E-4},{"$f":"'GS FP per Tariff'!G53","v":0.117216},{"$f":"'GS FP per Tariff'!H53","v":3.6999999999999998E-5},{"$f":"'GS FP per Tariff'!I53","v":0},{"$f":"'GS FP per Tariff'!J53","v":4.4350000000000006E-3},{"$f":"'GS FP per Tariff'!K53","v":7.2230000000000003E-3},{"$f":"'GS FP per Tariff'!L53","v":4.6299999999999998E-4},{"$f":"'GS FP per Tariff'!M53","v":-2.1900000000000001E-4},{"$f":"SUM(AE808:AF808,AI808:AM808)","v":8.2848000000000019E-2},{"$f":"SUM(AD808:AM808)","v":0.21812000000000001}]
[null,null,null,null,null,null,null,null,null,null,null,null,null,null,null,null,null,null,null,null,null,null,null,null,null,null,null,{"$f":"'GS FP per Tariff'!B54","v":"First 1,000 kWh Winter"},null,{"$f":"'GS FP per Tariff'!D54","v":1.8019E-2},{"$f":"'GS FP per Tariff'!E54","v":6.5334000000000003E-2},{"$f":"'GS FP per Tariff'!F54","v":3.3599999999999998E-4},{"$f":"'GS FP per Tariff'!G54","v":0.116883},{"$f":"'GS FP per Tariff'!H54","v":3.6999999999999998E-5},{"$f":"'GS FP per Tariff'!I54","v":0},{"$f":"'GS FP per Tariff'!J54","v":4.4350000000000006E-3},{"$f":"'GS FP per Tariff'!K54","v":7.2230000000000003E-3},{"$f":"'GS FP per Tariff'!L54","v":4.6299999999999998E-4},{"$f":"'GS FP per Tariff'!M54","v":-2.1900000000000001E-4},7.7572000000000016E-2,{"$f":"SUM(AD809:AM809)","v":0.21251100000000003}]
[null,null,null,null,null,null,null,null,null,null,null,null,null,null,null,null,null,null,null,null,null,null,null,null,null,null,null,{"$f":"'GS FP per Tariff'!B55","v":"Over 1,000 kWh Summer"},null,{"$f":"'GS FP per Tariff'!D55","v":1.8019E-2},{"$f":"'GS FP per Tariff'!E55","v":5.6470000000000001E-3},{"$f":"'GS FP per Tariff'!F55","v":3.3599999999999998E-4},{"$f":"'GS FP per Tariff'!G55","v":0.117216},{"$f":"'GS FP per Tariff'!H55","v":3.6999999999999998E-5},{"$f":"'GS FP per Tariff'!I55","v":0},{"$f":"'GS FP per Tariff'!J55","v":4.4350000000000006E-3},{"$f":"'GS FP per Tariff'!K55","v":7.2230000000000003E-3},{"$f":"'GS FP per Tariff'!L55","v":4.6299999999999998E-4},{"$f":"'GS FP per Tariff'!M55","v":-2.1900000000000001E-4},1.7885000000000002E-2,{"$f":"SUM(AD810:AM810)","v":0.15315700000000002}]
[null,null,null,null,null,null,null,null,null,null,null,null,null,null,null,null,null,null,null,null,null,null,null,null,null,null,null,{"$f":"'GS FP per Tariff'!B56","v":"Over 1,000 kWh Winter"},null,{"$f":"'GS FP per Tariff'!D56","v":1.8019E-2},{"$f":"'GS FP per Tariff'!E56","v":5.6470000000000001E-3},{"$f":"'GS FP per Tariff'!F56","v":3.3599999999999998E-4},{"$f":"'GS FP per Tariff'!G56","v":0.116883},{"$f":"'GS FP per Tariff'!H56","v":3.6999999999999998E-5},{"$f":"'GS FP per Tariff'!I56","v":0},{"$f":"'GS FP per Tariff'!J56","v":4.4350000000000006E-3},{"$f":"'GS FP per Tariff'!K56","v":7.2230000000000003E-3},{"$f":"'GS FP per Tariff'!L56","v":4.6299999999999998E-4},{"$f":"'GS FP per Tariff'!M56","v":-2.1900000000000001E-4},1.7885000000000002E-2,{"$f":"SUM(AD811:AM811)","v":0.15282400000000002}]
[null,null,null,null,null,null,null,null,null,null,null,null,null,null,null,null,null,null,null,null,null,null,null,null,null,null,null,"* Charge applies only to Full Service Customers"]
[null,null,null,null,null,null,null,null,null,null,null,null,null,null,null,null,null,null,null,null,null,null,null,null,null,null,null,"** Unmetered Service is billed on the standard GS rate.  Unmetered Service is only available for installations where metering and/or reading"]
[null,null,null,null,null,null,null,null,null,null,null,null,null,null,null,null,null,null,null,null,null,null,null,null,null,null,null,"    of the meter would be hazardous or impractical and usage is consistent/predictable and not easily altered by the customer without our knowledge/consent.  "]
[null,null,null,null,null,null,null,null,null,null,null,null,null,null,null,null,null,null,null,null,null,null,null,null,null,null,null,"    Billing is based on an estimated monthly kWh (and kW if applicable) which are recorded in the installation facts."]
[null,null,null,null,null,null,null,null,null,null,null,null,null,null,null,null,null,null,null,null,null,null,null,null,null,null,null,"*** Applies primarily to Federal Government Accounts.  Refer to Tariff Part III Rider SUT for more details."]
[]
[null,null,null,null,null,null,null,null,null,null,null,null,null,null,null,null,null,null,null,null,null,null,null,null,null,null,null,null,null,null,null,{"$f":"AF$2","v":"Rates Effective with Service Rendered June 1, 2025"},null,null,null,null,null,null,null,"Delivery"]
[null,null,null,null,null,null,null,null,null,null,null,null,null,null,null,null,null,null,null,null,null,null,null,null,null,null,null,"Charge or","Customer",null,null,null,"Energy &","BGS-FP Reconciliation Charge*",{"$f":"$AI$3","v":"Zero Emission Certificate Recovery Charge (ZEC)"},"RGGI\nRecovery\nCharge (RRC)",null,null,null,"Service","Full Service"]
[null,null,null,null,null,null,null,null,null,null,null,null,null,null,null,null,null,null,null,null,null,null,null,null,null,"Rate Category","Description","Price Block","Charge","Transmission*","Distribution","Covid-19 Recovery","Capacity*",null,null,null,"SBC","LRAM","NGC","Total","Total"]
[null,null,null,null,null,null,null,null,null,null,null,null,null,null,null,null,null,null,null,null,null,null,null,null,null,"JC_GS1G03D","General Service Secondary - 1 Phase","Customer Charge",{"$f":"'GS FP per Tariff'!C41","v":4.3600000000000003},null,null,null,null,null,null,null,null,null,null,{"$f":"AC821","v":4.3600000000000003},"N/A"]
[null,null,null,null,null,null,null,null,null,null,null,null,null,null,null,null,null,null,null,null,null,null,null,null,null,null,"Electric Space Heating Provision**",{"$f":"'GS FP per Tariff'!B48","v":"Over 10  KW Summer"},null,null,{"$f":"'GS FP per Tariff'!N48","v":"N/A"},null,null,null,null,null,null,null,null,{"$f":"AE822","v":"N/A"},"N/A"]
[null,null,null,null,null,null,null,null,null,null,null,null,null,null,null,null,null,null,null,null,null,null,null,null,null,null,"Delivery Service Only",{"$f":"'GS FP per Tariff'!B49","v":"Over 10  KW Winter"},null,null,{"$f":"'GS FP per Tariff'!N49","v":"N/A"},null,null,null,null,null,null,null,null,{"$f":"AE823","v":"N/A"},"N/A"]
[null,null,null,null,null,null,null,null,null,null,null,null,null,null,null,null,null,null,null,null,null,null,null,null,null,null,"Sales & Use Tax (SUT) Exempt***",{"$f":"'GS FP per Tariff'!B51","v":"Minimum Bill-Over 10 KW "},null,null,{"$f":"'GS FP per Tariff'!N51","v":"N/A"},null,null,null,null,null,null,null,null,{"$f":"AE824","v":"N/A"},"N/A"]
[null,null,null,null,null,null,null,null,null,null,null,null,null,null,null,null,null,null,null,null,null,null,null,null,null,null,null,{"$f":"'GS FP per Tariff'!B53","v":"First 1,000 kWh Summer"},null,"N/A",{"$f":"'GS FP per Tariff'!E53","v":7.0610000000000006E-2},{"$f":"'GS FP per Tariff'!F53","v":3.3599999999999998E-4},"N/A","N/A",{"$f":"'GS FP per Tariff'!I53","v":0},{"$f":"'GS FP per Tariff'!J53","v":4.4350000000000006E-3},{"$f":"'GS FP per Tariff'!K53","v":7.2230000000000003E-3},{"$f":"'GS FP per Tariff'!L53","v":4.6299999999999998E-4},{"$f":"'GS FP per Tariff'!M53","v":-2.1900000000000001E-4},{"$f":"SUM(AE825:AF825,AI825:AM825)","v":8.2848000000000019E-2},"N/A"]
[null,null,null,null,null,null,null,null,null,null,null,null,null,null,null,null,null,null,null,null,null,null,null,null,null,null,null,{"$f":"'GS FP per Tariff'!B54","v":"First 1,000 kWh Winter"},null,"N/A",{"$f":"'GS FP per Tariff'!E54","v":6.5334000000000003E-2},{"$f":"'GS FP per Tariff'!F54","v":3.3599999999999998E-4},"N/A","N/A",{"$f":"'GS FP per Tariff'!I54","v":0},{"$f":"'GS FP per Tariff'!J54","v":4.4350000000000006E-3},{"$f":"'GS FP per Tariff'!K54","v":7.2230000000000003E-3},{"$f":"'GS FP per Tariff'!L54","v":4.6299999999999998E-4},{"$f":"'GS FP per Tariff'!M54","v":-2.1900000000000001E-4},7.7572000000000016E-2,"N/A"]
[null,null,null,null,null,null,null,null,null,null,null,null,null,null,null,null,null,null,null,null,null,null,null,null,null,null,null,{"$f":"'GS FP per Tariff'!B55","v":"Over 1,000 kWh Summer"},null,"N/A",{"$f":"'GS FP per Tariff'!E55","v":5.6470000000000001E-3},{"$f":"'GS FP per Tariff'!F55","v":3.3599999999999998E-4},"N/A","N/A",{"$f":"'GS FP per Tariff'!I55","v":0},{"$f":"'GS FP per Tariff'!J55","v":4.4350000000000006E-3},{"$f":"'GS FP per Tariff'!K55","v":7.2230000000000003E-3},{"$f":"'GS FP per Tariff'!L55","v":4.6299999999999998E-4},{"$f":"'GS FP per Tariff'!M55","v":-2.1900000000000001E-4},1.7885000000000002E-2,"N/A"]
[null,null,null,null,null,null,null,null,null,null,null,null,null,null,null,null,null,null,null,null,null,null,null,null,null,null,null,{"$f":"'GS FP per Tariff'!B56","v":"Over 1,000 kWh Winter"},null,"N/A",{"$f":"'GS FP per Tariff'!E56","v":5.6470000000000001E-3},{"$f":"'GS FP per Tariff'!F56","v":3.3599999999999998E-4},"N/A","N/A",{"$f":"'GS FP per Tariff'!I56","v":0},{"$f":"'GS FP per Tariff'!J56","v":4.4350000000000006E-3},{"$f":"'GS FP per Tariff'!K56","v":7.2230000000000003E-3},{"$f":"'GS FP per Tariff'!L56","v":4.6299999999999998E-4},{"$f":"'GS FP per Tariff'!M56","v":-2.1900000000000001E-4},1.7885000000000002E-2,"N/A"]
[null,null,null,null,null,null,null,null,null,null,null,null,null,null,null,null,null,null,null,null,null,null,null,null,null,null,null,"* Charge applies only to Full Service Customers"]
[null,null,null,null,null,null,null,null,null,null,null,null,null,null,null,null,null,null,null,null,null,null,null,null,null,null,null,"** Minimum demand charge calculation is based on summer kW only"]
[null,null,null,null,null,null,null,null,null,null,null,null,null,null,null,null,null,null,null,null,null,null,null,null,null,null,null,"*** Applies primarily to Federal Government Accounts.  Refer to Tariff Part III Rider SUT for more details."]
[]
[null,null,null,null,null,null,null,null,null,null,null,null,null,null,null,null,null,null,null,null,null,null,null,null,null,null,null,null,null,null,null,{"$f":"AF$2","v":"Rates Effective with Service Rendered June 1, 2025"},null,null,null,null,null,null,null,"Delivery"]
[null,null,null,null,null,null,null,null,null,null,null,null,null,null,null,null,null,null,null,null,null,null,null,null,null,null,null,"Charge or","Customer",null,null,null,"Energy &","BGS-FP Reconciliation Charge*",{"$f":"$AI$3","v":"Zero Emission Certificate Recovery Charge (ZEC)"},"RGGI\nRecovery\nCharge (RRC)",null,null,null,"Service","Full Service"]
[null,null,null,null,null,null,null,null,null,null,null,null,null,null,null,null,null,null,null,null,null,null,null,null,null,"Rate Category","Description","Price Block","Charge","Transmission*","Distribution","Covid-19 Recovery","Capacity*",null,null,null,"SBC","LRAM","NGC","Charges","Total"]
[null,null,null,null,null,null,null,null,null,null,null,null,null,null,null,null,null,null,null,null,null,null,null,null,null,"JC_GS1G03F","General Service Secondary - 1 Phase","Customer Charge",{"$f":"'GS FP per Tariff'!C41","v":4.3600000000000003},null,null,null,null,null,null,null,null,null,null,{"$f":"AC836","v":4.3600000000000003},{"$f":"AC836","v":4.3600000000000003}]
[null,null,null,null,null,null,null,null,null,null,null,null,null,null,null,null,null,null,null,null,null,null,null,null,null,null,"Electric Space Heating Provision**",{"$f":"'GS FP per Tariff'!B48","v":"Over 10  KW Summer"},null,null,{"$f":"'GS FP per Tariff'!E48","v":8.44},null,null,null,null,null,null,null,null,{"$f":"AE837","v":8.44},{"$f":"AE837","v":8.44}]
[null,null,null,null,null,null,null,null,null,null,null,null,null,null,null,null,null,null,null,null,null,null,null,null,null,null,"Full Service",{"$f":"'GS FP per Tariff'!B49","v":"Over 10  KW Winter"},null,null,{"$f":"'GS FP per Tariff'!E49","v":7.86},null,null,null,null,null,null,null,null,{"$f":"AE838","v":7.86},{"$f":"AE838","v":7.86}]
[null,null,null,null,null,null,null,null,null,null,null,null,null,null,null,null,null,null,null,null,null,null,null,null,null,null,"Sales & Use Tax (SUT) Exempt***",{"$f":"'GS FP per Tariff'!B51","v":"Minimum Bill-Over 10 KW "},null,null,{"$f":"'GS FP per Tariff'!E51","v":3.83},null,null,null,null,null,null,null,null,{"$f":"AE839","v":3.83},{"$f":"AE839","v":3.83}]
[null,null,null,null,null,null,null,null,null,null,null,null,null,null,null,null,null,null,null,null,null,null,null,null,null,null,null,{"$f":"'GS FP per Tariff'!B53","v":"First 1,000 kWh Summer"},null,{"$f":"'GS FP per Tariff'!D53","v":1.8019E-2},{"$f":"'GS FP per Tariff'!E53","v":7.0610000000000006E-2},{"$f":"'GS FP per Tariff'!F53","v":3.3599999999999998E-4},{"$f":"'GS FP per Tariff'!G53","v":0.117216},{"$f":"'GS FP per Tariff'!H53","v":3.6999999999999998E-5},{"$f":"'GS FP per Tariff'!I53","v":0},{"$f":"'GS FP per Tariff'!J53","v":4.4350000000000006E-3},{"$f":"'GS FP per Tariff'!K53","v":7.2230000000000003E-3},{"$f":"'GS FP per Tariff'!L53","v":4.6299999999999998E-4},{"$f":"'GS FP per Tariff'!M53","v":-2.1900000000000001E-4},{"$f":"SUM(AE840:AF840,AI840:AM840)","v":8.2848000000000019E-2},{"$f":"SUM(AD840:AM840)","v":0.21812000000000001}]
[null,null,null,null,null,null,null,null,null,null,null,null,null,null,null,null,null,null,null,null,null,null,null,null,null,null,null,{"$f":"'GS FP per Tariff'!B54","v":"First 1,000 kWh Winter"},null,{"$f":"'GS FP per Tariff'!D54","v":1.8019E-2},{"$f":"'GS FP per Tariff'!E54","v":6.5334000000000003E-2},{"$f":"'GS FP per Tariff'!F54","v":3.3599999999999998E-4},{"$f":"'GS FP per Tariff'!G54","v":0.116883},{"$f":"'GS FP per Tariff'!H54","v":3.6999999999999998E-5},{"$f":"'GS FP per Tariff'!I54","v":0},{"$f":"'GS FP per Tariff'!J54","v":4.4350000000000006E-3},{"$f":"'GS FP per Tariff'!K54","v":7.2230000000000003E-3},{"$f":"'GS FP per Tariff'!L54","v":4.6299999999999998E-4},{"$f":"'GS FP per Tariff'!M54","v":-2.1900000000000001E-4},7.7572000000000016E-2,{"$f":"SUM(AD841:AM841)","v":0.21251100000000003}]
[null,null,null,null,null,null,null,null,null,null,null,null,null,null,null,null,null,null,null,null,null,null,null,null,null,null,null,{"$f":"'GS FP per Tariff'!B55","v":"Over 1,000 kWh Summer"},null,{"$f":"'GS FP per Tariff'!D55","v":1.8019E-2},{"$f":"'GS FP per Tariff'!E55","v":5.6470000000000001E-3},{"$f":"'GS FP per Tariff'!F55","v":3.3599999999999998E-4},{"$f":"'GS FP per Tariff'!G55","v":0.117216},{"$f":"'GS FP per Tariff'!H55","v":3.6999999999999998E-5},{"$f":"'GS FP per Tariff'!I55","v":0},{"$f":"'GS FP per Tariff'!J55","v":4.4350000000000006E-3},{"$f":"'GS FP per Tariff'!K55","v":7.2230000000000003E-3},{"$f":"'GS FP per Tariff'!L55","v":4.6299999999999998E-4},{"$f":"'GS FP per Tariff'!M55","v":-2.1900000000000001E-4},1.7885000000000002E-2,{"$f":"SUM(AD842:AM842)","v":0.15315700000000002}]
[null,null,null,null,null,null,null,null,null,null,null,null,null,null,null,null,null,null,null,null,null,null,null,null,null,null,null,{"$f":"'GS FP per Tariff'!B56","v":"Over 1,000 kWh Winter"},null,{"$f":"'GS FP per Tariff'!D56","v":1.8019E-2},{"$f":"'GS FP per Tariff'!E56","v":5.6470000000000001E-3},{"$f":"'GS FP per Tariff'!F56","v":3.3599999999999998E-4},{"$f":"'GS FP per Tariff'!G56","v":0.116883},{"$f":"'GS FP per Tariff'!H56","v":3.6999999999999998E-5},{"$f":"'GS FP per Tariff'!I56","v":0},{"$f":"'GS FP per Tariff'!J56","v":4.4350000000000006E-3},{"$f":"'GS FP per Tariff'!K56","v":7.2230000000000003E-3},{"$f":"'GS FP per Tariff'!L56","v":4.6299999999999998E-4},{"$f":"'GS FP per Tariff'!M56","v":-2.1900000000000001E-4},1.7885000000000002E-2,{"$f":"SUM(AD843:AM843)","v":0.15282400000000002}]
[null,null,null,null,null,null,null,null,null,null,null,null,null,null,null,null,null,null,null,null,null,null,null,null,null,null,null,"* Charge applies only to Full Service Customers"]
[null,null,null,null,null,null,null,null,null,null,null,null,null,null,null,null,null,null,null,null,null,null,null,null,null,null,null,"** Minimum demand charge calculation is based on summer kW only"]
[null,null,null,null,null,null,null,null,null,null,null,null,null,null,null,null,null,null,null,null,null,null,null,null,null,null,null,"*** Applies primarily to Federal Government Accounts.  Refer to Tariff Part III Rider SUT for more details."]
[]
[null,null,null,null,null,null,null,null,null,null,null,null,null,null,null,null,null,null,null,null,null,null,null,null,null,null,null,null,null,null,null,{"$f":"AF$2","v":"Rates Effective with Service Rendered June 1, 2025"},null,null,null,null,null,null,null,"Delivery"]
[null,null,null,null,null,null,null,null,null,null,null,null,null,null,null,null,null,null,null,null,null,null,null,null,null,null,null,"Charge or","Customer",null,null,null,"Energy &","BGS-FP Reconciliation Charge*",{"$f":"$AI$3","v":"Zero Emission Certificate Recovery Charge (ZEC)"},"RGGI\nRecovery\nCharge (RRC)",null,null,null,"Service","Full Service"]
[null,null,null,null,null,null,null,null,null,null,null,null,null,null,null,null,null,null,null,null,null,null,null,null,null,"Rate Category","Description","Price Block","Charge","Transmission*","Distribution","Covid-19 Recovery","Capacity*",null,null,null,"SBC","LRAM","NGC","Total","Total"]
[null,null,null,null,null,null,null,null,null,null,null,null,null,null,null,null,null,null,null,null,null,null,null,null,null,"JC_GS1G04D","General Service Secondary - 1 Phase","Customer Charge",{"$f":"'GS FP per Tariff'!C41","v":4.3600000000000003},null,null,null,null,null,null,null,null,null,null,{"$f":"AC851","v":4.3600000000000003},"N/A"]
[null,null,null,null,null,null,null,null,null,null,null,null,null,null,null,null,null,null,null,null,null,null,null,null,null,null,"Traffic Signal Provision","Suppl Traf Sgnl Cust Chrg",{"$f":"'GS FP per Tariff'!C46","v":16.260000000000002},null,null,null,null,null,null,null,null,null,null,{"$f":"AC852","v":16.260000000000002},"N/A"]
[null,null,null,null,null,null,null,null,null,null,null,null,null,null,null,null,null,null,null,null,null,null,null,null,null,null,"Delivery Service Only",{"$f":"'GS FP per Tariff'!B61","v":"Traffic Signal kWh Summer"},null,"N/A",{"$f":"'GS FP per Tariff'!E61","v":1.4796999999999999E-2},{"$f":"'GS FP per Tariff'!F61","v":3.3599999999999998E-4},"N/A","N/A",{"$f":"'GS FP per Tariff'!I61","v":0},{"$f":"'GS FP per Tariff'!J61","v":4.4350000000000006E-3},{"$f":"'GS FP per Tariff'!K61","v":7.2230000000000003E-3},{"$f":"'GS FP per Tariff'!L61","v":4.6299999999999998E-4},{"$f":"'GS FP per Tariff'!M61","v":-2.1900000000000001E-4},{"$f":"SUM(AE853:AF853,AI853:AM853)","v":2.7035E-2},"N/A"]
[null,null,null,null,null,null,null,null,null,null,null,null,null,null,null,null,null,null,null,null,null,null,null,null,null,null,"Sales & Use Tax (SUT) Exempt**",{"$f":"'GS FP per Tariff'!B62","v":"Traffic Signal kWh Winter"},null,"N/A",{"$f":"'GS FP per Tariff'!E62","v":1.4796999999999999E-2},{"$f":"'GS FP per Tariff'!F62","v":3.3599999999999998E-4},"N/A","N/A",{"$f":"'GS FP per Tariff'!I62","v":0},{"$f":"'GS FP per Tariff'!J62","v":4.4350000000000006E-3},{"$f":"'GS FP per Tariff'!K62","v":7.2230000000000003E-3},{"$f":"'GS FP per Tariff'!L62","v":4.6299999999999998E-4},{"$f":"'GS FP per Tariff'!M62","v":-2.1900000000000001E-4},2.7035E-2,"N/A"]
[null,null,null,null,null,null,null,null,null,null,null,null,null,null,null,null,null,null,null,null,null,null,null,null,null,null,null,"* Charge applies only to Full Service Customers"]
[null,null,null,null,null,null,null,null,null,null,null,null,null,null,null,null,null,null,null,null,null,null,null,null,null,null,null,"** Applies primarily to Federal Government Accounts.  Refer to Tariff Part III Rider SUT for more details."]
[]
[null,null,null,null,null,null,null,null,null,null,null,null,null,null,null,null,null,null,null,null,null,null,null,null,null,null,null,null,null,null,null,{"$f":"AF$2","v":"Rates Effective with Service Rendered June 1, 2025"},null,null,null,null,null,null,null,"Delivery"]
[null,null,null,null,null,null,null,null,null,null,null,null,null,null,null,null,null,null,null,null,null,null,null,null,null,null,null,"Charge or","Customer",null,null,null,"Energy &","BGS-FP Reconciliation Charge*",{"$f":"$AI$3","v":"Zero Emission Certificate Recovery Charge (ZEC)"},"RGGI\nRecovery\nCharge (RRC)",null,null,null,"Service","Full Service"]
[null,null,null,null,null,null,null,null,null,null,null,null,null,null,null,null,null,null,null,null,null,null,null,null,null,"Rate Category","Description","Price Block","Charge","Transmission*","Distribution","Covid-19 Recovery","Capacity*",null,null,null,"SBC","LRAM","NGC","Charges","Total"]
[null,null,null,null,null,null,null,null,null,null,null,null,null,null,null,null,null,null,null,null,null,null,null,null,null,"JC_GS1G04F","General Service Secondary - 1 Phase","Customer Charge",{"$f":"'GS FP per Tariff'!C41","v":4.3600000000000003},null,null,null,null,null,null,null,null,null,null,{"$f":"AC861","v":4.3600000000000003},{"$f":"AC861","v":4.3600000000000003}]
[null,null,null,null,null,null,null,null,null,null,null,null,null,null,null,null,null,null,null,null,null,null,null,null,null,null,"Traffic Signal Provision","Suppl Traf Sgnl Cust Chrg",{"$f":"'GS FP per Tariff'!C46","v":16.260000000000002},null,null,null,null,null,null,null,null,null,null,{"$f":"AC862","v":16.260000000000002},{"$f":"AC862","v":16.260000000000002}]
[null,null,null,null,null,null,null,null,null,null,null,null,null,null,null,null,null,null,null,null,null,null,null,null,null,null,"Full Service",{"$f":"'GS FP per Tariff'!B61","v":"Traffic Signal kWh Summer"},null,{"$f":"'GS FP per Tariff'!D61","v":1.8019E-2},{"$f":"'GS FP per Tariff'!E61","v":1.4796999999999999E-2},{"$f":"'GS FP per Tariff'!F61","v":3.3599999999999998E-4},{"$f":"'GS FP per Tariff'!G61","v":0.117216},{"$f":"'GS FP per Tariff'!H61","v":3.6999999999999998E-5},{"$f":"'GS FP per Tariff'!I61","v":0},{"$f":"'GS FP per Tariff'!J61","v":4.4350000000000006E-3},{"$f":"'GS FP per Tariff'!K61","v":7.2230000000000003E-3},{"$f":"'GS FP per Tariff'!L61","v":4.6299999999999998E-4},{"$f":"'GS FP per Tariff'!M61","v":-2.1900000000000001E-4},{"$f":"SUM(AE863:AF863,AI863:AM863)","v":2.7035E-2},{"$f":"SUM(AD863:AM863)","v":0.16230700000000001}]
[null,null,null,null,null,null,null,null,null,null,null,null,null,null,null,null,null,null,null,null,null,null,null,null,null,null,"Sales & Use Tax (SUT) Exempt**",{"$f":"'GS FP per Tariff'!B62","v":"Traffic Signal kWh Winter"},null,{"$f":"'GS FP per Tariff'!D62","v":1.8019E-2},{"$f":"'GS FP per Tariff'!E62","v":1.4796999999999999E-2},{"$f":"'GS FP per Tariff'!F62","v":3.3599999999999998E-4},{"$f":"'GS FP per Tariff'!G62","v":0.116883},{"$f":"'GS FP per Tariff'!H62","v":3.6999999999999998E-5},{"$f":"'GS FP per Tariff'!I62","v":0},{"$f":"'GS FP per Tariff'!J62","v":4.4350000000000006E-3},{"$f":"'GS FP per Tariff'!K62","v":7.2230000000000003E-3},{"$f":"'GS FP per Tariff'!L62","v":4.6299999999999998E-4},{"$f":"'GS FP per Tariff'!M62","v":-2.1900000000000001E-4},2.7035E-2,{"$f":"SUM(AD864:AM864)","v":0.16197400000000001}]
[null,null,null,null,null,null,null,null,null,null,null,null,null,null,null,null,null,null,null,null,null,null,null,null,null,null,null,"* Charge applies only to Full Service Customers"]
[null,null,null,null,null,null,null,null,null,null,null,null,null,null,null,null,null,null,null,null,null,null,null,null,null,null,null,"** Applies primarily to Federal Government Accounts.  Refer to Tariff Part III Rider SUT for more details."]
[]
[null,null,null,null,null,null,null,null,null,null,null,null,null,null,null,null,null,null,null,null,null,null,null,null,null,null,null,null,null,null,null,{"$f":"AF$2","v":"Rates Effective with Service Rendered June 1, 2025"},null,null,null,null,null,null,null,"Delivery"]
[null,null,null,null,null,null,null,null,null,null,null,null,null,null,null,null,null,null,null,null,null,null,null,null,null,null,null,"Charge or","Customer",null,null,null,"Energy &","BGS-FP Reconciliation Charge*",{"$f":"$AI$3","v":"Zero Emission Certificate Recovery Charge (ZEC)"},"RGGI\nRecovery\nCharge (RRC)",null,"LRAM",null,"Service","Full Service"]
[null,null,null,null,null,null,null,null,null,null,null,null,null,null,null,null,null,null,null,null,null,null,null,null,null,"Rate Category","Description","Price Block","Charge","Transmission*","Distribution","Covid-19 Recovery","Capacity*",null,null,null,"SBC","TAA","NGC","Total","Total"]
[null,null,null,null,null,null,null,null,null,null,null,null,null,null,null,null,null,null,null,null,null,null,null,null,null,"JC_GS1G05D","General Service Secondary - 1 Phase","Customer Charge",{"$f":"'GS FP per Tariff'!C41","v":4.3600000000000003},null,null,null,null,null,null,null,null,null,null,{"$f":"AC871","v":4.3600000000000003},"N/A"]
[null,null,null,null,null,null,null,null,null,null,null,null,null,null,null,null,null,null,null,null,null,null,null,null,null,null,"Traffic Signal - Unmetered**","Suppl Traf Sgnl Cust Chrg",{"$f":"'GS FP per Tariff'!C46","v":16.260000000000002},null,null,null,null,null,null,null,null,null,null,{"$f":"AC872","v":16.260000000000002},"N/A"]
[null,null,null,null,null,null,null,null,null,null,null,null,null,null,null,null,null,null,null,null,null,null,null,null,null,null,"Delivery Service Only",{"$f":"'GS FP per Tariff'!B61","v":"Traffic Signal kWh Summer"},null,"N/A",{"$f":"'GS FP per Tariff'!E61","v":1.4796999999999999E-2},{"$f":"'GS FP per Tariff'!F61","v":3.3599999999999998E-4},"N/A","N/A",{"$f":"'GS FP per Tariff'!I61","v":0},{"$f":"'GS FP per Tariff'!J61","v":4.4350000000000006E-3},{"$f":"'GS FP per Tariff'!K61","v":7.2230000000000003E-3},{"$f":"'GS FP per Tariff'!L61","v":4.6299999999999998E-4},{"$f":"'GS FP per Tariff'!M61","v":-2.1900000000000001E-4},{"$f":"SUM(AE873:AF873,AI873:AM873)","v":2.7035E-2},"N/A"]
[null,null,null,null,null,null,null,null,null,null,null,null,null,null,null,null,null,null,null,null,null,null,null,null,null,null,"Sales & Use Tax (SUT) Exempt***",{"$f":"'GS FP per Tariff'!B62","v":"Traffic Signal kWh Winter"},null,"N/A",{"$f":"'GS FP per Tariff'!E62","v":1.4796999999999999E-2},{"$f":"'GS FP per Tariff'!F62","v":3.3599999999999998E-4},"N/A","N/A",{"$f":"'GS FP per Tariff'!I62","v":0},{"$f":"'GS FP per Tariff'!J62","v":4.4350000000000006E-3},{"$f":"'GS FP per Tariff'!K62","v":7.2230000000000003E-3},{"$f":"'GS FP per Tariff'!L62","v":4.6299999999999998E-4},{"$f":"'GS FP per Tariff'!M62","v":-2.1900000000000001E-4},2.7035E-2,"N/A"]
[null,null,null,null,null,null,null,null,null,null,null,null,null,null,null,null,null,null,null,null,null,null,null,null,null,null,null,"* Charge applies only to Full Service Customers"]
[null,null,null,null,null,null,null,null,null,null,null,null,null,null,null,null,null,null,null,null,null,null,null,null,null,null,null,"** Unmetered Traffic Signal Service is billed on the GS Traffic Signal Provision.  Unmetered Service is only available for installations where metering and/or reading"]
[null,null,null,null,null,null,null,null,null,null,null,null,null,null,null,null,null,null,null,null,null,null,null,null,null,null,null,"    of the meter would be hazardous or impractical and usage is consistent/predictable and not easily altered by the customer without our knowledge/consent.  "]
[null,null,null,null,null,null,null,null,null,null,null,null,null,null,null,null,null,null,null,null,null,null,null,null,null,null,null,"    Billing is based on an estimated monthly kWh which is recorded in the installation facts."]
[null,null,null,null,null,null,null,null,null,null,null,null,null,null,null,null,null,null,null,null,null,null,null,null,null,null,null,"*** Applies primarily to Federal Government Accounts.  Refer to Tariff Part III Rider SUT for more details."]
[]
[null,null,null,null,null,null,null,null,null,null,null,null,null,null,null,null,null,null,null,null,null,null,null,null,null,null,null,null,null,null,null,{"$f":"AF$2","v":"Rates Effective with Service Rendered June 1, 2025"},null,null,null,null,null,null,null,"Delivery"]
[null,null,null,null,null,null,null,null,null,null,null,null,null,null,null,null,null,null,null,null,null,null,null,null,null,null,null,"Charge or","Customer",null,null,null,"Energy &","BGS-FP Reconciliation Charge*",{"$f":"$AI$3","v":"Zero Emission Certificate Recovery Charge (ZEC)"},"RGGI\nRecovery\nCharge (RRC)",null,null,null,"Service","Full Service"]
[null,null,null,null,null,null,null,null,null,null,null,null,null,null,null,null,null,null,null,null,null,null,null,null,null,"Rate Category","Description","Price Block","Charge","Transmission*","Distribution","Covid-19 Recovery","Capacity*",null,null,null,"SBC","LRAM","NGC","Charges","Total"]
[null,null,null,null,null,null,null,null,null,null,null,null,null,null,null,null,null,null,null,null,null,null,null,null,null,"JC_GS1G05F","General Service Secondary - 1 Phase","Customer Charge",{"$f":"'GS FP per Tariff'!C41","v":4.3600000000000003},null,null,null,null,null,null,null,null,null,null,{"$f":"AC884","v":4.3600000000000003},{"$f":"AC884","v":4.3600000000000003}]
[null,null,null,null,null,null,null,null,null,null,null,null,null,null,null,null,null,null,null,null,null,null,null,null,null,null,"Traffic Signal - Unmetered**","Suppl Traf Sgnl Cust Chrg",{"$f":"'GS FP per Tariff'!C46","v":16.260000000000002},null,null,null,null,null,null,null,null,null,null,{"$f":"AC885","v":16.260000000000002},{"$f":"AC885","v":16.260000000000002}]
[null,null,null,null,null,null,null,null,null,null,null,null,null,null,null,null,null,null,null,null,null,null,null,null,null,null,"Full Service",{"$f":"'GS FP per Tariff'!B61","v":"Traffic Signal kWh Summer"},null,{"$f":"'GS FP per Tariff'!D61","v":1.8019E-2},{"$f":"'GS FP per Tariff'!E61","v":1.4796999999999999E-2},{"$f":"'GS FP per Tariff'!F61","v":3.3599999999999998E-4},{"$f":"'GS FP per Tariff'!G61","v":0.117216},{"$f":"'GS FP per Tariff'!H61","v":3.6999999999999998E-5},{"$f":"'GS FP per Tariff'!I61","v":0},{"$f":"'GS FP per Tariff'!J61","v":4.4350000000000006E-3},{"$f":"'GS FP per Tariff'!K61","v":7.2230000000000003E-3},{"$f":"'GS FP per Tariff'!L61","v":4.6299999999999998E-4},{"$f":"'GS FP per Tariff'!M61","v":-2.1900000000000001E-4},{"$f":"SUM(AE886:AF886,AI886:AM886)","v":2.7035E-2},{"$f":"SUM(AD886:AM886)","v":0.16230700000000001}]
[null,null,null,null,null,null,null,null,null,null,null,null,null,null,null,null,null,null,null,null,null,null,null,null,null,null,"Sales & Use Tax (SUT) Exempt***",{"$f":"'GS FP per Tariff'!B62","v":"Traffic Signal kWh Winter"},null,{"$f":"'GS FP per Tariff'!D62","v":1.8019E-2},{"$f":"'GS FP per Tariff'!E62","v":1.4796999999999999E-2},{"$f":"'GS FP per Tariff'!F62","v":3.3599999999999998E-4},{"$f":"'GS FP per Tariff'!G62","v":0.116883},{"$f":"'GS FP per Tariff'!H62","v":3.6999999999999998E-5},{"$f":"'GS FP per Tariff'!I62","v":0},{"$f":"'GS FP per Tariff'!J62","v":4.4350000000000006E-3},{"$f":"'GS FP per Tariff'!K62","v":7.2230000000000003E-3},{"$f":"'GS FP per Tariff'!L62","v":4.6299999999999998E-4},{"$f":"'GS FP per Tariff'!M62","v":-2.1900000000000001E-4},2.7035E-2,{"$f":"SUM(AD887:AM887)","v":0.16197400000000001}]
[null,null,null,null,null,null,null,null,null,null,null,null,null,null,null,null,null,null,null,null,null,null,null,null,null,null,null,"* Charge applies only to Full Service Customers"]
[null,null,null,null,null,null,null,null,null,null,null,null,null,null,null,null,null,null,null,null,null,null,null,null,null,null,null,"** Unmetered Traffic Signal Service is billed on the GS Traffic Signal Provision.  Unmetered Service is only available for installations where metering and/or reading"]
[null,null,null,null,null,null,null,null,null,null,null,null,null,null,null,null,null,null,null,null,null,null,null,null,null,null,null,"    of the meter would be hazardous or impractical and usage is consistent/predictable and not easily altered by the customer without our knowledge/consent.  "]
[null,null,null,null,null,null,null,null,null,null,null,null,null,null,null,null,null,null,null,null,null,null,null,null,null,null,null,"    Billing is based on an estimated monthly kWh which is recorded in the installation facts."]
[null,null,null,null,null,null,null,null,null,null,null,null,null,null,null,null,null,null,null,null,null,null,null,null,null,null,null,"*** Applies primarily to Federal Government Accounts.  Refer to Tariff Part III Rider SUT for more details."]
[]
[null,null,null,null,null,null,null,null,null,null,null,null,null,null,null,null,null,null,null,null,null,null,null,null,null,null,null,null,null,null,null,{"$f":"AF$2","v":"Rates Effective with Service Rendered June 1, 2025"},null,null,null,null,null,null,null,"Delivery"]
[null,null,null,null,null,null,null,null,null,null,null,null,null,null,null,null,null,null,null,null,null,null,null,null,null,null,null,"Charge or","Customer",null,null,null,"Energy &","BGS-FP Reconciliation Charge*",{"$f":"$AI$3","v":"Zero Emission Certificate Recovery Charge (ZEC)"},"RGGI\nRecovery\nCharge (RRC)",null,null,null,"Service","Full Service"]
[null,null,null,null,null,null,null,null,null,null,null,null,null,null,null,null,null,null,null,null,null,null,null,null,null,"Rate Category","Description","Price Block","Charge","Transmission*","Distribution","Covid-19 Recovery","Capacity*",null,null,null,"SBC","LRAM","NGC","Total","Total"]
[null,null,null,null,null,null,null,null,null,null,null,null,null,null,null,null,null,null,null,null,null,null,null,null,null,"JC_GS1G06D","General Service Secondary - 1 Phase","Customer Charge",{"$f":"'GS FP per Tariff'!C41","v":4.3600000000000003},null,null,null,null,null,null,null,null,null,null,{"$f":"AC897","v":4.3600000000000003},"N/A"]
[null,null,null,null,null,null,null,null,null,null,null,null,null,null,null,null,null,null,null,null,null,null,null,null,null,null,"Controlled Water Heating Provision **","Suppl CTWH Cust Charge",{"$f":"'GS FP per Tariff'!C44","v":2.09},null,null,null,null,null,null,null,null,null,null,{"$f":"AC898","v":2.09},"N/A"]
[null,null,null,null,null,null,null,null,null,null,null,null,null,null,null,null,null,null,null,null,null,null,null,null,null,null,"Delivery Service Only",{"$f":"'GS FP per Tariff'!B48","v":"Over 10  KW Summer"},null,null,{"$f":"'GS FP per Tariff'!E48","v":8.44},null,null,null,null,null,null,null,null,{"$f":"AE899","v":8.44},"N/A"]
[null,null,null,null,null,null,null,null,null,null,null,null,null,null,null,null,null,null,null,null,null,null,null,null,null,null,"Sales & Use Tax (SUT) Exempt***",{"$f":"'GS FP per Tariff'!B49","v":"Over 10  KW Winter"},null,null,{"$f":"'GS FP per Tariff'!E49","v":7.86},null,null,null,null,null,null,null,null,{"$f":"AE900","v":7.86},"N/A"]
[null,null,null,null,null,null,null,null,null,null,null,null,null,null,null,null,null,null,null,null,null,null,null,null,null,null,null,{"$f":"'GS FP per Tariff'!B51","v":"Minimum Bill-Over 10 KW "},null,null,{"$f":"'GS FP per Tariff'!E51","v":3.83},null,null,null,null,null,null,null,null,{"$f":"AE901","v":3.83},"N/A"]
[null,null,null,null,null,null,null,null,null,null,null,null,null,null,null,null,null,null,null,null,null,null,null,null,null,null,null,{"$f":"'GS FP per Tariff'!B53","v":"First 1,000 kWh Summer"},null,"N/A",{"$f":"'GS FP per Tariff'!E53","v":7.0610000000000006E-2},{"$f":"'GS FP per Tariff'!F53","v":3.3599999999999998E-4},"N/A","N/A",{"$f":"'GS FP per Tariff'!I53","v":0},{"$f":"'GS FP per Tariff'!J53","v":4.4350000000000006E-3},{"$f":"'GS FP per Tariff'!K53","v":7.2230000000000003E-3},{"$f":"'GS FP per Tariff'!L53","v":4.6299999999999998E-4},{"$f":"'GS FP per Tariff'!M53","v":-2.1900000000000001E-4},{"$f":"SUM(AE902:AF902,AI902:AM902)","v":8.2848000000000019E-2},"N/A"]
[null,null,null,null,null,null,null,null,null,null,null,null,null,null,null,null,null,null,null,null,null,null,null,null,null,null,null,{"$f":"'GS FP per Tariff'!B54","v":"First 1,000 kWh Winter"},null,"N/A",{"$f":"'GS FP per Tariff'!E54","v":6.5334000000000003E-2},{"$f":"'GS FP per Tariff'!F54","v":3.3599999999999998E-4},"N/A","N/A",{"$f":"'GS FP per Tariff'!I54","v":0},{"$f":"'GS FP per Tariff'!J54","v":4.4350000000000006E-3},{"$f":"'GS FP per Tariff'!K54","v":7.2230000000000003E-3},{"$f":"'GS FP per Tariff'!L54","v":4.6299999999999998E-4},{"$f":"'GS FP per Tariff'!M54","v":-2.1900000000000001E-4},7.7572000000000016E-2,"N/A"]
[null,null,null,null,null,null,null,null,null,null,null,null,null,null,null,null,null,null,null,null,null,null,null,null,null,null,null,{"$f":"'GS FP per Tariff'!B55","v":"Over 1,000 kWh Summer"},null,"N/A",{"$f":"'GS FP per Tariff'!E55","v":5.6470000000000001E-3},{"$f":"'GS FP per Tariff'!F55","v":3.3599999999999998E-4},"N/A","N/A",{"$f":"'GS FP per Tariff'!I55","v":0},{"$f":"'GS FP per Tariff'!J55","v":4.4350000000000006E-3},{"$f":"'GS FP per Tariff'!K55","v":7.2230000000000003E-3},{"$f":"'GS FP per Tariff'!L55","v":4.6299999999999998E-4},{"$f":"'GS FP per Tariff'!M55","v":-2.1900000000000001E-4},1.7885000000000002E-2,"N/A"]
[null,null,null,null,null,null,null,null,null,null,null,null,null,null,null,null,null,null,null,null,null,null,null,null,null,null,null,{"$f":"'GS FP per Tariff'!B56","v":"Over 1,000 kWh Winter"},null,"N/A",{"$f":"'GS FP per Tariff'!E56","v":5.6470000000000001E-3},{"$f":"'GS FP per Tariff'!F56","v":3.3599999999999998E-4},"N/A","N/A",{"$f":"'GS FP per Tariff'!I56","v":0},{"$f":"'GS FP per Tariff'!J56","v":4.4350000000000006E-3},{"$f":"'GS FP per Tariff'!K56","v":7.2230000000000003E-3},{"$f":"'GS FP per Tariff'!L56","v":4.6299999999999998E-4},{"$f":"'GS FP per Tariff'!M56","v":-2.1900000000000001E-4},1.7885000000000002E-2,"N/A"]
[null,null,null,null,null,null,null,null,null,null,null,null,null,null,null,null,null,null,null,null,null,null,null,null,null,null,null,{"$f":"'GS FP per Tariff'!B59","v":"CTWH-kWh Summer"},null,"N/A",{"$f":"'GS FP per Tariff'!E59","v":2.7258000000000001E-2},{"$f":"'GS FP per Tariff'!F59","v":3.3599999999999998E-4},"N/A","N/A",{"$f":"'GS FP per Tariff'!I59","v":0},{"$f":"'GS FP per Tariff'!J59","v":4.4350000000000006E-3},{"$f":"'GS FP per Tariff'!K59","v":7.2230000000000003E-3},{"$f":"'GS FP per Tariff'!L59","v":4.6299999999999998E-4},{"$f":"'GS FP per Tariff'!M59","v":-2.1900000000000001E-4},3.9496000000000003E-2,"N/A"]
[null,null,null,null,null,null,null,null,null,null,null,null,null,null,null,null,null,null,null,null,null,null,null,null,null,null,null,{"$f":"'GS FP per Tariff'!B60","v":"CTWH-kWh Winter"},null,"N/A",{"$f":"'GS FP per Tariff'!E60","v":2.7258000000000001E-2},{"$f":"'GS FP per Tariff'!F60","v":3.3599999999999998E-4},"N/A","N/A",{"$f":"'GS FP per Tariff'!I60","v":0},{"$f":"'GS FP per Tariff'!J60","v":4.4350000000000006E-3},{"$f":"'GS FP per Tariff'!K60","v":7.2230000000000003E-3},{"$f":"'GS FP per Tariff'!L60","v":4.6299999999999998E-4},{"$f":"'GS FP per Tariff'!M60","v":-2.1900000000000001E-4},3.9496000000000003E-2,"N/A"]
[null,null,null,null,null,null,null,null,null,null,null,null,null,null,null,null,null,null,null,null,null,null,null,null,null,null,null,"* Charge applies only to Full Service Customers",null,null,"** The Controlled Water Heating (CTWH) usage is measured only on the water heating meter."]
[null,null,null,null,null,null,null,null,null,null,null,null,null,null,null,null,null,null,null,null,null,null,null,null,null,null,null,"*** Applies primarily to Federal Government Accounts.  Refer to Tariff Part III Rider SUT for more details."]
[]
[null,null,null,null,null,null,null,null,null,null,null,null,null,null,null,null,null,null,null,null,null,null,null,null,null,null,null,null,null,null,null,{"$f":"AF$2","v":"Rates Effective with Service Rendered June 1, 2025"},null,null,null,null,null,null,null,"Delivery"]
[null,null,null,null,null,null,null,null,null,null,null,null,null,null,null,null,null,null,null,null,null,null,null,null,null,null,null,"Charge or","Customer",null,null,null,"Energy &","BGS-FP Reconciliation Charge*",{"$f":"$AI$3","v":"Zero Emission Certificate Recovery Charge (ZEC)"},"RGGI\nRecovery\nCharge (RRC)",null,null,null,"Service","Full Service"]
[null,null,null,null,null,null,null,null,null,null,null,null,null,null,null,null,null,null,null,null,null,null,null,null,null,"Rate Category","Description","Price Block","Charge","Transmission*","Distribution","Covid-19 Recovery","Capacity*",null,null,null,"SBC","LRAM","NGC","Charges","Total"]
[null,null,null,null,null,null,null,null,null,null,null,null,null,null,null,null,null,null,null,null,null,null,null,null,null,"JC_GS1G06F","General Service Secondary - 1 Phase","Customer Charge",{"$f":"'GS FP per Tariff'!C41","v":4.3600000000000003},null,null,null,null,null,null,null,null,null,null,{"$f":"AC914","v":4.3600000000000003},{"$f":"AC914","v":4.3600000000000003}]
[null,null,null,null,null,null,null,null,null,null,null,null,null,null,null,null,null,null,null,null,null,null,null,null,null,null,"Controlled Water Heating Provision **","Suppl CTWH Cust Charge",{"$f":"'GS FP per Tariff'!C44","v":2.09},null,null,null,null,null,null,null,null,null,null,{"$f":"AC915","v":2.09},{"$f":"AC915","v":2.09}]
[null,null,null,null,null,null,null,null,null,null,null,null,null,null,null,null,null,null,null,null,null,null,null,null,null,null,"Full Service",{"$f":"'GS FP per Tariff'!B48","v":"Over 10  KW Summer"},null,null,{"$f":"'GS FP per Tariff'!E48","v":8.44},null,null,null,null,null,null,null,null,{"$f":"AE916","v":8.44},{"$f":"AE916","v":8.44}]
[null,null,null,null,null,null,null,null,null,null,null,null,null,null,null,null,null,null,null,null,null,null,null,null,null,null,"Sales & Use Tax (SUT) Exempt***",{"$f":"'GS FP per Tariff'!B49","v":"Over 10  KW Winter"},null,null,{"$f":"'GS FP per Tariff'!E49","v":7.86},null,null,null,null,null,null,null,null,{"$f":"AE917","v":7.86},{"$f":"AE917","v":7.86}]
[null,null,null,null,null,null,null,null,null,null,null,null,null,null,null,null,null,null,null,null,null,null,null,null,null,null,null,{"$f":"'GS FP per Tariff'!B51","v":"Minimum Bill-Over 10 KW "},null,null,{"$f":"'GS FP per Tariff'!E51","v":3.83},null,null,null,null,null,null,null,null,{"$f":"AE918","v":3.83},{"$f":"AE918","v":3.83}]
[null,null,null,null,null,null,null,null,null,null,null,null,null,null,null,null,null,null,null,null,null,null,null,null,null,null,null,{"$f":"'GS FP per Tariff'!B53","v":"First 1,000 kWh Summer"},null,{"$f":"'GS FP per Tariff'!D53","v":1.8019E-2},{"$f":"'GS FP per Tariff'!E53","v":7.0610000000000006E-2},{"$f":"'GS FP per Tariff'!F53","v":3.3599999999999998E-4},{"$f":"'GS FP per Tariff'!G53","v":0.117216},{"$f":"'GS FP per Tariff'!H53","v":3.6999999999999998E-5},{"$f":"'GS FP per Tariff'!I53","v":0},{"$f":"'GS FP per Tariff'!J53","v":4.4350000000000006E-3},{"$f":"'GS FP per Tariff'!K53","v":7.2230000000000003E-3},{"$f":"'GS FP per Tariff'!L53","v":4.6299999999999998E-4},{"$f":"'GS FP per Tariff'!M53","v":-2.1900000000000001E-4},{"$f":"SUM(AE919:AF919,AI919:AM919)","v":8.2848000000000019E-2},{"$f":"'GS FP per Tariff'!N53","v":0.21812000000000001}]
[null,null,null,null,null,null,null,null,null,null,null,null,null,null,null,null,null,null,null,null,null,null,null,null,null,null,null,{"$f":"'GS FP per Tariff'!B54","v":"First 1,000 kWh Winter"},null,{"$f":"'GS FP per Tariff'!D54","v":1.8019E-2},{"$f":"'GS FP per Tariff'!E54","v":6.5334000000000003E-2},{"$f":"'GS FP per Tariff'!F54","v":3.3599999999999998E-4},{"$f":"'GS FP per Tariff'!G54","v":0.116883},{"$f":"'GS FP per Tariff'!H54","v":3.6999999999999998E-5},{"$f":"'GS FP per Tariff'!I54","v":0},{"$f":"'GS FP per Tariff'!J54","v":4.4350000000000006E-3},{"$f":"'GS FP per Tariff'!K54","v":7.2230000000000003E-3},{"$f":"'GS FP per Tariff'!L54","v":4.6299999999999998E-4},{"$f":"'GS FP per Tariff'!M54","v":-2.1900000000000001E-4},7.7572000000000016E-2,{"$f":"'GS FP per Tariff'!N54","v":0.21251100000000003}]
[null,null,null,null,null,null,null,null,null,null,null,null,null,null,null,null,null,null,null,null,null,null,null,null,null,null,null,{"$f":"'GS FP per Tariff'!B55","v":"Over 1,000 kWh Summer"},null,{"$f":"'GS FP per Tariff'!D55","v":1.8019E-2},{"$f":"'GS FP per Tariff'!E55","v":5.6470000000000001E-3},{"$f":"'GS FP per Tariff'!F55","v":3.3599999999999998E-4},{"$f":"'GS FP per Tariff'!G55","v":0.117216},{"$f":"'GS FP per Tariff'!H55","v":3.6999999999999998E-5},{"$f":"'GS FP per Tariff'!I55","v":0},{"$f":"'GS FP per Tariff'!J55","v":4.4350000000000006E-3},{"$f":"'GS FP per Tariff'!K55","v":7.2230000000000003E-3},{"$f":"'GS FP per Tariff'!L55","v":4.6299999999999998E-4},{"$f":"'GS FP per Tariff'!M55","v":-2.1900000000000001E-4},1.7885000000000002E-2,{"$f":"'GS FP per Tariff'!N55","v":0.15315700000000002}]
[null,null,null,null,null,null,null,null,null,null,null,null,null,null,null,null,null,null,null,null,null,null,null,null,null,null,null,{"$f":"'GS FP per Tariff'!B56","v":"Over 1,000 kWh Winter"},null,{"$f":"'GS FP per Tariff'!D56","v":1.8019E-2},{"$f":"'GS FP per Tariff'!E56","v":5.6470000000000001E-3},{"$f":"'GS FP per Tariff'!F56","v":3.3599999999999998E-4},{"$f":"'GS FP per Tariff'!G56","v":0.116883},{"$f":"'GS FP per Tariff'!H56","v":3.6999999999999998E-5},{"$f":"'GS FP per Tariff'!I56","v":0},{"$f":"'GS FP per Tariff'!J56","v":4.4350000000000006E-3},{"$f":"'GS FP per Tariff'!K56","v":7.2230000000000003E-3},{"$f":"'GS FP per Tariff'!L56","v":4.6299999999999998E-4},{"$f":"'GS FP per Tariff'!M56","v":-2.1900000000000001E-4},1.7885000000000002E-2,{"$f":"'GS FP per Tariff'!N56","v":0.15282400000000002}]
[null,null,null,null,null,null,null,null,null,null,null,null,null,null,null,null,null,null,null,null,null,null,null,null,null,null,null,{"$f":"'GS FP per Tariff'!B59","v":"CTWH-kWh Summer"},null,{"$f":"'GS FP per Tariff'!D59","v":1.8019E-2},{"$f":"'GS FP per Tariff'!E59","v":2.7258000000000001E-2},{"$f":"'GS FP per Tariff'!F59","v":3.3599999999999998E-4},{"$f":"'GS FP per Tariff'!G59","v":0.120435},{"$f":"'GS FP per Tariff'!H59","v":3.6999999999999998E-5},{"$f":"'GS FP per Tariff'!I59","v":0},{"$f":"'GS FP per Tariff'!J59","v":4.4350000000000006E-3},{"$f":"'GS FP per Tariff'!K59","v":7.2230000000000003E-3},{"$f":"'GS FP per Tariff'!L59","v":4.6299999999999998E-4},{"$f":"'GS FP per Tariff'!M59","v":-2.1900000000000001E-4},3.9496000000000003E-2,{"$f":"'GS FP per Tariff'!N59","v":0.17798700000000001}]
[null,null,null,null,null,null,null,null,null,null,null,null,null,null,null,null,null,null,null,null,null,null,null,null,null,null,null,{"$f":"'GS FP per Tariff'!B60","v":"CTWH-kWh Winter"},null,{"$f":"'GS FP per Tariff'!D60","v":1.8019E-2},{"$f":"'GS FP per Tariff'!E60","v":2.7258000000000001E-2},{"$f":"'GS FP per Tariff'!F60","v":3.3599999999999998E-4},{"$f":"'GS FP per Tariff'!G60","v":0.11988},{"$f":"'GS FP per Tariff'!H60","v":3.6999999999999998E-5},{"$f":"'GS FP per Tariff'!I60","v":0},{"$f":"'GS FP per Tariff'!J60","v":4.4350000000000006E-3},{"$f":"'GS FP per Tariff'!K60","v":7.2230000000000003E-3},{"$f":"'GS FP per Tariff'!L60","v":4.6299999999999998E-4},{"$f":"'GS FP per Tariff'!M60","v":-2.1900000000000001E-4},3.9496000000000003E-2,{"$f":"'GS FP per Tariff'!N60","v":0.17743200000000001}]
[null,null,null,null,null,null,null,null,null,null,null,null,null,null,null,null,null,null,null,null,null,null,null,null,null,null,null,"* Charge applies only to Full Service Customers",null,null,"** The Controlled Water Heating (CTWH) usage is measured only on the water heating meter."]
[null,null,null,null,null,null,null,null,null,null,null,null,null,null,null,null,null,null,null,null,null,null,null,null,null,null,null,"*** Applies primarily to Federal Government Accounts.  Refer to Tariff Part III Rider SUT for more details."]

{"sheet":"SBC TBC and MTC Tax","index":2,"n_rows":77,"n_cols":8,"rows_kept":77,"cut":false,"hidden":false,"merged":[[26,0,26,4],[6,24,6,30],[7,2,7,4],[8,24,8,30],[11,0,11,1],[11,2,11,4],[19,0,19,4],[13,0,13,4],[6,38,6,44],[8,38,8,44],[6,0,6,4],[8,0,8,4],[0,0,0,4],[1,1,1,3],[2,1,2,3]]}
[{"$f":"'Disclaimer and Definitions'!A1","v":"Visual_Rate_Inventory  June 1, 2025"}]
[null,{"$f":"NOW()","v":"2025-05-30T16:18:48.150"}]
[null,{"$f":"NOW()","v":45807.679723958332}]
[]
[]
[]
["Jersey Central Power & Light"]
[null,null," "]
[{"$f":"'RT per Tariff'!C3","v":"Rates Effective with Service Rendered June 1, 2025"}]
[]
[]
[]
[]
["Revised Oyster Creek Securitization TBC and MTC Tax Charges Effective January 1, 2018",null,null,null,null,null," "]
[]
[null,null,"Without SUT","With SUT ",null,null,"SUT EFF 1/1/2018",1.0662499999999999]
[null,"OC TBC",0,{"$f":"ROUND(C17*SUT_6625,6)","v":0}]
[null,"OC MTC Tax",0,{"$f":"ROUND(C18*SUT_6625,6)","v":0}]
[]
["Revised Defered Balance Securitization - TBC and MTC Tax Charges Effective May 11, 2021"]
[]
[null,null,"Without SUT",{"$f":"D16","v":"With SUT "}]
[null,"DB TBC",0,{"$f":"ROUND(C23*SUT_6625,6)","v":0}]
[null,"DB MTC Tax",0,{"$f":"ROUND(C24*SUT_6625,6)","v":0}]
[]
[null,null,null,null," "]
["Revised SBC and SBC Sub-components Effective October 1, 2024"]
[]
[null,null,"Without SUT",{"$f":"D16","v":"With SUT "}]
[null,"RAC",8.0599999999999997E-4,{"$f":"ROUND(C30*SUT_6625,6)","v":8.5899999999999995E-4}]
[null,"USF",2.075E-3,2.212E-3]
[null,"Lifeline",7.1000000000000002E-4,7.5699999999999997E-4]
[null,"CED",0,0]
[null,"DSF",3.2799999999999999E-3,3.4970000000000001E-3]
[null,"UNC",3.5199999999999999E-4,3.7500000000000001E-4,null," "]
[null,"NDC",0,0]
[null,"Total SBC",{"$f":"SUM(C30:C36)","v":7.2230000000000003E-3},{"$f":"SUM(D30:D36)","v":7.7000000000000002E-3}]
[null,null,null,null,null,null,{"$f":"C31+C32","v":2.7850000000000001E-3},{"$f":"D31+D32","v":2.9689999999999999E-3}]
[]
[" "]
[" "," "]
[]
["Note: All Charges listed except for Total SBC are non-posting relevant charges.  The customer does not "]
["see these charges on their bill.  These charges are calculated only for internal use to allocate revenue."]
[]
["Effective Date","Effective 1/1/2025"]
[null,"RRC","RRC"]
[null,"without SUT","with SUT"]
["SREC",6.9999999999999999E-6,{"$f":"ROUND(B49*SUT_6625,6)","v":6.9999999999999999E-6}]
["TREC",1.9650000000000002E-3,2.0950000000000001E-3]
["SUSI",2.5399999999999999E-4,2.7099999999999997E-4]
["Community Solar",0,0]
["EEC",9.2900000000000003E-4,9.9099999999999991E-4]
["EEC2",1.2800000000000001E-3,1.3649999999999999E-3]
["Total",{"$f":"SUM(B49:B54)","v":4.4350000000000006E-3},4.7289999999999997E-3]
[]
[null,"LRAM","LRAM"]
["RS",5.1199999999999998E-4,{"$f":"ROUND(B58*SUT_6625,6)","v":5.4600000000000004E-4}]
["RT/RGT",5.44E-4,5.8E-4]
["GS",4.6299999999999998E-4,4.9399999999999997E-4]
["GST",0.17,{"$f":"ROUND(B61*SUT_6625,2)","v":0.18}]
["GP",0.11,{"$f":"ROUND(B62*SUT_6625,2)","v":0.12}]
["GT",7.0000000000000007E-2,{"$f":"ROUND(B63*SUT_6625,2)","v":7.0000000000000007E-2}]
["Lighting(OL, SVL, ISL, MVL, LED)",2.0609999999999999E-3,{"$f":"ROUND(B64*SUT_6625,6)","v":2.1979999999999999E-3}]
[]
[]
[]
[]
[null,null," "]
[]
[]
[]
[]
[]
[]
[]
[" "]

{"sheet":"TEC","index":3,"n_rows":7,"n_cols":21,"rows_kept":7,"cut":false,"hidden":true,"merged":[[1,1,1,18]]}
[]
[null,"Effective  - 1/1/2017"]
["BGS by Voltage Level","TrailCo4-TEC Surcharge ($/kWh)","TrailCo4-TEC Surcharge w/ SUT($/kWh)","PATH3-TEC Surcharge ($/kWh)","PATH3-TEC Surcharge w/ SUT($/kWh)","VEPCO3-TEC Surcharge ($/kWh)","VEPCO3-TEC Surcharge w/ SUT($/kWh)","PSEG2-TEC Surcharge ($/kWh)","PSEG2-TEC Surcharge w/ SUT($/kWh)","PEPCO2-TEC Surcharge ($/kWh)","PEPCO2-TEC Surcharge w/ SUT($/kWh)","ACE2-TEC Surcharge ($/kWh)","ACE2-TEC Surcharge w/ SUT($/kWh)","Delmarva2-TEC Surcharge ($/kWh)","Delmarva2-TEC Surcharge w/ SUT($/kWh)","AEP2-TEC Surcharge ($/kWh)","AEP2-TEC Surcharge w/ SUT($/kWh)","PPL2-TEC Surcharge ($/kWh)","PPL2-TEC Surcharge w/ SUT($/kWh)","Total","Total W/SUT"]
["Secondary (excluding lighting)",4.37E-4,{"$f":"ROUND(B4*SUT_6625,6)","v":4.66E-4},5.3999999999999998E-5,{"$f":"ROUND(D4*SUT_6625,6)","v":5.8E-5},3.0200000000000002E-4,{"$f":"ROUND(F4*SUT_6625,6)","v":3.2200000000000002E-4},1.8879999999999999E-3,{"$f":"ROUND(H4*SUT_6625,6)","v":2.013E-3},1.4E-5,{"$f":"ROUND(J4*SUT_6625,6)","v":1.5E-5},8.0000000000000007E-5,{"$f":"ROUND(L4*SUT_6625,6)","v":8.5000000000000006E-5},9.9999999999999995E-7,{"$f":"ROUND(N4*SUT_6625,6)","v":9.9999999999999995E-7},9.7999999999999997E-5,{"$f":"ROUND(P4*SUT_6625,6)","v":1.0399999999999999E-4},1.9900000000000001E-4,{"$f":"ROUND(R4*SUT_6625,6)","v":2.12E-4},{"$f":"B4+D4+F4+H4+J4+L4+N4+P4+R4","v":3.0730000000000006E-3},{"$f":"C4+E4+G4+I4+K4+M4+O4+Q4+S4","v":3.2759999999999998E-3}]
["Primary",2.9100000000000003E-4,{"$f":"ROUND(B5*SUT_6625,6)","v":3.1E-4},3.6999999999999998E-5,{"$f":"ROUND(D5*SUT_6625,6)","v":3.8999999999999999E-5},2.0900000000000001E-4,{"$f":"ROUND(F5*SUT_6625,6)","v":2.23E-4},1.3060000000000001E-3,{"$f":"ROUND(H5*SUT_6625,6)","v":1.3929999999999999E-3},9.0000000000000002E-6,{"$f":"ROUND(J5*SUT_6625,6)","v":1.0000000000000001E-5},5.3000000000000001E-5,{"$f":"ROUND(L5*SUT_6625,6)","v":5.7000000000000003E-5},9.9999999999999995E-7,{"$f":"ROUND(N5*SUT_6625,6)","v":9.9999999999999995E-7},6.4999999999999994E-5,{"$f":"ROUND(P5*SUT_6625,6)","v":6.8999999999999997E-5},1.3300000000000001E-4,{"$f":"ROUND(R5*SUT_6625,6)","v":1.4200000000000001E-4},{"$f":"B5+D5+F5+H5+J5+L5+N5+P5+R5","v":2.104E-3},2.2440000000000003E-3]
["Transmission @ 34.5 kV",2.1000000000000001E-4,{"$f":"ROUND(B6*SUT_6625,6)","v":2.24E-4},3.4E-5,{"$f":"ROUND(D6*SUT_6625,6)","v":3.6000000000000001E-5},1.8900000000000001E-4,{"$f":"ROUND(F6*SUT_6625,6)","v":2.02E-4},1.1800000000000001E-3,{"$f":"ROUND(H6*SUT_6625,6)","v":1.258E-3},6.9999999999999999E-6,{"$f":"ROUND(J6*SUT_6625,6)","v":6.9999999999999999E-6},3.8000000000000002E-5,{"$f":"ROUND(L6*SUT_6625,6)","v":4.1E-5},9.9999999999999995E-7,{"$f":"ROUND(N6*SUT_6625,6)","v":9.9999999999999995E-7},4.6999999999999997E-5,{"$f":"ROUND(P6*SUT_6625,6)","v":5.0000000000000002E-5},9.6000000000000002E-5,{"$f":"ROUND(R6*SUT_6625,6)","v":1.02E-4},1.802E-3,1.921E-3]
["Transmission @ 230 kV",9.7999999999999997E-5,{"$f":"ROUND(B7*SUT_6625,6)","v":1.0399999999999999E-4},2.0999999999999999E-5,{"$f":"ROUND(D7*SUT_6625,6)","v":2.1999999999999999E-5},1.17E-4,{"$f":"ROUND(F7*SUT_6625,6)","v":1.25E-4},7.3200000000000001E-4,{"$f":"ROUND(H7*SUT_6625,6)","v":7.7999999999999999E-4},3.0000000000000001E-6,{"$f":"ROUND(J7*SUT_6625,6)","v":3.0000000000000001E-6},1.8E-5,{"$f":"ROUND(L7*SUT_6625,6)","v":1.9000000000000001E-5},0,{"$f":"ROUND(N7*SUT_6625,6)","v":0},2.1999999999999999E-5,{"$f":"ROUND(P7*SUT_6625,6)","v":2.3E-5},4.5000000000000003E-5,{"$f":"ROUND(R7*SUT_6625,6)","v":4.8000000000000001E-5},1.0559999999999999E-3,1.124E-3]

{"sheet":"RT per Tariff","index":4,"n_rows":67,"n_cols":14,"rows_kept":67,"cut":false,"hidden":false,"merged":[[21,2,21,13],[73,31,73,39],[75,31,75,39],[71,31,71,39],[21,17,21,26],[72,31,72,39],[32,0,32,13],[19,2,19,11],[5,2,5,11],[3,2,3,11],[7,2,7,11],[9,2,9,13],[19,17,19,23],[0,31,0,37],[2,31,2,37],[4,31,4,37],[16,18,16,24],[0,0,0,1],[0,45,0,51],[2,45,2,51],[4,45,4,51],[2,2,2,11],[4,2,4,11],[0,2,0,11],[1,2,1,11]]}
[{"$f":"'Disclaimer and Definitions'!A1","v":"Visual_Rate_Inventory  June 1, 2025"},null,"Jersey Central Power & Light"]
[null,{"$f":"NOW()","v":"2025-05-30T16:18:48.150"}," "]
[null,{"$f":"NOW()","v":45807.679723958332},"Rates Effective with Service Rendered June 1, 2025"]
[null,"RT per Tariff"]
[null,null,"RT (Residential Time-of-Day) Service Classification"]
[null,null,"Unbundled Rate Components"]
[]
[null,null,"Charges Applicable to Federal Government (SUT Exempt) Accounts "]
[]
[null,null,"Unbundled Components Including CBT - 6/1/2025 Rates Applicable to SUT Exempt Accounts"]
[null,null,"Customer Charge","Transmission* \n{1}","Distribution","Covid Recovery Charge","Energy & Capacity *","BGS-RSCP Reconciliation Charge*","Zero Emission Certificate Recovery Charge (ZEC)","RGGI Recovery Charge (RRC)","Societal Benefit Charge (SBC)","LRAM","Non-utility Generation Charge (NGC)","Total"]
["1.","Standard Customer Charges",7.57,"N/A","N/A","N/A","N/A","N/A","N/A","N/A","N/A","N/A","N/A","N/A"]
["2.","Solar Water Heating Credit",-1.9,"N/A","N/A","N/A","N/A","N/A","N/A","N/A","N/A","N/A","N/A","N/A"]
[]
["3.","On-Peak Summer kWh","N/A",{"$f":"0.013953+0+0.004066","v":1.8019E-2},5.6299000000000002E-2,3.3599999999999998E-4,0.16550100000000001,3.6999999999999998E-5,0,{"$f":"'SBC TBC and MTC Tax'!B55","v":4.4350000000000006E-3},{"$f":"'SBC TBC and MTC Tax'!C37","v":7.2230000000000003E-3},{"$f":"'SBC TBC and MTC Tax'!B59","v":5.44E-4},-2.1900000000000001E-4,{"$f":"SUM(D15:M15)","v":0.25217499999999998}]
["4.","On-Peak Winter kWh","N/A",{"$f":"D$15","v":1.8019E-2},4.1354000000000002E-2,{"$f":"F$15","v":3.3599999999999998E-4},0.16505700000000001,{"$f":"H15","v":3.6999999999999998E-5},{"$f":"I15","v":0},{"$f":"J15","v":4.4350000000000006E-3},{"$f":"'RT per Tariff'!$K$15","v":7.2230000000000003E-3},{"$f":"L15","v":5.44E-4},{"$f":"M$15","v":-2.1900000000000001E-4},{"$f":"SUM(D16:M16)","v":0.23678600000000002}]
["5.","Off-Peak Summer kWh","N/A",{"$f":"D$15","v":1.8019E-2},2.6298999999999999E-2,{"$f":"F$15","v":3.3599999999999998E-4},8.6691000000000004E-2,{"$f":"H15","v":3.6999999999999998E-5},{"$f":"I16","v":0},{"$f":"J$15","v":4.4350000000000006E-3},{"$f":"'RT per Tariff'!$K$15","v":7.2230000000000003E-3},{"$f":"L$15","v":5.44E-4},{"$f":"M$15","v":-2.1900000000000001E-4},{"$f":"SUM(D17:M17)","v":0.14336499999999999}]
["6.","Off-Peak Winter kWh","N/A",{"$f":"D$15","v":1.8019E-2},2.6298999999999999E-2,{"$f":"F$15","v":3.3599999999999998E-4},9.3795000000000003E-2,{"$f":"H15","v":3.6999999999999998E-5},{"$f":"I17","v":0},{"$f":"J16","v":4.4350000000000006E-3},{"$f":"'RT per Tariff'!$K$15","v":7.2230000000000003E-3},{"$f":"L16","v":5.44E-4},-2.1900000000000001E-4,{"$f":"SUM(D18:M18)","v":0.15046899999999999}]
[]
[null,null,"Charges Applicable to Non-Tax-Exempt Accounts "]
[]
[null,null,"Unbundled Components Including CBT and SUT - 6/1/2025 Rates Applicable to Non-Tax-Exempt Customers"]
[null,null,{"$f":"C11","v":"Customer Charge"},"Transmission* \n{1}","Distribution",{"$f":"F11","v":"Covid Recovery Charge"},"Energy & Capacity *","BGS-RSCP Reconciliation Charge*","Zero Emission Certificate Recovery Charge (ZEC)","RGGI Recovery Charge (RRC)","Societal Benefit Charge (SBC)","LRAM","Non-utility Generation Charge (NGC)","Total"]
["1.","Standard Customer Charges",{"$f":"ROUND(C12*SUT_6625,2)","v":8.07},"N/A","N/A","N/A","N/A","N/A","N/A","N/A","N/A","N/A","N/A","N/A"]
["2.","Solar Water Heating Credit",{"$f":"ROUND(C13*SUT_6625,2)","v":-2.0299999999999998},"N/A","N/A","N/A","N/A","N/A","N/A","N/A","N/A","N/A","N/A","N/A"]
[]
["3.","On-Peak Summer kWh","N/A",{"$f":"ROUND(0.013953*SUT_6625,6)+0+0.004335","v":1.9212E-2},{"$f":"ROUND(E15*SUT_6625,6)","v":6.0028999999999999E-2},3.5799999999999997E-4,0.17646500000000001,3.8999999999999999E-5,{"$f":"ROUND(I15*SUT_6625,6)","v":0},4.7289999999999997E-3,{"$f":"'SBC TBC and MTC Tax'!D37","v":7.7000000000000002E-3},{"$f":"ROUND(L15*SUT_6625,6)","v":5.8E-4},{"$f":"ROUND(M15*SUT_6625,6)","v":-2.34E-4},{"$f":"SUM(D27:M27)","v":0.26887800000000001}]
["4.","On-Peak Winter kWh","N/A",{"$f":"D$27","v":1.9212E-2},{"$f":"ROUND(E16*SUT_6625,6)","v":4.4094000000000001E-2},{"$f":"F$27","v":3.5799999999999997E-4},{"$f":"ROUND(G16*SUT_6625,6)","v":0.17599200000000001},{"$f":"H$27","v":3.8999999999999999E-5},0,4.7289999999999997E-3,7.7000000000000002E-3,5.8E-4,-2.34E-4,{"$f":"SUM(D28:M28)","v":0.25247000000000003}]
["5.","Off-Peak Summer kWh","N/A",{"$f":"D$27","v":1.9212E-2},{"$f":"ROUND(E17*SUT_6625,6)","v":2.8041E-2},{"$f":"F$27","v":3.5799999999999997E-4},{"$f":"ROUND(G17*SUT_6625,6)","v":9.2434000000000002E-2},3.8999999999999999E-5,0,4.7289999999999997E-3,7.7000000000000002E-3,5.8E-4,-2.34E-4,{"$f":"SUM(D29:M29)","v":0.15285900000000002}]
["6.","Off-Peak Winter kWh","N/A",{"$f":"D$27","v":1.9212E-2},{"$f":"ROUND(E18*SUT_6625,6)","v":2.8041E-2},{"$f":"F$27","v":3.5799999999999997E-4},{"$f":"ROUND(G18*SUT_6625,6)","v":0.100009},3.8999999999999999E-5,0,4.7289999999999997E-3,7.7000000000000002E-3,5.8E-4,-2.34E-4,{"$f":"SUM(D30:M30)","v":0.16043400000000002}]
[]
["* Transmission, Energy & Capacity and BGS-RSCP Reconciliation Charges apply only to Full Service (non-shopping) Customers"]
["{1} Transmission Charge includes Reliability Must Run Surcharge (RMR) of $0.000000/$0.000000 (w/ SUT) Eff September 1, 2019 and Transmission Enhancement Charge (TEC) of $0.004066/0.004335 (w/ SUT) Eff  May  1, 2025"]
[]
[]
[null,null,null," "]
[null,null,null,null,null,null,null,null,null,null,null,null,null," "]
[]
[]
[]
[]
[]
[]
[]
[]
[]
[]
[]
[]
[]
[]
[]
[]
[]
[]
[]
[]
[]
[null,null," "]
[]
[]
[]
[]
[]
[]
[]
[" "]

{"sheet":"RT Summary","index":5,"n_rows":73,"n_cols":14,"rows_kept":73,"cut":false,"hidden":false,"merged":[[2,27,2,33],[2,41,2,47],[0,0,0,1],[0,27,0,33],[0,41,0,47],[0,2,0,7],[2,2,2,7],[3,2,3,5],[1,2,1,5],[10,2,10,5],[21,2,21,5],[6,2,6,7],[4,2,4,7],[10,6,10,7],[21,6,21,7]]}
[{"$f":"'RT per Tariff'!A1:B1","v":"Visual_Rate_Inventory  June 1, 2025"},null,"Jersey Central Power & Light"]
[null,{"$f":"NOW()","v":"2025-05-30T16:18:48.150"}," "]
[null,{"$f":"NOW()","v":45807.679723958332},{"$f":"'RT per Tariff'!C3:L3","v":"Rates Effective with Service Rendered June 1, 2025"}]
[null,"RT Summary"]
[null,null,"RT (Residential Time-of-Day) Service Classification"]
[]
[null,null,"Summary of Charges *"]
[]
[]
[]
[null,null,"Summary of Charges Applicable to Federal \nGovernment (SUT Exempt) Customers ",null,null,null,"Summary Without BGS Reconciliation Charges"]
[null,null,"Customer Charge","Full Service Customer \nTotal kWh Charges{1}","Basic Generation Service Charge/Price to Compare{2}","Delivery Service kWh Charges{3}","Full Service Customer \nTotal kWh Charges","Basic Generation Service Charge/Price to Compare"]
["1.","Standard Customer Charges",{"$f":"'RT per Tariff'!C12","v":7.57},"N/A","N/A","N/A","N/A","N/A"]
["2.","Solar Water Heating Credit",{"$f":"'RT per Tariff'!C13","v":-1.9},"N/A","N/A","N/A","N/A","N/A"]
[]
["3.","On-Peak Summer kWh","N/A",{"$f":"'RT per Tariff'!N15","v":0.25217499999999998},{"$f":"'RT per Tariff'!G15+'RT per Tariff'!D15+'RT per Tariff'!H15","v":0.18355700000000003},{"$f":"'RT per Tariff'!E15+'RT per Tariff'!F15+'RT per Tariff'!I15+'RT per Tariff'!K15+'RT per Tariff'!M15+'RT per Tariff'!J15+'RT per Tariff'!L15","v":6.8617999999999998E-2},{"$f":"'RT per Tariff'!N15-'RT per Tariff'!H15","v":0.25213799999999997},{"$f":"'RT per Tariff'!G15+'RT per Tariff'!D15","v":0.18352000000000002},{"$f":"E16+F16-D16","v":0},{"$f":"D16-G16-'RT per Tariff'!H15","v":9.2495997840169597E-18},{"$f":"E16-H16-'RT per Tariff'!H15","v":9.2495997840169597E-18}]
["4.","On-Peak Winter kWh","N/A",{"$f":"'RT per Tariff'!N16","v":0.23678600000000002},{"$f":"'RT per Tariff'!G16+'RT per Tariff'!D16+'RT per Tariff'!H16","v":0.18311300000000003},{"$f":"'RT per Tariff'!E16+'RT per Tariff'!F16+'RT per Tariff'!I16+'RT per Tariff'!K16+'RT per Tariff'!M16+'RT per Tariff'!J16+'RT per Tariff'!L16","v":5.3673000000000012E-2},{"$f":"'RT per Tariff'!N16-'RT per Tariff'!H16","v":0.23674900000000001},{"$f":"'RT per Tariff'!G16+'RT per Tariff'!D16","v":0.18307600000000002},{"$f":"E17+F17-D17","v":0},{"$f":"D17-G17-'RT per Tariff'!H16","v":9.2495997840169597E-18},{"$f":"E17-H17-'RT per Tariff'!H16","v":9.2495997840169597E-18}]
["5.","Off-Peak Summer kWh","N/A",{"$f":"'RT per Tariff'!N17","v":0.14336499999999999},{"$f":"'RT per Tariff'!G17+'RT per Tariff'!D17+'RT per Tariff'!H17","v":0.10474699999999999},{"$f":"'RT per Tariff'!E17+'RT per Tariff'!F17+'RT per Tariff'!I17+'RT per Tariff'!K17+'RT per Tariff'!M17+'RT per Tariff'!J17+'RT per Tariff'!L17","v":3.8618000000000006E-2},{"$f":"'RT per Tariff'!N17-'RT per Tariff'!H17","v":0.14332799999999998},{"$f":"'RT per Tariff'!G17+'RT per Tariff'!D17","v":0.10471},0,{"$f":"D18-G18-'RT per Tariff'!H17","v":9.2495997840169597E-18},{"$f":"E18-H18-'RT per Tariff'!H17","v":-4.6281880237974971E-18}]
["6.","Off-Peak Winter kWh","N/A",{"$f":"'RT per Tariff'!N18","v":0.15046899999999999},{"$f":"'RT per Tariff'!G18+'RT per Tariff'!D18+'RT per Tariff'!H18","v":0.11185099999999999},{"$f":"'RT per Tariff'!E18+'RT per Tariff'!F18+'RT per Tariff'!I18+'RT per Tariff'!K18+'RT per Tariff'!M18+'RT per Tariff'!J18+'RT per Tariff'!L18","v":3.8618000000000006E-2},{"$f":"'RT per Tariff'!N18-'RT per Tariff'!H18","v":0.15043199999999998},{"$f":"'RT per Tariff'!G18+'RT per Tariff'!D18","v":0.111814},0,{"$f":"D19-G19-'RT per Tariff'!H18","v":9.2495997840169597E-18},{"$f":"E19-H19-'RT per Tariff'!H18","v":-4.6281880237974971E-18}]
[]
[]
[null,null,"Summary of Charges Applicable to \nNormal (Non-Exempt) Customers ",null,null,null,"Summary Without BGS Reconciliation Charges"]
[null,null,"Customer Charge","Full Service Customer \nTotal kWh Charges{1}","Basic Generation Service Charge/Price to Compare {4}","Delivery Service kWh Charges{3}","Full Service Customer \nTotal kWh Charges","Basic Generation Service Charge/Price to Compare"]
["1.","Standard Customer Charges",{"$f":"'RT per Tariff'!C24","v":8.07},"N/A","N/A","N/A","N/A","N/A"]
["2.","Solar Water Heating Credit",{"$f":"'RT per Tariff'!C25","v":-2.0299999999999998},"N/A","N/A","N/A","N/A","N/A"]
[]
["3.","On-Peak Summer kWh","N/A",{"$f":"'RT per Tariff'!N27","v":0.26887800000000001},{"$f":"'RT per Tariff'!D27+'RT per Tariff'!G27+'RT per Tariff'!H27","v":0.19571600000000003},{"$f":"'RT per Tariff'!E27+'RT per Tariff'!F27+'RT per Tariff'!I27+'RT per Tariff'!K27+'RT per Tariff'!M27+'RT per Tariff'!J27+'RT per Tariff'!L27","v":7.3161999999999991E-2},{"$f":"'RT per Tariff'!N27-'RT per Tariff'!H27","v":0.26883899999999999},{"$f":"'RT per Tariff'!G27+'RT per Tariff'!D27","v":0.19567700000000002},{"$f":"E27+F27-D27","v":0},{"$f":"D27-G27-'RT per Tariff'!H27","v":1.1248597539537109E-17},{"$f":"E27-H27-'RT per Tariff'!H27","v":1.1248597539537109E-17}]
["4.","On-Peak Winter kWh","N/A",{"$f":"'RT per Tariff'!N28","v":0.25247000000000003},{"$f":"'RT per Tariff'!D28+'RT per Tariff'!G28+'RT per Tariff'!H28","v":0.19524300000000003},{"$f":"'RT per Tariff'!E28+'RT per Tariff'!F28+'RT per Tariff'!I28+'RT per Tariff'!K28+'RT per Tariff'!M28+'RT per Tariff'!J28+'RT per Tariff'!L28","v":5.7226999999999993E-2},{"$f":"'RT per Tariff'!N28-'RT per Tariff'!H28","v":0.25243100000000002},{"$f":"'RT per Tariff'!G28+'RT per Tariff'!D28","v":0.19520400000000002},{"$f":"E28+F28-D28","v":0},{"$f":"D28-G28-'RT per Tariff'!H28","v":1.1248597539537109E-17},{"$f":"E28-H28-'RT per Tariff'!H28","v":1.1248597539537109E-17}]
["5.","Off-Peak Summer kWh","N/A",{"$f":"'RT per Tariff'!N29","v":0.15285900000000002},{"$f":"'RT per Tariff'!D29+'RT per Tariff'!G29+'RT per Tariff'!H29","v":0.11168499999999999},{"$f":"'RT per Tariff'!E29+'RT per Tariff'!F29+'RT per Tariff'!I29+'RT per Tariff'!K29+'RT per Tariff'!M29+'RT per Tariff'!J29+'RT per Tariff'!L29","v":4.1173999999999995E-2},{"$f":"'RT per Tariff'!N29-'RT per Tariff'!H29","v":0.15282000000000001},{"$f":"'RT per Tariff'!G29+'RT per Tariff'!D29","v":0.111646},0,{"$f":"D29-G29-'RT per Tariff'!H29","v":1.1248597539537109E-17},{"$f":"E29-H29-'RT per Tariff'!H29","v":-2.6291902682773483E-18}]
["6.","Off-Peak Winter kWh","N/A",{"$f":"'RT per Tariff'!N30","v":0.16043400000000002},{"$f":"'RT per Tariff'!D30+'RT per Tariff'!G30+'RT per Tariff'!H30","v":0.11925999999999999},{"$f":"'RT per Tariff'!E30+'RT per Tariff'!F30+'RT per Tariff'!I30+'RT per Tariff'!K30+'RT per Tariff'!M30+'RT per Tariff'!J30+'RT per Tariff'!L30","v":4.1173999999999995E-2},{"$f":"'RT per Tariff'!N30-'RT per Tariff'!H30","v":0.16039500000000001},{"$f":"'RT per Tariff'!G30+'RT per Tariff'!D30","v":0.11922099999999999},0,{"$f":"D30-G30-'RT per Tariff'!H30","v":1.1248597539537109E-17},{"$f":"E30-H30-'RT per Tariff'!H30","v":-2.6291902682773483E-18}]
[]
["* Note: Charges are billed to the customer by component as they appear in the Jersey Central Power & Light Tariff for Service."]
[" By multiplying the summarized charges in these tables times the customers kWh usage you may get an amount that is a few"]
[" cents different than the actual amount of the customer's bill due to rounding differences."]
[]
["{1} Includes Distribution, SBC, NGC, TAA, RRC, SRC, ZEC, Energy & Capacity, Transmission (including RMR and TEC) and BGS-RSCP reconciliation charges"]
[{"$f":"\"{2} Includes Energy & Capacity, Transmission (including RMR and TEC) and the current BGS-RSCP reconciliation charge of $\"&FIXED('RT per Tariff'!$H$15,6)&\" per kWh\"","v":"{2} Includes Energy & Capacity, Transmission (including RMR and TEC) and the current BGS-RSCP reconciliation charge of $0.000037 per kWh"}]
["{3} Includes Distribution, SBC, NGC, TAA, RRC , and ZEC charges"]
[{"$f":"\"{4} Includes Energy & Capacity, Transmission (including RMR and TEC) and the current BGS-RSCP reconciliation charge of $\"&FIXED('RT per Tariff'!$H$27,6)&\" per kWh\"","v":"{4} Includes Energy & Capacity, Transmission (including RMR and TEC) and the current BGS-RSCP reconciliation charge of $0.000039 per kWh"}]
[null,null,null,null,null,null,null,null,null,null,null,null,null,8]
[]
[]
[]
[]
[]
[]
[]
[]
[]
[]
[]
[]
[]
[]
[]
[]
[]
[]
[]
[]
[]
[]
[]
[]
[null,null," "]
[]
[]
[]
[]
[]
[]
[]
[" "," "]

{"sheet":"RS per Tariff","index":6,"n_rows":84,"n_cols":16,"rows_kept":84,"cut":false,"hidden":false,"merged":[[42,0,42,13],[4,2,4,11],[3,2,3,11],[5,2,5,11],[24,2,24,11],[7,2,7,11],[6,2,6,11],[9,2,9,13],[0,0,0,1],[1,0,1,1],[2,0,2,1],[3,0,3,1],[0,2,0,11],[1,2,1,11],[2,2,2,11],[0,31,0,37],[2,31,2,37],[4,31,4,37],[0,17,0,23],[2,17,2,23],[4,17,4,23],[26,17,26,26],[20,18,20,24],[22,18,22,24],[24,17,24,23],[26,2,26,13],[45,0,45,9],[46,0,46,9],[47,0,47,9],[48,0,48,9],[53,5,53,7],[53,8,53,10]]}
[{"$f":"'RT per Tariff'!A1:B1","v":"Visual_Rate_Inventory  June 1, 2025"},null,"Jersey Central Power & Light"]
[{"$f":"NOW()","v":"2025-05-30T16:18:48.150"},null," "]
[{"$f":"NOW()","v":45807.679723958332},null,{"$f":"'RT per Tariff'!C3","v":"Rates Effective with Service Rendered June 1, 2025"}]
["RS per Tariff"]
[null,null,"RS (Residential) Service Classification"]
[null,null,"Unbundled Rate Components"]
[]
[null,null,"Charges Applicable to Federal Government (SUT Exempt) Accounts "]
[]
[null,null,{"$f":"'RT per Tariff'!C10","v":"Unbundled Components Including CBT - 6/1/2025 Rates Applicable to SUT Exempt Accounts"}]
[null,null,{"$f":"'RT per Tariff'!C11","v":"Customer Charge"},{"$f":"'RT per Tariff'!D11","v":"Transmission* \n{1}"},{"$f":"'RT per Tariff'!E11","v":"Distribution"},{"$f":"'RT per Tariff'!F11","v":"Covid Recovery Charge"},{"$f":"'RT per Tariff'!G11","v":"Energy & Capacity *"},{"$f":"'RT per Tariff'!H11","v":"BGS-RSCP Reconciliation Charge*"},{"$f":"'RT per Tariff'!I11","v":"Zero Emission Certificate Recovery Charge (ZEC)"},{"$f":"'RT per Tariff'!J11","v":"RGGI Recovery Charge (RRC)"},{"$f":"'RT per Tariff'!K11","v":"Societal Benefit Charge (SBC)"},{"$f":"'RT per Tariff'!L11","v":"LRAM"},{"$f":"'RT per Tariff'!M11","v":"Non-utility Generation Charge (NGC)"},"Total"]
["1.","Standard Customer Charges",4,"N/A","N/A","N/A","N/A","N/A","N/A","N/A","N/A","N/A","N/A","N/A"]
["2.","Supp Cust Charge-OPWH",2.09,"N/A","N/A","N/A","N/A","N/A","N/A","N/A","N/A","N/A","N/A","N/A"]
["3.","Supp Cust Charge-CTWH",2.09,"N/A","N/A","N/A","N/A","N/A","N/A","N/A","N/A","N/A","N/A","N/A"]
[]
["     4.","Summer kWh 0 - 600","N/A",{"$f":"'RT per Tariff'!D15","v":1.8019E-2},1.8928E-2,{"$f":"'RT per Tariff'!F15","v":3.3599999999999998E-4},0.118066,{"$f":"'RT per Tariff'!H$15","v":3.6999999999999998E-5},{"$f":"'RT per Tariff'!I$15","v":0},{"$f":"'RT per Tariff'!J15","v":4.4350000000000006E-3},{"$f":"'RT per Tariff'!$K$15","v":7.2230000000000003E-3},{"$f":"'SBC TBC and MTC Tax'!B58","v":5.1199999999999998E-4},{"$f":"'RT per Tariff'!M15","v":-2.1900000000000001E-4},{"$f":"SUM(D16:M16)","v":0.16733700000000004}]
["     5.","Summer kWh > 600","N/A",{"$f":"D$16","v":1.8019E-2},7.4851000000000001E-2,{"$f":"F$16","v":3.3599999999999998E-4},0.126718,{"$f":"'RT per Tariff'!H$15","v":3.6999999999999998E-5},{"$f":"'RT per Tariff'!I$15","v":0},{"$f":"J$16","v":4.4350000000000006E-3},{"$f":"'RT per Tariff'!$K$15","v":7.2230000000000003E-3},{"$f":"L$16","v":5.1199999999999998E-4},{"$f":"M$16","v":-2.1900000000000001E-4},0.23191200000000003]
["     6.","Winter kWh 0-1,000","N/A",{"$f":"D$16","v":1.8019E-2},3.1007E-2,{"$f":"F$16","v":3.3599999999999998E-4},0.12831600000000001,{"$f":"'RT per Tariff'!H$15","v":3.6999999999999998E-5},{"$f":"'RT per Tariff'!I$15","v":0},{"$f":"J$16","v":4.4350000000000006E-3},{"$f":"'RT per Tariff'!$K$15","v":7.2230000000000003E-3},{"$f":"L$16","v":5.1199999999999998E-4},{"$f":"M$16","v":-2.1900000000000001E-4},0.18966600000000003]
["     7.","Winter kWh > 1,000","N/A",{"$f":"D$16","v":1.8019E-2},{"$f":"E18","v":3.1007E-2},{"$f":"F$16","v":3.3599999999999998E-4},{"$f":"G18","v":0.12831600000000001},{"$f":"'RT per Tariff'!H$15","v":3.6999999999999998E-5},{"$f":"'RT per Tariff'!I$15","v":0},4.4350000000000006E-3,{"$f":"'RT per Tariff'!$K$15","v":7.2230000000000003E-3},5.1199999999999998E-4,-2.1900000000000001E-4,0.18966600000000003]
["8.","Summer OPWH kWh","N/A",{"$f":"D16","v":1.8019E-2},2.0695000000000002E-2,{"$f":"F16","v":3.3599999999999998E-4},0.120435,{"$f":"'RT per Tariff'!H$15","v":3.6999999999999998E-5},{"$f":"'RT per Tariff'!I$15","v":0},4.4350000000000006E-3,{"$f":"'RT per Tariff'!$K$15","v":7.2230000000000003E-3},5.1199999999999998E-4,-2.1900000000000001E-4,0.17147300000000001]
["9.","Winter OPWH kWh","N/A",{"$f":"D$20","v":1.8019E-2},2.0695000000000002E-2,{"$f":"F$20","v":3.3599999999999998E-4},0.11988,{"$f":"'RT per Tariff'!H$15","v":3.6999999999999998E-5},{"$f":"'RT per Tariff'!I$15","v":0},4.4350000000000006E-3,{"$f":"'RT per Tariff'!$K$15","v":7.2230000000000003E-3},5.1199999999999998E-4,-2.1900000000000001E-4,0.17091800000000004]
["10.","Summer CTWH kWh","N/A",{"$f":"D$20","v":1.8019E-2},2.7258000000000001E-2,{"$f":"F$20","v":3.3599999999999998E-4},{"$f":"G20","v":0.120435},{"$f":"'RT per Tariff'!H$15","v":3.6999999999999998E-5},{"$f":"'RT per Tariff'!I$15","v":0},4.4350000000000006E-3,{"$f":"'RT per Tariff'!$K$15","v":7.2230000000000003E-3},5.1199999999999998E-4,-2.1900000000000001E-4,0.17803600000000003]
["11.","Winter CTWH kWh","N/A",{"$f":"D$20","v":1.8019E-2},2.7258000000000001E-2,{"$f":"F$20","v":3.3599999999999998E-4},{"$f":"G21","v":0.11988},{"$f":"'RT per Tariff'!H$15","v":3.6999999999999998E-5},{"$f":"'RT per Tariff'!I$15","v":0},4.4350000000000006E-3,{"$f":"'RT per Tariff'!$K$15","v":7.2230000000000003E-3},5.1199999999999998E-4,-2.1900000000000001E-4,0.17748100000000003]
[]
[null,null,"Charges Applicable to Non-Tax-Exempt Accounts "]
[]
[null,null,{"$f":"'RT per Tariff'!C22","v":"Unbundled Components Including CBT and SUT - 6/1/2025 Rates Applicable to Non-Tax-Exempt Customers"}]
[null,null,{"$f":"C11","v":"Customer Charge"},"Transmission* \n{1}","Distribution","Covid Recovery Charge","Energy & Capacity *","BGS-RSCP Reconciliation Charge*","Zero Emission Certificate Recovery Charge (ZEC)","RGGI Recovery Charge (RRC)","Societal Benefit Charge (SBC)","LRAM","Non-utility Generation Charge (NGC)","Total"]
["1.","Standard Customer Charges",{"$f":"ROUND(C12*SUT_6625,2)","v":4.2699999999999996},"N/A","N/A","N/A","N/A","N/A","N/A","N/A","N/A","N/A","N/A","N/A"]
["2.","Supp Cust Charge-OPWH",{"$f":"ROUND(C13*SUT_6625,2)","v":2.23},"N/A","N/A","N/A","N/A","N/A","N/A","N/A","N/A","N/A","N/A","N/A"]
["3.","Supp Cust Charge-CTWH",{"$f":"ROUND(C14*SUT_6625,2)","v":2.23},"N/A","N/A","N/A","N/A","N/A","N/A","N/A","N/A","N/A","N/A","N/A"]
[]
["     4.","Summer kWh 0 - 600","N/A",{"$f":"'RT per Tariff'!D27","v":1.9212E-2},{"$f":"ROUND(E16*SUT_6625,6)","v":2.0181999999999999E-2},{"$f":"ROUND(F16*SUT_6625,6)","v":3.5799999999999997E-4},{"$f":"ROUND(G16*SUT_6625,6)","v":0.125888},{"$f":"'RT per Tariff'!H$27","v":3.8999999999999999E-5},{"$f":"'RT per Tariff'!I$27","v":0},{"$f":"'RT per Tariff'!J27","v":4.7289999999999997E-3},{"$f":"'RT per Tariff'!$K$27","v":7.7000000000000002E-3},{"$f":"ROUND(L16*SUT_6625,6)","v":5.4600000000000004E-4},{"$f":"'RT per Tariff'!M27","v":-2.34E-4},{"$f":"SUM(D33:M33)","v":0.17842000000000002}," "]
["     5.","Summer kWh > 600","N/A",{"$f":"D$33","v":1.9212E-2},7.9810000000000006E-2,{"$f":"F$33","v":3.5799999999999997E-4},0.13511300000000001,{"$f":"'RT per Tariff'!H$27","v":3.8999999999999999E-5},{"$f":"'RT per Tariff'!I$27","v":0},{"$f":"J$33","v":4.7289999999999997E-3},{"$f":"'RT per Tariff'!$K$27","v":7.7000000000000002E-3},5.4600000000000004E-4,{"$f":"M$33","v":-2.34E-4},0.24727300000000002]
["     6.","Winter kWh 0-1,000","N/A",{"$f":"D$33","v":1.9212E-2},3.3061E-2,{"$f":"F$33","v":3.5799999999999997E-4},0.13681699999999999,{"$f":"'RT per Tariff'!H$27","v":3.8999999999999999E-5},{"$f":"'RT per Tariff'!I$27","v":0},{"$f":"'RT per Tariff'!J28","v":4.7289999999999997E-3},{"$f":"'RT per Tariff'!$K$27","v":7.7000000000000002E-3},5.4600000000000004E-4,{"$f":"M$33","v":-2.34E-4},0.20222800000000002]
["     7.","Winter kWh > 1,000","N/A",{"$f":"D$33","v":1.9212E-2},3.3061E-2,{"$f":"F$33","v":3.5799999999999997E-4},0.13681699999999999,{"$f":"'RT per Tariff'!H$27","v":3.8999999999999999E-5},{"$f":"'RT per Tariff'!I$27","v":0},{"$f":"J35","v":4.7289999999999997E-3},{"$f":"'RT per Tariff'!$K$27","v":7.7000000000000002E-3},5.4600000000000004E-4,-2.34E-4,0.20222800000000002]
["8.","Summer OPWH kWh","N/A",{"$f":"D33","v":1.9212E-2},2.2065999999999999E-2,{"$f":"F33","v":3.5799999999999997E-4},0.128414,{"$f":"'RT per Tariff'!H$27","v":3.8999999999999999E-5},{"$f":"'RT per Tariff'!I$27","v":0},{"$f":"J$33","v":4.7289999999999997E-3},{"$f":"'RT per Tariff'!$K$27","v":7.7000000000000002E-3},5.4600000000000004E-4,-2.34E-4,0.18282999999999999]
["9.","Winter OPWH kWh","N/A",{"$f":"D$37","v":1.9212E-2},2.2065999999999999E-2,{"$f":"F$37","v":3.5799999999999997E-4},0.12782199999999999,{"$f":"'RT per Tariff'!H$27","v":3.8999999999999999E-5},{"$f":"'RT per Tariff'!I$27","v":0},{"$f":"J35","v":4.7289999999999997E-3},{"$f":"'RT per Tariff'!$K$27","v":7.7000000000000002E-3},5.4600000000000004E-4,-2.34E-4,0.18223800000000001]
["10.","Summer CTWH kWh","N/A",{"$f":"D$37","v":1.9212E-2},2.9064E-2,{"$f":"F$37","v":3.5799999999999997E-4},{"$f":"ROUND(G22*SUT_6625,6)","v":0.128414},{"$f":"'RT per Tariff'!H$27","v":3.8999999999999999E-5},{"$f":"'RT per Tariff'!I$27","v":0},{"$f":"J$33","v":4.7289999999999997E-3},{"$f":"'RT per Tariff'!$K$27","v":7.7000000000000002E-3},5.4600000000000004E-4,-2.34E-4,0.189828]
["11.","Winter CTWH kWh","N/A",{"$f":"D$37","v":1.9212E-2},2.9064E-2,{"$f":"F$37","v":3.5799999999999997E-4},0.12782199999999999,{"$f":"'RT per Tariff'!H$27","v":3.8999999999999999E-5},{"$f":"'RT per Tariff'!I$27","v":0},{"$f":"J35","v":4.7289999999999997E-3},{"$f":"'RT per Tariff'!$K$27","v":7.7000000000000002E-3},5.4600000000000004E-4,-2.34E-4,0.18923600000000002]
[]
[{"$f":"'RT per Tariff'!$A$32","v":"* Transmission, Energy & Capacity and BGS-RSCP Reconciliation Charges apply only to Full Service (non-shopping) Customers"}]
[{"$f":"'RT per Tariff'!A33","v":"{1} Transmission Charge includes Reliability Must Run Surcharge (RMR) of $0.000000/$0.000000 (w/ SUT) Eff September 1, 2019 and Transmission Enhancement Charge (TEC) of $0.004066/0.004335 (w/ SUT) Eff  May  1, 2025"}]
[{"$f":"'RT per Tariff'!A34","v":0}]
[]
[{"$f":"\"Assumptions: Bill Credit is calculated at the pre-SUT rate.  Subscriber has 5% investment from \"&TEXT(D56,\"mm/dd/yyyy\")&\" to \"&TEXT(E56,\"mm/dd/yyyy\")","v":"Assumptions: Bill Credit is calculated at the pre-SUT rate.  Subscriber has 5% investment from 06/01/2025 to 07/01/2025"}]
["Customer billed for 1000 KWH usage on Service Classification RS Default Service"]
["Host Output: 20,000 KWH"]
["Customer (Subscriber) Allocated: 1000 KWH"]
[]
["Normal Full Bill",null,{"$f":"H69","v":210.24000000000004}]
["Community Solar Credit",null,{"$f":"K69","v":159.89999999999998}]
["Charges Due",null,{"$f":"C51-C52","v":50.34000000000006}]
[null,null,null,null,null,"Normal Full Bill",null,null,"Credit Calculation"]
[null,"Charge Type","Credit","Period Start","Period End","Consumed kWh","Price","Charges","Allocated kWh","Pre-SUT Price","Credit @ Pre-SUT"]
[null,"Customer Charge","No","2025-06-01",{"$f":"D56+30","v":"2025-07-01"},null,{"$f":"C29","v":4.2699999999999996},{"$f":"G56","v":4.2699999999999996}]
[null,"Non-Utility Generation Charge (MTC)","No",{"$f":"D$56","v":"2025-06-01"},{"$f":"E$56","v":"2025-07-01"},1000,{"$f":"M33","v":-2.34E-4},{"$f":"ROUND(F57*G57,2)","v":-0.23}]
[null,"SBC Charge","No",{"$f":"D$56","v":"2025-06-01"},"2025-07-01",1000,{"$f":"K33","v":7.7000000000000002E-3},{"$f":"ROUND(F58*G58,2)","v":7.7}]
[null,"ZEC Recovery Charge","No","2025-06-01","2025-07-01",1000,{"$f":"I33","v":0},0]
[null,"BGS Energy Charges 0-600 kWh","Yes","2025-06-01","2025-07-01",600,{"$f":"IF(AND(MONTH(D60)<=9,MONTH(D60)>=6),G33,G35)","v":0.125888},75.53,{"$f":"F60","v":600},{"$f":"IF(AND(MONTH(D60)<=9,MONTH(D60)>=6),C73,G18)","v":9.0753E-2},{"$f":"ROUND(I60*J60,2)","v":54.45},"*",null,null," "]
[null,"BGS Energy Charges 600+ kWh","Yes","2025-06-01","2025-07-01",400,{"$f":"IF(AND(MONTH(D61)<=9,MONTH(D61)>=6),G34,G36)","v":0.13511300000000001},54.05,400,{"$f":"J60","v":9.0753E-2},36.299999999999997,"*"]
[null,"BGS Transmission","Yes","2025-06-01","2025-07-01",1000,{"$f":"D33","v":1.9212E-2},19.21,1000,{"$f":"D16","v":1.8019E-2},18.02,null,null,null,null,{"$f":"ROUND(J62*1.06625,6)-G62","v":1.0000000000010001E-6}]
[null,"BGS Reconciliation","Yes","2025-06-01","2025-07-01",1000,{"$f":"H33","v":3.8999999999999999E-5},0.04,1000,{"$f":"H16","v":3.6999999999999998E-5},0.04,null,null,null,null,{"$f":"ROUND(J63*1.06625,6)-G63","v":0}]
[null,"Distribution 0-600 kWh","Yes","2025-06-01","2025-07-01",600,{"$f":"IF(AND(MONTH(D64)<=9,MONTH(D64)>=6),E33,E35)","v":2.0181999999999999E-2},12.11,600,{"$f":"IF(AND(MONTH(D64)<=9,MONTH(D64)>=6),C74,E18)","v":4.5804999999999998E-2},27.48,"*"]
[null,"Distribution 600+ kWh","Yes","2025-06-01","2025-07-01",400,{"$f":"IF(AND(MONTH(D65)<=9,MONTH(D65)>=6),E34,E36)","v":7.9810000000000006E-2},31.92,400,{"$f":"J64","v":4.5804999999999998E-2},18.32,"*"]
[null,"RGGI Charge","Yes","2025-06-01","2025-07-01",1000,{"$f":"J33","v":4.7289999999999997E-3},4.7300000000000004,1000,{"$f":"J16","v":4.4350000000000006E-3},4.4400000000000004,null,null,null,null,{"$f":"ROUND(J66*1.06625,6)-G66","v":0}]
[null,"CRC","Yes","2025-06-01","2025-07-01",{"$f":"F66","v":1000},{"$f":"F33","v":3.5799999999999997E-4},0.36,1000,{"$f":"F16","v":3.3599999999999998E-4},0.34]
[null,"LRAM","Yes","2025-06-01","2025-07-01",1000,{"$f":"L33","v":5.4600000000000004E-4},0.55000000000000004,1000,{"$f":"L16","v":5.1199999999999998E-4},0.51,null,null,null,null,{"$f":"ROUND(J68*1.06625,6)-G68","v":0}]
[null,null,null,null,null,null,"Normal Full Bill",{"$f":"SUM(H56:H68)","v":210.24000000000004},null,"Community Solar Credit",{"$f":"SUM(K60:K68)","v":159.89999999999998}]
[]
[]
[null,"* Class Average"]
[null,"BGS Summer",9.0753E-2]
[null,"Dist Summer",4.5804999999999998E-2]
[]
[null,null," "]
[]
[]
[]
[]
[]
[]
[]
["{3} Transmission Charge includes Reliability Must Run (RMR) Surcharge of $0.000000/$0.000000 (w/ SUT) Eff. Jan. 1, 2009 and Transmission Enhance Charge (TEC) of $0.001370/0.001466 (w/ SUT) Eff. October 1, 2012."," "]

{"sheet":"RS Summary","index":7,"n_rows":74,"n_cols":12,"rows_kept":74,"cut":false,"hidden":false,"merged":[[6,2,6,7],[26,2,26,5],[26,6,26,7],[10,2,10,5],[10,6,10,7],[4,30,4,36],[0,16,0,22],[2,16,2,22],[4,16,4,22],[0,2,0,7],[2,2,2,7],[4,2,4,7],[0,0,0,1],[1,0,1,1],[2,0,2,1],[3,0,3,1],[0,30,0,36],[2,30,2,36]]}
[{"$f":"'RT per Tariff'!A1:B1","v":"Visual_Rate_Inventory  June 1, 2025"},null,"Jersey Central Power & Light"]
[{"$f":"NOW()","v":"2025-05-30T16:18:48.150"},null," "]
[{"$f":"NOW()","v":45807.679723958332},null,{"$f":"'RT per Tariff'!C3","v":"Rates Effective with Service Rendered June 1, 2025"}]
["RS Summary"]
[null,null,"RS (Residential) Service Classification"]
[null,null," "]
[null,null,"Summary of Charges *"]
[]
[]
[]
[null,null,"Summary of Charges Applicable to Federal \nGovernment (SUT Exempt) Customers",null,null,null,"Summary Without BGS Reconciliation Charges"]
[null,null,"Customer Charge","Full Service Customer \nTotal kWh Charges{1}","Basic Generation Service Charge/Price to Compare{2}","Delivery Service kWh Charges{3}","Full Service Customer \nTotal kWh Charges","Basic Generation Service Charge/Price to Compare"]
["1.","Standard Customer Charges",{"$f":"'RS per Tariff'!C12","v":4},"N/A","N/A","N/A","N/A","N/A"]
["2.","Supp Cust Charge-OPWH",{"$f":"'RS per Tariff'!C13","v":2.09},"N/A","N/A","N/A","N/A","N/A"]
["3.","Supp Cust Charge-CTWH",{"$f":"'RS per Tariff'!C14","v":2.09},"N/A","N/A","N/A","N/A","N/A"]
[]
["     4.","Summer kWh 0 - 600",{"$f":"'RS per Tariff'!C16","v":"N/A"},{"$f":"'RS per Tariff'!N16","v":0.16733700000000004},{"$f":"'RS per Tariff'!D16+'RS per Tariff'!G16+'RS per Tariff'!H16","v":0.13612200000000002},{"$f":"'RS per Tariff'!E16+'RS per Tariff'!F16+'RS per Tariff'!I16+'RS per Tariff'!K16+'RS per Tariff'!M16+'RS per Tariff'!J16+'RS per Tariff'!L16","v":3.1215E-2},{"$f":"'RS per Tariff'!N16-'RS per Tariff'!H16","v":0.16730000000000003},{"$f":"'RS per Tariff'!D16+'RS per Tariff'!G16","v":0.13608500000000001},null,{"$f":"E17+F17-D17","v":0},{"$f":"D17-G17-'RS per Tariff'!H16","v":9.2495997840169597E-18},{"$f":"E17-H17-'RS per Tariff'!H16","v":9.2495997840169597E-18}]
["     5.","Summer kWh > 600",{"$f":"'RS per Tariff'!C17","v":"N/A"},{"$f":"'RS per Tariff'!N17","v":0.23191200000000003},{"$f":"'RS per Tariff'!D17+'RS per Tariff'!G17+'RS per Tariff'!H17","v":0.14477400000000001},{"$f":"'RS per Tariff'!E17+'RS per Tariff'!F17+'RS per Tariff'!I17+'RS per Tariff'!K17+'RS per Tariff'!M17+'RS per Tariff'!J17+'RS per Tariff'!L17","v":8.7138000000000007E-2},{"$f":"'RS per Tariff'!N17-'RS per Tariff'!H17","v":0.23187500000000003},{"$f":"'RS per Tariff'!D17+'RS per Tariff'!G17","v":0.144737},null,{"$f":"E18+F18-D18","v":0},{"$f":"D18-G18-'RS per Tariff'!H17","v":9.2495997840169597E-18},{"$f":"E18-H18-'RS per Tariff'!H17","v":9.2495997840169597E-18}]
["     6.","Winter kWh 0-1,000",{"$f":"'RS per Tariff'!C18","v":"N/A"},{"$f":"'RS per Tariff'!N18","v":0.18966600000000003},{"$f":"'RS per Tariff'!D18+'RS per Tariff'!G18+'RS per Tariff'!H18","v":0.14637200000000003},{"$f":"'RS per Tariff'!E18+'RS per Tariff'!F18+'RS per Tariff'!I18+'RS per Tariff'!K18+'RS per Tariff'!M18+'RS per Tariff'!J18+'RS per Tariff'!L18","v":4.3294000000000006E-2},{"$f":"'RS per Tariff'!N18-'RS per Tariff'!H18","v":0.18962900000000002},{"$f":"'RS per Tariff'!D18+'RS per Tariff'!G18","v":0.14633500000000002},null,0,{"$f":"D19-G19-'RS per Tariff'!H18","v":9.2495997840169597E-18},{"$f":"E19-H19-'RS per Tariff'!H18","v":9.2495997840169597E-18}]
["     7.","Winter kWh > 1,000",{"$f":"'RS per Tariff'!C19","v":"N/A"},{"$f":"'RS per Tariff'!N19","v":0.18966600000000003},{"$f":"'RS per Tariff'!D19+'RS per Tariff'!G19+'RS per Tariff'!H19","v":0.14637200000000003},{"$f":"'RS per Tariff'!E19+'RS per Tariff'!F19+'RS per Tariff'!I19+'RS per Tariff'!K19+'RS per Tariff'!M19+'RS per Tariff'!J19+'RS per Tariff'!L19","v":4.3294000000000006E-2},{"$f":"'RS per Tariff'!N19-'RS per Tariff'!H19","v":0.18962900000000002},{"$f":"'RS per Tariff'!D19+'RS per Tariff'!G19","v":0.14633500000000002},null,0,{"$f":"D20-G20-'RS per Tariff'!H19","v":9.2495997840169597E-18},{"$f":"E20-H20-'RS per Tariff'!H19","v":9.2495997840169597E-18}]
["8.","Summer OPWH kWh",{"$f":"'RS per Tariff'!C20","v":"N/A"},{"$f":"'RS per Tariff'!N20","v":0.17147300000000001},{"$f":"'RS per Tariff'!D20+'RS per Tariff'!G20+'RS per Tariff'!H20","v":0.138491},{"$f":"'RS per Tariff'!E20+'RS per Tariff'!F20+'RS per Tariff'!I20+'RS per Tariff'!K20+'RS per Tariff'!M20+'RS per Tariff'!J20+'RS per Tariff'!L20","v":3.2981999999999997E-2},{"$f":"'RS per Tariff'!N20-'RS per Tariff'!H20","v":0.17143600000000001},{"$f":"'RS per Tariff'!D20+'RS per Tariff'!G20","v":0.13845399999999999},null,0,{"$f":"D21-G21-'RS per Tariff'!H20","v":9.2495997840169597E-18},{"$f":"E21-H21-'RS per Tariff'!H20","v":9.2495997840169597E-18}]
["9.","Winter OPWH kWh",{"$f":"'RS per Tariff'!C21","v":"N/A"},{"$f":"'RS per Tariff'!N21","v":0.17091800000000004},{"$f":"'RS per Tariff'!D21+'RS per Tariff'!G21+'RS per Tariff'!H21","v":0.137936},{"$f":"'RS per Tariff'!E21+'RS per Tariff'!F21+'RS per Tariff'!I21+'RS per Tariff'!K21+'RS per Tariff'!M21+'RS per Tariff'!J21+'RS per Tariff'!L21","v":3.2981999999999997E-2},{"$f":"'RS per Tariff'!N21-'RS per Tariff'!H21","v":0.17088100000000003},{"$f":"'RS per Tariff'!D21+'RS per Tariff'!G21","v":0.13789899999999999},null,0,{"$f":"D22-G22-'RS per Tariff'!H21","v":9.2495997840169597E-18},{"$f":"E22-H22-'RS per Tariff'!H21","v":9.2495997840169597E-18}]
["10.","Summer CTWH kWh",{"$f":"'RS per Tariff'!C22","v":"N/A"},{"$f":"'RS per Tariff'!N22","v":0.17803600000000003},{"$f":"'RS per Tariff'!D22+'RS per Tariff'!G22+'RS per Tariff'!H22","v":0.138491},{"$f":"'RS per Tariff'!E22+'RS per Tariff'!F22+'RS per Tariff'!I22+'RS per Tariff'!K22+'RS per Tariff'!M22+'RS per Tariff'!J22+'RS per Tariff'!L22","v":3.9545000000000004E-2},{"$f":"'RS per Tariff'!N22-'RS per Tariff'!H22","v":0.17799900000000002},{"$f":"'RS per Tariff'!D22+'RS per Tariff'!G22","v":0.13845399999999999},null,0,{"$f":"D23-G23-'RS per Tariff'!H22","v":9.2495997840169597E-18},{"$f":"E23-H23-'RS per Tariff'!H22","v":9.2495997840169597E-18}]
["11.","Winter CTWH kWh",{"$f":"'RS per Tariff'!C23","v":"N/A"},{"$f":"'RS per Tariff'!N23","v":0.17748100000000003},{"$f":"'RS per Tariff'!D23+'RS per Tariff'!G23+'RS per Tariff'!H23","v":0.137936},{"$f":"'RS per Tariff'!E23+'RS per Tariff'!F23+'RS per Tariff'!I23+'RS per Tariff'!K23+'RS per Tariff'!M23+'RS per Tariff'!J23+'RS per Tariff'!L23","v":3.9545000000000004E-2},{"$f":"'RS per Tariff'!N23-'RS per Tariff'!H23","v":0.17744400000000002},{"$f":"'RS per Tariff'!D23+'RS per Tariff'!G23","v":0.13789899999999999},null,0,{"$f":"D24-G24-'RS per Tariff'!H23","v":9.2495997840169597E-18},{"$f":"E24-H24-'RS per Tariff'!H23","v":9.2495997840169597E-18}]
[]
[]
[null,null,"Summary of Charges Applicable to \nNormal (Non-Exempt) Customers",null,null,null,"Summary Without BGS Reconciliation Charges"]
[null,null,"Customer Charge","Full Service Customer \nTotal kWh Charges{1}","Basic Generation Service Charge/Price to Compare{4}","Delivery Service kWh Charges{3}","Full Service Customer \nTotal kWh Charges","Basic Generation Service Charge/Price to Compare"]
["1.","Standard Customer Charges",{"$f":"'RS per Tariff'!C29","v":4.2699999999999996},"N/A","N/A","N/A","N/A","N/A"]
["2.","Supp Cust Charge-OPWH",{"$f":"'RS per Tariff'!C30","v":2.23},"N/A","N/A","N/A","N/A","N/A"]
["3.","Supp Cust Charge-CTWH",{"$f":"'RS per Tariff'!C31","v":2.23},"N/A","N/A","N/A","N/A","N/A"]
[]
["     4.","Summer kWh 0 - 600",{"$f":"'RS per Tariff'!C33","v":"N/A"},{"$f":"'RS per Tariff'!N33","v":0.17842000000000002},{"$f":"'RS per Tariff'!D33+'RS per Tariff'!G33+'RS per Tariff'!H33","v":0.14513900000000002},{"$f":"'RS per Tariff'!E33+'RS per Tariff'!F33+'RS per Tariff'!I33+'RS per Tariff'!K33+'RS per Tariff'!M33+'RS per Tariff'!J33+'RS per Tariff'!L33","v":3.3280999999999998E-2},{"$f":"'RS per Tariff'!N33-'RS per Tariff'!H33","v":0.17838100000000001},{"$f":"'RS per Tariff'!D33+'RS per Tariff'!G33","v":0.14510000000000001},null,{"$f":"E33+F33-D33","v":0},{"$f":"D33-G33-'RS per Tariff'!H33","v":1.1248597539537109E-17},{"$f":"E33-H33-'RS per Tariff'!H33","v":1.1248597539537109E-17}]
["     5.","Summer kWh > 600",{"$f":"'RS per Tariff'!C34","v":"N/A"},{"$f":"'RS per Tariff'!N34","v":0.24727300000000002},{"$f":"'RS per Tariff'!D34+'RS per Tariff'!G34+'RS per Tariff'!H34","v":0.15436400000000003},{"$f":"'RS per Tariff'!E34+'RS per Tariff'!F34+'RS per Tariff'!I34+'RS per Tariff'!K34+'RS per Tariff'!M34+'RS per Tariff'!J34+'RS per Tariff'!L34","v":9.2909000000000005E-2},{"$f":"'RS per Tariff'!N34-'RS per Tariff'!H34","v":0.24723400000000001},{"$f":"'RS per Tariff'!D34+'RS per Tariff'!G34","v":0.15432500000000002},null,0,{"$f":"D34-G34-'RS per Tariff'!H34","v":1.1248597539537109E-17},{"$f":"E34-H34-'RS per Tariff'!H34","v":1.1248597539537109E-17}]
["     6.","Winter kWh 0-1,000",{"$f":"'RS per Tariff'!C35","v":"N/A"},{"$f":"'RS per Tariff'!N35","v":0.20222800000000002},{"$f":"'RS per Tariff'!D35+'RS per Tariff'!G35+'RS per Tariff'!H35","v":0.15606800000000001},{"$f":"'RS per Tariff'!E35+'RS per Tariff'!F35+'RS per Tariff'!I35+'RS per Tariff'!K35+'RS per Tariff'!M35+'RS per Tariff'!J35+'RS per Tariff'!L35","v":4.6159999999999993E-2},{"$f":"'RS per Tariff'!N35-'RS per Tariff'!H35","v":0.20218900000000001},{"$f":"'RS per Tariff'!D35+'RS per Tariff'!G35","v":0.156029},null,0,{"$f":"D35-G35-'RS per Tariff'!H35","v":1.1248597539537109E-17},{"$f":"E35-H35-'RS per Tariff'!H35","v":1.1248597539537109E-17}]
["     7.","Winter kWh > 1,000",{"$f":"'RS per Tariff'!C36","v":"N/A"},{"$f":"'RS per Tariff'!N36","v":0.20222800000000002},{"$f":"'RS per Tariff'!D36+'RS per Tariff'!G36+'RS per Tariff'!H36","v":0.15606800000000001},{"$f":"'RS per Tariff'!E36+'RS per Tariff'!F36+'RS per Tariff'!I36+'RS per Tariff'!K36+'RS per Tariff'!M36+'RS per Tariff'!J36+'RS per Tariff'!L36","v":4.6159999999999993E-2},{"$f":"'RS per Tariff'!N36-'RS per Tariff'!H36","v":0.20218900000000001},{"$f":"'RS per Tariff'!D36+'RS per Tariff'!G36","v":0.156029},null,0,{"$f":"D36-G36-'RS per Tariff'!H36","v":1.1248597539537109E-17},{"$f":"E36-H36-'RS per Tariff'!H36","v":1.1248597539537109E-17}]
["8.","Summer OPWH kWh",{"$f":"'RS per Tariff'!C37","v":"N/A"},{"$f":"'RS per Tariff'!N37","v":0.18282999999999999},{"$f":"'RS per Tariff'!D37+'RS per Tariff'!G37+'RS per Tariff'!H37","v":0.14766500000000002},{"$f":"'RS per Tariff'!E37+'RS per Tariff'!F37+'RS per Tariff'!I37+'RS per Tariff'!K37+'RS per Tariff'!M37+'RS per Tariff'!J37+'RS per Tariff'!L37","v":3.5164999999999995E-2},{"$f":"'RS per Tariff'!N37-'RS per Tariff'!H37","v":0.18279099999999998},{"$f":"'RS per Tariff'!D37+'RS per Tariff'!G37","v":0.14762600000000001},null,0,{"$f":"D37-G37-'RS per Tariff'!H37","v":1.1248597539537109E-17},{"$f":"E37-H37-'RS per Tariff'!H37","v":1.1248597539537109E-17}]
["9.","Winter OPWH kWh",{"$f":"'RS per Tariff'!C38","v":"N/A"},{"$f":"'RS per Tariff'!N38","v":0.18223800000000001},{"$f":"'RS per Tariff'!D38+'RS per Tariff'!G38+'RS per Tariff'!H38","v":0.14707300000000001},{"$f":"'RS per Tariff'!E38+'RS per Tariff'!F38+'RS per Tariff'!I38+'RS per Tariff'!K38+'RS per Tariff'!M38+'RS per Tariff'!J38+'RS per Tariff'!L38","v":3.5164999999999995E-2},{"$f":"'RS per Tariff'!N38-'RS per Tariff'!H38","v":0.182199},{"$f":"'RS per Tariff'!D38+'RS per Tariff'!G38","v":0.147034},null,0,{"$f":"D38-G38-'RS per Tariff'!H38","v":1.1248597539537109E-17},{"$f":"E38-H38-'RS per Tariff'!H38","v":1.1248597539537109E-17}]
["10.","Summer CTWH kWh",{"$f":"'RS per Tariff'!C39","v":"N/A"},{"$f":"'RS per Tariff'!N39","v":0.189828},{"$f":"'RS per Tariff'!D39+'RS per Tariff'!G39+'RS per Tariff'!H39","v":0.14766500000000002},{"$f":"'RS per Tariff'!E39+'RS per Tariff'!F39+'RS per Tariff'!I39+'RS per Tariff'!K39+'RS per Tariff'!M39+'RS per Tariff'!J39+'RS per Tariff'!L39","v":4.2162999999999999E-2},{"$f":"'RS per Tariff'!N39-'RS per Tariff'!H39","v":0.18978899999999999},{"$f":"'RS per Tariff'!D39+'RS per Tariff'!G39","v":0.14762600000000001},null,0,{"$f":"D39-G39-'RS per Tariff'!H39","v":1.1248597539537109E-17},{"$f":"E39-H39-'RS per Tariff'!H39","v":1.1248597539537109E-17}]
["11.","Winter CTWH kWh",{"$f":"'RS per Tariff'!C40","v":"N/A"},{"$f":"'RS per Tariff'!N40","v":0.18923600000000002},{"$f":"'RS per Tariff'!D40+'RS per Tariff'!G40+'RS per Tariff'!H40","v":0.14707300000000001},{"$f":"'RS per Tariff'!E40+'RS per Tariff'!F40+'RS per Tariff'!I40+'RS per Tariff'!K40+'RS per Tariff'!M40+'RS per Tariff'!J40+'RS per Tariff'!L40","v":4.2162999999999999E-2},{"$f":"'RS per Tariff'!N40-'RS per Tariff'!H40","v":0.189197},{"$f":"'RS per Tariff'!D40+'RS per Tariff'!G40","v":0.147034},null,0,{"$f":"D40-G40-'RS per Tariff'!H40","v":1.1248597539537109E-17},{"$f":"E40-H40-'RS per Tariff'!H40","v":1.1248597539537109E-17}]
[]
[null," "]
["* Note: Charges are billed to the customer by component as they appear in the Jersey Central Power & Light Tariff for Service."]
[" By multiplying the summarized charges in these tables times the customers kWh usage you may get an amount that is a few"]
[" cents different than the actual amount of the customer's bill due to rounding differences."]
[]
[{"$f":"'RT Summary'!A36","v":"{1} Includes Distribution, SBC, NGC, TAA, RRC, SRC, ZEC, Energy & Capacity, Transmission (including RMR and TEC) and BGS-RSCP reconciliation charges"}]
[{"$f":"'RT Summary'!A37","v":"{2} Includes Energy & Capacity, Transmission (including RMR and TEC) and the current BGS-RSCP reconciliation charge of $0.000037 per kWh"}]
[{"$f":"'RT Summary'!A38","v":"{3} Includes Distribution, SBC, NGC, TAA, RRC , and ZEC charges"}]
[{"$f":"'RT Summary'!A39","v":"{4} Includes Energy & Capacity, Transmission (including RMR and TEC) and the current BGS-RSCP reconciliation charge of $0.000039 per kWh"}]
[]
[]
[]
[]
[]
[]
[]
[]
[]
[]
[]
[]
[]
[]
[]
[null,null," "]
[]
[]
[]
[]
[]
[]
[]
[" "]

{"sheet":"RGT per Tariff","index":8,"n_rows":71,"n_cols":14,"rows_kept":71,"cut":false,"hidden":false,"merged":[[30,0,30,12],[6,2,6,11],[4,2,4,11],[5,2,5,11],[9,2,9,13],[20,2,20,13],[15,18,15,24],[7,2,7,11],[18,2,18,11],[13,18,13,24],[17,17,17,23],[18,17,18,23],[0,0,0,1],[1,0,1,1],[2,0,2,1],[3,0,3,1],[0,2,0,11],[3,2,3,11],[1,2,1,11],[2,2,2,11]]}
[{"$f":"'RT per Tariff'!A1:B1","v":"Visual_Rate_Inventory  June 1, 2025"},null,"Jersey Central Power & Light"]
[{"$f":"NOW()","v":"2025-05-30T16:18:48.150"},null," "]
[{"$f":"NOW()","v":45807.679723958332},null,{"$f":"'RT per Tariff'!C3","v":"Rates Effective with Service Rendered June 1, 2025"}]
["RGT per Tariff"]
[null,null,"RGT(Residential Geothermal & Heat Pump)Service Classification"]
[null,null,"Unbundled Rate Components"]
[]
[null,null,"Charges Applicable to Federal Government (SUT Exempt) Accounts "]
[]
[null,null,{"$f":"'RT per Tariff'!C10","v":"Unbundled Components Including CBT - 6/1/2025 Rates Applicable to SUT Exempt Accounts"}]
[null,null,{"$f":"'RT per Tariff'!C23","v":"Customer Charge"},{"$f":"'RT per Tariff'!D23","v":"Transmission* \n{1}"},{"$f":"'RT per Tariff'!E23","v":"Distribution"},{"$f":"'RT per Tariff'!F23","v":"Covid Recovery Charge"},{"$f":"'RT per Tariff'!G23","v":"Energy & Capacity *"},{"$f":"'RT per Tariff'!H23","v":"BGS-RSCP Reconciliation Charge*"},{"$f":"'RT per Tariff'!I23","v":"Zero Emission Certificate Recovery Charge (ZEC)"},{"$f":"'RT per Tariff'!J23","v":"RGGI Recovery Charge (RRC)"},{"$f":"'RT per Tariff'!K23","v":"Societal Benefit Charge (SBC)"},{"$f":"'RT per Tariff'!L23","v":"LRAM"},{"$f":"'RT per Tariff'!M23","v":"Non-utility Generation Charge (NGC)"},"Total"]
["1.","Customer Charge",{"$f":"'RT per Tariff'!C12","v":7.57},"N/A","N/A","N/A","N/A","N/A","N/A","N/A","N/A","N/A","N/A","N/A"]
[]
["2.","On-Peak Summer kWh","N/A",{"$f":"'RT per Tariff'!D15","v":1.8019E-2},{"$f":"'RT per Tariff'!E15","v":5.6299000000000002E-2},{"$f":"'RT per Tariff'!F15","v":3.3599999999999998E-4},{"$f":"'RT per Tariff'!G15","v":0.16550100000000001},{"$f":"'RT per Tariff'!H$15","v":3.6999999999999998E-5},{"$f":"'RT per Tariff'!I$15","v":0},{"$f":"'RT per Tariff'!J15","v":4.4350000000000006E-3},{"$f":"'RT per Tariff'!$K$15","v":7.2230000000000003E-3},{"$f":"'RT per Tariff'!L15","v":5.44E-4},{"$f":"'RT per Tariff'!M15","v":-2.1900000000000001E-4},{"$f":"SUM(D14:M14)","v":0.25217499999999998}]
["3.","Off-Peak Summer kWh","N/A",{"$f":"'RT per Tariff'!D17","v":1.8019E-2},{"$f":"'RT per Tariff'!E17","v":2.6298999999999999E-2},{"$f":"F14","v":3.3599999999999998E-4},{"$f":"'RT per Tariff'!G17","v":8.6691000000000004E-2},{"$f":"'RT per Tariff'!H$15","v":3.6999999999999998E-5},{"$f":"'RT per Tariff'!I$15","v":0},{"$f":"J$14","v":4.4350000000000006E-3},{"$f":"'RT per Tariff'!$K$15","v":7.2230000000000003E-3},{"$f":"L14","v":5.44E-4},{"$f":"M$14","v":-2.1900000000000001E-4},{"$f":"SUM(D15:M15)","v":0.14336499999999999}]
["4.","Winter kWh - 1 => 1,000","N/A",{"$f":"'RS per Tariff'!D18","v":1.8019E-2},{"$f":"'RS per Tariff'!E18","v":3.1007E-2},{"$f":"F14","v":3.3599999999999998E-4},{"$f":"'RS per Tariff'!G18","v":0.12831600000000001},{"$f":"'RT per Tariff'!H$15","v":3.6999999999999998E-5},{"$f":"'RT per Tariff'!I$15","v":0},{"$f":"'RT per Tariff'!J16","v":4.4350000000000006E-3},{"$f":"'RT per Tariff'!$K$15","v":7.2230000000000003E-3},{"$f":"L14","v":5.44E-4},{"$f":"M$14","v":-2.1900000000000001E-4},{"$f":"SUM(D16:M16)","v":0.18969800000000001}]
["5.","Winter kWh > 1,000","N/A",{"$f":"'RS per Tariff'!D19","v":1.8019E-2},{"$f":"'RS per Tariff'!E19","v":3.1007E-2},{"$f":"F16","v":3.3599999999999998E-4},{"$f":"'RS per Tariff'!G19","v":0.12831600000000001},{"$f":"'RT per Tariff'!H$15","v":3.6999999999999998E-5},{"$f":"'RT per Tariff'!I$15","v":0},{"$f":"J$16","v":4.4350000000000006E-3},{"$f":"'RT per Tariff'!$K$15","v":7.2230000000000003E-3},{"$f":"L14","v":5.44E-4},{"$f":"M$14","v":-2.1900000000000001E-4},{"$f":"SUM(D17:M17)","v":0.18969800000000001}]
[]
[null,null,"Charges Applicable to Non-Tax-Exempt Accounts "]
[]
[null,null,{"$f":"'RT per Tariff'!C22","v":"Unbundled Components Including CBT and SUT - 6/1/2025 Rates Applicable to Non-Tax-Exempt Customers"}]
[null,null,{"$f":"C11","v":"Customer Charge"},"Transmission* \n{1}","Distribution","Covid Recovery Charge","Energy & Capacity *","BGS-RSCP Reconciliation Charge*","Zero Emission Certificate Recovery Charge (ZEC)","RGGI Recovery Charge (RRC)","Societal Benefit Charge (SBC)",{"$f":"L11","v":"LRAM"},{"$f":"M11","v":"Non-utility Generation Charge (NGC)"},"Total"]
["1.","Customer Charge",{"$f":"'RT per Tariff'!C24","v":8.07},"N/A","N/A","N/A","N/A","N/A","N/A","N/A","N/A","N/A","N/A","N/A"]
[]
["2.","On-Peak Summer kWh","N/A",{"$f":"'RT per Tariff'!D27","v":1.9212E-2},{"$f":"ROUND(E14*SUT_6625,6)","v":6.0028999999999999E-2},{"$f":"'RT per Tariff'!F27","v":3.5799999999999997E-4},{"$f":"'RT per Tariff'!G27","v":0.17646500000000001},{"$f":"'RT per Tariff'!H$27","v":3.8999999999999999E-5},{"$f":"'RT per Tariff'!I$27","v":0},{"$f":"'RT per Tariff'!J27","v":4.7289999999999997E-3},{"$f":"'RT per Tariff'!$K$27","v":7.7000000000000002E-3},{"$f":"ROUND(L14*SUT_6625,6)","v":5.8E-4},{"$f":"'RT per Tariff'!M27","v":-2.34E-4},{"$f":"SUM(D25:M25)","v":0.26887800000000001}]
["3.","Off-Peak Summer kWh","N/A",{"$f":"'RT per Tariff'!D29","v":1.9212E-2},{"$f":"ROUND(E15*SUT_6625,6)","v":2.8041E-2},{"$f":"F25","v":3.5799999999999997E-4},{"$f":"'RT per Tariff'!G29","v":9.2434000000000002E-2},{"$f":"'RT per Tariff'!H$27","v":3.8999999999999999E-5},{"$f":"'RT per Tariff'!I$27","v":0},{"$f":"J$25","v":4.7289999999999997E-3},{"$f":"'RT per Tariff'!$K$27","v":7.7000000000000002E-3},{"$f":"ROUND(L15*SUT_6625,6)","v":5.8E-4},{"$f":"M$25","v":-2.34E-4},{"$f":"SUM(D26:M26)","v":0.15285900000000002}]
["4.","Winter kWh - 1 => 1,000","N/A",{"$f":"'RS per Tariff'!D35","v":1.9212E-2},{"$f":"ROUND(E16*SUT_6625,6)","v":3.3061E-2},{"$f":"F25","v":3.5799999999999997E-4},{"$f":"'RS per Tariff'!G35","v":0.13681699999999999},{"$f":"'RT per Tariff'!H$27","v":3.8999999999999999E-5},{"$f":"'RT per Tariff'!I$27","v":0},{"$f":"'RT per Tariff'!J28","v":4.7289999999999997E-3},{"$f":"'RT per Tariff'!$K$27","v":7.7000000000000002E-3},{"$f":"ROUND(L16*SUT_6625,6)","v":5.8E-4},{"$f":"M$25","v":-2.34E-4},{"$f":"SUM(D27:M27)","v":0.20226200000000003}]
["5.","Winter kWh > 1,000","N/A",{"$f":"'RS per Tariff'!D36","v":1.9212E-2},{"$f":"ROUND(E17*SUT_6625,6)","v":3.3061E-2},{"$f":"F27","v":3.5799999999999997E-4},{"$f":"'RS per Tariff'!G36","v":0.13681699999999999},{"$f":"'RT per Tariff'!H$27","v":3.8999999999999999E-5},{"$f":"'RT per Tariff'!I$27","v":0},{"$f":"J27","v":4.7289999999999997E-3},{"$f":"'RT per Tariff'!$K$27","v":7.7000000000000002E-3},{"$f":"ROUND(L17*SUT_6625,6)","v":5.8E-4},{"$f":"M$25","v":-2.34E-4},{"$f":"SUM(D28:M28)","v":0.20226200000000003}]
[]
[{"$f":"'RT per Tariff'!$A$32","v":"* Transmission, Energy & Capacity and BGS-RSCP Reconciliation Charges apply only to Full Service (non-shopping) Customers"}]
[{"$f":"'RT per Tariff'!A33","v":"{1} Transmission Charge includes Reliability Must Run Surcharge (RMR) of $0.000000/$0.000000 (w/ SUT) Eff September 1, 2019 and Transmission Enhancement Charge (TEC) of $0.004066/0.004335 (w/ SUT) Eff  May  1, 2025"}]
[{"$f":"'RT per Tariff'!A34","v":0}]
[]
[null," "]
[null,null,null," "]
[null,null,null," "]
[null,null,null," "]
[null,null,null," "]
[]
[]
[]
[]
[]
[]
[]
[]
[]
[]
[]
[]
[]
[]
[]
[]
[]
[]
[]
[]
[]
[]
[]
[]
[null,null," "]
[]
[]
[]
[]
[]
[]
[]
[" "]

{"sheet":"RGT Summary","index":9,"n_rows":39,"n_cols":14,"rows_kept":39,"cut":false,"hidden":false,"merged":[[12,6,12,7],[22,2,22,5],[22,6,22,7],[0,2,0,7],[2,2,2,7],[4,2,4,7],[6,2,6,7],[0,0,0,1],[1,0,1,1],[2,0,2,1],[3,0,3,1],[12,2,12,5]]}
[{"$f":"'RT per Tariff'!A1:B1","v":"Visual_Rate_Inventory  June 1, 2025"},null,"Jersey Central Power & Light"]
[{"$f":"NOW()","v":"2025-05-30T16:18:48.150"},null," "]
[{"$f":"NOW()","v":45807.679723958332},null,{"$f":"'RT per Tariff'!C3","v":"Rates Effective with Service Rendered June 1, 2025"}]
["RGT Summary"]
[null,null,"RGT(Residential Geothermal & Heat Pump)Service Classification"]
[null,null," "]
[null,null,"Summary of Charges *"]
[]
[]
[]
[null,null," "]
[]
[null,null,"Summary of Charges Applicable to Federal \nGovernment (SUT Exempt) Customers",null,null,null,"Summary Without BGS Reconciliation Charges"]
[null,null,"Customer Charge","Full Service Customer \nTotal kWh Charges{1}","Basic Generation Service Charge/Price to Compare{2}","Delivery Service kWh Charges{3}","Full Service Customer \nTotal kWh Charges","Basic Generation Service Charge/Price to Compare"]
["1.","Customer Charge",{"$f":"'RGT per Tariff'!C12","v":7.57},"N/A","N/A","N/A","N/A","N/A"]
[]
["2.","On-Peak Summer kWh",{"$f":"'RGT per Tariff'!C14","v":"N/A"},{"$f":"'RGT per Tariff'!N14","v":0.25217499999999998},{"$f":"'RGT per Tariff'!D14+'RGT per Tariff'!G14+'RGT per Tariff'!H14","v":0.18355700000000003},{"$f":"'RGT per Tariff'!E14+'RGT per Tariff'!F14+'RGT per Tariff'!I14+'RGT per Tariff'!K14+'RGT per Tariff'!M14+'RGT per Tariff'!J14+'RGT per Tariff'!L14","v":6.8617999999999998E-2},{"$f":"'RGT per Tariff'!N14-'RGT per Tariff'!H14","v":0.25213799999999997},{"$f":"'RGT per Tariff'!D14+'RGT per Tariff'!G14","v":0.18352000000000002},{"$f":"E17+F17-D17","v":0},{"$f":"D17-G17-'RGT per Tariff'!H14","v":9.2495997840169597E-18},{"$f":"E17-H17-'RGT per Tariff'!H14","v":9.2495997840169597E-18}]
["3.","Off-Peak Summer kWh",{"$f":"'RGT per Tariff'!C15","v":"N/A"},{"$f":"'RGT per Tariff'!N15","v":0.14336499999999999},{"$f":"'RGT per Tariff'!D15+'RGT per Tariff'!G15+'RGT per Tariff'!H15","v":0.10474699999999999},{"$f":"'RGT per Tariff'!E15+'RGT per Tariff'!F15+'RGT per Tariff'!I15+'RGT per Tariff'!K15+'RGT per Tariff'!M15+'RGT per Tariff'!J15+'RGT per Tariff'!L15","v":3.8618000000000006E-2},{"$f":"'RGT per Tariff'!N15-'RGT per Tariff'!H15","v":0.14332799999999998},{"$f":"'RGT per Tariff'!D15+'RGT per Tariff'!G15","v":0.10471},{"$f":"E18+F18-D18","v":0},{"$f":"D18-G18-'RGT per Tariff'!H15","v":9.2495997840169597E-18},{"$f":"E18-H18-'RGT per Tariff'!H15","v":-4.6281880237974971E-18}]
["4.","Winter kWh - 1 => 1,000",{"$f":"'RGT per Tariff'!C16","v":"N/A"},{"$f":"'RGT per Tariff'!N16","v":0.18969800000000001},{"$f":"'RGT per Tariff'!D16+'RGT per Tariff'!G16+'RGT per Tariff'!H16","v":0.14637200000000003},{"$f":"'RGT per Tariff'!E16+'RGT per Tariff'!F16+'RGT per Tariff'!I16+'RGT per Tariff'!K16+'RGT per Tariff'!M16+'RGT per Tariff'!J16+'RGT per Tariff'!L16","v":4.332600000000001E-2},{"$f":"'RGT per Tariff'!N16-'RGT per Tariff'!H16","v":0.189661},{"$f":"'RGT per Tariff'!D16+'RGT per Tariff'!G16","v":0.14633500000000002},0,{"$f":"D19-G19-'RGT per Tariff'!H16","v":9.2495997840169597E-18},{"$f":"E19-H19-'RGT per Tariff'!H16","v":9.2495997840169597E-18}]
["5.","Winter kWh > 1,000",{"$f":"'RGT per Tariff'!C17","v":"N/A"},{"$f":"'RGT per Tariff'!N17","v":0.18969800000000001},{"$f":"'RGT per Tariff'!D17+'RGT per Tariff'!G17+'RGT per Tariff'!H17","v":0.14637200000000003},{"$f":"'RGT per Tariff'!E17+'RGT per Tariff'!F17+'RGT per Tariff'!I17+'RGT per Tariff'!K17+'RGT per Tariff'!M17+'RGT per Tariff'!J17+'RGT per Tariff'!L17","v":4.332600000000001E-2},{"$f":"'RGT per Tariff'!N17-'RGT per Tariff'!H17","v":0.189661},{"$f":"'RGT per Tariff'!D17+'RGT per Tariff'!G17","v":0.14633500000000002},0,{"$f":"D20-G20-'RGT per Tariff'!H17","v":9.2495997840169597E-18},{"$f":"E20-H20-'RGT per Tariff'!H17","v":9.2495997840169597E-18}]
[]
[]
[null,null,"Summary of Charges Applicable to \nNormal (Non-Exempt) Customers",null,null,null,"Summary Without BGS Reconciliation Charges"]
[null,null,"Customer Charge","Full Service\nCustomer Total kWh Charges {1}","Basic Generation Service Charge/Price to Compare{4}","Delivery Service kWh Charges{3}","Full Service Customer Total kWh Charges","Basic Generation Service Charge/Price to Compare"]
["1.","Customer Charge",{"$f":"'RGT per Tariff'!C23","v":8.07},"N/A","N/A","N/A","N/A","N/A"]
[]
["2.","On-Peak Summer kWh",{"$f":"'RGT per Tariff'!C25","v":"N/A"},{"$f":"'RGT per Tariff'!N25","v":0.26887800000000001},{"$f":"'RGT per Tariff'!D25+'RGT per Tariff'!G25+'RGT per Tariff'!H25","v":0.19571600000000003},{"$f":"'RGT per Tariff'!E25+'RGT per Tariff'!F25+'RGT per Tariff'!I25+'RGT per Tariff'!K25+'RGT per Tariff'!M25+'RGT per Tariff'!J25+'RGT per Tariff'!L25","v":7.3161999999999991E-2},{"$f":"'RGT per Tariff'!N25-'RGT per Tariff'!H25","v":0.26883899999999999},{"$f":"'RGT per Tariff'!D25+'RGT per Tariff'!G25","v":0.19567700000000002},{"$f":"E27+F27-D27","v":0},{"$f":"D27-G27-'RGT per Tariff'!H25","v":1.1248597539537109E-17},{"$f":"E27-H27-'RGT per Tariff'!H25","v":1.1248597539537109E-17}]
["3.","Off-Peak Summer kWh",{"$f":"'RGT per Tariff'!C26","v":"N/A"},{"$f":"'RGT per Tariff'!N26","v":0.15285900000000002},{"$f":"'RGT per Tariff'!D26+'RGT per Tariff'!G26+'RGT per Tariff'!H26","v":0.11168499999999999},{"$f":"'RGT per Tariff'!E26+'RGT per Tariff'!F26+'RGT per Tariff'!I26+'RGT per Tariff'!K26+'RGT per Tariff'!M26+'RGT per Tariff'!J26+'RGT per Tariff'!L26","v":4.1173999999999995E-2},{"$f":"'RGT per Tariff'!N26-'RGT per Tariff'!H26","v":0.15282000000000001},{"$f":"'RGT per Tariff'!D26+'RGT per Tariff'!G26","v":0.111646},{"$f":"E28+F28-D28","v":0},{"$f":"D28-G28-'RGT per Tariff'!H26","v":1.1248597539537109E-17},{"$f":"E28-H28-'RGT per Tariff'!H26","v":-2.6291902682773483E-18}]
["4.","Winter kWh - 1 => 1,000",{"$f":"'RGT per Tariff'!C27","v":"N/A"},{"$f":"'RGT per Tariff'!N27","v":0.20226200000000003},{"$f":"'RGT per Tariff'!D27+'RGT per Tariff'!G27+'RGT per Tariff'!H27","v":0.15606800000000001},{"$f":"'RGT per Tariff'!E27+'RGT per Tariff'!F27+'RGT per Tariff'!I27+'RGT per Tariff'!K27+'RGT per Tariff'!M27+'RGT per Tariff'!J27+'RGT per Tariff'!L27","v":4.6193999999999992E-2},{"$f":"'RGT per Tariff'!N27-'RGT per Tariff'!H27","v":0.20222300000000001},{"$f":"'RGT per Tariff'!D27+'RGT per Tariff'!G27","v":0.156029},0,{"$f":"D29-G29-'RGT per Tariff'!H27","v":1.1248597539537109E-17},{"$f":"E29-H29-'RGT per Tariff'!H27","v":1.1248597539537109E-17}]
["5.","Winter kWh > 1,000",{"$f":"'RGT per Tariff'!C28","v":"N/A"},{"$f":"'RGT per Tariff'!N28","v":0.20226200000000003},{"$f":"'RGT per Tariff'!D28+'RGT per Tariff'!G28+'RGT per Tariff'!H28","v":0.15606800000000001},{"$f":"'RGT per Tariff'!E28+'RGT per Tariff'!F28+'RGT per Tariff'!I28+'RGT per Tariff'!K28+'RGT per Tariff'!M28+'RGT per Tariff'!J28+'RGT per Tariff'!L28","v":4.6193999999999992E-2},{"$f":"'RGT per Tariff'!N28-'RGT per Tariff'!H28","v":0.20222300000000001},{"$f":"'RGT per Tariff'!D28+'RGT per Tariff'!G28","v":0.156029},0,{"$f":"D30-G30-'RGT per Tariff'!H28","v":1.1248597539537109E-17},{"$f":"E30-H30-'RGT per Tariff'!H28","v":1.1248597539537109E-17}]
[null," "]
["* Note: Charges are billed to the customer by component as they appear in the Jersey Central Power & Light Tariff for Service."]
[" By multiplying the summarized charges in these tables times the customers kWh usage you may get an amount that is a few"]
[" cents different than the actual amount of the customer's bill due to rounding differences."]
[]
[{"$f":"'RT Summary'!A36","v":"{1} Includes Distribution, SBC, NGC, TAA, RRC, SRC, ZEC, Energy & Capacity, Transmission (including RMR and TEC) and BGS-RSCP reconciliation charges"}]
[{"$f":"'RT Summary'!A37","v":"{2} Includes Energy & Capacity, Transmission (including RMR and TEC) and the current BGS-RSCP reconciliation charge of $0.000037 per kWh"}]
[{"$f":"'RT Summary'!A38","v":"{3} Includes Distribution, SBC, NGC, TAA, RRC , and ZEC charges"}]
[{"$f":"'RT Summary'!A39","v":"{4} Includes Energy & Capacity, Transmission (including RMR and TEC) and the current BGS-RSCP reconciliation charge of $0.000039 per kWh"},null,null,null,null,null,null,null,null,null,null,null,null,8]

{"sheet":"GS FP per Tariff","index":10,"n_rows":164,"n_cols":16,"rows_kept":164,"cut":false,"hidden":false,"merged":[[65,0,65,1],[66,0,66,1],[74,2,74,13],[103,1,103,13],[72,2,72,11],[75,18,75,24],[69,17,69,23],[73,17,73,23],[67,0,67,1],[68,0,68,1],[42,32,42,35],[36,2,36,11],[0,2,0,11],[70,2,70,11],[3,2,3,11],[68,2,68,11],[65,17,65,23],[1,2,1,11],[41,32,41,35],[67,2,67,11],[69,2,69,11],[65,2,65,11],[66,2,66,11],[5,2,5,11],[67,17,67,23],[64,1,64,13],[0,0,0,1],[1,0,1,1],[2,0,2,1],[3,0,3,1],[40,32,40,35],[2,2,2,11],[6,2,6,11],[7,2,7,11],[4,2,4,11],[9,2,9,13],[38,2,38,13],[34,1,34,13],[109,0,109,9],[110,0,110,9],[111,0,111,9],[112,0,112,9],[117,5,117,7],[117,8,117,10],[142,5,142,7],[142,8,142,10],[134,0,134,9],[135,0,135,9],[136,0,136,9],[137,0,137,9],[139,4,140,10]]}
[{"$f":"'RT per Tariff'!A1:B1","v":"Visual_Rate_Inventory  June 1, 2025"},null,"Jersey Central Power & Light",null,null,null,null,null,null,null,null,null," "]
[{"$f":"NOW()","v":"2025-05-30T16:18:48.150"},null," "]
[{"$f":"NOW()","v":45807.679723958332},null,{"$f":"'RT per Tariff'!C3","v":"Rates Effective with Service Rendered June 1, 2025"}]
["GS FP per Tariff"]
[null,null,"GS (General Service Secondary) Service Classification - Fixed Price BGS Rates"]
[null,null,"Unbundled Rate Components"]
[]
[null,null,"Charges Applicable to Franchised Utility (Tax Exempt) Customers"]
[]
[null,null,"Unbundled Components Excluding CBT & SUT - 6/1/2025 Rates Applicable to Franchised Utility Customers "]
[null,null,{"$f":"'RT per Tariff'!C11","v":"Customer Charge"},{"$f":"'RT per Tariff'!D11","v":"Transmission* \n{1}"},{"$f":"'RT per Tariff'!E11","v":"Distribution"},{"$f":"'RT per Tariff'!F11","v":"Covid Recovery Charge"},{"$f":"\"BGS-RSCP \"&'RT per Tariff'!G11","v":"BGS-RSCP Energy & Capacity *"},{"$f":"'RT per Tariff'!H11","v":"BGS-RSCP Reconciliation Charge*"},{"$f":"'RT per Tariff'!I11","v":"Zero Emission Certificate Recovery Charge (ZEC)"},{"$f":"'RT per Tariff'!J11","v":"RGGI Recovery Charge (RRC)"},{"$f":"'RT per Tariff'!K11","v":"Societal Benefit Charge (SBC)"},{"$f":"'RT per Tariff'!L11","v":"LRAM"},{"$f":"'RT per Tariff'!M11","v":"Non-utility Generation Charge (NGC)"},"Total"]
["1.","Customer Charge-Single Phase",4.2,"N/A","N/A","N/A","N/A","N/A","N/A","N/A","N/A","N/A","N/A","N/A"]
["2.","Customer Charge-Three Phase",15.08,"N/A","N/A","N/A","N/A","N/A","N/A","N/A","N/A","N/A","N/A","N/A"]
["3.","Supp Cust Charge-OPWH",2.0099999999999998,"N/A","N/A","N/A","N/A","N/A","N/A","N/A","N/A","N/A","N/A","N/A"]
["     4.","Supp Cust Charge-CTWH",2.0099999999999998,"N/A","N/A","N/A","N/A","N/A","N/A","N/A","N/A","N/A","N/A","N/A"]
["     5.","Supp Cust Charge-Day/Night",3.44,"N/A","N/A","N/A","N/A","N/A","N/A","N/A","N/A","N/A","N/A","N/A"]
["     6.","Traffic Signal-Supp Cust Charges",15.67,"N/A","N/A","N/A","N/A","N/A","N/A","N/A","N/A","N/A","N/A","N/A"]
[]
["     7.","Over 10  KW Summer","N/A","N/A",8.1300000000000008,"N/A","N/A","N/A","N/A","N/A","N/A","N/A","N/A","N/A"]
["     8.","Over 10  KW Winter","N/A","N/A",7.58,"N/A","N/A","N/A","N/A","N/A","N/A","N/A","N/A","N/A"]
["     9.","Standby KW Charge","N/A","N/A","N/A","N/A","N/A","N/A","N/A","N/A","N/A","N/A","N/A","N/A"]
["    10.","Minimum Bill-Over 10 KW ","N/A","N/A",3.69,"N/A","N/A","N/A","N/A","N/A","N/A","N/A","N/A","N/A"]
[]
["11.","First 1,000 kWh Summer","N/A",{"$f":"'RT per Tariff'!D15","v":1.8019E-2},6.8053000000000002E-2,{"$f":"'RS per Tariff'!F16","v":3.3599999999999998E-4},0.117216,{"$f":"'RT per Tariff'!H$15","v":3.6999999999999998E-5},{"$f":"'RT per Tariff'!I$15","v":0},{"$f":"'RT per Tariff'!J15","v":4.4350000000000006E-3},{"$f":"'RT per Tariff'!$K$15","v":7.2230000000000003E-3},{"$f":"'SBC TBC and MTC Tax'!B60","v":4.6299999999999998E-4},{"$f":"'RT per Tariff'!M15","v":-2.1900000000000001E-4},{"$f":"SUM(D24:M24)","v":0.21556300000000003}]
["12.","First 1,000 kWh Winter","N/A",{"$f":"D$24","v":1.8019E-2},6.2967999999999996E-2,{"$f":"F$24","v":3.3599999999999998E-4},0.116883,{"$f":"'RT per Tariff'!H$15","v":3.6999999999999998E-5},{"$f":"'RT per Tariff'!I$15","v":0},{"$f":"'RT per Tariff'!J16","v":4.4350000000000006E-3},{"$f":"'RT per Tariff'!$K$15","v":7.2230000000000003E-3},{"$f":"$L$24","v":4.6299999999999998E-4},{"$f":"M$24","v":-2.1900000000000001E-4},0.210145]
["13.","Over 1,000 kWh Summer","N/A",{"$f":"D$24","v":1.8019E-2},5.4429999999999999E-3,{"$f":"F$24","v":3.3599999999999998E-4},{"$f":"G24","v":0.117216},{"$f":"'RT per Tariff'!H$15","v":3.6999999999999998E-5},{"$f":"'RT per Tariff'!I$15","v":0},{"$f":"J$24","v":4.4350000000000006E-3},{"$f":"'RT per Tariff'!$K$15","v":7.2230000000000003E-3},{"$f":"$L$24","v":4.6299999999999998E-4},{"$f":"M$24","v":-2.1900000000000001E-4},0.15295300000000001]
["14.","Over 1,000 kWh Winter","N/A",{"$f":"D$24","v":1.8019E-2},5.4429999999999999E-3,3.3599999999999998E-4,{"$f":"G25","v":0.116883},{"$f":"'RT per Tariff'!H$15","v":3.6999999999999998E-5},{"$f":"'RT per Tariff'!I$15","v":0},{"$f":"J$25","v":4.4350000000000006E-3},{"$f":"'RT per Tariff'!$K$15","v":7.2230000000000003E-3},4.6299999999999998E-4,-2.1900000000000001E-4,0.15262000000000001]
["15.","OPWH-kWh Summer","N/A",{"$f":"D24","v":1.8019E-2},1.9945999999999998E-2,3.3599999999999998E-4,{"$f":"'RS per Tariff'!G20","v":0.120435},{"$f":"'RT per Tariff'!H$15","v":3.6999999999999998E-5},{"$f":"'RT per Tariff'!I$15","v":0},{"$f":"J$24","v":4.4350000000000006E-3},{"$f":"'RT per Tariff'!$K$15","v":7.2230000000000003E-3},4.6299999999999998E-4,-2.1900000000000001E-4,0.17067499999999999]
["16.","OPWH-kWh Winter","N/A",{"$f":"D$28","v":1.8019E-2},1.9945999999999998E-2,3.3599999999999998E-4,{"$f":"'RS per Tariff'!G21","v":0.11988},{"$f":"'RT per Tariff'!H$15","v":3.6999999999999998E-5},{"$f":"'RT per Tariff'!I$15","v":0},{"$f":"J$25","v":4.4350000000000006E-3},{"$f":"'RT per Tariff'!$K$15","v":7.2230000000000003E-3},4.6299999999999998E-4,-2.1900000000000001E-4,0.17012000000000002]
["17.","CTWH-kWh Summer","N/A",{"$f":"D$28","v":1.8019E-2},2.6270999999999999E-2,3.3599999999999998E-4,{"$f":"'RS per Tariff'!G22","v":0.120435},{"$f":"'RT per Tariff'!H$15","v":3.6999999999999998E-5},{"$f":"'RT per Tariff'!I$15","v":0},{"$f":"J$24","v":4.4350000000000006E-3},{"$f":"'RT per Tariff'!$K$15","v":7.2230000000000003E-3},4.6299999999999998E-4,-2.1900000000000001E-4,0.17700000000000002]
["18.","CTWH-kWh Winter","N/A",{"$f":"D$28","v":1.8019E-2},2.6270999999999999E-2,3.3599999999999998E-4,{"$f":"'RS per Tariff'!G23","v":0.11988},{"$f":"'RT per Tariff'!H$15","v":3.6999999999999998E-5},{"$f":"'RT per Tariff'!I$15","v":0},{"$f":"J$25","v":4.4350000000000006E-3},{"$f":"'RT per Tariff'!$K$15","v":7.2230000000000003E-3},4.6299999999999998E-4,-2.1900000000000001E-4,0.17644499999999999]
["19.","Traffic Signal kWh Summer","N/A",{"$f":"D$24","v":1.8019E-2},1.4260999999999999E-2,3.3599999999999998E-4,{"$f":"G24","v":0.117216},{"$f":"'RT per Tariff'!H$15","v":3.6999999999999998E-5},{"$f":"'RT per Tariff'!I$15","v":0},{"$f":"J$24","v":4.4350000000000006E-3},{"$f":"'RT per Tariff'!$K$15","v":7.2230000000000003E-3},4.6299999999999998E-4,-2.1900000000000001E-4,0.16177100000000003]
["20.","Traffic Signal kWh Winter","N/A",{"$f":"D$24","v":1.8019E-2},1.4260999999999999E-2,3.3599999999999998E-4,{"$f":"G25","v":0.116883},{"$f":"'RT per Tariff'!H$15","v":3.6999999999999998E-5},{"$f":"'RT per Tariff'!I$15","v":0},{"$f":"J$25","v":4.4350000000000006E-3},{"$f":"'RT per Tariff'!$K$15","v":7.2230000000000003E-3},4.6299999999999998E-4,-2.1900000000000001E-4,0.161438]
[null,{"$f":"'RT per Tariff'!$A$32","v":"* Transmission, Energy & Capacity and BGS-RSCP Reconciliation Charges apply only to Full Service (non-shopping) Customers"}]
[null,{"$f":"B65","v":"{1} Transmission Charge includes Reliability Must Run Surcharge (RMR) of $0.000000/$0.000000 (w/ SUT) Eff September 1, 2019 and Transmission Enhancement Charge (TEC) of $0.004066/0.004335 (w/ SUT) Eff  May  1, 2025"}]
[]
[null,null,"Charges Applicable to Federal Government (SUT Exempt) Accounts - Fixed Price BGS Rates"]
[]
[null,null,{"$f":"'RT per Tariff'!C10","v":"Unbundled Components Including CBT - 6/1/2025 Rates Applicable to SUT Exempt Accounts"}]
[null,null,"Customer Charge",{"$f":"D11","v":"Transmission* \n{1}"},"Distribution","Covid Recovery Charge","BGS-RSCP Energy & Capacity *","BGS-RSCP Reconciliation Charge*","Zero Emission Certificate Recovery Charge (ZEC)","RGGI Recovery Charge (RRC)","Societal Benefit Charge (SBC)","LRAM","Non-utility Generation Charge (NGC)","Total"]
["1.","Customer Charge-Single Phase",4.3600000000000003,"N/A","N/A","N/A","N/A","N/A","N/A","N/A","N/A","N/A","N/A","N/A"]
["2.","Customer Charge-Three Phase",15.65,"N/A","N/A","N/A","N/A","N/A","N/A","N/A","N/A","N/A","N/A","N/A"]
["3.","Supp Cust Charge-OPWH",2.09,"N/A","N/A","N/A","N/A","N/A","N/A","N/A","N/A","N/A","N/A","N/A",8]
["     4.","Supp Cust Charge-CTWH",2.09,"N/A","N/A","N/A","N/A","N/A","N/A","N/A","N/A","N/A","N/A","N/A"]
["     5.","Supp Cust Charge-Day/Night",3.57,"N/A","N/A","N/A","N/A","N/A","N/A","N/A","N/A","N/A","N/A","N/A"]
["     6.","Traffic Signal-Supp Cust Charges",16.260000000000002,"N/A","N/A","N/A","N/A","N/A","N/A","N/A","N/A","N/A","N/A","N/A"]
[" "," "]
["     7.","Over 10  KW Summer","N/A","N/A",8.44,"N/A","N/A","N/A","N/A","N/A","N/A","N/A","N/A","N/A"]
["     8.","Over 10  KW Winter","N/A","N/A",7.86,"N/A","N/A","N/A","N/A","N/A","N/A","N/A","N/A","N/A"]
["     9.","Standby KW Charge","N/A","N/A",3.88,"N/A","N/A","N/A","N/A","N/A","N/A","N/A","N/A","N/A"]
["    10.","Minimum Bill-Over 10 KW ","N/A","N/A",3.83,"N/A","N/A","N/A","N/A","N/A","N/A","N/A","N/A","N/A"]
[" "," "]
["11.","First 1,000 kWh Summer","N/A",{"$f":"D24","v":1.8019E-2},7.0610000000000006E-2,{"$f":"F$24","v":3.3599999999999998E-4},{"$f":"G24","v":0.117216},{"$f":"'RT per Tariff'!H$15","v":3.6999999999999998E-5},{"$f":"'RT per Tariff'!I$15","v":0},{"$f":"'RT per Tariff'!J15","v":4.4350000000000006E-3},{"$f":"'RT per Tariff'!$K$15","v":7.2230000000000003E-3},{"$f":"$L$24","v":4.6299999999999998E-4},{"$f":"M$24","v":-2.1900000000000001E-4},{"$f":"SUM(D53:M53)","v":0.21812000000000001}]
["12.","First 1,000 kWh Winter","N/A",1.8019E-2,6.5334000000000003E-2,3.3599999999999998E-4,0.116883,{"$f":"'RT per Tariff'!H$15","v":3.6999999999999998E-5},{"$f":"'RT per Tariff'!I$15","v":0},{"$f":"'RT per Tariff'!J16","v":4.4350000000000006E-3},{"$f":"'RT per Tariff'!$K$15","v":7.2230000000000003E-3},4.6299999999999998E-4,-2.1900000000000001E-4,0.21251100000000003]
["13.","Over 1,000 kWh Summer","N/A",1.8019E-2,5.6470000000000001E-3,3.3599999999999998E-4,0.117216,{"$f":"'RT per Tariff'!H$15","v":3.6999999999999998E-5},{"$f":"'RT per Tariff'!I$15","v":0},{"$f":"J$53","v":4.4350000000000006E-3},{"$f":"'RT per Tariff'!$K$15","v":7.2230000000000003E-3},4.6299999999999998E-4,-2.1900000000000001E-4,0.15315700000000002]
["14.","Over 1,000 kWh Winter","N/A",1.8019E-2,5.6470000000000001E-3,3.3599999999999998E-4,0.116883,{"$f":"'RT per Tariff'!H$15","v":3.6999999999999998E-5},{"$f":"'RT per Tariff'!I$15","v":0},{"$f":"J$54","v":4.4350000000000006E-3},{"$f":"'RT per Tariff'!$K$15","v":7.2230000000000003E-3},4.6299999999999998E-4,-2.1900000000000001E-4,0.15282400000000002]
["15.","OPWH-kWh Summer","N/A",1.8019E-2,2.0695000000000002E-2,3.3599999999999998E-4,0.120435,{"$f":"'RT per Tariff'!H$15","v":3.6999999999999998E-5},{"$f":"'RT per Tariff'!I$15","v":0},4.4350000000000006E-3,{"$f":"'RT per Tariff'!$K$15","v":7.2230000000000003E-3},4.6299999999999998E-4,-2.1900000000000001E-4,0.17142399999999999]
["16.","OPWH-kWh Winter","N/A",1.8019E-2,2.0695000000000002E-2,3.3599999999999998E-4,0.11988,{"$f":"'RT per Tariff'!H$15","v":3.6999999999999998E-5},{"$f":"'RT per Tariff'!I$15","v":0},{"$f":"J$54","v":4.4350000000000006E-3},{"$f":"'RT per Tariff'!$K$15","v":7.2230000000000003E-3},4.6299999999999998E-4,-2.1900000000000001E-4,0.17086900000000002]
["17.","CTWH-kWh Summer","N/A",1.8019E-2,2.7258000000000001E-2,3.3599999999999998E-4,0.120435,{"$f":"'RT per Tariff'!H$15","v":3.6999999999999998E-5},{"$f":"'RT per Tariff'!I$15","v":0},4.4350000000000006E-3,{"$f":"'RT per Tariff'!$K$15","v":7.2230000000000003E-3},4.6299999999999998E-4,-2.1900000000000001E-4,0.17798700000000001]
["18.","CTWH-kWh Winter","N/A",1.8019E-2,2.7258000000000001E-2,3.3599999999999998E-4,0.11988,{"$f":"'RT per Tariff'!H$15","v":3.6999999999999998E-5},{"$f":"'RT per Tariff'!I$15","v":0},{"$f":"J$54","v":4.4350000000000006E-3},{"$f":"'RT per Tariff'!$K$15","v":7.2230000000000003E-3},4.6299999999999998E-4,-2.1900000000000001E-4,0.17743200000000001]
["19.","Traffic Signal kWh Summer","N/A",1.8019E-2,1.4796999999999999E-2,3.3599999999999998E-4,0.117216,{"$f":"'RT per Tariff'!H$15","v":3.6999999999999998E-5},{"$f":"'RT per Tariff'!I$15","v":0},4.4350000000000006E-3,{"$f":"'RT per Tariff'!$K$15","v":7.2230000000000003E-3},4.6299999999999998E-4,-2.1900000000000001E-4,0.16230700000000001]
["20.","Traffic Signal kWh Winter","N/A",1.8019E-2,1.4796999999999999E-2,3.3599999999999998E-4,0.116883,{"$f":"'RT per Tariff'!H$15","v":3.6999999999999998E-5},{"$f":"'RT per Tariff'!I$15","v":0},{"$f":"J$54","v":4.4350000000000006E-3},{"$f":"'RT per Tariff'!$K$15","v":7.2230000000000003E-3},4.6299999999999998E-4,-2.1900000000000001E-4,0.16197400000000001]
[]
[null,{"$f":"'RT per Tariff'!$A$32","v":"* Transmission, Energy & Capacity and BGS-RSCP Reconciliation Charges apply only to Full Service (non-shopping) Customers"}]
[null,{"$f":"'RT per Tariff'!A33","v":"{1} Transmission Charge includes Reliability Must Run Surcharge (RMR) of $0.000000/$0.000000 (w/ SUT) Eff September 1, 2019 and Transmission Enhancement Charge (TEC) of $0.004066/0.004335 (w/ SUT) Eff  May  1, 2025"}]
[{"$f":"'Disclaimer and Definitions'!$A$1","v":"Visual_Rate_Inventory  June 1, 2025"},null,"Jersey Central Power & Light",null,null,null,null,null,null,null,null,null," "]
[{"$f":"NOW()","v":"2025-05-30T16:18:48.150"},null," "]
[{"$f":"NOW()","v":45807.679723958332}]
["GS FP per Tariff"]
[null,null,"GS (General Service Secondary) Service Classification"]
[null,null,"Unbundled Rate Components"]
[]
[null,null,"Charges Applicable to Non-Tax-Exempt Accounts - Fixed Price BGS Rates"]
[]
[null,null,{"$f":"'RT per Tariff'!C22","v":"Unbundled Components Including CBT and SUT - 6/1/2025 Rates Applicable to Non-Tax-Exempt Customers"}]
[null,null,"Customer Charge",{"$f":"D11","v":"Transmission* \n{1}"},"Distribution","Covid Recovery Charge","BGS-RSCP Energy & Capacity *","BGS-RSCP Reconciliation Charge*","Zero Emission Certificate Recovery Charge (ZEC)","RGGI Recovery Charge (RRC)","Societal Benefit Charge (SBC)","LRAM","Non-utility Generation Charge (NGC)","Total"]
["1.","Customer Charge-Single Phase",{"$f":"ROUND(C41*SUT_6625,2)","v":4.6500000000000004},"N/A","N/A","N/A","N/A","N/A","N/A","N/A","N/A","N/A","N/A","N/A"]
["2.","Customer Charge-Three Phase",16.690000000000001,"N/A","N/A","N/A","N/A","N/A","N/A","N/A","N/A","N/A","N/A","N/A"]
["3.","Supp Cust Charge-OPWH",2.23,"N/A","N/A","N/A","N/A","N/A","N/A","N/A","N/A","N/A","N/A","N/A"]
["     4.","Supp Cust Charge-CTWH",2.23,"N/A","N/A","N/A","N/A","N/A","N/A","N/A","N/A","N/A","N/A","N/A"]
["     5.","Supp Cust Charge-Day/Night",3.81,"N/A","N/A","N/A","N/A","N/A","N/A","N/A","N/A","N/A","N/A","N/A"]
["     6.","Traffic Signal-Supp Cust Charges",17.34,"N/A","N/A","N/A","N/A","N/A","N/A","N/A","N/A","N/A","N/A","N/A"]
[" "," "]
["     7.","Over 10  KW Summer","N/A","N/A",{"$f":"ROUND(E48*SUT_6625,2)","v":9},"N/A","N/A","N/A","N/A","N/A","N/A","N/A","N/A","N/A"]
["     8.","Over 10  KW Winter","N/A","N/A",{"$f":"ROUND(E49*SUT_6625,2)","v":8.3800000000000008},"N/A","N/A","N/A","N/A","N/A","N/A","N/A","N/A","N/A"]
["     9.","Standby KW Charge","N/A","N/A",{"$f":"ROUND(E50*SUT_6625,2)","v":4.1399999999999997},"N/A","N/A","N/A","N/A","N/A","N/A","N/A","N/A","N/A"]
["    10.","Minimum Bill-Over 10 KW ","N/A","N/A",{"$f":"ROUND(E51*SUT_6625,2)","v":4.08},"N/A","N/A","N/A","N/A","N/A","N/A","N/A","N/A","N/A"]
[" "," "]
["11.","First 1,000 kWh Summer","N/A",{"$f":"'RT per Tariff'!D27","v":1.9212E-2},{"$f":"ROUND(E53*SUT_6625,6)","v":7.5287999999999994E-2},{"$f":"ROUND(F24*SUT_6625,6)","v":3.5799999999999997E-4},{"$f":"ROUND(G24*SUT_6625,6)","v":0.124982},{"$f":"'RT per Tariff'!H$27","v":3.8999999999999999E-5},{"$f":"'RT per Tariff'!I$27","v":0},{"$f":"'RT per Tariff'!J27","v":4.7289999999999997E-3},{"$f":"'RT per Tariff'!$K$27","v":7.7000000000000002E-3},{"$f":"ROUND(L53*SUT_6625,6)","v":4.9399999999999997E-4},{"$f":"ROUND(M24*SUT_6625,6)","v":-2.34E-4},{"$f":"SUM(D89:M89)","v":0.232568}]
["12.","First 1,000 kWh Winter","N/A",{"$f":"D$89","v":1.9212E-2},6.9662000000000002E-2,{"$f":"F$89","v":3.5799999999999997E-4},{"$f":"ROUND(G25*SUT_6625,6)","v":0.124626},{"$f":"'RT per Tariff'!H$27","v":3.8999999999999999E-5},{"$f":"'RT per Tariff'!I$27","v":0},{"$f":"'RT per Tariff'!J28","v":4.7289999999999997E-3},{"$f":"'RT per Tariff'!$K$27","v":7.7000000000000002E-3},4.9399999999999997E-4,{"$f":"M$89","v":-2.34E-4},0.22658600000000001]
["13.","Over 1,000 kWh Summer","N/A",{"$f":"D$89","v":1.9212E-2},6.0210000000000003E-3,3.5799999999999997E-4,{"$f":"G89","v":0.124982},{"$f":"'RT per Tariff'!H$27","v":3.8999999999999999E-5},{"$f":"'RT per Tariff'!I$27","v":0},{"$f":"J$89","v":4.7289999999999997E-3},{"$f":"'RT per Tariff'!$K$27","v":7.7000000000000002E-3},4.9399999999999997E-4,{"$f":"M$89","v":-2.34E-4},0.163301]
["14.","Over 1,000 kWh Winter","N/A",{"$f":"D$89","v":1.9212E-2},6.0210000000000003E-3,3.5799999999999997E-4,{"$f":"G90","v":0.124626},{"$f":"'RT per Tariff'!H$27","v":3.8999999999999999E-5},{"$f":"'RT per Tariff'!I$27","v":0},{"$f":"J$90","v":4.7289999999999997E-3},{"$f":"'RT per Tariff'!$K$27","v":7.7000000000000002E-3},4.9399999999999997E-4,-2.34E-4,0.16294500000000001]
["15.","OPWH-kWh Summer","N/A",{"$f":"D89","v":1.9212E-2},2.2065999999999999E-2,3.5799999999999997E-4,{"$f":"'RS per Tariff'!G37","v":0.128414},{"$f":"'RT per Tariff'!H$27","v":3.8999999999999999E-5},{"$f":"'RT per Tariff'!I$27","v":0},4.7289999999999997E-3,{"$f":"'RT per Tariff'!$K$27","v":7.7000000000000002E-3},4.9399999999999997E-4,-2.34E-4,0.182778]
["16.","OPWH-kWh Winter","N/A",{"$f":"D$93","v":1.9212E-2},2.2065999999999999E-2,3.5799999999999997E-4,{"$f":"'RS per Tariff'!G38","v":0.12782199999999999},{"$f":"'RT per Tariff'!H$27","v":3.8999999999999999E-5},{"$f":"'RT per Tariff'!I$27","v":0},{"$f":"J$90","v":4.7289999999999997E-3},{"$f":"'RT per Tariff'!$K$27","v":7.7000000000000002E-3},4.9399999999999997E-4,-2.34E-4,0.18218600000000001]
["17.","CTWH-kWh Summer","N/A",{"$f":"D$93","v":1.9212E-2},2.9064E-2,3.5799999999999997E-4,{"$f":"'RS per Tariff'!G39","v":0.128414},{"$f":"'RT per Tariff'!H$27","v":3.8999999999999999E-5},{"$f":"'RT per Tariff'!I$27","v":0},4.7289999999999997E-3,{"$f":"'RT per Tariff'!$K$27","v":7.7000000000000002E-3},4.9399999999999997E-4,-2.34E-4,0.189776]
["18.","CTWH-kWh Winter","N/A",{"$f":"D$93","v":1.9212E-2},2.9064E-2,3.5799999999999997E-4,{"$f":"'RS per Tariff'!G40","v":0.12782199999999999},{"$f":"'RT per Tariff'!H$27","v":3.8999999999999999E-5},{"$f":"'RT per Tariff'!I$27","v":0},{"$f":"J$90","v":4.7289999999999997E-3},{"$f":"'RT per Tariff'!$K$27","v":7.7000000000000002E-3},4.9399999999999997E-4,-2.34E-4,0.18918400000000002]
["19.","Traffic Signal kWh Summer","N/A",{"$f":"D$89","v":1.9212E-2},1.5776999999999999E-2,3.5799999999999997E-4,{"$f":"G89","v":0.124982},{"$f":"'RT per Tariff'!H$27","v":3.8999999999999999E-5},{"$f":"'RT per Tariff'!I$27","v":0},4.7289999999999997E-3,{"$f":"'RT per Tariff'!$K$27","v":7.7000000000000002E-3},4.9399999999999997E-4,-2.34E-4,0.17305700000000002]
["20.","Traffic Signal kWh Winter","N/A",{"$f":"D$89","v":1.9212E-2},1.5776999999999999E-2,3.5799999999999997E-4,{"$f":"G90","v":0.124626},{"$f":"'RT per Tariff'!H$27","v":3.8999999999999999E-5},{"$f":"'RT per Tariff'!I$27","v":0},{"$f":"J$90","v":4.7289999999999997E-3},{"$f":"'RT per Tariff'!$K$27","v":7.7000000000000002E-3},4.9399999999999997E-4,-2.34E-4,0.17270100000000002]
["21.","Church Credit-1st 1,000 kWh","N/A","N/A",{"$f":"ROUND(-0.035998*SUT_6625,6)","v":-3.8383E-2},"N/A",0,"N/A","N/A","N/A","N/A",null,"N/A",-3.8383E-2]
["22.","Church-1st 1,000 kWh-Summer(Incl.Credit)","N/A",{"$f":"D$89","v":1.9212E-2},{"$f":"E89+E99","v":3.6904999999999993E-2},{"$f":"F$89","v":3.5799999999999997E-4},{"$f":"G89","v":0.124982},{"$f":"'RT per Tariff'!H$27","v":3.8999999999999999E-5},{"$f":"'RT per Tariff'!I$27","v":0},{"$f":"J$89","v":4.7289999999999997E-3},{"$f":"'RT per Tariff'!$K$27","v":7.7000000000000002E-3},{"$f":"L89+L99","v":4.9399999999999997E-4},{"$f":"M$89","v":-2.34E-4},0.194185]
["23.","Church-1st 1,000 kWh-Winter(Incl.Credit)","N/A",{"$f":"D$89","v":1.9212E-2},{"$f":"E90+E99","v":3.1279000000000001E-2},{"$f":"F$89","v":3.5799999999999997E-4},{"$f":"G90","v":0.124626},{"$f":"'RT per Tariff'!H$27","v":3.8999999999999999E-5},{"$f":"'RT per Tariff'!I$27","v":0},{"$f":"J$90","v":4.7289999999999997E-3},{"$f":"'RT per Tariff'!$K$27","v":7.7000000000000002E-3},{"$f":"L90+L99","v":4.9399999999999997E-4},{"$f":"M$89","v":-2.34E-4},0.18820300000000001]
[]
[null,{"$f":"'RT per Tariff'!$A$32","v":"* Transmission, Energy & Capacity and BGS-RSCP Reconciliation Charges apply only to Full Service (non-shopping) Customers"}]
[null,{"$f":"'RT per Tariff'!A33","v":"{1} Transmission Charge includes Reliability Must Run Surcharge (RMR) of $0.000000/$0.000000 (w/ SUT) Eff September 1, 2019 and Transmission Enhancement Charge (TEC) of $0.004066/0.004335 (w/ SUT) Eff  May  1, 2025"}]
[]
[]
[null,null,null," "]
[null,null,null," "]
[]
[{"$f":"\"Assumptions: Bill Credit is calculated at the pre-SUT rate.  Subscriber has 5% investment from \"&TEXT(D120,\"mm/dd/yyyy\")&\" to \"&TEXT(E120,\"mm/dd/yyyy\")","v":"Assumptions: Bill Credit is calculated at the pre-SUT rate.  Subscriber has 5% investment from 06/01/2025 to 07/01/2025"}]
["Customer billed for 1000 KWH usage on Service Classification GS Default Service"]
["Host Output: 20,000 KWH"]
["Customer (Subscriber) Allocated: 1000 KWH"]
[]
["Normal Full Bill",null,{"$f":"H132","v":237.22}]
["Community Solar Credit",null,{"$f":"K132","v":155.48000000000002}]
["Charges Due",null,{"$f":"C115-C116","v":81.739999999999981}]
[null,null,null,null,null,"Normal Full Bill",null,null,"Credit Calculation"]
[null,"Charge Type","Credit","Period Start","Period End","Consumed kWh","Price","Charges","Allocated kWh","Pre-SUT Price","Credit @ Pre-SUT"]
[null,"Customer Charge","No","2025-06-01",{"$f":"D120+30","v":"2025-07-01"},null,{"$f":"C77","v":4.6500000000000004},{"$f":"G120","v":4.6500000000000004}]
[null,"Non-Utility Generation Charge (MTC)","No",{"$f":"$D$120","v":"2025-06-01"},{"$f":"E$120","v":"2025-07-01"},1000,{"$f":"M89","v":-2.34E-4},{"$f":"ROUND(F121*G121,2)","v":-0.23}]
[null,"SBC Charge","No",{"$f":"$D$120","v":"2025-06-01"},{"$f":"E$120","v":"2025-07-01"},1000,{"$f":"K89","v":7.7000000000000002E-3},{"$f":"ROUND(F122*G122,2)","v":7.7}]
[null,"ZEC Recovery Charge","No","2025-06-01","2025-07-01",1000,{"$f":"I89","v":0},0]
[null,"BGS Energy Charges","Yes","2025-06-01","2025-07-01",1000,{"$f":"IF(AND(MONTH(D124)<=9,MONTH(D124)>=6),G89,G90)","v":0.124982},124.98,{"$f":"F124","v":1000},{"$f":"IF(AND(MONTH(D124)<=9,MONTH(D124)>=6),G53,G54)","v":0.117216},{"$f":"ROUND(I124*J124,2)","v":117.22},null," ",null,null,{"$f":"ROUND(J124*1.06625,6)-G124","v":0}]
[null,"BGS Transmission","Yes","2025-06-01","2025-07-01",1000,{"$f":"D89","v":1.9212E-2},19.21,1000,{"$f":"D53","v":1.8019E-2},18.02,null,null,null,null,{"$f":"ROUND(J125*1.06625,6)-G125","v":1.0000000000010001E-6}]
[null,"BGS Reconciliation","Yes","2025-06-01","2025-07-01",1000,{"$f":"H89","v":3.8999999999999999E-5},0.04,1000,{"$f":"H53","v":3.6999999999999998E-5},0.04,null,null,null,null,{"$f":"ROUND(J126*1.06625,6)-G126","v":0}]
[null,"Distribution 0-1000 kWh","Yes","2025-06-01","2025-07-01",1000,{"$f":"IF(AND(MONTH(D127)<=9,MONTH(D127)>=6),E89,E90)","v":7.5287999999999994E-2},75.290000000000006,1000,{"$f":"IF(AND(MONTH(D127)<=9,MONTH(D127)>=6),B160,B161)","v":1.4963000000000001E-2},14.96,"*"]
[null,"Distribution 1000+ kWh","Yes","2025-06-01","2025-07-01",0,{"$f":"IF(AND(MONTH(D128)<=9,MONTH(D128)>=6),E91,E92)","v":6.0210000000000003E-3},0,0,{"$f":"J127","v":1.4963000000000001E-2},0,"*"]
[null,"RGGI Charge","Yes","2025-06-01","2025-07-01",1000,{"$f":"J97","v":4.7289999999999997E-3},4.7300000000000004,1000,{"$f":"J53","v":4.4350000000000006E-3},4.4400000000000004,null,null,null,null,{"$f":"ROUND(J129*1.06625,6)-G129","v":0}]
[null,"Covid Recovery Charge","Yes","2025-06-01","2025-07-01",1000,{"$f":"F89","v":3.5799999999999997E-4},{"$f":"ROUND(F130*G130,2)","v":0.36},{"$f":"F130","v":1000},{"$f":"F24","v":3.3599999999999998E-4},{"$f":"ROUND(I130*J130,2)","v":0.34}]
[null,"LRAM","Yes","2025-06-01","2025-07-01",1000,{"$f":"L97","v":4.9399999999999997E-4},0.49,1000,{"$f":"L24","v":4.6299999999999998E-4},0.46,null,null,null,null,{"$f":"ROUND(J131*1.06625,6)-G131","v":0}]
[null,null,null,null,null,null,"Normal Full Bill",{"$f":"SUM(H120:H131)","v":237.22},null,"Community Solar Credit",{"$f":"SUM(K124:K131)","v":155.48000000000002}]
[]
[]
[{"$f":"\"Assumptions: Bill Credit is calculated at the pre-SUT rate.  Subscriber has 50% investment from \"&TEXT(D145,\"mm/dd/yyyy\")&\" to \"&TEXT(E145,\"mm/dd/yyyy\")","v":"Assumptions: Bill Credit is calculated at the pre-SUT rate.  Subscriber has 50% investment from 06/01/2025 to 07/01/2025"}]
["Certified mastered billed affordable housing customer billed for 20,000 KWH/50 kW usage on Service Classification GS Default Service"]
["Host Output: 20,000 KWH"]
["Customer (Subscriber) Allocated: 10000 KWH"]
[]
["Normal Full Bill",null,{"$f":"H159","v":3693.14},null,"Note: Individual program participant's distribution demand credit per kWh will be based on its distribution demand cost and distribution energy usage averaged over prior 12 months."]
["Community Solar Credit",null,{"$f":"K159","v":1849.0800000000002}]
["Charges Due",null,{"$f":"C140-C141","v":1844.0599999999997}]
[null,null,null,null,null,"Normal Full Bill",null,null,"Credit Calculation"]
[null,"Charge Type","Credit","Period Start","Period End","Consumed kWh","Price","Charges","Allocated kWh","Pre-SUT Price","Credit @ Pre-SUT"]
[null,"Customer Charge","No",{"$f":"D120","v":"2025-06-01"},{"$f":"D145+30","v":"2025-07-01"},null,{"$f":"C77","v":4.6500000000000004},{"$f":"G145","v":4.6500000000000004}]
[null,"Non-Utility Generation Charge (MTC)","No",{"$f":"$D$120","v":"2025-06-01"},{"$f":"E$120","v":"2025-07-01"},20000,{"$f":"M89","v":-2.34E-4},{"$f":"ROUND(F146*G146,2)","v":-4.68}]
[null,"SBC Charge","No",{"$f":"$D$120","v":"2025-06-01"},{"$f":"E$120","v":"2025-07-01"},{"$f":"F$146","v":20000},{"$f":"K89","v":7.7000000000000002E-3},{"$f":"ROUND(F147*G147,2)","v":154}]
[null,"ZEC Recovery Charge","No","2025-06-01","2025-07-01",{"$f":"F$146","v":20000},{"$f":"I89","v":0},0]
[null,"BGS Energy Charges","Yes","2025-06-01","2025-07-01",{"$f":"F$146","v":20000},{"$f":"IF(AND(MONTH(D149)<=9,MONTH(D149)>=6),G89,G90)","v":0.124982},2499.64,10000,{"$f":"IF(AND(MONTH(D149)<=9,MONTH(D149)>=6),G53,G54)","v":0.117216},{"$f":"ROUND(I149*J149,2)","v":1172.1600000000001},null,null,null,null,{"$f":"ROUND(J149*1.06625,6)-G149","v":0}]
[null,"BGS Transmission","Yes","2025-06-01","2025-07-01",{"$f":"F$146","v":20000},{"$f":"D89","v":1.9212E-2},384.24,{"$f":"I$149","v":10000},{"$f":"D53","v":1.8019E-2},180.19,null,null,null,null,{"$f":"ROUND(J150*1.06625,6)-G150","v":1.0000000000010001E-6}]
[null,"BGS Reconciliation","Yes","2025-06-01","2025-07-01",{"$f":"F$146","v":20000},{"$f":"H89","v":3.8999999999999999E-5},0.78,{"$f":"I$149","v":10000},{"$f":"H53","v":3.6999999999999998E-5},0.37,null,null,null,null,{"$f":"ROUND(J151*1.06625,6)-G151","v":0}]
[null,"Distribution kW","Yes","2025-06-01","2025-07-01",10,0,0,1000,0,0,null,null,null,null,{"$f":"ROUND(J152*1.06625,6)-G152","v":0}]
[null,"Distribution kW","Yes","2025-06-01","2025-07-01",40,{"$f":"IF(AND(MONTH(D153)<=9,MONTH(D153)>=6),E84,E85)","v":9},360,{"$f":"I149-I152","v":9000},{"$f":"IF(AND(MONTH(D153)<=9,MONTH(D153)>=6),B163,B164)","v":3.3044999999999998E-2},297.41000000000003,"*"]
[null,"Distribution 0-1000 kWh","Yes","2025-06-01","2025-07-01",1000,{"$f":"IF(AND(MONTH(D154)<=9,MONTH(D154)>=6),E89,E90)","v":7.5287999999999994E-2},75.290000000000006,{"$f":"F154","v":1000},{"$f":"IF(AND(MONTH(D154)<=9,MONTH(D154)>=6),B160,B161)","v":1.4963000000000001E-2},14.96,"*"]
[null,"Distribution 1000+ kWh","Yes","2025-06-01","2025-07-01",{"$f":"F146-F154","v":19000},{"$f":"IF(AND(MONTH(D155)<=9,MONTH(D155)>=6),E91,E92)","v":6.0210000000000003E-3},114.4,{"$f":"I149-I154","v":9000},{"$f":"J154","v":1.4963000000000001E-2},134.66999999999999,"*"]
[null,"RGGI Charge","Yes","2025-06-01","2025-07-01",{"$f":"F$146","v":20000},{"$f":"J89","v":4.7289999999999997E-3},94.58,{"$f":"I$149","v":10000},{"$f":"J53","v":4.4350000000000006E-3},44.35,null,null,null,null,{"$f":"ROUND(J156*1.06625,6)-G156","v":0}]
[null,{"$f":"B130","v":"Covid Recovery Charge"},{"$f":"C130","v":"Yes"},"2025-06-01","2025-07-01",1000,3.5799999999999997E-4,0.36,1000,3.3599999999999998E-4,0.34]
[null,"LRAM","Yes","2025-06-01","2025-07-01",{"$f":"F$146","v":20000},{"$f":"L89","v":4.9399999999999997E-4},9.8800000000000008,{"$f":"I$149","v":10000},{"$f":"L53","v":4.6299999999999998E-4},4.63,null,null,null,null,{"$f":"ROUND(J158*1.06625,6)-G158","v":0}]
[null,null,null,null,null,null,"Normal Full Bill",{"$f":"SUM(H145:H158)","v":3693.14},null,"Community Solar Credit",{"$f":"SUM(K149:K158)","v":1849.0800000000002}]
[null,1.4963000000000001E-2,"Dist Summer kWh"]
[null,1.5198E-2,"Dist Winter kWh"]
[]
[null,3.3044999999999998E-2,"Dist Summer Demand per kWh, for 1000 kWh+"]
[null,1.9883999999999999E-2,"Dist Winter Demand per kWh, for 1000kWh+"]

{"sheet":"GS FP Summary","index":11,"n_rows":110,"n_cols":14,"rows_kept":110,"cut":false,"hidden":false,"merged":[[0,2,0,7],[2,2,2,7],[4,2,4,7],[6,2,6,7],[9,6,9,7],[9,2,9,5],[38,2,38,5],[38,6,38,7],[74,2,74,5],[74,6,74,7],[65,2,65,7],[67,2,67,7],[69,2,69,7],[71,2,71,7],[68,0,68,1],[65,0,65,1],[66,0,66,1],[0,0,0,1],[1,0,1,1],[2,0,2,1],[3,0,3,1],[67,0,67,1]]}
[{"$f":"'GS FP per Tariff'!A1:B1","v":"Visual_Rate_Inventory  June 1, 2025"},null,"Jersey Central Power & Light"]
[{"$f":"NOW()","v":"2025-05-30T16:18:48.150"},null," "]
[{"$f":"NOW()","v":45807.679723958332},null,{"$f":"'RT per Tariff'!C3","v":"Rates Effective with Service Rendered June 1, 2025"}]
["GS FP Summary"]
[null,null,"GS (General Service Secondary) Service Classification - Fixed Price BGS Rates"]
[null,null," "]
[null,null,"Summary of Charges *"]
[null,null," "]
[]
[null,null,"Summary of Charges Applicable to Franchised \nUtility (Tax Exempt) Customers",null,null,null,"Summary Without BGS Reconciliation Charges"]
[null,null,"Customer Charge","Full Service Customer \nTotal kWh Charges{1}","Basic Generation Service Charge/Price to Compare{2}","Delivery Service kWh Charges{3}","Full Service Customer \nTotal kWh Charges","Basic Generation Service Charge/Price to Compare"]
["1.","Customer Charge-Single Phase",{"$f":"'GS FP per Tariff'!C12","v":4.2},"N/A","N/A","N/A","N/A","N/A"]
["2.","Customer Charge-Three Phase",{"$f":"'GS FP per Tariff'!C13","v":15.08},"N/A","N/A","N/A","N/A","N/A"]
["3.","Supp Cust Charge-OPWH",{"$f":"'GS FP per Tariff'!C14","v":2.0099999999999998},"N/A","N/A","N/A","N/A","N/A"]
["     4.","Supp Cust Charge-CTWH",{"$f":"'GS FP per Tariff'!C15","v":2.0099999999999998},"N/A","N/A","N/A","N/A","N/A"]
["     5.","Supp Cust Charge-Day/Night",{"$f":"'GS FP per Tariff'!C16","v":3.44},"N/A","N/A","N/A","N/A","N/A"]
["     6.","Traffic Signal-Supp Cust Charges",{"$f":"'GS FP per Tariff'!C17","v":15.67},"N/A","N/A","N/A","N/A","N/A"]
[]
["     7.","Over 10  KW Summer",{"$f":"'GS FP per Tariff'!C19","v":"N/A"},"N/A","N/A","N/A","N/A","N/A"]
["     8.","Over 10  KW Winter",{"$f":"'GS FP per Tariff'!C20","v":"N/A"},"N/A","N/A","N/A","N/A","N/A"]
["     9.","Standby KW Charge",{"$f":"'GS FP per Tariff'!C21","v":"N/A"},"N/A","N/A","N/A","N/A","N/A"]
["    10.","Minimum Bill-Over 10 KW ",{"$f":"'GS FP per Tariff'!C22","v":"N/A"},"N/A","N/A","N/A","N/A","N/A"]
[]
["11.","First 1,000 kWh Summer",{"$f":"'GS FP per Tariff'!C24","v":"N/A"},{"$f":"'GS FP per Tariff'!N24","v":0.21556300000000003},{"$f":"SUM('GS FP per Tariff'!D24,'GS FP per Tariff'!G24:H24)","v":0.135272},{"$f":"SUM('GS FP per Tariff'!E24:F24,'GS FP per Tariff'!I24:M24)","v":8.0291000000000015E-2},{"$f":"'GS FP per Tariff'!N24-'GS FP per Tariff'!H24","v":0.21552600000000002},{"$f":"'GS FP per Tariff'!D24+'GS FP per Tariff'!G24","v":0.13523499999999999},{"$f":"E24+F24-D24","v":0},{"$f":"D24-G24-'GS FP per Tariff'!H24","v":9.2495997840169597E-18},{"$f":"E24-H24-'GS FP per Tariff'!H24","v":9.2495997840169597E-18}]
["12.","First 1,000 kWh Winter",{"$f":"'GS FP per Tariff'!C25","v":"N/A"},{"$f":"'GS FP per Tariff'!N25","v":0.210145},{"$f":"SUM('GS FP per Tariff'!D25,'GS FP per Tariff'!G25:H25)","v":0.134939},{"$f":"SUM('GS FP per Tariff'!E25:F25,'GS FP per Tariff'!I25:M25)","v":7.5206000000000009E-2},{"$f":"'GS FP per Tariff'!N25-'GS FP per Tariff'!H25","v":0.21010799999999999},{"$f":"'GS FP per Tariff'!D25+'GS FP per Tariff'!G25","v":0.13490199999999999},{"$f":"E25+F25-D25","v":0},{"$f":"D25-G25-'GS FP per Tariff'!H25","v":9.2495997840169597E-18},{"$f":"E25-H25-'GS FP per Tariff'!H25","v":9.2495997840169597E-18}]
["13.","Over 1,000 kWh Summer",{"$f":"'GS FP per Tariff'!C26","v":"N/A"},{"$f":"'GS FP per Tariff'!N26","v":0.15295300000000001},{"$f":"SUM('GS FP per Tariff'!D26,'GS FP per Tariff'!G26:H26)","v":0.135272},{"$f":"SUM('GS FP per Tariff'!E26:F26,'GS FP per Tariff'!I26:M26)","v":1.7681000000000002E-2},{"$f":"'GS FP per Tariff'!N26-'GS FP per Tariff'!H26","v":0.152916},{"$f":"'GS FP per Tariff'!D26+'GS FP per Tariff'!G26","v":0.13523499999999999},0,{"$f":"D26-G26-'GS FP per Tariff'!H26","v":9.2495997840169597E-18},{"$f":"E26-H26-'GS FP per Tariff'!H26","v":9.2495997840169597E-18}]
["14.","Over 1,000 kWh Winter",{"$f":"'GS FP per Tariff'!C27","v":"N/A"},{"$f":"'GS FP per Tariff'!N27","v":0.15262000000000001},{"$f":"SUM('GS FP per Tariff'!D27,'GS FP per Tariff'!G27:H27)","v":0.134939},{"$f":"SUM('GS FP per Tariff'!E27:F27,'GS FP per Tariff'!I27:M27)","v":1.7681000000000002E-2},{"$f":"'GS FP per Tariff'!N27-'GS FP per Tariff'!H27","v":0.152583},{"$f":"'GS FP per Tariff'!D27+'GS FP per Tariff'!G27","v":0.13490199999999999},0,{"$f":"D27-G27-'GS FP per Tariff'!H27","v":9.2495997840169597E-18},{"$f":"E27-H27-'GS FP per Tariff'!H27","v":9.2495997840169597E-18}]
["15.","OPWH-kWh Summer",{"$f":"'GS FP per Tariff'!C28","v":"N/A"},{"$f":"'GS FP per Tariff'!N28","v":0.17067499999999999},{"$f":"SUM('GS FP per Tariff'!D28,'GS FP per Tariff'!G28:H28)","v":0.138491},{"$f":"SUM('GS FP per Tariff'!E28:F28,'GS FP per Tariff'!I28:M28)","v":3.2183999999999997E-2},{"$f":"'GS FP per Tariff'!N28-'GS FP per Tariff'!H28","v":0.17063799999999998},{"$f":"'GS FP per Tariff'!D28+'GS FP per Tariff'!G28","v":0.13845399999999999},0,{"$f":"D28-G28-'GS FP per Tariff'!H28","v":9.2495997840169597E-18},{"$f":"E28-H28-'GS FP per Tariff'!H28","v":9.2495997840169597E-18}]
["16.","OPWH-kWh Winter",{"$f":"'GS FP per Tariff'!C29","v":"N/A"},{"$f":"'GS FP per Tariff'!N29","v":0.17012000000000002},{"$f":"SUM('GS FP per Tariff'!D29,'GS FP per Tariff'!G29:H29)","v":0.137936},{"$f":"SUM('GS FP per Tariff'!E29:F29,'GS FP per Tariff'!I29:M29)","v":3.2183999999999997E-2},{"$f":"'GS FP per Tariff'!N29-'GS FP per Tariff'!H29","v":0.17008300000000001},{"$f":"'GS FP per Tariff'!D29+'GS FP per Tariff'!G29","v":0.13789899999999999},0,{"$f":"D29-G29-'GS FP per Tariff'!H29","v":9.2495997840169597E-18},{"$f":"E29-H29-'GS FP per Tariff'!H29","v":9.2495997840169597E-18}]
["17.","CTWH-kWh Summer",{"$f":"'GS FP per Tariff'!C30","v":"N/A"},{"$f":"'GS FP per Tariff'!N30","v":0.17700000000000002},{"$f":"SUM('GS FP per Tariff'!D30,'GS FP per Tariff'!G30:H30)","v":0.138491},{"$f":"SUM('GS FP per Tariff'!E30:F30,'GS FP per Tariff'!I30:M30)","v":3.8509000000000002E-2},{"$f":"'GS FP per Tariff'!N30-'GS FP per Tariff'!H30","v":0.17696300000000001},{"$f":"'GS FP per Tariff'!D30+'GS FP per Tariff'!G30","v":0.13845399999999999},0,{"$f":"D30-G30-'GS FP per Tariff'!H30","v":9.2495997840169597E-18},{"$f":"E30-H30-'GS FP per Tariff'!H30","v":9.2495997840169597E-18}]
["18.","CTWH-kWh Winter",{"$f":"'GS FP per Tariff'!C31","v":"N/A"},{"$f":"'GS FP per Tariff'!N31","v":0.17644499999999999},{"$f":"SUM('GS FP per Tariff'!D31,'GS FP per Tariff'!G31:H31)","v":0.137936},{"$f":"SUM('GS FP per Tariff'!E31:F31,'GS FP per Tariff'!I31:M31)","v":3.8509000000000002E-2},{"$f":"'GS FP per Tariff'!N31-'GS FP per Tariff'!H31","v":0.17640799999999998},{"$f":"'GS FP per Tariff'!D31+'GS FP per Tariff'!G31","v":0.13789899999999999},0,{"$f":"D31-G31-'GS FP per Tariff'!H31","v":9.2495997840169597E-18},{"$f":"E31-H31-'GS FP per Tariff'!H31","v":9.2495997840169597E-18}]
["19.","Traffic Signal kWh Summer",{"$f":"'GS FP per Tariff'!C32","v":"N/A"},{"$f":"'GS FP per Tariff'!N32","v":0.16177100000000003},{"$f":"SUM('GS FP per Tariff'!D32,'GS FP per Tariff'!G32:H32)","v":0.135272},{"$f":"SUM('GS FP per Tariff'!E32:F32,'GS FP per Tariff'!I32:M32)","v":2.6499000000000002E-2},{"$f":"'GS FP per Tariff'!N32-'GS FP per Tariff'!H32","v":0.16173400000000002},{"$f":"'GS FP per Tariff'!D32+'GS FP per Tariff'!G32","v":0.13523499999999999},0,{"$f":"D32-G32-'GS FP per Tariff'!H32","v":9.2495997840169597E-18},{"$f":"E32-H32-'GS FP per Tariff'!H32","v":9.2495997840169597E-18}]
["20.","Traffic Signal kWh Winter",{"$f":"'GS FP per Tariff'!C33","v":"N/A"},{"$f":"'GS FP per Tariff'!N33","v":0.161438},{"$f":"SUM('GS FP per Tariff'!D33,'GS FP per Tariff'!G33:H33)","v":0.134939},{"$f":"SUM('GS FP per Tariff'!E33:F33,'GS FP per Tariff'!I33:M33)","v":2.6499000000000002E-2},{"$f":"'GS FP per Tariff'!N33-'GS FP per Tariff'!H33","v":0.16140099999999999},{"$f":"'GS FP per Tariff'!D33+'GS FP per Tariff'!G33","v":0.13490199999999999},0,{"$f":"D33-G33-'GS FP per Tariff'!H33","v":9.2495997840169597E-18},{"$f":"E33-H33-'GS FP per Tariff'!H33","v":9.2495997840169597E-18}]
[]
[]
[]
[null,null," "]
[]
[null,null,"Summary of Charges Applicable to Federal \nGovernment (SUT Exempt) Customers",null,null,null,"Summary Without BGS Reconciliation Charges"]
[null,null,"Customer Charge","Full Service Customer \nTotal kWh Charges{1}","Basic Generation Service Charge/Price to Compare{2}","Delivery Service kWh Charges{3}","Full Service Customer \nTotal kWh Charges","Basic Generation Service Charge/Price to Compare"]
["1.","Customer Charge-Single Phase",{"$f":"'GS FP per Tariff'!C41","v":4.3600000000000003},"N/A","N/A","N/A","N/A","N/A"]
["2.","Customer Charge-Three Phase",{"$f":"'GS FP per Tariff'!C42","v":15.65},"N/A","N/A","N/A","N/A","N/A"]
["3.","Supp Cust Charge-OPWH",{"$f":"'GS FP per Tariff'!C43","v":2.09},"N/A","N/A","N/A","N/A","N/A",null,null,null,null,null,8]
["     4.","Supp Cust Charge-CTWH",{"$f":"'GS FP per Tariff'!C44","v":2.09},"N/A","N/A","N/A","N/A","N/A"]
["     5.","Supp Cust Charge-Day/Night",{"$f":"'GS FP per Tariff'!C45","v":3.57},"N/A","N/A","N/A","N/A","N/A"]
["     6.","Traffic Signal-Supp Cust Charges",{"$f":"'GS FP per Tariff'!C46","v":16.260000000000002},"N/A","N/A","N/A","N/A","N/A"]
[" "," "]
["     7.","Over 10  KW Summer",{"$f":"'GS FP per Tariff'!C48","v":"N/A"},"N/A","N/A","N/A","N/A","N/A"]
["     8.","Over 10  KW Winter",{"$f":"'GS FP per Tariff'!C49","v":"N/A"},"N/A","N/A","N/A","N/A","N/A"]
["     9.","Standby KW Charge",{"$f":"'GS FP per Tariff'!C50","v":"N/A"},"N/A","N/A","N/A","N/A","N/A"]
["    10.","Minimum Bill-Over 10 KW ",{"$f":"'GS FP per Tariff'!C51","v":"N/A"},"N/A","N/A","N/A","N/A","N/A"]
[" "," "]
["11.","First 1,000 kWh Summer",{"$f":"'GS FP per Tariff'!C53","v":"N/A"},{"$f":"'GS FP per Tariff'!N53","v":0.21812000000000001},{"$f":"'GS FP per Tariff'!D53+'GS FP per Tariff'!G53+'GS FP per Tariff'!H53","v":0.135272},{"$f":"SUM('GS FP per Tariff'!E53:F53,'GS FP per Tariff'!I53:M53)","v":8.2848000000000019E-2},{"$f":"'GS FP per Tariff'!N53-'GS FP per Tariff'!H53","v":0.218083},{"$f":"'GS FP per Tariff'!D53+'GS FP per Tariff'!G53","v":0.13523499999999999},{"$f":"E53+F53-D53","v":0},{"$f":"D53-G53-'GS FP per Tariff'!H53","v":9.2495997840169597E-18},{"$f":"E53-H53-'GS FP per Tariff'!H53","v":9.2495997840169597E-18}]
["12.","First 1,000 kWh Winter",{"$f":"'GS FP per Tariff'!C54","v":"N/A"},{"$f":"'GS FP per Tariff'!N54","v":0.21251100000000003},{"$f":"'GS FP per Tariff'!D54+'GS FP per Tariff'!G54+'GS FP per Tariff'!H54","v":0.134939},{"$f":"SUM('GS FP per Tariff'!E54:F54,'GS FP per Tariff'!I54:M54)","v":7.7572000000000016E-2},{"$f":"'GS FP per Tariff'!N54-'GS FP per Tariff'!H54","v":0.21247400000000002},{"$f":"'GS FP per Tariff'!D54+'GS FP per Tariff'!G54","v":0.13490199999999999},{"$f":"E54+F54-D54","v":0},{"$f":"D54-G54-'GS FP per Tariff'!H54","v":9.2495997840169597E-18},{"$f":"E54-H54-'GS FP per Tariff'!H54","v":9.2495997840169597E-18}]
["13.","Over 1,000 kWh Summer",{"$f":"'GS FP per Tariff'!C55","v":"N/A"},{"$f":"'GS FP per Tariff'!N55","v":0.15315700000000002},{"$f":"'GS FP per Tariff'!D55+'GS FP per Tariff'!G55+'GS FP per Tariff'!H55","v":0.135272},{"$f":"SUM('GS FP per Tariff'!E55:F55,'GS FP per Tariff'!I55:M55)","v":1.7885000000000002E-2},{"$f":"'GS FP per Tariff'!N55-'GS FP per Tariff'!H55","v":0.15312000000000001},{"$f":"'GS FP per Tariff'!D55+'GS FP per Tariff'!G55","v":0.13523499999999999},0,{"$f":"D55-G55-'GS FP per Tariff'!H55","v":9.2495997840169597E-18},{"$f":"E55-H55-'GS FP per Tariff'!H55","v":9.2495997840169597E-18}]
["14.","Over 1,000 kWh Winter",{"$f":"'GS FP per Tariff'!C56","v":"N/A"},{"$f":"'GS FP per Tariff'!N56","v":0.15282400000000002},{"$f":"'GS FP per Tariff'!D56+'GS FP per Tariff'!G56+'GS FP per Tariff'!H56","v":0.134939},{"$f":"SUM('GS FP per Tariff'!E56:F56,'GS FP per Tariff'!I56:M56)","v":1.7885000000000002E-2},{"$f":"'GS FP per Tariff'!N56-'GS FP per Tariff'!H56","v":0.15278700000000001},{"$f":"'GS FP per Tariff'!D56+'GS FP per Tariff'!G56","v":0.13490199999999999},0,{"$f":"D56-G56-'GS FP per Tariff'!H56","v":9.2495997840169597E-18},{"$f":"E56-H56-'GS FP per Tariff'!H56","v":9.2495997840169597E-18}]
["15.","OPWH-kWh Summer",{"$f":"'GS FP per Tariff'!C57","v":"N/A"},{"$f":"'GS FP per Tariff'!N57","v":0.17142399999999999},{"$f":"'GS FP per Tariff'!D57+'GS FP per Tariff'!G57+'GS FP per Tariff'!H57","v":0.138491},{"$f":"SUM('GS FP per Tariff'!E57:F57,'GS FP per Tariff'!I57:M57)","v":3.2933000000000004E-2},{"$f":"'GS FP per Tariff'!N57-'GS FP per Tariff'!H57","v":0.17138699999999998},{"$f":"'GS FP per Tariff'!D57+'GS FP per Tariff'!G57","v":0.13845399999999999},0,{"$f":"D57-G57-'GS FP per Tariff'!H57","v":9.2495997840169597E-18},{"$f":"E57-H57-'GS FP per Tariff'!H57","v":9.2495997840169597E-18}]
["16.","OPWH-kWh Winter",{"$f":"'GS FP per Tariff'!C58","v":"N/A"},{"$f":"'GS FP per Tariff'!N58","v":0.17086900000000002},{"$f":"'GS FP per Tariff'!D58+'GS FP per Tariff'!G58+'GS FP per Tariff'!H58","v":0.137936},{"$f":"SUM('GS FP per Tariff'!E58:F58,'GS FP per Tariff'!I58:M58)","v":3.2933000000000004E-2},{"$f":"'GS FP per Tariff'!N58-'GS FP per Tariff'!H58","v":0.17083200000000001},{"$f":"'GS FP per Tariff'!D58+'GS FP per Tariff'!G58","v":0.13789899999999999},0,{"$f":"D58-G58-'GS FP per Tariff'!H58","v":9.2495997840169597E-18},{"$f":"E58-H58-'GS FP per Tariff'!H58","v":9.2495997840169597E-18}]
["17.","CTWH-kWh Summer",{"$f":"'GS FP per Tariff'!C59","v":"N/A"},{"$f":"'GS FP per Tariff'!N59","v":0.17798700000000001},{"$f":"'GS FP per Tariff'!D59+'GS FP per Tariff'!G59+'GS FP per Tariff'!H59","v":0.138491},{"$f":"SUM('GS FP per Tariff'!E59:F59,'GS FP per Tariff'!I59:M59)","v":3.9496000000000003E-2},{"$f":"'GS FP per Tariff'!N59-'GS FP per Tariff'!H59","v":0.17795},{"$f":"'GS FP per Tariff'!D59+'GS FP per Tariff'!G59","v":0.13845399999999999},0,{"$f":"D59-G59-'GS FP per Tariff'!H59","v":9.2495997840169597E-18},{"$f":"E59-H59-'GS FP per Tariff'!H59","v":9.2495997840169597E-18}]
["18.","CTWH-kWh Winter",{"$f":"'GS FP per Tariff'!C60","v":"N/A"},{"$f":"'GS FP per Tariff'!N60","v":0.17743200000000001},{"$f":"'GS FP per Tariff'!D60+'GS FP per Tariff'!G60+'GS FP per Tariff'!H60","v":0.137936},{"$f":"SUM('GS FP per Tariff'!E60:F60,'GS FP per Tariff'!I60:M60)","v":3.9496000000000003E-2},{"$f":"'GS FP per Tariff'!N60-'GS FP per Tariff'!H60","v":0.177395},{"$f":"'GS FP per Tariff'!D60+'GS FP per Tariff'!G60","v":0.13789899999999999},0,{"$f":"D60-G60-'GS FP per Tariff'!H60","v":9.2495997840169597E-18},{"$f":"E60-H60-'GS FP per Tariff'!H60","v":9.2495997840169597E-18}]
["19.","Traffic Signal kWh Summer",{"$f":"'GS FP per Tariff'!C61","v":"N/A"},{"$f":"'GS FP per Tariff'!N61","v":0.16230700000000001},{"$f":"'GS FP per Tariff'!D61+'GS FP per Tariff'!G61+'GS FP per Tariff'!H61","v":0.135272},{"$f":"SUM('GS FP per Tariff'!E61:F61,'GS FP per Tariff'!I61:M61)","v":2.7035E-2},{"$f":"'GS FP per Tariff'!N61-'GS FP per Tariff'!H61","v":0.16227},{"$f":"'GS FP per Tariff'!D61+'GS FP per Tariff'!G61","v":0.13523499999999999},0,{"$f":"D61-G61-'GS FP per Tariff'!H61","v":9.2495997840169597E-18},{"$f":"E61-H61-'GS FP per Tariff'!H61","v":9.2495997840169597E-18}]
["20.","Traffic Signal kWh Winter",{"$f":"'GS FP per Tariff'!C62","v":"N/A"},{"$f":"'GS FP per Tariff'!N62","v":0.16197400000000001},{"$f":"'GS FP per Tariff'!D62+'GS FP per Tariff'!G62+'GS FP per Tariff'!H62","v":0.134939},{"$f":"SUM('GS FP per Tariff'!E62:F62,'GS FP per Tariff'!I62:M62)","v":2.7035E-2},{"$f":"'GS FP per Tariff'!N62-'GS FP per Tariff'!H62","v":0.161937},{"$f":"'GS FP per Tariff'!D62+'GS FP per Tariff'!G62","v":0.13490199999999999},0,{"$f":"D62-G62-'GS FP per Tariff'!H62","v":9.2495997840169597E-18},{"$f":"E62-H62-'GS FP per Tariff'!H62","v":9.2495997840169597E-18}]
[]
[]
[]
[{"$f":"'Disclaimer and Definitions'!$A$1","v":"Visual_Rate_Inventory  June 1, 2025"},null,"Jersey Central Power & Light"]
[{"$f":"NOW()","v":"2025-05-30T16:18:48.150"},null," "]
[{"$f":"NOW()","v":45807.679723958332}]
["GS FP Summary"]
[null,null,"GS (General Service Secondary) Service Classification - Fixed Price BGS Rates"]
[null,null," "]
[null,null,"Summary of Charges *"]
[null,null," "]
[]
[null,null,"Summary of Charges Applicable to \nNormal (Non-Exempt) Customers",null,null,null,"Summary Without BGS Reconciliation Charges"]
[null,null,"Customer Charge","Full Service Customer \nTotal kWh Charges{1}","Basic Generation Service Charge/Price to Compare{4}","Delivery Service kWh Charges{3}","Full Service Customer \nTotal kWh Charges","Basic Generation Service Charge/Price to Compare"]
["1.","Customer Charge-Single Phase",{"$f":"'GS FP per Tariff'!C77","v":4.6500000000000004},"N/A","N/A","N/A","N/A","N/A"]
["2.","Customer Charge-Three Phase",{"$f":"'GS FP per Tariff'!C78","v":16.690000000000001},"N/A","N/A","N/A","N/A","N/A"]
["3.","Supp Cust Charge-OPWH",{"$f":"'GS FP per Tariff'!C79","v":2.23},"N/A","N/A","N/A","N/A","N/A"]
["     4.","Supp Cust Charge-CTWH",{"$f":"'GS FP per Tariff'!C80","v":2.23},"N/A","N/A","N/A","N/A","N/A"]
["     5.","Supp Cust Charge-Day/Night",{"$f":"'GS FP per Tariff'!C81","v":3.81},"N/A","N/A","N/A","N/A","N/A"]
["     6.","Traffic Signal-Supp Cust Charges",{"$f":"'GS FP per Tariff'!C82","v":17.34},"N/A","N/A","N/A","N/A","N/A"]
[" "," "]
["     7.","Over 10  KW Summer","N/A","N/A","N/A","N/A","N/A","N/A"]
["     8.","Over 10  KW Winter","N/A","N/A","N/A","N/A","N/A","N/A"]
["     9.","Standby KW Charge","N/A","N/A","N/A","N/A","N/A","N/A"]
["    10.","Minimum Bill-Over 10 KW ","N/A","N/A","N/A","N/A","N/A","N/A"]
[" "," "]
["11.","First 1,000 kWh Summer","N/A",{"$f":"'GS FP per Tariff'!N89","v":0.232568},{"$f":"'GS FP per Tariff'!D89+'GS FP per Tariff'!G89+'GS FP per Tariff'!H89","v":0.144233},{"$f":"SUM('GS FP per Tariff'!E89:F89,'GS FP per Tariff'!I89:M89)","v":8.8334999999999983E-2},{"$f":"'GS FP per Tariff'!N89-'GS FP per Tariff'!H89","v":0.23252899999999999},{"$f":"'GS FP per Tariff'!D89+'GS FP per Tariff'!G89","v":0.14419399999999999},{"$f":"E89+F89-D89","v":0},{"$f":"D89-G89-'GS FP per Tariff'!H89","v":1.1248597539537109E-17},{"$f":"E89-H89-'GS FP per Tariff'!H89","v":1.1248597539537109E-17}]
["12.","First 1,000 kWh Winter","N/A",{"$f":"'GS FP per Tariff'!N90","v":0.22658600000000001},{"$f":"'GS FP per Tariff'!D90+'GS FP per Tariff'!G90+'GS FP per Tariff'!H90","v":0.143877},{"$f":"SUM('GS FP per Tariff'!E90:F90,'GS FP per Tariff'!I90:M90)","v":8.2708999999999991E-2},{"$f":"'GS FP per Tariff'!N90-'GS FP per Tariff'!H90","v":0.226547},{"$f":"'GS FP per Tariff'!D90+'GS FP per Tariff'!G90","v":0.14383799999999999},{"$f":"E90+F90-D90","v":0},{"$f":"D90-G90-'GS FP per Tariff'!H90","v":1.1248597539537109E-17},{"$f":"E90-H90-'GS FP per Tariff'!H90","v":1.1248597539537109E-17}]
["13.","Over 1,000 kWh Summer","N/A",{"$f":"'GS FP per Tariff'!N91","v":0.163301},{"$f":"'GS FP per Tariff'!D91+'GS FP per Tariff'!G91+'GS FP per Tariff'!H91","v":0.144233},{"$f":"SUM('GS FP per Tariff'!E91:F91,'GS FP per Tariff'!I91:M91)","v":1.9067999999999998E-2},{"$f":"'GS FP per Tariff'!N91-'GS FP per Tariff'!H91","v":0.16326199999999999},{"$f":"'GS FP per Tariff'!D91+'GS FP per Tariff'!G91","v":0.14419399999999999},0,{"$f":"D91-G91-'GS FP per Tariff'!H91","v":1.1248597539537109E-17},{"$f":"E91-H91-'GS FP per Tariff'!H91","v":1.1248597539537109E-17}]
["14.","Over 1,000 kWh Winter","N/A",{"$f":"'GS FP per Tariff'!N92","v":0.16294500000000001},{"$f":"'GS FP per Tariff'!D92+'GS FP per Tariff'!G92+'GS FP per Tariff'!H92","v":0.143877},{"$f":"SUM('GS FP per Tariff'!E92:F92,'GS FP per Tariff'!I92:M92)","v":1.9067999999999998E-2},{"$f":"'GS FP per Tariff'!N92-'GS FP per Tariff'!H92","v":0.162906},{"$f":"'GS FP per Tariff'!D92+'GS FP per Tariff'!G92","v":0.14383799999999999},0,{"$f":"D92-G92-'GS FP per Tariff'!H92","v":1.1248597539537109E-17},{"$f":"E92-H92-'GS FP per Tariff'!H92","v":1.1248597539537109E-17}]
["15.","OPWH-kWh Summer","N/A",{"$f":"'GS FP per Tariff'!N93","v":0.182778},{"$f":"'GS FP per Tariff'!D93+'GS FP per Tariff'!G93+'GS FP per Tariff'!H93","v":0.14766500000000002},{"$f":"SUM('GS FP per Tariff'!E93:F93,'GS FP per Tariff'!I93:M93)","v":3.5113000000000005E-2},{"$f":"'GS FP per Tariff'!N93-'GS FP per Tariff'!H93","v":0.18273899999999998},{"$f":"'GS FP per Tariff'!D93+'GS FP per Tariff'!G93","v":0.14762600000000001},0,{"$f":"D93-G93-'GS FP per Tariff'!H93","v":1.1248597539537109E-17},{"$f":"E93-H93-'GS FP per Tariff'!H93","v":1.1248597539537109E-17}]
["16.","OPWH-kWh Winter","N/A",{"$f":"'GS FP per Tariff'!N94","v":0.18218600000000001},{"$f":"'GS FP per Tariff'!D94+'GS FP per Tariff'!G94+'GS FP per Tariff'!H94","v":0.14707300000000001},{"$f":"SUM('GS FP per Tariff'!E94:F94,'GS FP per Tariff'!I94:M94)","v":3.5113000000000005E-2},{"$f":"'GS FP per Tariff'!N94-'GS FP per Tariff'!H94","v":0.182147},{"$f":"'GS FP per Tariff'!D94+'GS FP per Tariff'!G94","v":0.147034},0,{"$f":"D94-G94-'GS FP per Tariff'!H94","v":1.1248597539537109E-17},{"$f":"E94-H94-'GS FP per Tariff'!H94","v":1.1248597539537109E-17}]
["17.","CTWH-kWh Summer","N/A",{"$f":"'GS FP per Tariff'!N95","v":0.189776},{"$f":"'GS FP per Tariff'!D95+'GS FP per Tariff'!G95+'GS FP per Tariff'!H95","v":0.14766500000000002},{"$f":"SUM('GS FP per Tariff'!E95:F95,'GS FP per Tariff'!I95:M95)","v":4.2111000000000003E-2},{"$f":"'GS FP per Tariff'!N95-'GS FP per Tariff'!H95","v":0.18973699999999999},{"$f":"'GS FP per Tariff'!D95+'GS FP per Tariff'!G95","v":0.14762600000000001},0,{"$f":"D95-G95-'GS FP per Tariff'!H95","v":1.1248597539537109E-17},{"$f":"E95-H95-'GS FP per Tariff'!H95","v":1.1248597539537109E-17}]
["18.","CTWH-kWh Winter","N/A",{"$f":"'GS FP per Tariff'!N96","v":0.18918400000000002},{"$f":"'GS FP per Tariff'!D96+'GS FP per Tariff'!G96+'GS FP per Tariff'!H96","v":0.14707300000000001},{"$f":"SUM('GS FP per Tariff'!E96:F96,'GS FP per Tariff'!I96:M96)","v":4.2111000000000003E-2},{"$f":"'GS FP per Tariff'!N96-'GS FP per Tariff'!H96","v":0.18914500000000001},{"$f":"'GS FP per Tariff'!D96+'GS FP per Tariff'!G96","v":0.147034},0,{"$f":"D96-G96-'GS FP per Tariff'!H96","v":1.1248597539537109E-17},{"$f":"E96-H96-'GS FP per Tariff'!H96","v":1.1248597539537109E-17}]
["19.","Traffic Signal kWh Summer","N/A",{"$f":"'GS FP per Tariff'!N97","v":0.17305700000000002},{"$f":"'GS FP per Tariff'!D97+'GS FP per Tariff'!G97+'GS FP per Tariff'!H97","v":0.144233},{"$f":"SUM('GS FP per Tariff'!E97:F97,'GS FP per Tariff'!I97:M97)","v":2.8823999999999999E-2},{"$f":"'GS FP per Tariff'!N97-'GS FP per Tariff'!H97","v":0.17301800000000001},{"$f":"'GS FP per Tariff'!D97+'GS FP per Tariff'!G97","v":0.14419399999999999},0,{"$f":"D97-G97-'GS FP per Tariff'!H97","v":1.1248597539537109E-17},{"$f":"E97-H97-'GS FP per Tariff'!H97","v":1.1248597539537109E-17}]
["20.","Traffic Signal kWh Winter","N/A",{"$f":"'GS FP per Tariff'!N98","v":0.17270100000000002},{"$f":"'GS FP per Tariff'!D98+'GS FP per Tariff'!G98+'GS FP per Tariff'!H98","v":0.143877},{"$f":"SUM('GS FP per Tariff'!E98:F98,'GS FP per Tariff'!I98:M98)","v":2.8823999999999999E-2},{"$f":"'GS FP per Tariff'!N98-'GS FP per Tariff'!H98","v":0.17266200000000001},{"$f":"'GS FP per Tariff'!D98+'GS FP per Tariff'!G98","v":0.14383799999999999},0,{"$f":"D98-G98-'GS FP per Tariff'!H98","v":1.1248597539537109E-17},{"$f":"E98-H98-'GS FP per Tariff'!H98","v":1.1248597539537109E-17}]
["21.","Church Credit-1st 1,000 kWh","N/A",{"$f":"'GS FP per Tariff'!N99","v":-3.8383E-2},"N/A",{"$f":"SUM('GS FP per Tariff'!E99:F99,'GS FP per Tariff'!I99:M99)","v":-3.8383E-2},"N/A","N/A"]
["22.","Church-1st 1,000 kWh-Summer(Incl.Credit)","N/A",{"$f":"'GS FP per Tariff'!N100","v":0.194185},{"$f":"'GS FP per Tariff'!D100+'GS FP per Tariff'!G100+'GS FP per Tariff'!H100","v":0.144233},{"$f":"SUM('GS FP per Tariff'!E100:F100,'GS FP per Tariff'!I100:M100)","v":4.9951999999999989E-2},{"$f":"'GS FP per Tariff'!N100-'GS FP per Tariff'!H100","v":0.19414599999999999},{"$f":"'GS FP per Tariff'!D100+'GS FP per Tariff'!G100","v":0.14419399999999999},{"$f":"E100+F100-D100","v":0},{"$f":"D100-G100-'GS FP per Tariff'!H100","v":1.1248597539537109E-17},{"$f":"E100-H100-'GS FP per Tariff'!H100","v":1.1248597539537109E-17}]
["23.","Church-1st 1,000 kWh-Winter(Incl.Credit)","N/A",{"$f":"'GS FP per Tariff'!N101","v":0.18820300000000001},{"$f":"'GS FP per Tariff'!D101+'GS FP per Tariff'!G101+'GS FP per Tariff'!H101","v":0.143877},{"$f":"SUM('GS FP per Tariff'!E101:F101,'GS FP per Tariff'!I101:M101)","v":4.4325999999999997E-2},{"$f":"'GS FP per Tariff'!N101-'GS FP per Tariff'!H101","v":0.188164},{"$f":"'GS FP per Tariff'!D101+'GS FP per Tariff'!G101","v":0.14383799999999999},{"$f":"E101+F101-D101","v":0},{"$f":"D101-G101-'GS FP per Tariff'!H101","v":1.1248597539537109E-17},{"$f":"E101-H101-'GS FP per Tariff'!H101","v":1.1248597539537109E-17}]
[]
["* Note: Charges are billed to the customer by component as they appear in the Jersey Central Power & Light Tariff for Service."]
[" By multiplying the summarized charges in these tables times the customers kWh usage you may get an amount that is a few"]
[" cents different than the actual amount of the customer's bill due to rounding differences."]
[]
[{"$f":"'RT Summary'!A36","v":"{1} Includes Distribution, SBC, NGC, TAA, RRC, SRC, ZEC, Energy & Capacity, Transmission (including RMR and TEC) and BGS-RSCP reconciliation charges"}]
[{"$f":"'RT Summary'!A37","v":"{2} Includes Energy & Capacity, Transmission (including RMR and TEC) and the current BGS-RSCP reconciliation charge of $0.000037 per kWh"}]
[{"$f":"'RT Summary'!A38","v":"{3} Includes Distribution, SBC, NGC, TAA, RRC , and ZEC charges"}]
[{"$f":"'RT Summary'!A39","v":"{4} Includes Energy & Capacity, Transmission (including RMR and TEC) and the current BGS-RSCP reconciliation charge of $0.000039 per kWh"}]

{"sheet":"GS CIEP per Tariff","index":12,"n_rows":120,"n_cols":16,"rows_kept":120,"cut":false,"hidden":false,"merged":[[79,2,79,14],[74,0,74,1],[75,0,75,1],[76,0,76,1],[77,0,77,1],[0,0,0,1],[1,0,1,1],[2,0,2,1],[3,0,3,1],[1,2,1,13],[0,2,0,13],[3,2,3,13],[42,34,42,37],[43,34,43,37],[44,34,44,37],[38,2,38,13],[40,2,40,15],[84,20,84,26],[2,2,2,13],[78,19,78,25],[82,19,82,25],[6,2,6,13],[7,2,7,13],[4,2,4,13],[5,2,5,13],[74,19,74,25],[76,19,76,25],[81,2,81,14],[74,2,74,13],[76,2,76,13],[78,2,78,14],[83,2,83,15],[9,2,9,15]]}
[{"$f":"'GS FP per Tariff'!A1:B1","v":"Visual_Rate_Inventory  June 1, 2025"},null,"Jersey Central Power & Light",null,null,null,null,null,null,null,null,null,null,null," "]
[{"$f":"NOW()","v":"2025-05-30T16:18:48.150"},null," "]
[{"$f":"NOW()","v":45807.679723958332},null,{"$f":"'RT per Tariff'!C3","v":"Rates Effective with Service Rendered June 1, 2025"}]
["GS CIEP per Tariff"]
[null,null,"GS (General Service Secondary) Service Classification - CIEP BGS Rates"]
[null,null,"Unbundled Rate Components"]
[]
[null,null,"Charges Applicable to Franchised Utility (Tax Exempt) Customers"]
[]
[null,null,{"$f":"'GS FP per Tariff'!C10:M10","v":"Unbundled Components Excluding CBT & SUT - 6/1/2025 Rates Applicable to Franchised Utility Customers "}]
[null,null,{"$f":"'GS FP per Tariff'!C11","v":"Customer Charge"},{"$f":"'GS FP per Tariff'!D11","v":"Transmission* \n{1}"},{"$f":"'GS FP per Tariff'!E11","v":"Distribution"},{"$f":"'GS FP per Tariff'!F11","v":"Covid Recovery Charge"},"Retail Margin*","BGS-CIEP Generation Capacity Charge*","BGS-CIEP Reconciliation Charge*","BGS-CIEP Hourly Energy Charges*",{"$f":"'GS FP per Tariff'!I11","v":"Zero Emission Certificate Recovery Charge (ZEC)"},{"$f":"'GS FP per Tariff'!J11","v":"RGGI Recovery Charge (RRC)"},{"$f":"'GS FP per Tariff'!K11","v":"Societal Benefit Charge (SBC)"},{"$f":"'GS FP per Tariff'!L11","v":"LRAM"},{"$f":"'GS FP per Tariff'!M11","v":"Non-utility Generation Charge (NGC)"},"Standby Fee"]
["1.","Customer Charge-Single Phase",{"$f":"'GS FP per Tariff'!C12","v":4.2},"N/A","N/A","N/A","N/A","N/A","N/A","N/A","N/A","N/A","N/A","N/A","N/A","N/A"]
["2.","Customer Charge-Three Phase",{"$f":"'GS FP per Tariff'!C13","v":15.08},"N/A","N/A","N/A","N/A","N/A","N/A","N/A","N/A","N/A","N/A","N/A","N/A","N/A"]
["3.","Supp Cust Charge-OPWH",{"$f":"'GS FP per Tariff'!C14","v":2.0099999999999998},"N/A","N/A","N/A","N/A","N/A","N/A","N/A","N/A","N/A","N/A","N/A","N/A","N/A"]
["     4.","Supp Cust Charge-CTWH",{"$f":"'GS FP per Tariff'!C15","v":2.0099999999999998},"N/A","N/A","N/A","N/A","N/A","N/A","N/A","N/A","N/A","N/A","N/A","N/A","N/A"]
["     5.","Supp Cust Charge-Day/Night",{"$f":"'GS FP per Tariff'!C16","v":3.44},"N/A","N/A","N/A","N/A","N/A","N/A","N/A","N/A","N/A","N/A","N/A","N/A","N/A"]
["     6.","Traffic Signal-Supp Cust Charges",{"$f":"'GS FP per Tariff'!C17","v":15.67},"N/A","N/A","N/A","N/A","N/A","N/A","N/A","N/A","N/A","N/A","N/A","N/A","N/A"]
[]
["     7.","Over 10  KW Summer","N/A","N/A",{"$f":"'GS FP per Tariff'!E19","v":8.1300000000000008},"N/A","N/A","N/A","N/A","N/A","N/A","N/A","N/A","N/A","N/A","N/A"]
["     8.","Over 10  KW Winter","N/A","N/A",{"$f":"'GS FP per Tariff'!E20","v":7.58},"N/A","N/A","N/A","N/A","N/A","N/A","N/A","N/A","N/A","N/A","N/A"]
["     9.","Standby KW Charge","N/A","N/A",{"$f":"'GS FP per Tariff'!E21","v":"N/A"},"N/A","N/A","N/A","N/A","N/A","N/A","N/A","N/A","N/A","N/A","N/A"]
["    10.","Minimum Bill-Over 10 KW ","N/A","N/A",{"$f":"'GS FP per Tariff'!E22","v":3.69},"N/A","N/A","N/A","N/A","N/A","N/A","N/A","N/A","N/A","N/A","N/A"]
["11.","Capacity Peak Load Share{2} - Summer","N/A","N/A","N/A","N/A","N/A",{"$f":"'GST CIEP per Tariff'!H19","v":0.62521000000000004},"N/A","N/A","N/A","N/A","N/A","N/A","N/A","N/A"]
["12.","Capacity Peak Load Share{2} - Winter",null,null,null,null,null,{"$f":"'GST CIEP per Tariff'!H20","v":0.62521000000000004}]
[]
["13.","First 1,000 kWh Summer","N/A",{"$f":"'GS FP per Tariff'!D24","v":1.8019E-2},{"$f":"'GS FP per Tariff'!E24","v":6.8053000000000002E-2},{"$f":"'GS FP per Tariff'!F24","v":3.3599999999999998E-4},{"$f":"'GST CIEP per Tariff'!G22","v":0},"N/A",-2.7820000000000002E-3,{"$f":"'GST CIEP per Tariff'!J22","v":"{3}"},{"$f":"'RT per Tariff'!I$15","v":0},{"$f":"'RT per Tariff'!J15","v":4.4350000000000006E-3},{"$f":"'RT per Tariff'!$K$15","v":7.2230000000000003E-3},{"$f":"'GS FP per Tariff'!L24","v":4.6299999999999998E-4},{"$f":"'GS FP per Tariff'!M24","v":-2.1900000000000001E-4},{"$f":"'GST CIEP per Tariff'!P22","v":1.4999999999999999E-4}]
["14.","First 1,000 kWh Winter","N/A",{"$f":"'GS FP per Tariff'!D25","v":1.8019E-2},{"$f":"'GS FP per Tariff'!E25","v":6.2967999999999996E-2},{"$f":"F$26","v":3.3599999999999998E-4},{"$f":"G26","v":0},"N/A",{"$f":"I26","v":-2.7820000000000002E-3},{"$f":"J26","v":"{3}"},{"$f":"'RT per Tariff'!I$15","v":0},{"$f":"'RT per Tariff'!J16","v":4.4350000000000006E-3},{"$f":"'RT per Tariff'!$K$15","v":7.2230000000000003E-3},{"$f":"$N$26","v":4.6299999999999998E-4},{"$f":"O$26","v":-2.1900000000000001E-4},{"$f":"P26","v":1.4999999999999999E-4}]
["15.","Over 1,000 kWh Summer","N/A",{"$f":"'GS FP per Tariff'!D26","v":1.8019E-2},{"$f":"'GS FP per Tariff'!E26","v":5.4429999999999999E-3},3.3599999999999998E-4,{"$f":"G27","v":0},"N/A",{"$f":"I27","v":-2.7820000000000002E-3},"{3}",{"$f":"'RT per Tariff'!I$15","v":0},{"$f":"L$26","v":4.4350000000000006E-3},{"$f":"'RT per Tariff'!$K$15","v":7.2230000000000003E-3},{"$f":"$N$26","v":4.6299999999999998E-4},{"$f":"O$26","v":-2.1900000000000001E-4},{"$f":"P27","v":1.4999999999999999E-4}]
["16.","Over 1,000 kWh Winter","N/A",{"$f":"'GS FP per Tariff'!D27","v":1.8019E-2},{"$f":"'GS FP per Tariff'!E27","v":5.4429999999999999E-3},3.3599999999999998E-4,0,"N/A",-2.7820000000000002E-3,"{3}",{"$f":"'RT per Tariff'!I$15","v":0},{"$f":"L$27","v":4.4350000000000006E-3},{"$f":"'RT per Tariff'!$K$15","v":7.2230000000000003E-3},4.6299999999999998E-4,-2.1900000000000001E-4,1.4999999999999999E-4]
["17.","OPWH-kWh Summer","N/A",{"$f":"'GS FP per Tariff'!D28","v":1.8019E-2},{"$f":"'GS FP per Tariff'!E28","v":1.9945999999999998E-2},3.3599999999999998E-4,0,"N/A",-2.7820000000000002E-3,"{3}",{"$f":"'RT per Tariff'!I$15","v":0},4.4350000000000006E-3,{"$f":"'RT per Tariff'!$K$15","v":7.2230000000000003E-3},4.6299999999999998E-4,-2.1900000000000001E-4,1.4999999999999999E-4]
["18.","OPWH-kWh Winter","N/A",{"$f":"'GS FP per Tariff'!D29","v":1.8019E-2},{"$f":"'GS FP per Tariff'!E29","v":1.9945999999999998E-2},3.3599999999999998E-4,0,"N/A",-2.7820000000000002E-3,"{3}",{"$f":"'RT per Tariff'!I$15","v":0},{"$f":"L$27","v":4.4350000000000006E-3},{"$f":"'RT per Tariff'!$K$15","v":7.2230000000000003E-3},4.6299999999999998E-4,-2.1900000000000001E-4,1.4999999999999999E-4]
["19.","CTWH-kWh Summer","N/A",{"$f":"'GS FP per Tariff'!D30","v":1.8019E-2},{"$f":"'GS FP per Tariff'!E30","v":2.6270999999999999E-2},3.3599999999999998E-4,0,"N/A",-2.7820000000000002E-3,"{3}",{"$f":"'RT per Tariff'!I$15","v":0},4.4350000000000006E-3,{"$f":"'RT per Tariff'!$K$15","v":7.2230000000000003E-3},4.6299999999999998E-4,-2.1900000000000001E-4,1.4999999999999999E-4]
["20.","CTWH-kWh Winter","N/A",{"$f":"'GS FP per Tariff'!D31","v":1.8019E-2},{"$f":"'GS FP per Tariff'!E31","v":2.6270999999999999E-2},3.3599999999999998E-4,0,"N/A",-2.7820000000000002E-3,"{3}",{"$f":"'RT per Tariff'!I$15","v":0},{"$f":"L$27","v":4.4350000000000006E-3},{"$f":"'RT per Tariff'!$K$15","v":7.2230000000000003E-3},4.6299999999999998E-4,-2.1900000000000001E-4,1.4999999999999999E-4]
["21.","Traffic Signal kWh Summer","N/A",{"$f":"'GS FP per Tariff'!D32","v":1.8019E-2},{"$f":"'GS FP per Tariff'!E32","v":1.4260999999999999E-2},3.3599999999999998E-4,0,"N/A",-2.7820000000000002E-3,"{3}",{"$f":"'RT per Tariff'!I$15","v":0},4.4350000000000006E-3,{"$f":"'RT per Tariff'!$K$15","v":7.2230000000000003E-3},4.6299999999999998E-4,-2.1900000000000001E-4,1.4999999999999999E-4]
["22.","Traffic Signal kWh Winter","N/A",{"$f":"'GS FP per Tariff'!D33","v":1.8019E-2},{"$f":"'GS FP per Tariff'!E33","v":1.4260999999999999E-2},3.3599999999999998E-4,0,"N/A",-2.7820000000000002E-3,"{3}",{"$f":"'RT per Tariff'!I$15","v":0},{"$f":"L$27","v":4.4350000000000006E-3},{"$f":"'RT per Tariff'!$K$15","v":7.2230000000000003E-3},4.6299999999999998E-4,-2.1900000000000001E-4,1.4999999999999999E-4]
[]
[]
[]
[null," ","Charges Applicable to Federal Government (SUT Exempt) Accounts - CIEP BGS Rates"]
[]
[null,null,{"$f":"'RT per Tariff'!C10","v":"Unbundled Components Including CBT - 6/1/2025 Rates Applicable to SUT Exempt Accounts"}]
[null,null,"Customer Charge",{"$f":"D11","v":"Transmission* \n{1}"},"Distribution","Covid Recovery Charge","Retail Margin*","BGS-CIEP Generation Capacity Charge*","BGS-CIEP Reconciliation Charge*","BGS-CIEP Hourly Energy Charges*","Zero Emission Certificate Recovery Charge (ZEC)","RGGI Recovery Charge (RRC)",{"$f":"M11","v":"Societal Benefit Charge (SBC)"},{"$f":"N11","v":"LRAM"},{"$f":"O11","v":"Non-utility Generation Charge (NGC)"},{"$f":"P11","v":"Standby Fee"}]
["1.","Customer Charge-Single Phase",{"$f":"'GS FP per Tariff'!C41","v":4.3600000000000003},"N/A","N/A","N/A","N/A","N/A","N/A","N/A","N/A","N/A","N/A","N/A","N/A","N/A"]
["2.","Customer Charge-Three Phase",{"$f":"'GS FP per Tariff'!C42","v":15.65},"N/A","N/A","N/A","N/A","N/A","N/A","N/A","N/A","N/A","N/A","N/A","N/A","N/A"]
["3.","Supp Cust Charge-OPWH",{"$f":"'GS FP per Tariff'!C43","v":2.09},"N/A","N/A","N/A","N/A","N/A","N/A","N/A","N/A","N/A","N/A","N/A","N/A","N/A"]
["     4.","Supp Cust Charge-CTWH",{"$f":"'GS FP per Tariff'!C44","v":2.09},"N/A","N/A","N/A","N/A","N/A","N/A","N/A","N/A","N/A","N/A","N/A","N/A","N/A"]
["     5.","Supp Cust Charge-Day/Night",{"$f":"'GS FP per Tariff'!C45","v":3.57},"N/A","N/A","N/A","N/A","N/A","N/A","N/A","N/A","N/A","N/A","N/A","N/A","N/A"]
["     6.","Traffic Signal-Supp Cust Charges",{"$f":"'GS FP per Tariff'!C46","v":16.260000000000002},"N/A","N/A","N/A","N/A","N/A","N/A","N/A","N/A","N/A","N/A","N/A","N/A","N/A"]
[" "," "]
["     7.","Over 10  KW Summer","N/A","N/A",{"$f":"'GS FP per Tariff'!E48","v":8.44},"N/A","N/A","N/A","N/A","N/A","N/A","N/A","N/A","N/A","N/A","N/A"]
["     8.","Over 10  KW Winter","N/A","N/A",{"$f":"'GS FP per Tariff'!E49","v":7.86},"N/A","N/A","N/A","N/A","N/A","N/A","N/A","N/A","N/A","N/A","N/A"]
["     9.","Standby KW Charge","N/A","N/A",{"$f":"'GS FP per Tariff'!E50","v":3.88},"N/A","N/A","N/A","N/A","N/A","N/A","N/A","N/A","N/A","N/A","N/A"]
["    10.","Minimum Bill-Over 10 KW ","N/A","N/A",{"$f":"'GS FP per Tariff'!E51","v":3.83},"N/A","N/A","N/A","N/A","N/A","N/A","N/A","N/A","N/A","N/A","N/A"]
["11.","Capacity Peak Load Share{2} - Summer","N/A","N/A","N/A","N/A","N/A",{"$f":"H23","v":0.62521000000000004},"N/A","N/A","N/A","N/A","N/A","N/A","N/A","N/A"]
["12.","Capacity Peak Load Share{2} - Winter",null,null,null,null,null,{"$f":"H24","v":0.62521000000000004}]
[]
["13.","First 1,000 kWh Summer","N/A",{"$f":"'GS FP per Tariff'!D53","v":1.8019E-2},{"$f":"'GS FP per Tariff'!E53","v":7.0610000000000006E-2},{"$f":"F$26","v":3.3599999999999998E-4},{"$f":"G26","v":0},"N/A",{"$f":"I26","v":-2.7820000000000002E-3},{"$f":"J26","v":"{3}"},{"$f":"'RT per Tariff'!I$15","v":0},{"$f":"L$26","v":4.4350000000000006E-3},{"$f":"'RT per Tariff'!$K$15","v":7.2230000000000003E-3},{"$f":"$N$26","v":4.6299999999999998E-4},{"$f":"O$26","v":-2.1900000000000001E-4},{"$f":"P26","v":1.4999999999999999E-4}]
["14.","First 1,000 kWh Winter","N/A",{"$f":"'GS FP per Tariff'!D54","v":1.8019E-2},{"$f":"'GS FP per Tariff'!E54","v":6.5334000000000003E-2},3.3599999999999998E-4,0,"N/A",{"$f":"I27","v":-2.7820000000000002E-3},{"$f":"J57","v":"{3}"},{"$f":"'RT per Tariff'!I$15","v":0},{"$f":"L$27","v":4.4350000000000006E-3},{"$f":"'RT per Tariff'!$K$15","v":7.2230000000000003E-3},4.6299999999999998E-4,-2.1900000000000001E-4,1.4999999999999999E-4]
["15.","Over 1,000 kWh Summer","N/A",{"$f":"'GS FP per Tariff'!D55","v":1.8019E-2},{"$f":"'GS FP per Tariff'!E55","v":5.6470000000000001E-3},3.3599999999999998E-4,0,"N/A",-2.7820000000000002E-3,{"$f":"J58","v":"{3}"},{"$f":"'RT per Tariff'!I$15","v":0},{"$f":"L$26","v":4.4350000000000006E-3},{"$f":"'RT per Tariff'!$K$15","v":7.2230000000000003E-3},4.6299999999999998E-4,-2.1900000000000001E-4,1.4999999999999999E-4]
["16.","Over 1,000 kWh Winter","N/A",{"$f":"'GS FP per Tariff'!D56","v":1.8019E-2},{"$f":"'GS FP per Tariff'!E56","v":5.6470000000000001E-3},3.3599999999999998E-4,0,"N/A",-2.7820000000000002E-3,"{3}",{"$f":"'RT per Tariff'!I$15","v":0},{"$f":"L$27","v":4.4350000000000006E-3},{"$f":"'RT per Tariff'!$K$15","v":7.2230000000000003E-3},4.6299999999999998E-4,-2.1900000000000001E-4,1.4999999999999999E-4]
["17.","OPWH-kWh Summer","N/A",{"$f":"'GS FP per Tariff'!D57","v":1.8019E-2},{"$f":"'GS FP per Tariff'!E57","v":2.0695000000000002E-2},3.3599999999999998E-4,0,"N/A",-2.7820000000000002E-3,"{3}",{"$f":"'RT per Tariff'!I$15","v":0},4.4350000000000006E-3,{"$f":"'RT per Tariff'!$K$15","v":7.2230000000000003E-3},4.6299999999999998E-4,-2.1900000000000001E-4,1.4999999999999999E-4]
["18.","OPWH-kWh Winter","N/A",{"$f":"'GS FP per Tariff'!D58","v":1.8019E-2},{"$f":"'GS FP per Tariff'!E58","v":2.0695000000000002E-2},3.3599999999999998E-4,0,"N/A",-2.7820000000000002E-3,"{3}",{"$f":"'RT per Tariff'!I$15","v":0},{"$f":"L$27","v":4.4350000000000006E-3},{"$f":"'RT per Tariff'!$K$15","v":7.2230000000000003E-3},4.6299999999999998E-4,-2.1900000000000001E-4,1.4999999999999999E-4]
["19.","CTWH-kWh Summer","N/A",{"$f":"'GS FP per Tariff'!D59","v":1.8019E-2},{"$f":"'GS FP per Tariff'!E59","v":2.7258000000000001E-2},3.3599999999999998E-4,0,"N/A",-2.7820000000000002E-3,"{3}",{"$f":"'RT per Tariff'!I$15","v":0},4.4350000000000006E-3,{"$f":"'RT per Tariff'!$K$15","v":7.2230000000000003E-3},4.6299999999999998E-4,-2.1900000000000001E-4,1.4999999999999999E-4]
["20.","CTWH-kWh Winter","N/A",{"$f":"'GS FP per Tariff'!D60","v":1.8019E-2},{"$f":"'GS FP per Tariff'!E60","v":2.7258000000000001E-2},3.3599999999999998E-4,0,"N/A",-2.7820000000000002E-3,"{3}",{"$f":"'RT per Tariff'!I$15","v":0},{"$f":"L$27","v":4.4350000000000006E-3},{"$f":"'RT per Tariff'!$K$15","v":7.2230000000000003E-3},4.6299999999999998E-4,-2.1900000000000001E-4,1.4999999999999999E-4]
["21.","Traffic Signal kWh Summer","N/A",{"$f":"'GS FP per Tariff'!D61","v":1.8019E-2},{"$f":"'GS FP per Tariff'!E61","v":1.4796999999999999E-2},3.3599999999999998E-4,0,"N/A",-2.7820000000000002E-3,"{3}",{"$f":"'RT per Tariff'!I$15","v":0},4.4350000000000006E-3,{"$f":"'RT per Tariff'!$K$15","v":7.2230000000000003E-3},4.6299999999999998E-4,-2.1900000000000001E-4,1.4999999999999999E-4]
["22.","Traffic Signal kWh Winter","N/A",{"$f":"'GS FP per Tariff'!D62","v":1.8019E-2},{"$f":"'GS FP per Tariff'!E62","v":1.4796999999999999E-2},3.3599999999999998E-4,0,"N/A",-2.7820000000000002E-3,"{3}",{"$f":"'RT per Tariff'!I$15","v":0},{"$f":"L$27","v":4.4350000000000006E-3},{"$f":"'RT per Tariff'!$K$15","v":7.2230000000000003E-3},4.6299999999999998E-4,-2.1900000000000001E-4,1.4999999999999999E-4]
[]
[null,{"$f":"'GST CIEP per Tariff'!B69","v":"* Transmission, Retail Margin, BGS-CIEP Generation Capacity, BGS-CIEP Reconciliation and BGS-CIEP Hourly Energy Charges apply only to Full Service (non-shopping) Customers"}]
[]
[null,{"$f":"'GS FP per Tariff'!B65","v":"{1} Transmission Charge includes Reliability Must Run Surcharge (RMR) of $0.000000/$0.000000 (w/ SUT) Eff September 1, 2019 and Transmission Enhancement Charge (TEC) of $0.004066/0.004335 (w/ SUT) Eff  May  1, 2025"}]
[null,{"$f":"'GST CIEP per Tariff'!B72","v":"{2} The BGS-CIEP Generation Capacity Charge is billed based on Peak Load Share (PLS) on a per kW-day basis.  The customer's PLS is adjusted by PJM "}]
[null,{"$f":"'GST CIEP per Tariff'!B73","v":"    assigned capacity related factors and then multiplied by the price per kW-day which is then multiplied by the number of days in the billing period."}]
[null,{"$f":"'GST CIEP per Tariff'!B74","v":"{3} Hourly Energy prices are based on the sum of actual real-time PJM load weighted average Locational Marginal Price for the JCP&L Transmission Zone and "}]
[null,{"$f":"'GST CIEP per Tariff'!B75","v":" ancillary services of $0.00600 per KWH, times a Losses Multiplier times 6.625 % for Sales and Use Tax where applicable (See Tariff Rider BGS-CIEP) "}]
[{"$f":"'Disclaimer and Definitions'!$A$1","v":"Visual_Rate_Inventory  June 1, 2025"},null,"Jersey Central Power & Light",null,null,null,null,null,null,null,null,null,null,null," "]
[null,null," "]
[{"$f":"NOW()","v":45807.679723958332},null,{"$f":"'RT per Tariff'!C3","v":"Rates Effective with Service Rendered June 1, 2025"}]
["GS CIEP per Tariff"]
[null,null,"GS (General Service Secondary) Service Classification"]
[null,null,"Unbundled Rate Components"]
[]
[null,null,"Charges Applicable to Non-Tax-Exempt Accounts - CIEP BGS Rates"]
[]
[null,null,{"$f":"'RT per Tariff'!C22","v":"Unbundled Components Including CBT and SUT - 6/1/2025 Rates Applicable to Non-Tax-Exempt Customers"}]
[null,null,"Customer Charge",{"$f":"D11","v":"Transmission* \n{1}"},{"$f":"E11","v":"Distribution"},"Covid Recovery Charge","Retail Margin*","BGS-CIEP Generation Capacity Charge*","BGS-CIEP Reconciliation Charge*","BGS-CIEP Hourly Energy Charges*","Zero Emission Certificate Recovery Charge (ZEC)","RGGI Recovery Charge (RRC)","Societal Benefit Charge (SBC)",{"$f":"N11","v":"LRAM"},{"$f":"O11","v":"Non-utility Generation Charge (NGC)"},"Standby Fee"]
["1.","Customer Charge-Single Phase",{"$f":"'GS FP per Tariff'!C77","v":4.6500000000000004},"N/A","N/A","N/A","N/A","N/A","N/A","N/A","N/A","N/A","N/A","N/A","N/A","N/A"]
["2.","Customer Charge-Three Phase",{"$f":"'GS FP per Tariff'!C78","v":16.690000000000001},"N/A","N/A","N/A","N/A","N/A","N/A","N/A","N/A","N/A","N/A","N/A","N/A","N/A"]
["3.","Supp Cust Charge-OPWH",{"$f":"'GS FP per Tariff'!C79","v":2.23},"N/A","N/A","N/A","N/A","N/A","N/A","N/A","N/A","N/A","N/A","N/A","N/A","N/A"]
["     4.","Supp Cust Charge-CTWH",{"$f":"'GS FP per Tariff'!C80","v":2.23},"N/A","N/A","N/A","N/A","N/A","N/A","N/A","N/A","N/A","N/A","N/A","N/A","N/A"]
["     5.","Supp Cust Charge-Day/Night",{"$f":"'GS FP per Tariff'!C81","v":3.81},"N/A","N/A","N/A","N/A","N/A","N/A","N/A","N/A","N/A","N/A","N/A","N/A","N/A"]
["     6.","Traffic Signal-Supp Cust Charges",{"$f":"'GS FP per Tariff'!C82","v":17.34},"N/A","N/A","N/A","N/A","N/A","N/A","N/A","N/A","N/A","N/A","N/A","N/A","N/A"]
[" "," "]
["     7.","Over 10  KW Summer","N/A","N/A",{"$f":"'GS FP per Tariff'!E84","v":9},"N/A","N/A","N/A","N/A","N/A","N/A","N/A","N/A","N/A","N/A","N/A"]
["     8.","Over 10  KW Winter","N/A","N/A",{"$f":"'GS FP per Tariff'!E85","v":8.3800000000000008},"N/A","N/A","N/A","N/A","N/A","N/A","N/A","N/A","N/A","N/A","N/A"]
["     9.","Standby KW Charge","N/A","N/A",{"$f":"'GS FP per Tariff'!E86","v":4.1399999999999997},"N/A","N/A","N/A","N/A","N/A","N/A","N/A","N/A","N/A","N/A","N/A"]
["    10.","Minimum Bill-Over 10 KW ","N/A","N/A",{"$f":"'GS FP per Tariff'!E87","v":4.08},"N/A","N/A","N/A","N/A","N/A","N/A","N/A","N/A","N/A","N/A","N/A"]
["11.","Capacity Peak Load Share {2} - Summer","N/A","N/A","N/A","N/A","N/A",{"$f":"'GST CIEP per Tariff'!H61","v":0.66662999999999994},"N/A","N/A","N/A","N/A","N/A","N/A","N/A","N/A"]
["12.","Capacity Peak Load Share {2} - Winter",null,null,null,null,null,{"$f":"'GST CIEP per Tariff'!H62","v":0.66662999999999994}]
[]
["13.","First 1,000 kWh Summer","N/A",{"$f":"'GS FP per Tariff'!D89","v":1.9212E-2},{"$f":"'GS FP per Tariff'!E89","v":7.5287999999999994E-2},{"$f":"'GS FP per Tariff'!F89","v":3.5799999999999997E-4},{"$f":"'GST CIEP per Tariff'!G64","v":0},"N/A",{"$f":"ROUND(I26*SUT_6625,6)","v":-2.9659999999999999E-3},{"$f":"J26","v":"{3}"},{"$f":"'RT per Tariff'!I$27","v":0},{"$f":"'RT per Tariff'!J27","v":4.7289999999999997E-3},{"$f":"'RT per Tariff'!$K$27","v":7.7000000000000002E-3},{"$f":"'GS FP per Tariff'!L89","v":4.9399999999999997E-4},{"$f":"'GS FP per Tariff'!M89","v":-2.34E-4},{"$f":"'GST CIEP per Tariff'!P64","v":1.6000000000000001E-4}]
["14.","First 1,000 kWh Winter","N/A",{"$f":"'GS FP per Tariff'!D90","v":1.9212E-2},{"$f":"'GS FP per Tariff'!E90","v":6.9662000000000002E-2},{"$f":"F$100","v":3.5799999999999997E-4},{"$f":"G100","v":0},"N/A",-2.9659999999999999E-3,{"$f":"J100","v":"{3}"},{"$f":"'RT per Tariff'!I$27","v":0},{"$f":"'RT per Tariff'!J28","v":4.7289999999999997E-3},{"$f":"'RT per Tariff'!$K$27","v":7.7000000000000002E-3},{"$f":"$N$100","v":4.9399999999999997E-4},{"$f":"O$100","v":-2.34E-4},{"$f":"P100","v":1.6000000000000001E-4}]
["15.","Over 1,000 kWh Summer","N/A",{"$f":"'GS FP per Tariff'!D91","v":1.9212E-2},{"$f":"'GS FP per Tariff'!E91","v":6.0210000000000003E-3},{"$f":"F$100","v":3.5799999999999997E-4},{"$f":"G101","v":0},"N/A",-2.9659999999999999E-3,{"$f":"J101","v":"{3}"},{"$f":"'RT per Tariff'!I$27","v":0},{"$f":"L$100","v":4.7289999999999997E-3},{"$f":"'RT per Tariff'!$K$27","v":7.7000000000000002E-3},{"$f":"$N$100","v":4.9399999999999997E-4},{"$f":"O$100","v":-2.34E-4},{"$f":"P101","v":1.6000000000000001E-4}]
["16.","Over 1,000 kWh Winter","N/A",{"$f":"'GS FP per Tariff'!D92","v":1.9212E-2},{"$f":"'GS FP per Tariff'!E92","v":6.0210000000000003E-3},3.5799999999999997E-4,0,"N/A",-2.9659999999999999E-3,"{3}",{"$f":"'RT per Tariff'!I$27","v":0},{"$f":"L$101","v":4.7289999999999997E-3},{"$f":"'RT per Tariff'!$K$27","v":7.7000000000000002E-3},4.9399999999999997E-4,-2.34E-4,1.6000000000000001E-4]
["17.","OPWH-kWh Summer","N/A",{"$f":"'GS FP per Tariff'!D93","v":1.9212E-2},{"$f":"'GS FP per Tariff'!E93","v":2.2065999999999999E-2},3.5799999999999997E-4,0,"N/A",-2.9659999999999999E-3,"{3}",{"$f":"'RT per Tariff'!I$27","v":0},4.7289999999999997E-3,{"$f":"'RT per Tariff'!$K$27","v":7.7000000000000002E-3},4.9399999999999997E-4,-2.34E-4,1.6000000000000001E-4]
["18.","OPWH-kWh Winter","N/A",{"$f":"'GS FP per Tariff'!D94","v":1.9212E-2},{"$f":"'GS FP per Tariff'!E94","v":2.2065999999999999E-2},3.5799999999999997E-4,0,"N/A",-2.9659999999999999E-3,"{3}",{"$f":"'RT per Tariff'!I$27","v":0},{"$f":"L$101","v":4.7289999999999997E-3},{"$f":"'RT per Tariff'!$K$27","v":7.7000000000000002E-3},4.9399999999999997E-4,-2.34E-4,1.6000000000000001E-4]
["19.","CTWH-kWh Summer","N/A",{"$f":"'GS FP per Tariff'!D95","v":1.9212E-2},{"$f":"'GS FP per Tariff'!E95","v":2.9064E-2},3.5799999999999997E-4,0,"N/A",-2.9659999999999999E-3,"{3}",{"$f":"'RT per Tariff'!I$27","v":0},4.7289999999999997E-3,{"$f":"'RT per Tariff'!$K$27","v":7.7000000000000002E-3},4.9399999999999997E-4,-2.34E-4,1.6000000000000001E-4]
["20.","CTWH-kWh Winter","N/A",{"$f":"'GS FP per Tariff'!D96","v":1.9212E-2},{"$f":"'GS FP per Tariff'!E96","v":2.9064E-2},3.5799999999999997E-4,0,"N/A",-2.9659999999999999E-3,"{3}",{"$f":"'RT per Tariff'!I$27","v":0},{"$f":"L$101","v":4.7289999999999997E-3},{"$f":"'RT per Tariff'!$K$27","v":7.7000000000000002E-3},4.9399999999999997E-4,-2.34E-4,1.6000000000000001E-4]
["21.","Traffic Signal kWh Summer","N/A",{"$f":"'GS FP per Tariff'!D97","v":1.9212E-2},{"$f":"'GS FP per Tariff'!E97","v":1.5776999999999999E-2},3.5799999999999997E-4,0,"N/A",-2.9659999999999999E-3,"{3}",{"$f":"'RT per Tariff'!I$27","v":0},4.7289999999999997E-3,{"$f":"'RT per Tariff'!$K$27","v":7.7000000000000002E-3},4.9399999999999997E-4,-2.34E-4,1.6000000000000001E-4]
["22.","Traffic Signal kWh Winter","N/A",{"$f":"'GS FP per Tariff'!D98","v":1.9212E-2},{"$f":"'GS FP per Tariff'!E98","v":1.5776999999999999E-2},3.5799999999999997E-4,0,"N/A",-2.9659999999999999E-3,"{3}",{"$f":"'RT per Tariff'!I$27","v":0},{"$f":"L$101","v":4.7289999999999997E-3},{"$f":"'RT per Tariff'!$K$27","v":7.7000000000000002E-3},4.9399999999999997E-4,-2.34E-4,1.6000000000000001E-4]
["23.","Church Credit-1st 1,000 kWh","N/A",{"$f":"'GS FP per Tariff'!D99","v":"N/A"},{"$f":"'GS FP per Tariff'!E99","v":-3.8383E-2},"N/A","N/A","N/A","N/A","N/A","N/A","N/A","N/A","N/A","N/A","N/A"]
["24.","Church-1st 1,000 kWh-Summer(Incl.Credit)","N/A",{"$f":"'GS FP per Tariff'!D100","v":1.9212E-2},{"$f":"'GS FP per Tariff'!E100","v":3.6904999999999993E-2},{"$f":"F$100","v":3.5799999999999997E-4},{"$f":"G100","v":0},"N/A",{"$f":"I100","v":-2.9659999999999999E-3},{"$f":"J100","v":"{3}"},{"$f":"'RT per Tariff'!I$27","v":0},4.7289999999999997E-3,{"$f":"'RT per Tariff'!$K$27","v":7.7000000000000002E-3},{"$f":"$N$100","v":4.9399999999999997E-4},{"$f":"O$100","v":-2.34E-4},{"$f":"P100","v":1.6000000000000001E-4}]
["25.","Church-1st 1,000 kWh-Winter(Incl.Credit)","N/A",{"$f":"'GS FP per Tariff'!D101","v":1.9212E-2},{"$f":"'GS FP per Tariff'!E101","v":3.1279000000000001E-2},{"$f":"F$100","v":3.5799999999999997E-4},{"$f":"G100","v":0},"N/A",{"$f":"I100","v":-2.9659999999999999E-3},{"$f":"J100","v":"{3}"},{"$f":"'RT per Tariff'!I$27","v":0},{"$f":"L$101","v":4.7289999999999997E-3},{"$f":"'RT per Tariff'!$K$27","v":7.7000000000000002E-3},{"$f":"$N$100","v":4.9399999999999997E-4},{"$f":"O$100","v":-2.34E-4},{"$f":"P100","v":1.6000000000000001E-4}]
[]
[null,{"$f":"'GST CIEP per Tariff'!B69","v":"* Transmission, Retail Margin, BGS-CIEP Generation Capacity, BGS-CIEP Reconciliation and BGS-CIEP Hourly Energy Charges apply only to Full Service (non-shopping) Customers"}]
[]
[null,{"$f":"B70","v":"{1} Transmission Charge includes Reliability Must Run Surcharge (RMR) of $0.000000/$0.000000 (w/ SUT) Eff September 1, 2019 and Transmission Enhancement Charge (TEC) of $0.004066/0.004335 (w/ SUT) Eff  May  1, 2025"}]
[null,{"$f":"'GST CIEP per Tariff'!B72","v":"{2} The BGS-CIEP Generation Capacity Charge is billed based on Peak Load Share (PLS) on a per kW-day basis.  The customer's PLS is adjusted by PJM "}]
[null,{"$f":"'GST CIEP per Tariff'!B73","v":"    assigned capacity related factors and then multiplied by the price per kW-day which is then multiplied by the number of days in the billing period."}]
[null,{"$f":"'GST CIEP per Tariff'!B74","v":"{3} Hourly Energy prices are based on the sum of actual real-time PJM load weighted average Locational Marginal Price for the JCP&L Transmission Zone and "}]
[null,{"$f":"'GST CIEP per Tariff'!B75","v":" ancillary services of $0.00600 per KWH, times a Losses Multiplier times 6.625 % for Sales and Use Tax where applicable (See Tariff Rider BGS-CIEP) "}]

{"sheet":"GST FP per Tariff","index":13,"n_rows":74,"n_cols":14,"rows_kept":74,"cut":false,"hidden":false,"merged":[[61,1,61,13],[6,2,6,11],[7,2,7,11],[3,2,3,11],[4,2,4,11],[2,0,2,1],[3,0,3,1],[0,2,0,11],[1,2,1,11],[0,0,0,1],[1,0,1,1],[2,2,2,11],[45,17,45,26],[43,2,43,11],[5,2,5,11],[24,2,24,11],[36,18,36,24],[38,18,38,24],[40,17,40,23],[43,17,43,23],[9,2,9,13],[26,2,26,13],[45,2,45,13]]}
[{"$f":"'GS FP per Tariff'!A1:B1","v":"Visual_Rate_Inventory  June 1, 2025"},null,"Jersey Central Power & Light"]
[{"$f":"NOW()","v":"2025-05-30T16:18:48.150"},null," "]
[{"$f":"NOW()","v":45807.679723958332},null,{"$f":"'RT per Tariff'!C3","v":"Rates Effective with Service Rendered June 1, 2025"}]
["GST FP per Tariff"]
[null,null,"GST (General Service Secondary - Time-of-Day) Service Classification - Fixed Price BGS Rates"]
[null,null,"Unbundled Rate Components"]
[]
[null,null,"Charges Applicable to Franchised Utility (Tax Exempt) Customers"]
[]
[null,null,{"$f":"'GS FP per Tariff'!C10","v":"Unbundled Components Excluding CBT & SUT - 6/1/2025 Rates Applicable to Franchised Utility Customers "}]
[null,null,{"$f":"'RT per Tariff'!C11","v":"Customer Charge"},{"$f":"'RT per Tariff'!D11","v":"Transmission* \n{1}"},{"$f":"'RT per Tariff'!E11","v":"Distribution"},{"$f":"'RT per Tariff'!F11","v":"Covid Recovery Charge"},{"$f":"'GS FP per Tariff'!G11","v":"BGS-RSCP Energy & Capacity *"},{"$f":"'RT per Tariff'!H11","v":"BGS-RSCP Reconciliation Charge*"},{"$f":"'RT per Tariff'!I11","v":"Zero Emission Certificate Recovery Charge (ZEC)"},{"$f":"'RT per Tariff'!J11","v":"RGGI Recovery Charge (RRC)"},{"$f":"'RT per Tariff'!K11","v":"Societal Benefit Charge (SBC)"},{"$f":"'RT per Tariff'!L11","v":"LRAM"},{"$f":"'RT per Tariff'!M11","v":"Non-utility Generation Charge (NGC)"},"Total"]
["1.","Customer Charge-Single Phase",36.51,"N/A","N/A","N/A","N/A","N/A","N/A","N/A","N/A","N/A","N/A","N/A"]
["2.","Customer Charge-Three Phase",52.09,"N/A","N/A","N/A","N/A","N/A","N/A","N/A","N/A","N/A","N/A","N/A"]
[]
["3.","All Summer On-Peak KW","N/A","N/A",8.81,"N/A","N/A","N/A","N/A","N/A","N/A",{"$f":"'SBC TBC and MTC Tax'!B61","v":0.17},"N/A","N/A"]
["     4.","All Winter On-Peak KW","N/A","N/A",8.23,"N/A","N/A","N/A","N/A","N/A","N/A",{"$f":"L15","v":0.17},"N/A","N/A"]
["     5.","Standby Service KW","N/A","N/A","N/A","N/A","N/A","N/A","N/A","N/A","N/A","N/A","N/A","N/A"]
["     6.","Minimum Bill KW","N/A","N/A",3.85,"N/A","N/A","N/A","N/A","N/A","N/A","N/A","N/A","N/A"]
[]
["     7.","Summer On-Peak kWh","N/A",{"$f":"'RT per Tariff'!D15","v":1.8019E-2},4.7140000000000003E-3,{"$f":"'RT per Tariff'!F15","v":3.3599999999999998E-4},0.15528900000000001,{"$f":"'RT per Tariff'!H$15","v":3.6999999999999998E-5},{"$f":"'RT per Tariff'!I$15","v":0},{"$f":"'RT per Tariff'!J15","v":4.4350000000000006E-3},{"$f":"'RT per Tariff'!$K$15","v":7.2230000000000003E-3},{"$f":"'SBC TBC and MTC Tax'!B52","v":0},{"$f":"'GS FP per Tariff'!M24","v":-2.1900000000000001E-4},{"$f":"SUM(D20:M20)","v":0.18983400000000003}]
["8.","Winter On-Peak kWh","N/A",{"$f":"D$20","v":1.8019E-2},4.7140000000000003E-3,3.3599999999999998E-4,0.14929500000000001,{"$f":"'RT per Tariff'!H$15","v":3.6999999999999998E-5},{"$f":"'RT per Tariff'!I$15","v":0},{"$f":"'RT per Tariff'!J16","v":4.4350000000000006E-3},{"$f":"'RT per Tariff'!$K$15","v":7.2230000000000003E-3},{"$f":"L$20","v":0},{"$f":"M$20","v":-2.1900000000000001E-4},{"$f":"SUM(D21:M21)","v":0.18384000000000003}]
["9.","Summer Off-Peak kWh","N/A",1.8019E-2,4.7140000000000003E-3,3.3599999999999998E-4,8.7024000000000004E-2,{"$f":"'RT per Tariff'!H$15","v":3.6999999999999998E-5},{"$f":"'RT per Tariff'!I$15","v":0},{"$f":"J$20","v":4.4350000000000006E-3},{"$f":"'RT per Tariff'!$K$15","v":7.2230000000000003E-3},0,{"$f":"M$20","v":-2.1900000000000001E-4},{"$f":"SUM(D22:M22)","v":0.12156899999999998}]
["10.","Winter Off-Peak kWh","N/A",1.8019E-2,4.7140000000000003E-3,3.3599999999999998E-4,9.5571000000000003E-2,{"$f":"'RT per Tariff'!H$15","v":3.6999999999999998E-5},{"$f":"'RT per Tariff'!I$15","v":0},{"$f":"J$21","v":4.4350000000000006E-3},{"$f":"'RT per Tariff'!$K$15","v":7.2230000000000003E-3},0,{"$f":"M$20","v":-2.1900000000000001E-4},{"$f":"SUM(D23:M23)","v":0.13011599999999998}]
[]
[null,null,"Charges Applicable to Federal Government (SUT Exempt) Accounts - Fixed Price BGS Rates"]
[]
[null,null,{"$f":"'RT per Tariff'!C10","v":"Unbundled Components Including CBT - 6/1/2025 Rates Applicable to SUT Exempt Accounts"}]
[null,null,{"$f":"C11","v":"Customer Charge"},"Transmission* \n{1}","Distribution","Covid Recovery Charge","BGS-RSCP Energy & Capacity *","BGS-RSCP Reconciliation Charge*","Zero Emission Certificate Recovery Charge (ZEC)","RGGI Recovery Charge (RRC)","Societal Benefit Charge (SBC)","LRAM","Non-utility Generation Charge (NGC)","Total"]
["1.","Customer Charge-Single Phase",37.880000000000003,"N/A","N/A","N/A","N/A","N/A","N/A","N/A","N/A","N/A","N/A","N/A"]
["2.","Customer Charge-Three Phase",54.05,"N/A","N/A","N/A","N/A","N/A","N/A","N/A","N/A","N/A","N/A","N/A"]
[]
["3.","All Summer On-Peak KW","N/A","N/A",9.14,{"$f":"F15","v":"N/A"},"N/A","N/A","N/A","N/A","N/A",{"$f":"L15","v":0.17},"N/A","N/A"]
["     4.","All Winter On-Peak KW","N/A","N/A",8.5399999999999991,{"$f":"F16","v":"N/A"},"N/A","N/A","N/A","N/A","N/A",{"$f":"L16","v":0.17},"N/A","N/A"]
["     5.","Standby Service KW","N/A","N/A",3.88,{"$f":"F32","v":"N/A"},"N/A","N/A","N/A","N/A","N/A","N/A","N/A","N/A"]
["     6.","Minimum Bill KW","N/A","N/A",3.99,{"$f":"F18","v":"N/A"},"N/A","N/A","N/A","N/A","N/A","N/A","N/A","N/A"]
[]
["     7.","Summer On-Peak kWh","N/A",{"$f":"D20","v":1.8019E-2},4.8910000000000004E-3,{"$f":"F$20","v":3.3599999999999998E-4},{"$f":"G20","v":0.15528900000000001},{"$f":"'RT per Tariff'!H$15","v":3.6999999999999998E-5},{"$f":"'RT per Tariff'!I$15","v":0},{"$f":"J$20","v":4.4350000000000006E-3},{"$f":"'RT per Tariff'!$K$15","v":7.2230000000000003E-3},{"$f":"L$20","v":0},{"$f":"M$20","v":-2.1900000000000001E-4},{"$f":"SUM(D37:M37)","v":0.19001100000000001}]
["8.","Winter On-Peak kWh","N/A",{"$f":"D21","v":1.8019E-2},{"$f":"E$37","v":4.8910000000000004E-3},3.3599999999999998E-4,{"$f":"G21","v":0.14929500000000001},{"$f":"'RT per Tariff'!H$15","v":3.6999999999999998E-5},{"$f":"'RT per Tariff'!I$15","v":0},{"$f":"J$21","v":4.4350000000000006E-3},{"$f":"'RT per Tariff'!$K$15","v":7.2230000000000003E-3},{"$f":"L$37","v":0},{"$f":"M$20","v":-2.1900000000000001E-4},{"$f":"SUM(D38:M38)","v":0.18401700000000001}]
["9.","Summer Off-Peak kWh","N/A",{"$f":"D22","v":1.8019E-2},{"$f":"E$37","v":4.8910000000000004E-3},3.3599999999999998E-4,{"$f":"G22","v":8.7024000000000004E-2},{"$f":"'RT per Tariff'!H$15","v":3.6999999999999998E-5},{"$f":"'RT per Tariff'!I$15","v":0},{"$f":"J$20","v":4.4350000000000006E-3},{"$f":"'RT per Tariff'!$K$15","v":7.2230000000000003E-3},{"$f":"L$37","v":0},{"$f":"M$20","v":-2.1900000000000001E-4},{"$f":"SUM(D39:M39)","v":0.12174599999999999}]
["10.","Winter Off-Peak kWh","N/A",{"$f":"D23","v":1.8019E-2},{"$f":"E$37","v":4.8910000000000004E-3},3.3599999999999998E-4,{"$f":"G23","v":9.5571000000000003E-2},{"$f":"'RT per Tariff'!H$15","v":3.6999999999999998E-5},{"$f":"'RT per Tariff'!I$15","v":0},{"$f":"J$21","v":4.4350000000000006E-3},{"$f":"'RT per Tariff'!$K$15","v":7.2230000000000003E-3},{"$f":"L$37","v":0},{"$f":"M$20","v":-2.1900000000000001E-4},{"$f":"SUM(D40:M40)","v":0.13029299999999999}]
[]
[]
[]
[null,null,"Charges Applicable to Non-Tax-Exempt Accounts - Fixed Price BGS Rates"]
[]
[null,null,{"$f":"'RT per Tariff'!C22","v":"Unbundled Components Including CBT and SUT - 6/1/2025 Rates Applicable to Non-Tax-Exempt Customers"}]
[null,null,{"$f":"C28","v":"Customer Charge"},{"$f":"D28","v":"Transmission* \n{1}"},"Distribution","Covid Recovery Charge","BGS-RSCP Energy & Capacity *","BGS-RSCP Reconciliation Charge*","Zero Emission Certificate Recovery Charge (ZEC)","RGGI Recovery Charge (RRC)","Societal Benefit Charge (SBC)",{"$f":"L28","v":"LRAM"},{"$f":"M28","v":"Non-utility Generation Charge (NGC)"},"Total"]
["1.","Customer Charge-Single Phase",{"$f":"ROUND(C29*SUT_6625,2)","v":40.39},"N/A","N/A","N/A","N/A","N/A","N/A","N/A","N/A","N/A","N/A","N/A"]
["2.","Customer Charge-Three Phase",{"$f":"ROUND(C30*SUT_6625,2)","v":57.63},"N/A","N/A","N/A","N/A","N/A","N/A","N/A","N/A","N/A","N/A","N/A"]
[]
["3.","All Summer On-Peak KW","N/A","N/A",{"$f":"ROUND(E32*SUT_6625,2)","v":9.75},"N/A","N/A","N/A","N/A","N/A","N/A",{"$f":"ROUND(L32*SUT_6625,2)","v":0.18},"N/A","N/A"]
["     4.","All Winter On-Peak KW","N/A","N/A",{"$f":"ROUND(E33*SUT_6625,2)","v":9.11},"N/A","N/A","N/A","N/A","N/A","N/A",{"$f":"ROUND(L33*SUT_6625,2)","v":0.18},"N/A","N/A"]
["     5.","Standby Service KW","N/A","N/A",{"$f":"ROUND(E34*SUT_6625,2)","v":4.1399999999999997},"N/A","N/A","N/A","N/A","N/A","N/A","N/A","N/A","N/A"]
["     6.","Minimum Bill KW","N/A","N/A",{"$f":"ROUND(E35*SUT_6625,2)","v":4.25},"N/A","N/A","N/A","N/A","N/A","N/A","N/A","N/A","N/A"]
[]
["     7.","Summer On-Peak kWh","N/A",{"$f":"'RT per Tariff'!D27","v":1.9212E-2},{"$f":"ROUND(E37*SUT_6625,6)","v":5.215E-3},{"$f":"ROUND(F37*SUT_6625,6)","v":3.5799999999999997E-4},{"$f":"ROUND(G20*SUT_6625,6)","v":0.165577},{"$f":"'RT per Tariff'!H$27","v":3.8999999999999999E-5},{"$f":"'RT per Tariff'!I$27","v":0},{"$f":"'RT per Tariff'!J27","v":4.7289999999999997E-3},{"$f":"'RT per Tariff'!$K$27","v":7.7000000000000002E-3},{"$f":"ROUND(L37*SUT_6625,6)","v":0},{"$f":"'GS FP per Tariff'!M89","v":-2.34E-4},{"$f":"SUM(D56:M56)","v":0.20259600000000003}]
["8.","Winter On-Peak kWh","N/A",{"$f":"D$56","v":1.9212E-2},5.215E-3,3.5799999999999997E-4,{"$f":"ROUND(G21*SUT_6625,6)","v":0.15918599999999999},{"$f":"'RT per Tariff'!H$27","v":3.8999999999999999E-5},{"$f":"'RT per Tariff'!I$27","v":0},{"$f":"'RT per Tariff'!J28","v":4.7289999999999997E-3},{"$f":"'RT per Tariff'!$K$27","v":7.7000000000000002E-3},{"$f":"L$56","v":0},{"$f":"M$56","v":-2.34E-4},{"$f":"SUM(D57:M57)","v":0.19620500000000002}]
["9.","Summer Off-Peak kWh","N/A",1.9212E-2,5.215E-3,3.5799999999999997E-4,{"$f":"ROUND(G22*SUT_6625,6)","v":9.2788999999999996E-2},{"$f":"'RT per Tariff'!H$27","v":3.8999999999999999E-5},{"$f":"'RT per Tariff'!I$27","v":0},{"$f":"J$56","v":4.7289999999999997E-3},{"$f":"'RT per Tariff'!$K$27","v":7.7000000000000002E-3},0,{"$f":"M$56","v":-2.34E-4},{"$f":"SUM(D58:M58)","v":0.12980799999999998}]
["10.","Winter Off-Peak kWh","N/A",1.9212E-2,5.215E-3,3.5799999999999997E-4,{"$f":"ROUND(G23*SUT_6625,6)","v":0.10190299999999999},{"$f":"'RT per Tariff'!H$27","v":3.8999999999999999E-5},{"$f":"'RT per Tariff'!I$27","v":0},{"$f":"J$57","v":4.7289999999999997E-3},{"$f":"'RT per Tariff'!$K$27","v":7.7000000000000002E-3},0,{"$f":"M$56","v":-2.34E-4},{"$f":"SUM(D59:M59)","v":0.13892200000000002}]
[]
[null,{"$f":"'RT per Tariff'!$A$32","v":"* Transmission, Energy & Capacity and BGS-RSCP Reconciliation Charges apply only to Full Service (non-shopping) Customers"}]
[null,{"$f":"'RT per Tariff'!A33","v":"{1} Transmission Charge includes Reliability Must Run Surcharge (RMR) of $0.000000/$0.000000 (w/ SUT) Eff September 1, 2019 and Transmission Enhancement Charge (TEC) of $0.004066/0.004335 (w/ SUT) Eff  May  1, 2025"}]
[]
[]
[]
[null,null," "]
[]
[]
[]
[]
[]
[]
[]
[" "]

{"sheet":"GST FP Summary","index":14,"n_rows":82,"n_cols":14,"rows_kept":82,"cut":false,"hidden":false,"merged":[[0,0,0,1],[1,0,1,1],[2,0,2,1],[3,0,3,1],[9,2,9,5],[9,6,9,7],[0,2,0,7],[2,2,2,7],[4,2,4,7],[6,2,6,7],[58,2,58,5],[58,6,58,7],[24,2,24,5],[24,6,24,7],[53,0,53,1],[54,2,54,7],[56,2,56,7],[50,0,50,1],[50,2,50,7],[51,0,51,1],[52,0,52,1],[52,2,52,7]]}
[{"$f":"'GST FP per Tariff'!A1:B1","v":"Visual_Rate_Inventory  June 1, 2025"},null,"Jersey Central Power & Light"]
[{"$f":"NOW()","v":"2025-05-30T16:18:48.150"},null," "]
[{"$f":"NOW()","v":45807.679723958332},null,{"$f":"'RT per Tariff'!C3","v":"Rates Effective with Service Rendered June 1, 2025"}]
["GST FP Summary"]
[null,null,"GST (General Service Secondary - Time-of-Day) Service Classification - Fixed Price BGS Rates"]
[]
[null,null,"Summary of Charges *"]
[]
[]
[null,null,"Summary of Charges Applicable to Franchised \nUtility (Tax Exempt) Customers",null,null,null,"Summary Without BGS Reconciliation Charges"]
[null,null,"Customer Charge","Full Service Customer \nTotal kWh Charges{1}","Basic Generation Service Charge/Price to Compare{2}","Delivery Service kWh Charges{3}","Full Service Customer \nTotal kWh Charges","Basic Generation Service Charge/Price to Compare"]
["1.","Customer Charge-Single Phase",{"$f":"'GST FP per Tariff'!C12","v":36.51},"N/A","N/A","N/A","N/A","N/A"]
["2.","Customer Charge-Three Phase",{"$f":"'GST FP per Tariff'!C13","v":52.09},"N/A","N/A","N/A","N/A","N/A"]
[]
["3.","All Summer On-Peak KW","N/A","N/A","N/A","N/A","N/A","N/A"]
["     4.","All Winter On-Peak KW","N/A","N/A","N/A","N/A","N/A","N/A"]
["     5.","Standby Service KW","N/A","N/A","N/A","N/A","N/A","N/A"]
["     6.","Minimum Bill KW","N/A","N/A","N/A","N/A","N/A","N/A"]
[]
["     7.","Summer On-Peak kWh","N/A",{"$f":"'GST FP per Tariff'!N20","v":0.18983400000000003},{"$f":"'GST FP per Tariff'!D20+'GST FP per Tariff'!G20+'GST FP per Tariff'!H20","v":0.17334500000000003},{"$f":"SUM('GST FP per Tariff'!E20:F20,'GST FP per Tariff'!I20:K20,'GST FP per Tariff'!M20)","v":1.6489E-2},{"$f":"'GST FP per Tariff'!N20-'GST FP per Tariff'!H20","v":0.18979700000000002},{"$f":"'GST FP per Tariff'!D20+'GST FP per Tariff'!G20","v":0.17330800000000002},{"$f":"E20+F20-D20","v":0},{"$f":"D20-G20-'GST FP per Tariff'!H20","v":9.2495997840169597E-18},{"$f":"E20-H20-'GST FP per Tariff'!H20","v":9.2495997840169597E-18}]
["8.","Winter On-Peak kWh","N/A",{"$f":"'GST FP per Tariff'!N21","v":0.18384000000000003},{"$f":"'GST FP per Tariff'!D21+'GST FP per Tariff'!G21+'GST FP per Tariff'!H21","v":0.16735100000000003},{"$f":"SUM('GST FP per Tariff'!E21:F21,'GST FP per Tariff'!I21:K21,'GST FP per Tariff'!M21)","v":1.6489E-2},{"$f":"'GST FP per Tariff'!N21-'GST FP per Tariff'!H21","v":0.18380300000000002},{"$f":"'GST FP per Tariff'!D21+'GST FP per Tariff'!G21","v":0.16731400000000002},{"$f":"E21+F21-D21","v":0},{"$f":"D21-G21-'GST FP per Tariff'!H21","v":9.2495997840169597E-18},{"$f":"E21-H21-'GST FP per Tariff'!H21","v":9.2495997840169597E-18}]
["9.","Summer Off-Peak kWh","N/A",{"$f":"'GST FP per Tariff'!N22","v":0.12156899999999998},{"$f":"'GST FP per Tariff'!D22+'GST FP per Tariff'!G22+'GST FP per Tariff'!H22","v":0.10507999999999999},{"$f":"SUM('GST FP per Tariff'!E22:F22,'GST FP per Tariff'!I22:K22,'GST FP per Tariff'!M22)","v":1.6489E-2},{"$f":"'GST FP per Tariff'!N22-'GST FP per Tariff'!H22","v":0.12153199999999999},{"$f":"'GST FP per Tariff'!D22+'GST FP per Tariff'!G22","v":0.105043},0,{"$f":"D22-G22-'GST FP per Tariff'!H22","v":-4.6281880237974971E-18},{"$f":"E22-H22-'GST FP per Tariff'!H22","v":-4.6281880237974971E-18}]
["10.","Winter Off-Peak kWh","N/A",{"$f":"'GST FP per Tariff'!N23","v":0.13011599999999998},{"$f":"'GST FP per Tariff'!D23+'GST FP per Tariff'!G23+'GST FP per Tariff'!H23","v":0.11362699999999999},{"$f":"SUM('GST FP per Tariff'!E23:F23,'GST FP per Tariff'!I23:K23,'GST FP per Tariff'!M23)","v":1.6489E-2},{"$f":"'GST FP per Tariff'!N23-'GST FP per Tariff'!H23","v":0.13007899999999997},{"$f":"'GST FP per Tariff'!D23+'GST FP per Tariff'!G23","v":0.11359},0,{"$f":"D23-G23-'GST FP per Tariff'!H23","v":9.2495997840169597E-18},{"$f":"E23-H23-'GST FP per Tariff'!H23","v":-4.6281880237974971E-18}]
[]
[null,null,"Summary of Charges Applicable to Federal \nGovernment (SUT Exempt) Customers",null,null,null,"Summary Without BGS Reconciliation Charges"]
[null,null,"Customer Charge","Full Service Customer \nTotal kWh Charges{1}","Basic Generation Service Charge/Price to Compare{2}","Delivery Service kWh Charges{3}","Full Service Customer \nTotal kWh Charges","Basic Generation Service Charge/Price to Compare"]
["1.","Customer Charge-Single Phase",{"$f":"'GST FP per Tariff'!C29","v":37.880000000000003},"N/A","N/A","N/A","N/A","N/A"]
["2.","Customer Charge-Three Phase",{"$f":"'GST FP per Tariff'!C30","v":54.05},"N/A","N/A","N/A","N/A","N/A"]
[]
["3.","All Summer On-Peak KW","N/A","N/A","N/A","N/A","N/A","N/A"]
["     4.","All Winter On-Peak KW","N/A","N/A","N/A","N/A","N/A","N/A"]
["     5.","Standby Service KW","N/A","N/A","N/A","N/A","N/A","N/A"]
["     6.","Minimum Bill KW","N/A","N/A","N/A","N/A","N/A","N/A"]
[]
["     7.","Summer On-Peak kWh","N/A",{"$f":"'GST FP per Tariff'!N37","v":0.19001100000000001},{"$f":"'GST FP per Tariff'!D37+'GST FP per Tariff'!G37+'GST FP per Tariff'!H37","v":0.17334500000000003},{"$f":"SUM('GST FP per Tariff'!E37,'GST FP per Tariff'!F37,'GST FP per Tariff'!I37,'GST FP per Tariff'!K37,'GST FP per Tariff'!M37,'GST FP per Tariff'!J37,'GST FP per Tariff'!L37)","v":1.6666E-2},{"$f":"'GST FP per Tariff'!N37-'GST FP per Tariff'!H37","v":0.189974},{"$f":"'GST FP per Tariff'!D37+'GST FP per Tariff'!G37","v":0.17330800000000002},{"$f":"E35+F35-D35","v":0},{"$f":"D35-G35-'GST FP per Tariff'!H37","v":9.2495997840169597E-18},{"$f":"E35-H35-'GST FP per Tariff'!H37","v":9.2495997840169597E-18}]
["8.","Winter On-Peak kWh","N/A",{"$f":"'GST FP per Tariff'!N38","v":0.18401700000000001},{"$f":"'GST FP per Tariff'!D38+'GST FP per Tariff'!G38+'GST FP per Tariff'!H38","v":0.16735100000000003},{"$f":"SUM('GST FP per Tariff'!E38,'GST FP per Tariff'!F38,'GST FP per Tariff'!I38,'GST FP per Tariff'!K38,'GST FP per Tariff'!M38,'GST FP per Tariff'!J38,'GST FP per Tariff'!L38)","v":1.6666E-2},{"$f":"'GST FP per Tariff'!N38-'GST FP per Tariff'!H38","v":0.18398},{"$f":"'GST FP per Tariff'!D38+'GST FP per Tariff'!G38","v":0.16731400000000002},{"$f":"E36+F36-D36","v":0},{"$f":"D36-G36-'GST FP per Tariff'!H38","v":9.2495997840169597E-18},{"$f":"E36-H36-'GST FP per Tariff'!H38","v":9.2495997840169597E-18}]
["9.","Summer Off-Peak kWh","N/A",{"$f":"'GST FP per Tariff'!N39","v":0.12174599999999999},{"$f":"'GST FP per Tariff'!D39+'GST FP per Tariff'!G39+'GST FP per Tariff'!H39","v":0.10507999999999999},{"$f":"SUM('GST FP per Tariff'!E39,'GST FP per Tariff'!F39,'GST FP per Tariff'!I39,'GST FP per Tariff'!K39,'GST FP per Tariff'!M39,'GST FP per Tariff'!J39,'GST FP per Tariff'!L39)","v":1.6666E-2},{"$f":"'GST FP per Tariff'!N39-'GST FP per Tariff'!H39","v":0.121709},{"$f":"'GST FP per Tariff'!D39+'GST FP per Tariff'!G39","v":0.105043},0,{"$f":"D37-G37-'GST FP per Tariff'!H39","v":-4.6281880237974971E-18},{"$f":"E37-H37-'GST FP per Tariff'!H39","v":-4.6281880237974971E-18}]
["10.","Winter Off-Peak kWh","N/A",{"$f":"'GST FP per Tariff'!N40","v":0.13029299999999999},{"$f":"'GST FP per Tariff'!D40+'GST FP per Tariff'!G40+'GST FP per Tariff'!H40","v":0.11362699999999999},{"$f":"SUM('GST FP per Tariff'!E40,'GST FP per Tariff'!F40,'GST FP per Tariff'!I40,'GST FP per Tariff'!K40,'GST FP per Tariff'!M40,'GST FP per Tariff'!J40,'GST FP per Tariff'!L40)","v":1.6666E-2},{"$f":"'GST FP per Tariff'!N40-'GST FP per Tariff'!H40","v":0.13025599999999998},{"$f":"'GST FP per Tariff'!D40+'GST FP per Tariff'!G40","v":0.11359},0,{"$f":"D38-G38-'GST FP per Tariff'!H40","v":9.2495997840169597E-18},{"$f":"E38-H38-'GST FP per Tariff'!H40","v":-4.6281880237974971E-18}]
[null,null,null,null,null,null,null,null,null,null,null,null,null,8]
["* Note: Charges are billed to the customer by component as they appear in the Jersey Central Power & Light Tariff for Service."]
[" By multiplying the summarized charges in these tables times the customers kWh usage you may get an amount that is a few"]
[" cents different than the actual amount of the customer's bill due to rounding differences."]
[]
[{"$f":"'RT Summary'!A36","v":"{1} Includes Distribution, SBC, NGC, TAA, RRC, SRC, ZEC, Energy & Capacity, Transmission (including RMR and TEC) and BGS-RSCP reconciliation charges"}]
[{"$f":"'RT Summary'!A37","v":"{2} Includes Energy & Capacity, Transmission (including RMR and TEC) and the current BGS-RSCP reconciliation charge of $0.000037 per kWh"}]
[{"$f":"'RT Summary'!A38","v":"{3} Includes Distribution, SBC, NGC, TAA, RRC , and ZEC charges"}]
[{"$f":"'RT Summary'!A39","v":"{4} Includes Energy & Capacity, Transmission (including RMR and TEC) and the current BGS-RSCP reconciliation charge of $0.000039 per kWh"}]
[]
[]
[]
[{"$f":"'Disclaimer and Definitions'!$A$1","v":"Visual_Rate_Inventory  June 1, 2025"},null,"Jersey Central Power & Light"]
[{"$f":"NOW()","v":"2025-05-30T16:18:48.150"},null," "]
[{"$f":"NOW()","v":45807.679723958332},null,{"$f":"C3","v":"Rates Effective with Service Rendered June 1, 2025"}]
["GST FP Summary"]
[null,null,"GST (General Service Secondary - Time-of-Day) Service Classification - Fixed Price BGS Rates"]
[]
[null,null,"Summary of Charges *"]
[]
[null,null,"Summary of Charges Applicable to \nNormal (Non-Exempt) Customers",null,null,null,"Summary Without BGS Reconciliation Charges"]
[null,null,"Customer Charge","Full Service Customer \nTotal kWh Charges{1}","Basic Generation Service Charge/Price to Compare{4}","Delivery Service kWh Charges{3}","Full Service Customer \nTotal kWh Charges","Basic Generation Service Charge/Price to Compare"]
["1.","Customer Charge-Single Phase",{"$f":"'GST FP per Tariff'!C48","v":40.39},"N/A","N/A","N/A","N/A","N/A"]
["2.","Customer Charge-Three Phase",{"$f":"'GST FP per Tariff'!C49","v":57.63},"N/A","N/A","N/A","N/A","N/A"]
[]
["3.","All Summer On-Peak KW","N/A","N/A","N/A","N/A","N/A","N/A"]
["4.","All Winter On-Peak KW","N/A","N/A","N/A","N/A","N/A","N/A"]
["     5.","Standby Service KW","N/A","N/A","N/A","N/A","N/A","N/A"]
["     6.","Minimum Bill KW","N/A","N/A","N/A","N/A","N/A","N/A"]
[]
["     7.","Summer On-Peak kWh","N/A",{"$f":"'GST FP per Tariff'!N56","v":0.20259600000000003},{"$f":"'GST FP per Tariff'!D56+'GST FP per Tariff'!G56+'GST FP per Tariff'!H56","v":0.18482800000000002},{"$f":"SUM('GST FP per Tariff'!E56,'GST FP per Tariff'!F56,'GST FP per Tariff'!I56,'GST FP per Tariff'!K56,'GST FP per Tariff'!M56,'GST FP per Tariff'!J56,'GST FP per Tariff'!L56)","v":1.7767999999999999E-2},{"$f":"'GST FP per Tariff'!N56-'GST FP per Tariff'!H56","v":0.20255700000000001},{"$f":"'GST FP per Tariff'!D56+'GST FP per Tariff'!G56","v":0.18478900000000001},{"$f":"E69+F69-D69","v":0},{"$f":"D69-G69-'GST FP per Tariff'!H56","v":1.1248597539537109E-17},{"$f":"E69-H69-'GST FP per Tariff'!H56","v":1.1248597539537109E-17}]
["8.","Winter On-Peak kWh","N/A",{"$f":"'GST FP per Tariff'!N57","v":0.19620500000000002},{"$f":"'GST FP per Tariff'!D57+'GST FP per Tariff'!G57+'GST FP per Tariff'!H57","v":0.17843700000000001},{"$f":"SUM('GST FP per Tariff'!E57,'GST FP per Tariff'!F57,'GST FP per Tariff'!I57,'GST FP per Tariff'!K57,'GST FP per Tariff'!M57,'GST FP per Tariff'!J57,'GST FP per Tariff'!L57)","v":1.7767999999999999E-2},{"$f":"'GST FP per Tariff'!N57-'GST FP per Tariff'!H57","v":0.19616600000000001},{"$f":"'GST FP per Tariff'!D57+'GST FP per Tariff'!G57","v":0.178398},{"$f":"E70+F70-D70","v":0},{"$f":"D70-G70-'GST FP per Tariff'!H57","v":1.1248597539537109E-17},{"$f":"E70-H70-'GST FP per Tariff'!H57","v":1.1248597539537109E-17}]
["9.","Summer Off-Peak kWh","N/A",{"$f":"'GST FP per Tariff'!N58","v":0.12980799999999998},{"$f":"'GST FP per Tariff'!D58+'GST FP per Tariff'!G58+'GST FP per Tariff'!H58","v":0.11203999999999999},{"$f":"SUM('GST FP per Tariff'!E58,'GST FP per Tariff'!F58,'GST FP per Tariff'!I58,'GST FP per Tariff'!K58,'GST FP per Tariff'!M58,'GST FP per Tariff'!J58,'GST FP per Tariff'!L58)","v":1.7767999999999999E-2},{"$f":"'GST FP per Tariff'!N58-'GST FP per Tariff'!H58","v":0.12976899999999997},{"$f":"'GST FP per Tariff'!D58+'GST FP per Tariff'!G58","v":0.11200099999999999},0,{"$f":"D71-G71-'GST FP per Tariff'!H58","v":1.1248597539537109E-17},{"$f":"E71-H71-'GST FP per Tariff'!H58","v":-2.6291902682773483E-18}]
["10.","Winter Off-Peak kWh","N/A",{"$f":"'GST FP per Tariff'!N59","v":0.13892200000000002},{"$f":"'GST FP per Tariff'!D59+'GST FP per Tariff'!G59+'GST FP per Tariff'!H59","v":0.121154},{"$f":"SUM('GST FP per Tariff'!E59,'GST FP per Tariff'!F59,'GST FP per Tariff'!I59,'GST FP per Tariff'!K59,'GST FP per Tariff'!M59,'GST FP per Tariff'!J59,'GST FP per Tariff'!L59)","v":1.7767999999999999E-2},{"$f":"'GST FP per Tariff'!N59-'GST FP per Tariff'!H59","v":0.13888300000000001},{"$f":"'GST FP per Tariff'!D59+'GST FP per Tariff'!G59","v":0.121115},0,{"$f":"D72-G72-'GST FP per Tariff'!H59","v":1.1248597539537109E-17},{"$f":"E72-H72-'GST FP per Tariff'!H59","v":-2.6291902682773483E-18}]
[]
["* Note: Charges are billed to the customer by component as they appear in the Jersey Central Power & Light Tariff for Service."]
[" By multiplying the summarized charges in these tables times the customers kWh usage you may get an amount that is a few"]
[" cents different than the actual amount of the customer's bill due to rounding differences."]
[]
[]
[{"$f":"'RT Summary'!A36","v":"{1} Includes Distribution, SBC, NGC, TAA, RRC, SRC, ZEC, Energy & Capacity, Transmission (including RMR and TEC) and BGS-RSCP reconciliation charges"}]
[{"$f":"'RT Summary'!A37","v":"{2} Includes Energy & Capacity, Transmission (including RMR and TEC) and the current BGS-RSCP reconciliation charge of $0.000037 per kWh"}]
[{"$f":"'RT Summary'!A38","v":"{3} Includes Distribution, SBC, NGC, TAA, RRC , and ZEC charges"}]
[{"$f":"'RT Summary'!A39","v":"{4} Includes Energy & Capacity, Transmission (including RMR and TEC) and the current BGS-RSCP reconciliation charge of $0.000039 per kWh"}]

{"sheet":"GST CIEP per Tariff","index":15,"n_rows":75,"n_cols":16,"rows_kept":75,"cut":false,"hidden":false,"merged":[[0,2,0,13],[1,2,1,13],[42,20,42,26],[44,20,44,26],[0,0,0,1],[1,0,1,1],[2,0,2,1],[3,0,3,1],[2,2,2,13],[4,2,4,13],[6,2,6,13],[7,2,7,13],[3,2,3,13],[9,2,9,15],[30,2,30,15],[51,2,51,14],[5,2,5,13],[46,19,46,25],[49,19,49,25],[49,2,49,13],[28,2,28,13]]}
[{"$f":"'GST FP Summary'!A1:B1","v":"Visual_Rate_Inventory  June 1, 2025"},null,"Jersey Central Power & Light"]
[{"$f":"NOW()","v":"2025-05-30T16:18:48.150"},null," "]
[{"$f":"NOW()","v":45807.679723958332},null,{"$f":"'RT per Tariff'!C3","v":"Rates Effective with Service Rendered June 1, 2025"}]
["GST CIEP per Tariff"]
[null,null,"GST (General Service Secondary - Time-of-Day) Service Classification - CIEP BGS Rates"]
[null,null,"Unbundled Rate Components"]
[]
[null,null,"Charges Applicable to Franchised Utility (Tax Exempt) Customers"]
[]
[null,null,{"$f":"'GS FP per Tariff'!C10","v":"Unbundled Components Excluding CBT & SUT - 6/1/2025 Rates Applicable to Franchised Utility Customers "}]
[null,null,{"$f":"'GS CIEP per Tariff'!C11","v":"Customer Charge"},{"$f":"'GS CIEP per Tariff'!D11","v":"Transmission* \n{1}"},{"$f":"'GS CIEP per Tariff'!E11","v":"Distribution"},{"$f":"'GS CIEP per Tariff'!F11","v":"Covid Recovery Charge"},{"$f":"'GS CIEP per Tariff'!G11","v":"Retail Margin*"},{"$f":"'GS CIEP per Tariff'!H11","v":"BGS-CIEP Generation Capacity Charge*"},{"$f":"'GS CIEP per Tariff'!I11","v":"BGS-CIEP Reconciliation Charge*"},{"$f":"'GS CIEP per Tariff'!J11","v":"BGS-CIEP Hourly Energy Charges*"},{"$f":"'GS CIEP per Tariff'!K11","v":"Zero Emission Certificate Recovery Charge (ZEC)"},{"$f":"'GS CIEP per Tariff'!L11","v":"RGGI Recovery Charge (RRC)"},{"$f":"'GS CIEP per Tariff'!M11","v":"Societal Benefit Charge (SBC)"},{"$f":"'GS CIEP per Tariff'!N11","v":"LRAM"},{"$f":"'GS CIEP per Tariff'!O11","v":"Non-utility Generation Charge (NGC)"},"Standby Fee"]
["1.","Customer Charge-Single Phase",{"$f":"'GST FP per Tariff'!C12","v":36.51},"N/A","N/A","N/A","N/A","N/A","N/A","N/A","N/A","N/A","N/A","N/A","N/A","N/A"]
["2.","Customer Charge-Three Phase",{"$f":"'GST FP per Tariff'!C13","v":52.09},"N/A","N/A","N/A","N/A","N/A","N/A","N/A","N/A","N/A","N/A","N/A","N/A","N/A"]
[]
["3.","All Summer On-Peak KW","N/A","N/A",{"$f":"'GST FP per Tariff'!E15","v":8.81},{"$f":"'GST FP per Tariff'!F15","v":"N/A"},"N/A","N/A","N/A","N/A","N/A","N/A","N/A",{"$f":"'GST FP per Tariff'!L32","v":0.17},"N/A","N/A"]
["     4.","All Winter On-Peak KW","N/A","N/A",{"$f":"'GST FP per Tariff'!E16","v":8.23},{"$f":"'GST FP per Tariff'!F16","v":"N/A"},"N/A","N/A","N/A","N/A","N/A","N/A","N/A",{"$f":"'GST FP per Tariff'!L33","v":0.17},"N/A","N/A"]
["     5.","Standby Service KW","N/A","N/A",{"$f":"'GST FP per Tariff'!E17","v":"N/A"},{"$f":"'GST FP per Tariff'!F17","v":"N/A"},"N/A","N/A","N/A","N/A","N/A","N/A","N/A","N/A","N/A","N/A"]
["     6.","Minimum Bill KW","N/A","N/A",{"$f":"'GST FP per Tariff'!E18","v":3.85},{"$f":"'GST FP per Tariff'!F18","v":"N/A"},"N/A","N/A","N/A","N/A","N/A","N/A","N/A","N/A","N/A","N/A"]
["7.","Capacity Peak Load Share{3} Summer",null,null,null,null,null,0.62521000000000004]
["8.","Capacity Peak Load Share{3} Winter",null,null,null,null,null,{"$f":"H19","v":0.62521000000000004}]
[]
["9.","Summer On-Peak kWh","N/A",{"$f":"'GST FP per Tariff'!D20","v":1.8019E-2},{"$f":"'GST FP per Tariff'!E20","v":4.7140000000000003E-3},{"$f":"'GST FP per Tariff'!F20","v":3.3599999999999998E-4},0,"N/A",{"$f":"'GS CIEP per Tariff'!I26","v":-2.7820000000000002E-3},"{3}",{"$f":"'RT per Tariff'!I$15","v":0},{"$f":"'RT per Tariff'!J15","v":4.4350000000000006E-3},{"$f":"'RT per Tariff'!$K$15","v":7.2230000000000003E-3},{"$f":"'GST FP per Tariff'!L20","v":0},{"$f":"'GST FP per Tariff'!M20","v":-2.1900000000000001E-4},1.4999999999999999E-4]
["10.","Winter On-Peak kWh","N/A",{"$f":"'GST FP per Tariff'!D21","v":1.8019E-2},{"$f":"'GST FP per Tariff'!E21","v":4.7140000000000003E-3},{"$f":"F$22","v":3.3599999999999998E-4},{"$f":"G22","v":0},"N/A",{"$f":"I22","v":-2.7820000000000002E-3},"{3}",{"$f":"'RT per Tariff'!I$15","v":0},{"$f":"'RT per Tariff'!J16","v":4.4350000000000006E-3},{"$f":"'RT per Tariff'!$K$15","v":7.2230000000000003E-3},{"$f":"$N$22","v":0},{"$f":"O$22","v":-2.1900000000000001E-4},{"$f":"P22","v":1.4999999999999999E-4}]
["11.","Summer Off-Peak kWh","N/A",{"$f":"'GST FP per Tariff'!D22","v":1.8019E-2},{"$f":"'GST FP per Tariff'!E22","v":4.7140000000000003E-3},{"$f":"F$22","v":3.3599999999999998E-4},{"$f":"G22","v":0},"N/A",{"$f":"I22","v":-2.7820000000000002E-3},"{3}",{"$f":"'RT per Tariff'!I$15","v":0},{"$f":"L$22","v":4.4350000000000006E-3},{"$f":"'RT per Tariff'!$K$15","v":7.2230000000000003E-3},{"$f":"$N$22","v":0},{"$f":"O$22","v":-2.1900000000000001E-4},{"$f":"P22","v":1.4999999999999999E-4}]
["12.","Winter Off-Peak kWh","N/A",{"$f":"'GST FP per Tariff'!D23","v":1.8019E-2},{"$f":"'GST FP per Tariff'!E23","v":4.7140000000000003E-3},{"$f":"F$22","v":3.3599999999999998E-4},{"$f":"G22","v":0},"N/A",{"$f":"I22","v":-2.7820000000000002E-3},"{3}",{"$f":"'RT per Tariff'!I$15","v":0},{"$f":"L$23","v":4.4350000000000006E-3},{"$f":"'RT per Tariff'!$K$15","v":7.2230000000000003E-3},{"$f":"$N$22","v":0},{"$f":"O$22","v":-2.1900000000000001E-4},{"$f":"P22","v":1.4999999999999999E-4}]
[]
[]
[]
[null,null,"Charges Applicable to Federal Government (SUT Exempt) Accounts - CIEP BGS Rates"]
[]
[null,null,{"$f":"'RT per Tariff'!C10","v":"Unbundled Components Including CBT - 6/1/2025 Rates Applicable to SUT Exempt Accounts"}]
[null,null,{"$f":"C11","v":"Customer Charge"},{"$f":"D11","v":"Transmission* \n{1}"},"Distribution","Covid Recovery Charge","Retail Margin*","BGS-CIEP Generation Capacity Charge*","BGS-CIEP Reconciliation Charge*","BGS-CIEP Hourly Energy Charges*","Zero Emission Certificate Recovery Charge (ZEC)","RGGI Recovery Charge (RRC)","Societal Benefit Charge (SBC)",{"$f":"N11","v":"LRAM"},{"$f":"O11","v":"Non-utility Generation Charge (NGC)"},"Standby Fee"]
["1.","Customer Charge-Single Phase",{"$f":"'GST FP per Tariff'!C29","v":37.880000000000003},"N/A","N/A","N/A","N/A","N/A","N/A","N/A","N/A","N/A","N/A","N/A","N/A","N/A"]
["2.","Customer Charge-Three Phase",{"$f":"'GST FP per Tariff'!C30","v":54.05},"N/A","N/A","N/A","N/A","N/A","N/A","N/A","N/A","N/A","N/A","N/A","N/A","N/A"]
[]
["3.","All Summer On-Peak KW","N/A","N/A",{"$f":"'GST FP per Tariff'!E32","v":9.14},{"$f":"'GST FP per Tariff'!F32","v":"N/A"},"N/A","N/A","N/A","N/A","N/A","N/A","N/A",{"$f":"N15","v":0.17},"N/A","N/A"]
["     4.","All Winter On-Peak KW","N/A","N/A",{"$f":"'GST FP per Tariff'!E33","v":8.5399999999999991},{"$f":"'GST FP per Tariff'!F33","v":"N/A"},"N/A","N/A","N/A","N/A","N/A","N/A","N/A",{"$f":"N16","v":0.17},"N/A","N/A"]
["     5.","Standby Service KW","N/A","N/A",{"$f":"'GST FP per Tariff'!E34","v":3.88},{"$f":"'GST FP per Tariff'!F34","v":"N/A"},"N/A","N/A","N/A","N/A","N/A","N/A","N/A","N/A","N/A","N/A"]
["     6.","Minimum Bill KW","N/A","N/A",{"$f":"'GST FP per Tariff'!E35","v":3.99},{"$f":"'GST FP per Tariff'!F35","v":"N/A"},"N/A","N/A","N/A","N/A","N/A","N/A","N/A","N/A","N/A","N/A"]
["7.","Capacity Peak Load Share{2} Summer",null,null,null,null,null,{"$f":"H19","v":0.62521000000000004}]
["8.","Capacity Peak Load Share{2} Winter",null,null,null,null,null,{"$f":"H20","v":0.62521000000000004}]
[]
["9.","Summer On-Peak kWh","N/A",{"$f":"'GST FP per Tariff'!D37","v":1.8019E-2},{"$f":"'GST FP per Tariff'!E37","v":4.8910000000000004E-3},{"$f":"F$22","v":3.3599999999999998E-4},{"$f":"G22","v":0},"N/A",{"$f":"I22","v":-2.7820000000000002E-3},"{3}",{"$f":"'RT per Tariff'!I$15","v":0},{"$f":"L$22","v":4.4350000000000006E-3},{"$f":"'RT per Tariff'!$K$15","v":7.2230000000000003E-3},{"$f":"$N$22","v":0},{"$f":"O$22","v":-2.1900000000000001E-4},{"$f":"P22","v":1.4999999999999999E-4}]
["10.","Winter On-Peak kWh","N/A",{"$f":"'GST FP per Tariff'!D38","v":1.8019E-2},{"$f":"'GST FP per Tariff'!E38","v":4.8910000000000004E-3},{"$f":"F$22","v":3.3599999999999998E-4},{"$f":"G22","v":0},"N/A",{"$f":"I43","v":-2.7820000000000002E-3},"{3}",{"$f":"'RT per Tariff'!I$15","v":0},{"$f":"L$23","v":4.4350000000000006E-3},{"$f":"'RT per Tariff'!$K$15","v":7.2230000000000003E-3},0,{"$f":"O$22","v":-2.1900000000000001E-4},{"$f":"P22","v":1.4999999999999999E-4}]
["11.","Summer Off-Peak kWh","N/A",{"$f":"'GST FP per Tariff'!D39","v":1.8019E-2},{"$f":"'GST FP per Tariff'!E39","v":4.8910000000000004E-3},{"$f":"F$22","v":3.3599999999999998E-4},{"$f":"G22","v":0},"N/A",{"$f":"I43","v":-2.7820000000000002E-3},"{3}",{"$f":"'RT per Tariff'!I$15","v":0},{"$f":"L$22","v":4.4350000000000006E-3},{"$f":"'RT per Tariff'!$K$15","v":7.2230000000000003E-3},0,{"$f":"O$22","v":-2.1900000000000001E-4},{"$f":"P22","v":1.4999999999999999E-4}]
["12.","Winter Off-Peak kWh","N/A",{"$f":"'GST FP per Tariff'!D40","v":1.8019E-2},{"$f":"'GST FP per Tariff'!E40","v":4.8910000000000004E-3},{"$f":"F$22","v":3.3599999999999998E-4},{"$f":"G22","v":0},"N/A",{"$f":"I43","v":-2.7820000000000002E-3},"{3}",{"$f":"'RT per Tariff'!I$15","v":0},{"$f":"L$23","v":4.4350000000000006E-3},{"$f":"'RT per Tariff'!$K$15","v":7.2230000000000003E-3},0,{"$f":"O$22","v":-2.1900000000000001E-4},{"$f":"P22","v":1.4999999999999999E-4}]
[]
[]
[]
[null,null,"Charges Applicable to Non-Tax-Exempt Accounts - CIEP BGS Rates"]
[]
[null,null,{"$f":"'RT per Tariff'!C22","v":"Unbundled Components Including CBT and SUT - 6/1/2025 Rates Applicable to Non-Tax-Exempt Customers"}]
[null,null,{"$f":"C11","v":"Customer Charge"},{"$f":"D11","v":"Transmission* \n{1}"},"Distribution","Covid Recovery Charge","Retail Margin*","BGS-CIEP Generation Capacity Charge*","BGS-CIEP Reconciliation Charge*","BGS-CIEP Hourly Energy Charges*","Zero Emission Certificate Recovery Charge (ZEC)","RGGI Recovery Charge (RRC)","Societal Benefit Charge (SBC)",{"$f":"N11","v":"LRAM"},{"$f":"O11","v":"Non-utility Generation Charge (NGC)"},"Standby Fee"]
["1.","Customer Charge-Single Phase",{"$f":"'GST FP per Tariff'!C48","v":40.39},"N/A","N/A","N/A","N/A","N/A","N/A","N/A","N/A","N/A","N/A","N/A","N/A","N/A"]
["2.","Customer Charge-Three Phase",{"$f":"'GST FP per Tariff'!C49","v":57.63},"N/A","N/A","N/A","N/A","N/A","N/A","N/A","N/A","N/A","N/A","N/A","N/A","N/A"]
[]
["3.","All Summer On-Peak KW","N/A","N/A",{"$f":"'GST FP per Tariff'!E51","v":9.75},{"$f":"'GST FP per Tariff'!F32","v":"N/A"},"N/A","N/A","N/A","N/A","N/A","N/A","N/A",{"$f":"'GST FP per Tariff'!L51","v":0.18},"N/A","N/A"]
["     4.","All Winter On-Peak KW","N/A","N/A",{"$f":"'GST FP per Tariff'!E52","v":9.11},{"$f":"'GST FP per Tariff'!F33","v":"N/A"},"N/A","N/A","N/A","N/A","N/A","N/A","N/A",{"$f":"'GST FP per Tariff'!L52","v":0.18},"N/A","N/A"]
["     5.","Standby Service KW","N/A","N/A",{"$f":"'GST FP per Tariff'!E53","v":4.1399999999999997},{"$f":"'GST FP per Tariff'!F34","v":"N/A"},"N/A","N/A","N/A","N/A","N/A","N/A","N/A","N/A","N/A","N/A"]
["     6.","Minimum Bill KW","N/A","N/A",{"$f":"'GST FP per Tariff'!E54","v":4.25},{"$f":"'GST FP per Tariff'!F35","v":"N/A"},"N/A","N/A","N/A","N/A","N/A","N/A","N/A","N/A","N/A","N/A"]
["7.","Capacity Peak Load Share{2} Summer",null,null,null,null,null,{"$f":"ROUND(H40*SUT_6625,6)","v":0.66662999999999994}]
["8.","Capacity Peak Load Share{2} Winter",null,null,null,null,null,{"$f":"ROUND(H41*SUT_6625,6)","v":0.66662999999999994}]
[]
["9.","Summer On-Peak kWh","N/A",{"$f":"'GST FP per Tariff'!D56","v":1.9212E-2},{"$f":"'GST FP per Tariff'!E56","v":5.215E-3},{"$f":"'GST FP per Tariff'!F56","v":3.5799999999999997E-4},0,"N/A",{"$f":"'GS CIEP per Tariff'!I100","v":-2.9659999999999999E-3},"{3}",{"$f":"'RT per Tariff'!I$27","v":0},{"$f":"'RT per Tariff'!J27","v":4.7289999999999997E-3},{"$f":"'RT per Tariff'!$K$27","v":7.7000000000000002E-3},{"$f":"'GST FP per Tariff'!L56","v":0},{"$f":"'GST FP per Tariff'!M56","v":-2.34E-4},{"$f":"ROUND(P43*SUT_6625,6)","v":1.6000000000000001E-4}]
["10.","Winter On-Peak kWh","N/A",{"$f":"'GST FP per Tariff'!D57","v":1.9212E-2},{"$f":"'GST FP per Tariff'!E57","v":5.215E-3},{"$f":"F$64","v":3.5799999999999997E-4},{"$f":"G64","v":0},"N/A",{"$f":"I64","v":-2.9659999999999999E-3},"{3}",{"$f":"'RT per Tariff'!I$27","v":0},{"$f":"'RT per Tariff'!J28","v":4.7289999999999997E-3},{"$f":"'RT per Tariff'!$K$27","v":7.7000000000000002E-3},{"$f":"$N$64","v":0},{"$f":"O$64","v":-2.34E-4},{"$f":"P64","v":1.6000000000000001E-4}]
["11.","Summer Off-Peak kWh","N/A",{"$f":"'GST FP per Tariff'!D58","v":1.9212E-2},{"$f":"'GST FP per Tariff'!E58","v":5.215E-3},{"$f":"F$64","v":3.5799999999999997E-4},{"$f":"G64","v":0},"N/A",{"$f":"I64","v":-2.9659999999999999E-3},"{3}",{"$f":"'RT per Tariff'!I$27","v":0},{"$f":"L$64","v":4.7289999999999997E-3},{"$f":"'RT per Tariff'!$K$27","v":7.7000000000000002E-3},{"$f":"$N$64","v":0},{"$f":"O$64","v":-2.34E-4},{"$f":"P64","v":1.6000000000000001E-4}]
["12.","Winter Off-Peak kWh","N/A",{"$f":"'GST FP per Tariff'!D59","v":1.9212E-2},{"$f":"'GST FP per Tariff'!E59","v":5.215E-3},{"$f":"F$64","v":3.5799999999999997E-4},{"$f":"G64","v":0},"N/A",{"$f":"I64","v":-2.9659999999999999E-3},"{3}",{"$f":"'RT per Tariff'!I$27","v":0},{"$f":"L$65","v":4.7289999999999997E-3},{"$f":"'RT per Tariff'!$K$27","v":7.7000000000000002E-3},{"$f":"$N$64","v":0},{"$f":"O$64","v":-2.34E-4},{"$f":"P64","v":1.6000000000000001E-4}]
[]
[null,"* Transmission, Retail Margin, BGS-CIEP Generation Capacity, BGS-CIEP Reconciliation and BGS-CIEP Hourly Energy Charges apply only to Full Service (non-shopping) Customers"]
[]
[null,{"$f":"'GS CIEP per Tariff'!B116","v":"{1} Transmission Charge includes Reliability Must Run Surcharge (RMR) of $0.000000/$0.000000 (w/ SUT) Eff September 1, 2019 and Transmission Enhancement Charge (TEC) of $0.004066/0.004335 (w/ SUT) Eff  May  1, 2025"}]
[null,"{2} The BGS-CIEP Generation Capacity Charge is billed based on Peak Load Share (PLS) on a per kW-day basis.  The customer's PLS is adjusted by PJM "]
[null,"    assigned capacity related factors and then multiplied by the price per kW-day which is then multiplied by the number of days in the billing period."]
[null,"{3} Hourly Energy prices are based on the sum of actual real-time PJM load weighted average Locational Marginal Price for the JCP&L Transmission Zone and "]
[null,{"$f":"\" ancillary services of $0.00600 per KWH, times a Losses Multiplier times \"&FIXED((SUT_6625-1)*100,3)&\" % for Sales and Use Tax where applicable (See Tariff Rider BGS-CIEP) \"","v":" ancillary services of $0.00600 per KWH, times a Losses Multiplier times 6.625 % for Sales and Use Tax where applicable (See Tariff Rider BGS-CIEP) "}]

{"sheet":"GP per Tariff","index":16,"n_rows":133,"n_cols":16,"rows_kept":133,"cut":false,"hidden":false,"merged":[[44,19,44,25],[48,19,48,28],[46,19,46,25],[46,2,46,13],[40,20,40,26],[42,20,42,26],[0,0,0,1],[1,0,1,1],[7,2,7,13],[26,2,26,13],[2,0,2,1],[6,2,6,13],[3,2,3,13],[3,0,3,1],[5,2,5,13],[8,2,8,15],[27,2,27,15],[48,2,48,15],[4,2,4,13],[0,2,0,13],[1,2,1,13],[2,2,2,13],[75,0,75,9],[76,0,76,9],[77,0,77,9],[78,0,78,9],[83,5,83,7],[83,8,83,10],[102,0,102,9],[103,0,103,9],[104,0,104,9],[105,0,105,9],[110,5,110,7],[110,8,110,10]]}
[{"$f":"'RT per Tariff'!A1:B1","v":"Visual_Rate_Inventory  June 1, 2025"},null,"Jersey Central Power & Light"]
[{"$f":"NOW()","v":"2025-05-30T16:18:48.150"},null," "]
[{"$f":"NOW()","v":45807.679723958332},null,{"$f":"'RT per Tariff'!C3","v":"Rates Effective with Service Rendered June 1, 2025"}]
["GP per Tariff"]
[null,null,"GP (General Service Primary) Service Classification"]
[null,null,"Unbundled Rate Components"]
[]
[null,null,"Charges Applicable to Franchised Utility (Tax Exempt) Customers"]
[null,null,{"$f":"'GS FP per Tariff'!C10","v":"Unbundled Components Excluding CBT & SUT - 6/1/2025 Rates Applicable to Franchised Utility Customers "}]
[null,null,{"$f":"'GS CIEP per Tariff'!C11","v":"Customer Charge"},{"$f":"'GS CIEP per Tariff'!D11","v":"Transmission* \n{1}"},{"$f":"'GS CIEP per Tariff'!E11","v":"Distribution"},{"$f":"'GS CIEP per Tariff'!F11","v":"Covid Recovery Charge"},{"$f":"'GS CIEP per Tariff'!G11","v":"Retail Margin*"},{"$f":"'GS CIEP per Tariff'!H11","v":"BGS-CIEP Generation Capacity Charge*"},{"$f":"'GS CIEP per Tariff'!I11","v":"BGS-CIEP Reconciliation Charge*"},{"$f":"'GS CIEP per Tariff'!J11","v":"BGS-CIEP Hourly Energy Charges*"},{"$f":"'GS CIEP per Tariff'!K11","v":"Zero Emission Certificate Recovery Charge (ZEC)"},{"$f":"'GS CIEP per Tariff'!L11","v":"RGGI Recovery Charge (RRC)"},{"$f":"'GS CIEP per Tariff'!M11","v":"Societal Benefit Charge (SBC)"},{"$f":"'GS CIEP per Tariff'!N11","v":"LRAM"},{"$f":"'GS CIEP per Tariff'!O11","v":"Non-utility Generation Charge (NGC)"},{"$f":"'GS CIEP per Tariff'!P11","v":"Standby Fee"}]
["1.","Customer Charge",58.56,"N/A","N/A","N/A","N/A","N/A","N/A","N/A","N/A","N/A","N/A","N/A","N/A","N/A"]
[]
["2.","KVAR","N/A","N/A",0.4,"N/A","N/A","N/A","N/A","N/A","N/A","N/A","N/A","N/A","N/A","N/A"]
[]
["3.","All Summer On-Peak KW","N/A","N/A",6.16,0,"N/A","N/A","N/A","N/A","N/A","N/A","N/A",{"$f":"'SBC TBC and MTC Tax'!B62","v":0.11},"N/A","N/A"]
["     4.","All Winter On-Peak KW","N/A","N/A",5.72,{"$f":"F15","v":0},"N/A","N/A","N/A","N/A","N/A","N/A","N/A",{"$f":"N15","v":0.11},"N/A","N/A"]
["     5.","Standby Service KW","N/A","N/A","N/A","N/A","N/A","N/A","N/A","N/A","N/A","N/A","N/A","N/A","N/A","N/A"]
["     6.","Minimum Bill KW","N/A","N/A",2.08,{"$f":"F15","v":0},"N/A","N/A","N/A","N/A","N/A","N/A","N/A","N/A","N/A","N/A"]
["7.","Capacity Peak Load Share{1} Summer",null,null,null,null,null,{"$f":"'GST CIEP per Tariff'!H19","v":0.62521000000000004}]
["8.","Capacity Peak Load Share{1} Winter",null,null,null,null,null,{"$f":"'GST CIEP per Tariff'!H20","v":0.62521000000000004}]
[]
["9.","Summer On-Peak kWh","N/A",{"$f":"0.008068+0+0.002363","v":1.0431000000000001E-2},3.356E-3,{"$f":"'RT per Tariff'!F15","v":3.3599999999999998E-4},{"$f":"'GST CIEP per Tariff'!$G$22","v":0},"N/A",{"$f":"'GST CIEP per Tariff'!$I$22","v":-2.7820000000000002E-3},"{2}",{"$f":"'RT per Tariff'!I$15","v":0},{"$f":"'RT per Tariff'!J15","v":4.4350000000000006E-3},{"$f":"'RT per Tariff'!$K$15","v":7.2230000000000003E-3},0,-2.0799999999999999E-4,{"$f":"'GST CIEP per Tariff'!$P$22","v":1.4999999999999999E-4}]
["10.","Winter On-Peak kWh","N/A",{"$f":"D$22","v":1.0431000000000001E-2},3.356E-3,3.3599999999999998E-4,{"$f":"'GST CIEP per Tariff'!$G$22","v":0},"N/A",{"$f":"'GST CIEP per Tariff'!$I$22","v":-2.7820000000000002E-3},"{2}",{"$f":"'RT per Tariff'!I$15","v":0},{"$f":"'RT per Tariff'!J16","v":4.4350000000000006E-3},{"$f":"'RT per Tariff'!$K$15","v":7.2230000000000003E-3},0,{"$f":"O$22","v":-2.0799999999999999E-4},{"$f":"'GST CIEP per Tariff'!$P$22","v":1.4999999999999999E-4}]
["11.","Summer Off-Peak kWh","N/A",1.0431000000000001E-2,3.356E-3,3.3599999999999998E-4,{"$f":"'GST CIEP per Tariff'!$G$22","v":0},"N/A",{"$f":"'GST CIEP per Tariff'!$I$22","v":-2.7820000000000002E-3},"{2}",{"$f":"'RT per Tariff'!I$15","v":0},{"$f":"L$22","v":4.4350000000000006E-3},{"$f":"'RT per Tariff'!$K$15","v":7.2230000000000003E-3},0,{"$f":"O$22","v":-2.0799999999999999E-4},{"$f":"'GST CIEP per Tariff'!$P$22","v":1.4999999999999999E-4}]
["12.","Winter Off-Peak kWh","N/A",1.0431000000000001E-2,3.356E-3,3.3599999999999998E-4,{"$f":"'GST CIEP per Tariff'!$G$22","v":0},"N/A",{"$f":"'GST CIEP per Tariff'!$I$22","v":-2.7820000000000002E-3},"{2}",{"$f":"'RT per Tariff'!I$15","v":0},{"$f":"L$23","v":4.4350000000000006E-3},{"$f":"'RT per Tariff'!$K$15","v":7.2230000000000003E-3},0,{"$f":"O$22","v":-2.0799999999999999E-4},{"$f":"'GST CIEP per Tariff'!$P$22","v":1.4999999999999999E-4}]
[]
[null,null,"Charges Applicable to Federal Government (SUT Exempt) Accounts "]
[null,null,{"$f":"'RT per Tariff'!C10","v":"Unbundled Components Including CBT - 6/1/2025 Rates Applicable to SUT Exempt Accounts"}]
[null,null,{"$f":"C10","v":"Customer Charge"},{"$f":"D10","v":"Transmission* \n{1}"},"Distribution","Covid Recovery Charge","Retail Margin*","BGS-CIEP Generation Capacity Charge*","BGS-CIEP Reconciliation Charge*","BGS-CIEP Hourly Energy Charges*","Zero Emission Certificate Recovery Charge (ZEC)","RGGI Recovery Charge (RRC)","Societal Benefit Charge (SBC)",{"$f":"N10","v":"LRAM"},{"$f":"O10","v":"Non-utility Generation Charge (NGC)"},{"$f":"P10","v":"Standby Fee"}]
["1.","Customer Charge",60.76,"N/A","N/A","N/A","N/A","N/A","N/A","N/A","N/A","N/A","N/A","N/A","N/A","N/A"]
[]
["2.","KVAR","N/A","N/A",0.41,"N/A","N/A","N/A","N/A","N/A","N/A","N/A","N/A","N/A","N/A","N/A"]
[]
["3.","All Summer On-Peak KW","N/A","N/A",6.39,{"$f":"F15","v":0},"N/A","N/A","N/A","N/A","N/A","N/A","N/A",{"$f":"N15","v":0.11},"N/A","N/A"]
["     4.","All Winter On-Peak KW","N/A","N/A",5.94,{"$f":"F34","v":0},"N/A","N/A","N/A","N/A","N/A","N/A","N/A",{"$f":"N16","v":0.11},"N/A","N/A"]
["     5.","Standby Service KW","N/A","N/A",2.2200000000000002,{"$f":"F35","v":0},"N/A","N/A","N/A","N/A","N/A","N/A","N/A","N/A","N/A","N/A"]
["     6.","Minimum Bill KW","N/A","N/A",2.16,{"$f":"F36","v":0},"N/A","N/A","N/A","N/A","N/A","N/A","N/A","N/A","N/A","N/A"]
["7.","Capacity Peak Load Share{1} Summer",null,null,null,null,null,{"$f":"'GST CIEP per Tariff'!H40","v":0.62521000000000004}]
["8.","Capacity Peak Load Share{1} Winter",null,null,null,null,null,{"$f":"'GST CIEP per Tariff'!H41","v":0.62521000000000004}]
[]
["9.","Summer On-Peak kWh","N/A",{"$f":"D22","v":1.0431000000000001E-2},3.4819999999999999E-3,{"$f":"F$22","v":3.3599999999999998E-4},{"$f":"'GST CIEP per Tariff'!$G$22","v":0},"N/A",{"$f":"'GST CIEP per Tariff'!$I$22","v":-2.7820000000000002E-3},"{2}",{"$f":"'RT per Tariff'!I$15","v":0},{"$f":"L$22","v":4.4350000000000006E-3},{"$f":"'RT per Tariff'!$K$15","v":7.2230000000000003E-3},{"$f":"N22","v":0},{"$f":"O$22","v":-2.0799999999999999E-4},{"$f":"'GST CIEP per Tariff'!$P$22","v":1.4999999999999999E-4}]
["10.","Winter On-Peak kWh","N/A",{"$f":"D23","v":1.0431000000000001E-2},{"$f":"E$41","v":3.4819999999999999E-3},3.3599999999999998E-4,{"$f":"'GST CIEP per Tariff'!$G$22","v":0},"N/A",{"$f":"'GST CIEP per Tariff'!$I$22","v":-2.7820000000000002E-3},"{2}",{"$f":"'RT per Tariff'!I$15","v":0},{"$f":"L$23","v":4.4350000000000006E-3},{"$f":"'RT per Tariff'!$K$15","v":7.2230000000000003E-3},{"$f":"N$41","v":0},{"$f":"O$22","v":-2.0799999999999999E-4},{"$f":"'GST CIEP per Tariff'!$P$22","v":1.4999999999999999E-4}]
["11.","Summer Off-Peak kWh","N/A",{"$f":"D24","v":1.0431000000000001E-2},{"$f":"E$41","v":3.4819999999999999E-3},3.3599999999999998E-4,{"$f":"'GST CIEP per Tariff'!$G$22","v":0},"N/A",{"$f":"'GST CIEP per Tariff'!$I$22","v":-2.7820000000000002E-3},"{2}",{"$f":"'RT per Tariff'!I$15","v":0},{"$f":"L$22","v":4.4350000000000006E-3},{"$f":"'RT per Tariff'!$K$15","v":7.2230000000000003E-3},{"$f":"N$41","v":0},{"$f":"O$22","v":-2.0799999999999999E-4},{"$f":"'GST CIEP per Tariff'!$P$22","v":1.4999999999999999E-4}]
["12.","Winter Off-Peak kWh","N/A",{"$f":"D25","v":1.0431000000000001E-2},{"$f":"E$41","v":3.4819999999999999E-3},3.3599999999999998E-4,{"$f":"'GST CIEP per Tariff'!$G$22","v":0},"N/A",{"$f":"'GST CIEP per Tariff'!$I$22","v":-2.7820000000000002E-3},"{2}",{"$f":"'RT per Tariff'!I$15","v":0},{"$f":"L$23","v":4.4350000000000006E-3},{"$f":"'RT per Tariff'!$K$15","v":7.2230000000000003E-3},{"$f":"N$41","v":0},{"$f":"O$22","v":-2.0799999999999999E-4},{"$f":"'GST CIEP per Tariff'!$P$22","v":1.4999999999999999E-4}]
[]
[]
[null,null,"Charges Applicable to Non-Tax-Exempt Accounts "]
[]
[null,null,{"$f":"'RT per Tariff'!C22","v":"Unbundled Components Including CBT and SUT - 6/1/2025 Rates Applicable to Non-Tax-Exempt Customers"}]
[null,null,{"$f":"C10","v":"Customer Charge"},{"$f":"D10","v":"Transmission* \n{1}"},"Distribution","Covid Recovery Charge","Retail Margin*","BGS-CIEP Generation Capacity Charge*","BGS-CIEP Reconciliation Charge*","BGS-CIEP Hourly Energy Charges*","Zero Emission Certificate Recovery Charge (ZEC)","RGGI Recovery Charge (RRC)","Societal Benefit Charge (SBC)",{"$f":"N10","v":"LRAM"},{"$f":"O10","v":"Non-utility Generation Charge (NGC)"},{"$f":"P10","v":"Standby Fee"}]
["1.","Customer Charge",{"$f":"ROUND(C30*SUT_6625,2)","v":64.790000000000006},"N/A","N/A","N/A","N/A","N/A","N/A","N/A","N/A","N/A","N/A","N/A","N/A","N/A"]
[]
["2.","KVAR","N/A","N/A",{"$f":"ROUND(E32*SUT_6625,2)","v":0.44},"N/A","N/A","N/A","N/A","N/A","N/A","N/A","N/A","N/A","N/A","N/A"]
[]
["3.","All Summer On-Peak KW","N/A","N/A",{"$f":"ROUND(E34*SUT_6625,2)","v":6.81},{"$f":"ROUND(F34*SUT_6625,2)","v":0},"N/A","N/A","N/A","N/A","N/A","N/A","N/A",{"$f":"ROUND(N34*SUT_6625,2)","v":0.12},"N/A","N/A"]
["     4.","All Winter On-Peak KW","N/A","N/A",{"$f":"ROUND(E35*SUT_6625,2)","v":6.33},{"$f":"F55","v":0},"N/A","N/A","N/A","N/A","N/A","N/A","N/A",{"$f":"ROUND(N35*SUT_6625,2)","v":0.12},"N/A","N/A"]
["     5.","Standby Service KW","N/A","N/A",{"$f":"ROUND(E36*SUT_6625,2)","v":2.37},{"$f":"F56","v":0},"N/A","N/A","N/A","N/A","N/A","N/A","N/A","N/A","N/A","N/A"]
["     6.","Minimum Bill KW","N/A","N/A",{"$f":"ROUND(E37*SUT_6625,2)","v":2.2999999999999998},{"$f":"F57","v":0},"N/A","N/A","N/A","N/A","N/A","N/A","N/A","N/A","N/A","N/A"]
["7.","Capacity Peak Load Share{1} Summer",null,null,null,null,null,{"$f":"'GST CIEP per Tariff'!H61","v":0.66662999999999994}]
["8.","Capacity Peak Load Share{1} Winter",null,null,null,null,null,{"$f":"'GST CIEP per Tariff'!H62","v":0.66662999999999994}]
[]
["9.","Summer On-Peak kWh","N/A",{"$f":"ROUND(0.008068*SUT_6625,6)+0+0.002519","v":1.1122E-2},{"$f":"ROUND(E41*SUT_6625,6)","v":3.7130000000000002E-3},{"$f":"ROUND(F41*SUT_6625,6)","v":3.5799999999999997E-4},{"$f":"'GST CIEP per Tariff'!$G$64","v":0},"N/A",{"$f":"'GST CIEP per Tariff'!$I$64","v":-2.9659999999999999E-3},"{2}",{"$f":"'RT per Tariff'!I$27","v":0},{"$f":"'RT per Tariff'!J27","v":4.7289999999999997E-3},{"$f":"'RT per Tariff'!$K$27","v":7.7000000000000002E-3},{"$f":"ROUND(N41*SUT_6625,6)","v":0},{"$f":"ROUND(O22*SUT_6625,6)","v":-2.22E-4},{"$f":"'GST CIEP per Tariff'!$P$64","v":1.6000000000000001E-4}]
["10.","Winter On-Peak kWh","N/A",{"$f":"D$62","v":1.1122E-2},{"$f":"ROUND(E42*SUT_6625,6)","v":3.7130000000000002E-3},{"$f":"F$62","v":3.5799999999999997E-4},{"$f":"'GST CIEP per Tariff'!$G$64","v":0},"N/A",{"$f":"'GST CIEP per Tariff'!$I$64","v":-2.9659999999999999E-3},"{2}",{"$f":"'RT per Tariff'!I$27","v":0},{"$f":"'RT per Tariff'!J28","v":4.7289999999999997E-3},{"$f":"'RT per Tariff'!$K$27","v":7.7000000000000002E-3},{"$f":"ROUND(N42*SUT_6625,6)","v":0},{"$f":"O$62","v":-2.22E-4},{"$f":"'GST CIEP per Tariff'!$P$64","v":1.6000000000000001E-4}]
["11.","Summer Off-Peak kWh","N/A",{"$f":"D$62","v":1.1122E-2},{"$f":"ROUND(E43*SUT_6625,6)","v":3.7130000000000002E-3},{"$f":"F$62","v":3.5799999999999997E-4},{"$f":"'GST CIEP per Tariff'!$G$64","v":0},"N/A",{"$f":"'GST CIEP per Tariff'!$I$64","v":-2.9659999999999999E-3},"{2}",{"$f":"'RT per Tariff'!I$27","v":0},{"$f":"L$62","v":4.7289999999999997E-3},{"$f":"'RT per Tariff'!$K$27","v":7.7000000000000002E-3},{"$f":"ROUND(N43*SUT_6625,6)","v":0},{"$f":"O$62","v":-2.22E-4},{"$f":"'GST CIEP per Tariff'!$P$64","v":1.6000000000000001E-4}]
["12.","Winter Off-Peak kWh","N/A",{"$f":"D$62","v":1.1122E-2},{"$f":"ROUND(E44*SUT_6625,6)","v":3.7130000000000002E-3},{"$f":"F$62","v":3.5799999999999997E-4},{"$f":"'GST CIEP per Tariff'!$G$64","v":0},"N/A",{"$f":"'GST CIEP per Tariff'!$I$64","v":-2.9659999999999999E-3},"{2}",{"$f":"'RT per Tariff'!I$27","v":0},{"$f":"L$63","v":4.7289999999999997E-3},{"$f":"'RT per Tariff'!$K$27","v":7.7000000000000002E-3},{"$f":"ROUND(N44*SUT_6625,6)","v":0},{"$f":"O$62","v":-2.22E-4},{"$f":"'GST CIEP per Tariff'!$P$64","v":1.6000000000000001E-4}]
[]
["* Transmission, Retail Margin, BGS-CIEP Generation Capacity, BGS-CIEP Reconciliation and BGS-CIEP Hourly Energy Charges apply only to Full Service (non-shopping) Customers"]
[]
["{1} The BGS-CIEP Generation Capacity Charge is billed based on Peak Load Share (PLS) on a per kW-day basis.  The customer's PLS is adjusted by PJM ","The BGS-CIEP Generation Capacity Charge is billed based on Peak Load Share (PLS) on a per kW-day basis.  The customer's PLS is adjusted by PJM "]
[{"$f":"'GST CIEP per Tariff'!$B$73","v":"    assigned capacity related factors and then multiplied by the price per kW-day which is then multiplied by the number of days in the billing period."}]
["{2} Hourly Energy prices are based on the sum of actual real-time PJM load weighted average Locational Marginal Price for the JCP&L Transmission Zone and "]
[{"$f":"'GST CIEP per Tariff'!$B$75","v":" ancillary services of $0.00600 per KWH, times a Losses Multiplier times 6.625 % for Sales and Use Tax where applicable (See Tariff Rider BGS-CIEP) "}]
["{3} Transmission Charge includes Reliability Must Run (RMR) Surcharge of $0.000000/$0.000000 (w/ SUT) Eff. September 1, 2019 and Transmission Enhance Charge (TEC) of $0.002363/$0.002519 (w/ SUT) Eff. May 1, 2025"]
[]
[]
[{"$f":"\"Assumptions: Bill Credit is calculated at the pre-SUT rate.  Subscriber has 10% investment from \"&TEXT(D86,\"mm/dd/yyyy\")&\" to \"&TEXT(E86,\"mm/dd/yyyy\")","v":"Assumptions: Bill Credit is calculated at the pre-SUT rate.  Subscriber has 10% investment from 06/01/2025 to 07/01/2025"}]
["Customer billed for 300,000 kWH/750 kW usage on Service Classification GP Default Service"]
["Host Output: 600,000 KWH"]
["Customer (Subscriber) Allocated: 60,000 KWH"]
[]
["Normal Full Bill",null,{"$f":"H101","v":41053.439999999995}]
["Community Solar Credit",null,{"$f":"K101","v":3360.66}]
["Charges Due",null,{"$f":"C81-C82","v":37692.78}]
[null,null,null,null,null,"Normal Full Bill",null,null,"Credit Calculation"]
[null,"Charge Type","Credit","Period Start","Period End","Consumed kWh/kWh","Price","Charges","Allocated kWh","Pre-SUT Price","Credit @ Pre-SUT"]
[null,"Customer Charge","No","2025-06-01",{"$f":"D86+30","v":"2025-07-01"},null,{"$f":"C51","v":64.790000000000006},{"$f":"G86","v":64.790000000000006}]
[null,"BGS Capacity","No",{"$f":"$D$86","v":"2025-06-01"},{"$f":"E$86","v":"2025-07-01"},{"$f":"F89&\" x \"&(E87-D87+1)","v":"750 x 31"},{"$f":"H59","v":0.66662999999999994},{"$f":"ROUND(F89*(E87-D87+1)*G87,2)","v":15499.15}]
[null,"Distribution kVar","No","2025-06-01","2025-07-01",300,{"$f":"E53","v":0.44},{"$f":"ROUND(F88*G88,2)","v":132}]
[null,"Distribution kW","No","2025-06-01","2025-07-01",750,{"$f":"IF(AND(MONTH(D89)<=9,MONTH(D89)>=6),E55,E56)","v":6.81},{"$f":"ROUND(F89*G89,2)","v":5107.5}]
[null,"Non-Utility Generation Charge (MTC)","No",{"$f":"$D$86","v":"2025-06-01"},{"$f":"E$86","v":"2025-07-01"},300000,{"$f":"O62","v":-2.22E-4},{"$f":"ROUND(F90*G90,2)","v":-66.599999999999994}]
[null,"SBC Charge","No",{"$f":"$D$86","v":"2025-06-01"},{"$f":"E$86","v":"2025-07-01"},{"$f":"F$90","v":300000},{"$f":"M62","v":7.7000000000000002E-3},{"$f":"ROUND(F91*G91,2)","v":2310}]
[null,"ZEC Recovery Charge","No","2025-06-01","2025-07-01",{"$f":"F$90","v":300000},{"$f":"K62","v":0},0]
[null,"BGS Energy Charges - Hourly Pricing","Yes","2025-06-01","2025-07-01",300000,{"$f":"ROUND(J93*1.06625,6)","v":4.2605999999999998E-2},12781.8,60000,{"$f":"B130","v":3.9959000000000001E-2},{"$f":"ROUND(I93*J93,2)","v":2397.54},"*",null,null,null,{"$f":"J93*1.06625-G93","v":2.8375000000330219E-7}]
[null,"BGS Transmission","Yes","2025-06-01","2025-07-01",300000,{"$f":"D62","v":1.1122E-2},3336.6,{"$f":"I$93","v":60000},{"$f":"D41","v":1.0431000000000001E-2},625.86,null,null,null,null,5.3749999999463949E-8]
[null,"BGS Reconciliation","Yes","2025-06-01","2025-07-01",300000,{"$f":"I62","v":-2.9659999999999999E-3},-889.8,{"$f":"I$93","v":60000},{"$f":"I41","v":-2.7820000000000002E-3},-166.92,null,null,null,null,-3.0749999999990854E-7]
[null,"CIEP - Standby Fee","Yes","2025-06-01","2025-07-01",300000,{"$f":"P62","v":1.6000000000000001E-4},48,60000,{"$f":"P41","v":1.4999999999999999E-4},9,null,null,null,null,-6.2500000000035401E-8]
[null,"Distribution kWh","Yes","2025-06-01","2025-07-01",300000,{"$f":"E62","v":3.7130000000000002E-3},1113.9000000000001,60000,{"$f":"E41","v":3.4819999999999999E-3},208.92,null,null,null,null,-3.1750000000071651E-7]
[null,"RGGI Charge","Yes","2025-06-01","2025-07-01",300000,{"$f":"L62","v":4.7289999999999997E-3},1418.7,60000,{"$f":"L41","v":4.4350000000000006E-3},266.10000000000002,null,null,null,null,-1.8124999999914043E-7]
[null,"Covid Recovery Charge","Yes","2025-06-01","2025-07-01",300000,{"$f":"F62","v":3.5799999999999997E-4},{"$f":"ROUND(F99*G99,2)","v":107.4},60000,{"$f":"F41","v":3.3599999999999998E-4},{"$f":"ROUND(I99*J99,2)","v":20.16}]
[null,"LRAM","No","2025-06-01","2025-07-01",{"$f":"F89","v":750},{"$f":"N55","v":0.12},90,null,null,null,null,null,null,null,-0.12]
[null,null,null,null,null,null,"Normal Full Bill",{"$f":"SUM(H86:H100)","v":41053.439999999995},null,"Community Solar Credit",{"$f":"SUM(K93:K100)","v":3360.66}]
[]
[{"$f":"A76","v":"Assumptions: Bill Credit is calculated at the pre-SUT rate.  Subscriber has 10% investment from 06/01/2025 to 07/01/2025"}]
["Certified mastered billed affordable hoursing customer billed for 300,000 kWH/750 kW usage on Service Classification GP Default Service"]
["Host Output: 600,000 KWH"]
["Customer (Subscriber) Allocated: 60,000 KWH"]
[]
["Normal Full Bill",null,{"$f":"H128","v":41053.439999999995}]
["Community Solar Credit",null,{"$f":"K128","v":4292.7000000000007}]
["Charges Due",null,{"$f":"C108-C109","v":36760.739999999991}]
[null,null,null,null,null,"Normal Full Bill",null,null,"Credit Calculation"]
[null,"Charge Type","Credit","Period Start","Period End","Consumed kWh/kWh","Price","Charges","Allocated kWh","Pre-SUT Price","Credit @ Pre-SUT"]
[null,"Customer Charge","No",{"$f":"D86","v":"2025-06-01"},{"$f":"D113+30","v":"2025-07-01"},null,{"$f":"G86","v":64.790000000000006},{"$f":"G113","v":64.790000000000006}]
[null,"BGS Capacity","No",{"$f":"$D$86","v":"2025-06-01"},{"$f":"E$86","v":"2025-07-01"},{"$f":"F124&\" x \"&(E114-D114+1)","v":"750 x 31"},{"$f":"G87","v":0.66662999999999994},{"$f":"ROUND(F124*(E114-D114+1)*G114,2)","v":15499.15}]
[null,"Distribution kVar","No","2025-06-01","2025-07-01",300,{"$f":"G88","v":0.44},{"$f":"ROUND(F115*G115,2)","v":132}]
[null,"Non-Utility Generation Charge (MTC)","No",{"$f":"$D$86","v":"2025-06-01"},{"$f":"E$86","v":"2025-07-01"},300000,{"$f":"G90","v":-2.22E-4},{"$f":"ROUND(F116*G116,2)","v":-66.599999999999994}]
[null,"SBC Charge","No",{"$f":"$D$86","v":"2025-06-01"},{"$f":"E$86","v":"2025-07-01"},{"$f":"F$90","v":300000},7.7000000000000002E-3,{"$f":"ROUND(F117*G117,2)","v":2310}]
[null,"ZEC Recovery Charge","No","2025-06-01","2025-07-01",{"$f":"F$90","v":300000},0,0]
[null,"BGS Energy Charges - Hourly Pricing","Yes","2025-06-01","2025-07-01",300000,4.2605999999999998E-2,12781.8,60000,{"$f":"J93","v":3.9959000000000001E-2},{"$f":"ROUND(I119*J119,2)","v":2397.54}]
[null,"BGS Transmission","Yes","2025-06-01","2025-07-01",300000,1.1122E-2,3336.6,{"$f":"I$93","v":60000},{"$f":"J94","v":1.0431000000000001E-2},625.86]
[null,"BGS Reconciliation","Yes","2025-06-01","2025-07-01",300000,-2.9659999999999999E-3,-889.8,{"$f":"I$93","v":60000},{"$f":"J95","v":-2.7820000000000002E-3},-166.92]
[null,"CIEP - Standby Fee","Yes","2025-06-01","2025-07-01",300000,1.6000000000000001E-4,48,60000,{"$f":"J96","v":1.4999999999999999E-4},9]
[null,"Distribution kWh","Yes","2025-06-01","2025-07-01",300000,3.7130000000000002E-3,1113.9000000000001,60000,{"$f":"J97","v":3.4819999999999999E-3},208.92]
[null,"Distribution kW","No","2025-06-01","2025-07-01",750,{"$f":"G89","v":6.81},{"$f":"ROUND(F124*G124,2)","v":5107.5},{"$f":"I$93","v":60000},{"$f":"IF(AND(MONTH(D124)<=9,MONTH(D124)>=6),B131,B132)","v":1.5278999999999999E-2},916.74,"*"]
[null,"RGGI Charge","Yes","2025-06-01","2025-07-01",300000,{"$f":"G98","v":4.7289999999999997E-3},1418.7,60000,{"$f":"J98","v":4.4350000000000006E-3},266.10000000000002]
[null,"Covid Recovery Charge","Yes","2025-06-01","2025-07-01",300000,{"$f":"G99","v":3.5799999999999997E-4},{"$f":"ROUND(F126*G126,2)","v":107.4},60000,{"$f":"J99","v":3.3599999999999998E-4},{"$f":"ROUND(I126*J126,2)","v":20.16}]
[null,"LRAM","Yes","2025-06-01","2025-07-01",{"$f":"F124","v":750},{"$f":"G100","v":0.12},90,60000,{"$f":"B133","v":2.5500000000000002E-4},15.3,"*"]
[null,null,null,null,null,null,"Normal Full Bill",{"$f":"SUM(H113:H127)","v":41053.439999999995},null,"Community Solar Credit",{"$f":"SUM(K119:K127)","v":4292.7000000000007}]
[null,"Class Average *"]
[null,3.9959000000000001E-2,"Avg 012023 to 122023, w/o SUT"]
[null,1.5278999999999999E-2,"Summer Demand per kWh"]
[null,1.3997000000000001E-2,"Winter Demand per kWh"]
[null,2.5500000000000002E-4,"LRAM Demand per kWh "]

{"sheet":"GT per Tariff","index":17,"n_rows":147,"n_cols":16,"rows_kept":147,"cut":false,"hidden":false,"merged":[[48,20,48,26],[50,20,50,26],[0,2,0,13],[1,2,1,13],[0,0,0,1],[1,0,1,1],[30,1,30,14],[32,2,32,14],[2,0,2,1],[3,0,3,1],[64,2,64,14],[2,2,2,13],[4,2,4,13],[6,2,6,13],[7,2,7,13],[5,2,5,13],[3,2,3,13],[62,1,62,14],[59,2,59,13],[60,2,60,13],[55,2,55,13],[56,2,56,13],[57,2,57,13],[58,2,58,13],[9,2,9,15],[78,20,78,26],[82,19,82,25],[83,2,83,14],[80,20,80,26],[81,19,81,25],[82,2,82,13],[83,19,83,25],[119,0,119,9],[120,0,120,9],[121,0,121,9],[122,0,122,9],[127,5,127,7],[127,8,127,10]]}
[{"$f":"'GP per Tariff'!A1:B1","v":"Visual_Rate_Inventory  June 1, 2025"},null,"Jersey Central Power & Light"]
[{"$f":"NOW()","v":"2025-05-30T16:18:48.150"},null," "]
[{"$f":"NOW()","v":45807.679723958332},null,{"$f":"'RT per Tariff'!C3:L3","v":"Rates Effective with Service Rendered June 1, 2025"}]
["GT per Tariff"]
[null,null,"GT (General Service Transmission) Service Classification"]
[null,null,"Unbundled Rate Components"]
[]
[null,null,"Charges Applicable to Franchised Utility (Tax Exempt) Customers"]
[]
[null,null,{"$f":"'GS FP per Tariff'!C10","v":"Unbundled Components Excluding CBT & SUT - 6/1/2025 Rates Applicable to Franchised Utility Customers "}]
[null,null,{"$f":"'GS CIEP per Tariff'!C11","v":"Customer Charge"},{"$f":"'GS CIEP per Tariff'!D11","v":"Transmission* \n{1}"},{"$f":"'GS CIEP per Tariff'!E11","v":"Distribution"},{"$f":"'GS CIEP per Tariff'!F11","v":"Covid Recovery Charge"},{"$f":"'GS CIEP per Tariff'!G11","v":"Retail Margin*"},{"$f":"'GS CIEP per Tariff'!H11","v":"BGS-CIEP Generation Capacity Charge*"},{"$f":"'GS CIEP per Tariff'!I11","v":"BGS-CIEP Reconciliation Charge*"},{"$f":"'GS CIEP per Tariff'!J11","v":"BGS-CIEP Hourly Energy Charges*"},{"$f":"'GS CIEP per Tariff'!K11","v":"Zero Emission Certificate Recovery Charge (ZEC)"},{"$f":"'GS CIEP per Tariff'!L11","v":"RGGI Recovery Charge (RRC)"},{"$f":"'GS CIEP per Tariff'!M11","v":"Societal Benefit Charge (SBC)"},{"$f":"'GS CIEP per Tariff'!N11","v":"LRAM"},{"$f":"'GS CIEP per Tariff'!O11","v":"Non-utility Generation Charge (NGC)"},{"$f":"'GS CIEP per Tariff'!P11","v":"Standby Fee"}]
["1.","Customer Charge",245.51,"N/A","N/A","N/A","N/A","N/A","N/A","N/A","N/A","N/A","N/A","N/A","N/A","N/A"]
[]
["2.","KVAR","N/A","N/A",0.38,"N/A","N/A","N/A","N/A","N/A","N/A","N/A","N/A","N/A","N/A","N/A"]
[]
["3.","All Summer On-Peak KW","N/A","N/A",3.85,0,"N/A","N/A","N/A","N/A","N/A","N/A","N/A",{"$f":"'SBC TBC and MTC Tax'!C63","v":7.0000000000000007E-2},"N/A","N/A"]
["     4.","All Winter On-Peak KW","N/A","N/A",3.85,{"$f":"F16","v":0},"N/A","N/A","N/A","N/A","N/A","N/A","N/A",{"$f":"N16","v":7.0000000000000007E-2},"N/A","N/A"]
["     5.","Standby Service KW","N/A","N/A","N/A","N/A","N/A","N/A","N/A","N/A","N/A","N/A","N/A","N/A","N/A","N/A"]
["     6.","Minimum Bill KW","N/A","N/A",1.17,{"$f":"F16","v":0},"N/A","N/A","N/A","N/A","N/A","N/A","N/A","N/A","N/A","N/A"]
["7.","KW Discount - 230kV Service","N/A","N/A","N/A","N/A","N/A","N/A","N/A","N/A","N/A","N/A","N/A","N/A","N/A","N/A"]
["8.","Minimum Charge Reduction","N/A","N/A","N/A","N/A","N/A","N/A","N/A","N/A","N/A","N/A","N/A","N/A","N/A","N/A"]
["9.","Capacity Peak Load Share{1} Summer",null,null,null,null,null,{"$f":"'GST CIEP per Tariff'!H19","v":0.62521000000000004}]
["10.","Capacity Peak Load Share{1} Winter",null,null,null,null,null,{"$f":"'GST CIEP per Tariff'!H20","v":0.62521000000000004}]
[]
["11.","Summer On-Peak kWh","N/A",{"$f":"0.007326+0+0.002151","v":9.4769999999999993E-3},2.5609999999999999E-3,{"$f":"'RT per Tariff'!F15","v":3.3599999999999998E-4},{"$f":"'GST CIEP per Tariff'!$G$22","v":0},"N/A",{"$f":"'GST CIEP per Tariff'!$I$22","v":-2.7820000000000002E-3},"{2}",{"$f":"'RT per Tariff'!I$15","v":0},{"$f":"'RT per Tariff'!J15","v":4.4350000000000006E-3},{"$f":"'RT per Tariff'!$K$15","v":7.2230000000000003E-3},0,-2.04E-4,{"$f":"'GST CIEP per Tariff'!$P$22","v":1.4999999999999999E-4}]
["12.","Winter On-Peak kWh","N/A",{"$f":"D$25","v":9.4769999999999993E-3},2.5609999999999999E-3,3.3599999999999998E-4,{"$f":"'GST CIEP per Tariff'!$G$22","v":0},"N/A",{"$f":"'GST CIEP per Tariff'!$I$22","v":-2.7820000000000002E-3},"{2}",{"$f":"'RT per Tariff'!I$15","v":0},{"$f":"'RT per Tariff'!J16","v":4.4350000000000006E-3},{"$f":"'RT per Tariff'!$K$15","v":7.2230000000000003E-3},0,{"$f":"O$25","v":-2.04E-4},{"$f":"'GST CIEP per Tariff'!$P$22","v":1.4999999999999999E-4}]
["13.","Summer Off-Peak kWh","N/A",9.4769999999999993E-3,2.5609999999999999E-3,3.3599999999999998E-4,{"$f":"'GST CIEP per Tariff'!$G$22","v":0},"N/A",{"$f":"'GST CIEP per Tariff'!$I$22","v":-2.7820000000000002E-3},"{2}",{"$f":"'RT per Tariff'!I$15","v":0},{"$f":"L$25","v":4.4350000000000006E-3},{"$f":"'RT per Tariff'!$K$15","v":7.2230000000000003E-3},0,{"$f":"O$25","v":-2.04E-4},{"$f":"'GST CIEP per Tariff'!$P$22","v":1.4999999999999999E-4}]
["14.","Winter Off-Peak kWh","N/A",9.4769999999999993E-3,2.5609999999999999E-3,3.3599999999999998E-4,{"$f":"'GST CIEP per Tariff'!$G$22","v":0},"N/A",{"$f":"'GST CIEP per Tariff'!$I$22","v":-2.7820000000000002E-3},"{2}",{"$f":"'RT per Tariff'!I$15","v":0},{"$f":"L$26","v":4.4350000000000006E-3},{"$f":"'RT per Tariff'!$K$15","v":7.2230000000000003E-3},0,{"$f":"O$25","v":-2.04E-4},{"$f":"'GST CIEP per Tariff'!$P$22","v":1.4999999999999999E-4}]
[]
[]
[null,"Charges Applicable to Federal Government [SUT Exempt, not applicable to Special Provision (c) ]  Accounts "]
[]
[null,null,"Unbundled Components Including CBT 6/1/2025 Rates Applicable to Federal Government SUT Exempt Accounts (Except Special Provision (c) )"]
[null,null,{"$f":"C11","v":"Customer Charge"},"Transmission* \n{1}","Distribution","Covid Recovery Charge","Retail Margin*","BGS-CIEP Generation Capacity Charge*","BGS-CIEP Reconciliation Charge*","BGS-CIEP Hourly Energy Charges*","Zero Emission Certificate Recovery Charge (ZEC)","RGGI Recovery Charge (RRC)","Societal Benefit Charge (SBC)","LRAM","Non-utility Generation Charge (NGC)","Standby Fee"]
["1.","Customer Charge",254.73,"N/A","N/A","N/A","N/A","N/A","N/A","N/A","N/A","N/A","N/A","N/A","N/A","N/A"]
[]
["2.","KVAR","N/A","N/A",0.39,"N/A","N/A","N/A","N/A","N/A","N/A","N/A","N/A","N/A","N/A","N/A"]
[]
["3.","All Summer On-Peak KW","N/A","N/A",3.99,{"$f":"F16","v":0},"N/A","N/A","N/A","N/A","N/A","N/A","N/A",{"$f":"N16","v":7.0000000000000007E-2},"N/A","N/A"]
["     4.","All Winter On-Peak KW","N/A","N/A",3.99,{"$f":"F17","v":0},"N/A","N/A","N/A","N/A","N/A","N/A","N/A",{"$f":"N17","v":7.0000000000000007E-2},"N/A","N/A"]
["     5.","Standby Service KW","N/A","N/A",1.03,{"$f":"F16","v":0},"N/A","N/A","N/A","N/A","N/A","N/A","N/A","N/A","N/A","N/A"]
["     6.","Minimum Bill KW","N/A","N/A",1.21,{"$f":"F16","v":0},"N/A","N/A","N/A","N/A","N/A","N/A","N/A","N/A","N/A","N/A"]
["7.","KW Discount - 230kV Service","N/A","N/A",-1.06,"N/A","N/A","N/A","N/A","N/A","N/A","N/A","N/A","N/A","N/A","N/A"]
["8.","Minimum Charge Reduction","N/A","N/A",-0.5,"N/A","N/A","N/A","N/A","N/A","N/A","N/A","N/A","N/A","N/A","N/A"]
["7.","Capacity Peak Load Share{1} Summer",null,null,null,null,null,{"$f":"'GST CIEP per Tariff'!H19","v":0.62521000000000004}]
["8.","Capacity Peak Load Share{1} Winter",null,null,null,null,null,{"$f":"'GST CIEP per Tariff'!H20","v":0.62521000000000004}]
[]
["9.","Summer On-Peak kWh","N/A",{"$f":"D25","v":9.4769999999999993E-3},2.6570000000000001E-3,{"$f":"F$25","v":3.3599999999999998E-4},{"$f":"'GST CIEP per Tariff'!$G$22","v":0},"N/A",{"$f":"'GST CIEP per Tariff'!$I$22","v":-2.7820000000000002E-3},"{2}",{"$f":"'RT per Tariff'!I$15","v":0},{"$f":"L$25","v":4.4350000000000006E-3},{"$f":"'RT per Tariff'!$K$15","v":7.2230000000000003E-3},{"$f":"N$25","v":0},{"$f":"O$25","v":-2.04E-4},{"$f":"'GST CIEP per Tariff'!$P$22","v":1.4999999999999999E-4}]
["10.","Winter On-Peak kWh","N/A",{"$f":"D26","v":9.4769999999999993E-3},{"$f":"E$48","v":2.6570000000000001E-3},3.3599999999999998E-4,{"$f":"'GST CIEP per Tariff'!$G$22","v":0},"N/A",{"$f":"'GST CIEP per Tariff'!$I$22","v":-2.7820000000000002E-3},"{2}",{"$f":"'RT per Tariff'!I$15","v":0},{"$f":"L$26","v":4.4350000000000006E-3},{"$f":"'RT per Tariff'!$K$15","v":7.2230000000000003E-3},{"$f":"N$48","v":0},{"$f":"O$25","v":-2.04E-4},{"$f":"'GST CIEP per Tariff'!$P$22","v":1.4999999999999999E-4}]
["11.","Summer Off-Peak kWh","N/A",{"$f":"D27","v":9.4769999999999993E-3},2.6570000000000001E-3,3.3599999999999998E-4,{"$f":"'GST CIEP per Tariff'!$G$22","v":0},"N/A",{"$f":"'GST CIEP per Tariff'!$I$22","v":-2.7820000000000002E-3},"{2}",{"$f":"'RT per Tariff'!I$15","v":0},{"$f":"L$25","v":4.4350000000000006E-3},{"$f":"'RT per Tariff'!$K$15","v":7.2230000000000003E-3},0,{"$f":"O$25","v":-2.04E-4},{"$f":"'GST CIEP per Tariff'!$P$22","v":1.4999999999999999E-4}]
["12.","Winter Off-Peak kWh","N/A",{"$f":"D28","v":9.4769999999999993E-3},2.6570000000000001E-3,3.3599999999999998E-4,{"$f":"'GST CIEP per Tariff'!$G$22","v":0},"N/A",{"$f":"'GST CIEP per Tariff'!$I$22","v":-2.7820000000000002E-3},"{2}",{"$f":"'RT per Tariff'!I$15","v":0},{"$f":"L$26","v":4.4350000000000006E-3},{"$f":"'RT per Tariff'!$K$15","v":7.2230000000000003E-3},0,{"$f":"O$25","v":-2.04E-4},{"$f":"'GST CIEP per Tariff'!$P$22","v":1.4999999999999999E-4}]
["15.","kWh Discount - 230kV Service",null,null,-9.4300000000000004E-4,null,null," "," "," "]
["16.","MTC/NGC Charge for All kWh-230kV Service**",null,null,null,null,null,null,null,null,null,null,null,null,-2.0000000000000001E-4]
["17.","230kV Service - All kWh after Discount","N/A",{"$f":"0.002594+0+0.000796","v":3.3899999999999998E-3},{"$f":"E48+E52","v":1.714E-3},{"$f":"F$48","v":3.3599999999999998E-4},{"$f":"'GST CIEP per Tariff'!$G$22","v":0},"N/A",{"$f":"'GST CIEP per Tariff'!$I$22","v":-2.7820000000000002E-3},"{2}",{"$f":"'RT per Tariff'!I$15","v":0},{"$f":"L$25","v":4.4350000000000006E-3},{"$f":"'RT per Tariff'!$K$15","v":7.2230000000000003E-3},{"$f":"N$25","v":0},{"$f":"O53","v":-2.0000000000000001E-4},{"$f":"'GST CIEP per Tariff'!$P$22","v":1.4999999999999999E-4}]
[]
[null,null,"Jersey Central Power & Light"]
[null,null," "]
[null,null,{"$f":"C3","v":"Rates Effective with Service Rendered June 1, 2025"}]
[]
[null,null,"GT (General Service Transmission) Service Classification"]
[null,null,"Unbundled Rate Components"]
[]
[null,"Charges Applicable to Federal Government Department of Defense [SUT Exempt, Special Provision (c) ] Accounts "]
[]
[null,null,"Unbundled Components Including CBT 6/1/2025 Rates Applicable to Federal Government DOD Accounts"]
[null,null,{"$f":"C34","v":"Customer Charge"},{"$f":"D34","v":"Transmission* \n{1}"},"Distribution","Covid Recovery Charge","Retail Margin*","BGS-CIEP Generation Capacity Charge*","BGS-CIEP Reconciliation Charge*","BGS-CIEP Hourly Energy Charges*","Zero Emission Certificate Recovery Charge (ZEC)","RGGI Recovery Charge (RRC)","Societal Benefit Charge (SBC)",{"$f":"N34","v":"LRAM"},{"$f":"O34","v":"Non-utility Generation Charge (NGC)"},{"$f":"P34","v":"Standby Fee"}]
["1.","Customer Charge",{"$f":"C35","v":254.73},"N/A","N/A","N/A","N/A","N/A","N/A","N/A","N/A","N/A","N/A","N/A","N/A","N/A"]
[]
["2.","KVAR","N/A","N/A",{"$f":"E37","v":0.39},"N/A","N/A","N/A","N/A","N/A","N/A","N/A","N/A",{"$f":"N37","v":"N/A"},"N/A","N/A"]
[]
["3.","All Summer On-Peak KW","N/A","N/A",1.34,{"$f":"ROUND(F39*SUT_6625,2)","v":0},"N/A","N/A","N/A","N/A","N/A","N/A","N/A",{"$f":"N39","v":7.0000000000000007E-2},"N/A","N/A"]
["     4.","All Winter On-Peak KW","N/A","N/A",1.34,{"$f":"F71","v":0},"N/A","N/A","N/A","N/A","N/A","N/A","N/A",{"$f":"N40","v":7.0000000000000007E-2},"N/A","N/A"]
[5,"Standby Service KW","N/A","N/A",{"$f":"E41","v":1.03},{"$f":"F71","v":0},"N/A","N/A","N/A","N/A","N/A","N/A","N/A","N/A","N/A","N/A"]
["     6.","Minimum Bill KW","N/A","N/A",0.42,{"$f":"F71","v":0},"N/A","N/A","N/A","N/A","N/A","N/A","N/A","N/A","N/A","N/A"]
["7.","Capacity Peak Load Share{1} Summer",null,null,null,null,null,{"$f":"'GST CIEP per Tariff'!H40","v":0.62521000000000004}]
["8.","Capacity Peak Load Share{1} Winter",null,null,null,null,null,{"$f":"'GST CIEP per Tariff'!H41","v":0.62521000000000004}]
[]
["9.","Summer On-Peak kWh","N/A",{"$f":"D25","v":9.4769999999999993E-3},{"$f":"E48-0.001727","v":9.3000000000000005E-4},{"$f":"F$48","v":3.3599999999999998E-4},{"$f":"'GST CIEP per Tariff'!$G$22","v":0},"N/A",{"$f":"'GST CIEP per Tariff'!$I$22","v":-2.7820000000000002E-3},"{2}",{"$f":"'RT per Tariff'!I$15","v":0},{"$f":"L$25","v":4.4350000000000006E-3},{"$f":"'RT per Tariff'!$K$15","v":7.2230000000000003E-3},{"$f":"N$25","v":0},{"$f":"O$25","v":-2.04E-4},{"$f":"'GST CIEP per Tariff'!$P$22","v":1.4999999999999999E-4}]
["10.","Winter On-Peak kWh","N/A",{"$f":"D26","v":9.4769999999999993E-3},{"$f":"E$78","v":9.3000000000000005E-4},{"$f":"F$48","v":3.3599999999999998E-4},{"$f":"'GST CIEP per Tariff'!$G$22","v":0},"N/A",{"$f":"'GST CIEP per Tariff'!$I$22","v":-2.7820000000000002E-3},"{2}",{"$f":"'RT per Tariff'!I$15","v":0},{"$f":"L$26","v":4.4350000000000006E-3},{"$f":"'RT per Tariff'!$K$15","v":7.2230000000000003E-3},0,{"$f":"O$25","v":-2.04E-4},{"$f":"'GST CIEP per Tariff'!$P$22","v":1.4999999999999999E-4}]
["11.","Summer Off-Peak kWh","N/A",{"$f":"D27","v":9.4769999999999993E-3},{"$f":"E$78","v":9.3000000000000005E-4},{"$f":"F$48","v":3.3599999999999998E-4},{"$f":"'GST CIEP per Tariff'!$G$22","v":0},"N/A",{"$f":"'GST CIEP per Tariff'!$I$22","v":-2.7820000000000002E-3},"{2}",{"$f":"'RT per Tariff'!I$15","v":0},{"$f":"L$25","v":4.4350000000000006E-3},{"$f":"'RT per Tariff'!$K$15","v":7.2230000000000003E-3},0,{"$f":"O$25","v":-2.04E-4},{"$f":"'GST CIEP per Tariff'!$P$22","v":1.4999999999999999E-4}]
["12.","Winter Off-Peak kWh","N/A",{"$f":"D28","v":9.4769999999999993E-3},{"$f":"E$78","v":9.3000000000000005E-4},{"$f":"F$48","v":3.3599999999999998E-4},{"$f":"'GST CIEP per Tariff'!$G$22","v":0},"N/A",{"$f":"'GST CIEP per Tariff'!$I$22","v":-2.7820000000000002E-3},"{2}",{"$f":"'RT per Tariff'!I$15","v":0},{"$f":"L$26","v":4.4350000000000006E-3},{"$f":"'RT per Tariff'!$K$15","v":7.2230000000000003E-3},0,{"$f":"O$25","v":-2.04E-4},{"$f":"'GST CIEP per Tariff'!$P$22","v":1.4999999999999999E-4}]
[]
[null,null,"Charges Applicable to Non-Tax-Exempt Accounts "]
[null,null,{"$f":"'RT per Tariff'!C22","v":"Unbundled Components Including CBT and SUT - 6/1/2025 Rates Applicable to Non-Tax-Exempt Customers"}]
[null,null,{"$f":"C11","v":"Customer Charge"},"Transmission* \n{1}","Distribution","Covid Recovery Charge","Retail Margin*","BGS-CIEP Generation Capacity Charge*","BGS-CIEP Reconciliation Charge*","BGS-CIEP Hourly Energy Charges*","Zero Emission Certificate Recovery Charge (ZEC)","RGGI Recovery Charge (RRC)","Societal Benefit Charge (SBC)","LRAM","Non-utility Generation Charge (NGC)","Standby Fee"]
["1.","Customer Charge",{"$f":"ROUND(C35*SUT_6625,2)","v":271.61},"N/A","N/A","N/A","N/A","N/A","N/A","N/A","N/A","N/A","N/A","N/A","N/A","N/A"]
[]
["2.","KVAR","N/A","N/A",{"$f":"ROUND(E37*SUT_6625,2)","v":0.42},"N/A","N/A","N/A","N/A","N/A","N/A","N/A","N/A","N/A","N/A","N/A"]
[]
["3.","All Summer On-Peak KW","N/A","N/A",{"$f":"ROUND(E39*SUT_6625,2)","v":4.25},{"$f":"ROUND(F39*SUT_6625,2)","v":0},"N/A","N/A","N/A","N/A","N/A","N/A","N/A",{"$f":"ROUND(N39*SUT_6625,2)","v":7.0000000000000007E-2},"N/A","N/A"]
["     4.","All Winter On-Peak KW","N/A","N/A",4.25,{"$f":"F89","v":0},"N/A","N/A","N/A","N/A","N/A","N/A","N/A",7.0000000000000007E-2,"N/A","N/A"]
["     5.","Standby Service KW","N/A","N/A",1.1000000000000001,{"$f":"F90","v":0},"N/A","N/A","N/A","N/A","N/A","N/A","N/A","N/A","N/A","N/A"]
["     6.","Minimum Bill KW","N/A","N/A",1.29,{"$f":"F90","v":0},"N/A","N/A","N/A","N/A","N/A","N/A","N/A","N/A","N/A","N/A"]
["7.","KW Discount - 230kV Service","N/A","N/A",-1.1299999999999999,"N/A","N/A","N/A","N/A","N/A","N/A","N/A","N/A","N/A","N/A","N/A"]
["8.","Minimum Charge Reduction","N/A","N/A",-0.53,"N/A","N/A","N/A","N/A","N/A","N/A","N/A","N/A","N/A","N/A","N/A"]
["9.","Special Provision {d}","N/A","N/A",0.45,"N/A","N/A","N/A","N/A","N/A","N/A","N/A","N/A","N/A","N/A","N/A"]
["10.","Capacity Peak Load Share{1} Summer",null,null,null,null,null,{"$f":"'GST CIEP per Tariff'!H61","v":0.66662999999999994}]
["11.","Capacity Peak Load Share{1} Winter",null,null,null,null,null,{"$f":"'GST CIEP per Tariff'!H62","v":0.66662999999999994}]
[]
["12.","Summer On-Peak kWh","N/A",{"$f":"ROUND(0.007326*SUT_6625,6)+0+0.002292","v":1.0103000000000001E-2},{"$f":"ROUND(E48*SUT_6625,6)","v":2.833E-3},{"$f":"ROUND(F48*SUT_6625,6)","v":3.5799999999999997E-4},{"$f":"'GST CIEP per Tariff'!$G$64","v":0},"N/A",{"$f":"'GST CIEP per Tariff'!$I$64","v":-2.9659999999999999E-3},"{2}",{"$f":"'RT per Tariff'!I$27","v":0},{"$f":"'RT per Tariff'!J27","v":4.7289999999999997E-3},{"$f":"'RT per Tariff'!$K$27","v":7.7000000000000002E-3},{"$f":"ROUND(N48*SUT_6625,6)","v":0},{"$f":"ROUND(O25*SUT_6625,6)","v":-2.1800000000000001E-4},{"$f":"'GST CIEP per Tariff'!$P$64","v":1.6000000000000001E-4}]
["13.","Winter On-Peak kWh","N/A",{"$f":"D$100","v":1.0103000000000001E-2},2.833E-3,{"$f":"F100","v":3.5799999999999997E-4},{"$f":"'GST CIEP per Tariff'!$G$64","v":0},"N/A",{"$f":"'GST CIEP per Tariff'!$I$64","v":-2.9659999999999999E-3},"{2}",{"$f":"'RT per Tariff'!I$27","v":0},{"$f":"'RT per Tariff'!J28","v":4.7289999999999997E-3},{"$f":"'RT per Tariff'!$K$27","v":7.7000000000000002E-3},{"$f":"N$100","v":0},-2.1800000000000001E-4,{"$f":"'GST CIEP per Tariff'!$P$64","v":1.6000000000000001E-4}]
["14.","Summer Off-Peak kWh","N/A",{"$f":"D$100","v":1.0103000000000001E-2},2.833E-3,{"$f":"F100","v":3.5799999999999997E-4},{"$f":"'GST CIEP per Tariff'!$G$64","v":0},"N/A",{"$f":"'GST CIEP per Tariff'!$I$64","v":-2.9659999999999999E-3},"{2}",{"$f":"'RT per Tariff'!I$27","v":0},{"$f":"L$100","v":4.7289999999999997E-3},{"$f":"'RT per Tariff'!$K$27","v":7.7000000000000002E-3},0,-2.1800000000000001E-4,{"$f":"'GST CIEP per Tariff'!$P$64","v":1.6000000000000001E-4}]
["15.","Winter Off-Peak kWh","N/A",1.0103000000000001E-2,2.833E-3,{"$f":"F100","v":3.5799999999999997E-4},{"$f":"'GST CIEP per Tariff'!$G$64","v":0},"N/A",{"$f":"'GST CIEP per Tariff'!$I$64","v":-2.9659999999999999E-3},"{2}",{"$f":"'RT per Tariff'!I$27","v":0},{"$f":"L101","v":4.7289999999999997E-3},{"$f":"'RT per Tariff'!$K$27","v":7.7000000000000002E-3},0,-2.1800000000000001E-4,{"$f":"'GST CIEP per Tariff'!$P$64","v":1.6000000000000001E-4}]
["16.","kWh Discount - 230kV Service",null,null,{"$f":"ROUND(E52*SUT_6625,6)","v":-1.005E-3},null,null," "," "," "]
["17.","MTC/NGC Charge for All kWh-230kV Service**",null,null,null,null,null,null,null,null,null,null,null,null,{"$f":"ROUND(O53*SUT_6625,6)","v":-2.13E-4}]
["18.","230kV Service - All kWh after Discount","N/A",{"$f":"ROUND(0.002594*SUT_6625,6)+0+0.000847","v":3.6129999999999999E-3},{"$f":"E100+E104","v":1.828E-3},{"$f":"F$100","v":3.5799999999999997E-4},{"$f":"'GST CIEP per Tariff'!$G$64","v":0},"N/A",{"$f":"'GST CIEP per Tariff'!$I$64","v":-2.9659999999999999E-3},"{2}",{"$f":"'RT per Tariff'!I$27","v":0},{"$f":"L$100","v":4.7289999999999997E-3},{"$f":"'RT per Tariff'!$K$27","v":7.7000000000000002E-3},{"$f":"N$100","v":0},{"$f":"O105","v":-2.13E-4},{"$f":"'GST CIEP per Tariff'!$P$64","v":1.6000000000000001E-4}]
[null,null,null,null,null,null,null,null,null," "]
[{"$f":"'GP per Tariff'!A67","v":"* Transmission, Retail Margin, BGS-CIEP Generation Capacity, BGS-CIEP Reconciliation and BGS-CIEP Hourly Energy Charges apply only to Full Service (non-shopping) Customers"}]
["** Customers served at 230 kV are billed the lower MTC charge specified on line 15 in place of the MTC charges specified on lines 11 through 14."]
[]
[{"$f":"'GP per Tariff'!A69 & \"assigned capacity related factors and then multiplied by the price per kW-day which is then multiplied by the number of days in the billing period.\"","v":"{1} The BGS-CIEP Generation Capacity Charge is billed based on Peak Load Share (PLS) on a per kW-day basis.  The customer's PLS is adjusted by PJM assigned capacity related factors and then multiplied by the price per kW-day which is then multiplied by the number of days in the billing period."}]
[{"$f":"'GP per Tariff'!A71","v":"{2} Hourly Energy prices are based on the sum of actual real-time PJM load weighted average Locational Marginal Price for the JCP&L Transmission Zone and "}]
[{"$f":"'GST CIEP per Tariff'!$B$75","v":" ancillary services of $0.00600 per KWH, times a Losses Multiplier times 6.625 % for Sales and Use Tax where applicable (See Tariff Rider BGS-CIEP) "}]
["{3} Transmission Charge includes Reliability Must Run (RMR) Surcharge of $0.000000/$0.000000 (w/ SUT) Eff. September 1, 2019 and Transmission Enhancement Charge (TEC) of $0.002151/$0.002292(w/SUT) Eff. May  1, 2025"]
["       For High Tension Service, RMR is $0.000000/$0.000000 (w/SUT) and TEC is $0.000796/$0.000847(w/ SUT)  per kWh"]
[]
[]
[]
[]
[{"$f":"\"Assumptions: Bill Credit is calculated at the pre-SUT rate.  Subscriber has 10% investment from \"&TEXT(D130,\"mm/dd/yyyy\")&\" to \"&TEXT(E130,\"mm/dd/yyyy\")","v":"Assumptions: Bill Credit is calculated at the pre-SUT rate.  Subscriber has 10% investment from 06/01/2025 to 07/01/2025"}]
["Customer billed for 700,000 kWH/2000 kW usage on Service Classification GT Default Service"]
["Host Output: 1,000,000 KWH"]
["Customer (Subscriber) Allocated: 100,000 KWH"]
[]
["Normal Full Bill",null,{"$f":"H144","v":96698.870000000024}]
["Community Solar Credit",null,{"$f":"K144","v":5496.4000000000005}]
["Charges Due",null,{"$f":"C125-C126","v":91202.47000000003}]
[null,null,null,null,null,"Normal Full Bill",null,null,"Credit Calculation"]
[null,"Charge Type","Credit","Period Start","Period End","Consumed kWh/kWh","Price","Charges","Allocated kWh","Pre-SUT Price","Credit @ Pre-SUT"]
[null,"Customer Charge","No","2025-06-01",{"$f":"D130+30","v":"2025-07-01"},null,{"$f":"C86","v":271.61},{"$f":"G130","v":271.61}]
[null,"BGS Capacity","No",{"$f":"$D$130","v":"2025-06-01"},{"$f":"E$130","v":"2025-07-01"},{"$f":"F133&\" x \"&(E131-D131+1)","v":"2000 x 31"},{"$f":"H97","v":0.66662999999999994},{"$f":"ROUND(F133*(E131-D131+1)*G131,2)","v":41331.06}]
[null,"Distribution kVar","No",{"$f":"$D$130","v":"2025-06-01"},{"$f":"E$130","v":"2025-07-01"},800,{"$f":"E88","v":0.42},{"$f":"ROUND(F132*G132,2)","v":336}]
[null,"Distribution kW","No","2025-06-01","2025-07-01",2000,{"$f":"E90","v":4.25},{"$f":"ROUND(F133*G133,2)","v":8500}]
[null,"Non-Utility Generation Charge (MTC)","No","2025-06-01","2025-07-01",700000,{"$f":"O100","v":-2.1800000000000001E-4},{"$f":"ROUND(F134*G134,2)","v":-152.6}]
[null,"SBC Charge","No","2025-06-01","2025-07-01",{"$f":"F$134","v":700000},{"$f":"M100","v":7.7000000000000002E-3},{"$f":"ROUND(F135*G135,2)","v":5390}]
[null,"ZEC Recovery Charge","No","2025-06-01","2025-07-01",{"$f":"F$134","v":700000},{"$f":"K100","v":0},0]
[null,"BGS Energy Charges - Hourly Pricing","Yes","2025-06-01","2025-07-01",700000,{"$f":"ROUND(J137*1.06625,6)","v":4.3387000000000002E-2},30370.9,100000,{"$f":"B147","v":4.0690999999999998E-2},{"$f":"ROUND(I137*J137,2)","v":4069.1},"*",null,null,null,{"$f":"J137*1.06625-G137","v":-2.2125000000844386E-7}]
[null,"BGS Transmission","Yes","2025-06-01","2025-07-01",700000,{"$f":"D100","v":1.0103000000000001E-2},7072.1,{"$f":"I$137","v":100000},{"$f":"D48","v":9.4769999999999993E-3},947.7,null,null,null,null,{"$f":"ROUND(J138*1.06625,6)-G138","v":1.9999999999985307E-6}]
[null,"BGS Reconciliation","Yes","2025-06-01","2025-07-01",700000,{"$f":"I100","v":-2.9659999999999999E-3},-2076.1999999999998,{"$f":"I$137","v":100000},{"$f":"I48","v":-2.7820000000000002E-3},-278.2,null,null,null,null,-3.0749999999990854E-7]
[null,"CIEP - Standby Fee","Yes","2025-06-01","2025-07-01",700000,{"$f":"P100","v":1.6000000000000001E-4},112,100000,{"$f":"P48","v":1.4999999999999999E-4},15,null,null,null,null,-6.2500000000035401E-8]
[null,"Distribution kWh","Yes","2025-06-01","2025-07-01",700000,{"$f":"E100","v":2.833E-3},1983.1,100000,{"$f":"E48","v":2.6570000000000001E-3},265.7,null,null,null,null,2.6250000000060947E-8]
[null,"RGGI Charge","Yes","2025-06-01","2025-07-01",700000,{"$f":"L100","v":4.7289999999999997E-3},3310.3,100000,{"$f":"L48","v":4.4350000000000006E-3},443.5,null,null,null,null,-1.8124999999914043E-7]
[null,"Covid Recovery Charge","Yes","2025-06-01","2025-07-01",700000,{"$f":"F100","v":3.5799999999999997E-4},250.6,100000,{"$f":"F48","v":3.3599999999999998E-4},33.6,null,null,null,null,2.5999999999997379E-7]
[null,null,null,null,null,null,"Normal Full Bill",{"$f":"SUM(H130:H143)","v":96698.870000000024},null,"Community Solar Credit",{"$f":"SUM(K137:K143)","v":5496.4000000000005}]
[]
[null,"Class Average"]
[null,4.0690999999999998E-2,"Avg 012023 to 122023, w/o SUT"]

{"sheet":"Lighting kWh Charges","index":18,"n_rows":62,"n_cols":15,"rows_kept":62,"cut":false,"hidden":false,"merged":[[3,0,3,1],[5,2,5,12],[4,2,4,12],[3,2,3,12],[9,2,9,14],[0,2,0,12],[1,2,1,12],[2,2,2,12],[0,0,0,1],[2,0,2,1],[1,0,1,1]]}
[{"$f":"'RT per Tariff'!A1:B1","v":"Visual_Rate_Inventory  June 1, 2025"},null,"Jersey Central Power & Light"]
[{"$f":"NOW()","v":"2025-05-30T16:18:48.150"}]
[{"$f":"NOW()","v":45807.679723958332},null,{"$f":"'RT per Tariff'!C3","v":"Rates Effective with Service Rendered June 1, 2025"}]
["Lighting kWh Charges"]
[null,null,"Lighting per kWh Charges"]
[]
[]
[]
[]
[null,null,"Unbundled kWh Prices per Tariff (Including CBT and SUT if Applicable)"]
[]
["Rate\nClasses*","Tax Status",{"$f":"'RT per Tariff'!D11","v":"Transmission* \n{1}"},{"$f":"'RT per Tariff'!E11","v":"Distribution"},{"$f":"'RT per Tariff'!F11","v":"Covid Recovery Charge"},"Energy & Capacity\nSummer*","Energy & Capacity\nWinter*",{"$f":"'RT per Tariff'!H11","v":"BGS-RSCP Reconciliation Charge*"},{"$f":"'RT per Tariff'!I11","v":"Zero Emission Certificate Recovery Charge (ZEC)"},{"$f":"'RT per Tariff'!J11","v":"RGGI Recovery Charge (RRC)"},{"$f":"'RT per Tariff'!K11","v":"Societal Benefit Charge (SBC)"},"LRAM",{"$f":"'RT per Tariff'!M11","v":"Non-utility Generation Charge (NGC)"},"Total\nSummer","Total\nWinter"]
["RS-OL,","Franchised Utility (Tax Exempt)",{"$f":"0+0","v":0},4.8226999999999999E-2,{"$f":"'RT per Tariff'!F15","v":3.3599999999999998E-4},9.5016000000000003E-2,9.8235000000000003E-2,{"$f":"'RT per Tariff'!H$15","v":3.6999999999999998E-5},{"$f":"'RT per Tariff'!I$15","v":0},{"$f":"'RT per Tariff'!J15","v":4.4350000000000006E-3},{"$f":"'RT per Tariff'!$K$15","v":7.2230000000000003E-3},{"$f":"'SBC TBC and MTC Tax'!B64","v":2.0609999999999999E-3},{"$f":"'GS FP per Tariff'!M24","v":-2.1900000000000001E-4},{"$f":"SUM(C13:F13)+SUM(H13:M13)","v":0.15711600000000001},{"$f":"SUM(C13:E13)+SUM(G13:M13)","v":0.16033500000000001}]
["GS-OL &","Federal Government (SUT Exempt)",{"$f":"C13","v":0},5.0039E-2,{"$f":"E13","v":3.3599999999999998E-4},{"$f":"F13","v":9.5016000000000003E-2},{"$f":"G13","v":9.8235000000000003E-2},{"$f":"'RT per Tariff'!H$15","v":3.6999999999999998E-5},{"$f":"'RT per Tariff'!I$15","v":0},{"$f":"J13","v":4.4350000000000006E-3},{"$f":"'RT per Tariff'!$K$15","v":7.2230000000000003E-3},{"$f":"L13","v":2.0609999999999999E-3},{"$f":"M13","v":-2.1900000000000001E-4},{"$f":"SUM(C14:F14)+SUM(H14:M14)","v":0.15892799999999999},{"$f":"SUM(C14:E14)+SUM(G14:M14)","v":0.16214699999999999}]
["PSHL","Normal (Non-Exempt)",{"$f":"ROUND(0*SUT_6625,6)+0","v":0},{"$f":"ROUND(D14*SUT_6625,6)","v":5.3353999999999999E-2},{"$f":"ROUND(E13*SUT_6625,6)","v":3.5799999999999997E-4},{"$f":"ROUND(F13*SUT_6625,6)","v":0.101311},{"$f":"ROUND(G13*SUT_6625,6)","v":0.104743},{"$f":"'RT per Tariff'!H$27","v":3.8999999999999999E-5},{"$f":"'RT per Tariff'!I$27","v":0},{"$f":"'RT per Tariff'!J27","v":4.7289999999999997E-3},{"$f":"'RT per Tariff'!$K$27","v":7.7000000000000002E-3},{"$f":"ROUND(L14*SUT_6625,6)","v":2.1979999999999999E-3},{"$f":"'GS FP per Tariff'!M89","v":-2.34E-4},{"$f":"SUM(C15:F15)+SUM(H15:M15)","v":0.16945499999999999},{"$f":"SUM(C15:E15)+SUM(G15:M15)","v":0.17288700000000001}]
[]
[]
[]
[null,{"$f":"'RT per Tariff'!$A$32","v":"* Transmission, Energy & Capacity and BGS-RSCP Reconciliation Charges apply only to Full Service (non-shopping) Customers"}]
[null,{"$f":"MID('RT per Tariff'!A33:H33,1,122)","v":""}]
[]
[]
[]
[]
[null," "]
[]
[]
[]
[]
[]
[]
[]
[]
[]
[]
[]
[]
[]
[]
[]
[]
[]
[]
[]
[]
[]
[]
[]
[]
[]
[]
[]
[]
[null,null," "]
[]
[]
[]
[]
[]
[]
[]
["{3} Transmission Charge includes Reliability Must Run (RMR) Surcharge of $0.000000/$0.000000 (w/ SUT) Eff. Jan. 1, 2009 and Transmission Enhance Charge (TEC) of $0.001370/0.001466 (w/ SUT) Eff. October 1, 2012."," "]

{"sheet":"Lighting kWh Summary","index":19,"n_rows":56,"n_cols":12,"rows_kept":56,"cut":false,"hidden":false,"merged":[[6,2,6,4],[6,5,6,6],[6,7,6,9],[6,10,6,11],[3,0,3,1],[0,2,0,11],[2,2,2,11],[4,2,4,11],[0,0,0,1],[2,0,2,1],[1,0,1,1]]}
[{"$f":"'Lighting kWh Charges'!A1:B1","v":"Visual_Rate_Inventory  June 1, 2025"},null,"Jersey Central Power & Light"]
[{"$f":"NOW()","v":"2025-05-30T16:18:48.150"}]
[{"$f":"NOW()","v":45807.679723958332},null,{"$f":"'RT per Tariff'!C3","v":"Rates Effective with Service Rendered June 1, 2025"}]
["Lighting kWh Summary"]
[null,null,"Summary of Charges *"]
[null," "," "]
[null,null,"Summary of Summer Charges",null,null,"Summary of Summer Charges\nWithout BGS \nReconciliation Charges",null,"Summary of Winter Charges",null,null,"Summary of Winter Charges\nWithout BGS \nReconciliation Charges"]
["Rate\nClasses*","Tax Status","Full Service Customer \nTotal kWh Charges{1}","Basic Generation Service Charge/Price to Compare{2}","Delivery Service kWh Charges{3}","Full Service Customer \nTotal kWh Charges","Basic Generation Service Charge/Price to Compare","Full Service Customer \nTotal kWh Charges{1}","Basic Generation Service Charge/Price to Compare{2}","Delivery Service kWh Charges{3}","Full Service Customer \nTotal kWh Charges","Basic Generation Service Charge/Price to Compare"]
["RS-OL,","Franchised Utility (Tax Exempt)",{"$f":"'Lighting kWh Charges'!N13","v":0.15711600000000001},{"$f":"'Lighting kWh Charges'!C13+'Lighting kWh Charges'!F13+'Lighting kWh Charges'!H13","v":9.5052999999999999E-2},{"$f":"SUM('Lighting kWh Charges'!D13:E13,'Lighting kWh Charges'!I13:M13)","v":6.2063000000000007E-2},{"$f":"'Lighting kWh Charges'!N13-'Lighting kWh Charges'!H13","v":0.157079},{"$f":"'Lighting kWh Charges'!C13+'Lighting kWh Charges'!F13","v":9.5016000000000003E-2},{"$f":"'Lighting kWh Charges'!O13","v":0.16033500000000001},{"$f":"'Lighting kWh Charges'!C13+'Lighting kWh Charges'!G13+'Lighting kWh Charges'!H13","v":9.8271999999999998E-2},{"$f":"SUM('Lighting kWh Charges'!D13:E13,'Lighting kWh Charges'!I13:M13)","v":6.2063000000000007E-2},{"$f":"'Lighting kWh Charges'!O13-'Lighting kWh Charges'!H13","v":0.160298},{"$f":"'Lighting kWh Charges'!C13+'Lighting kWh Charges'!G13","v":9.8235000000000003E-2}]
["GS-OL &","Federal Government (SUT Exempt)",{"$f":"'Lighting kWh Charges'!N14","v":0.15892799999999999},{"$f":"'Lighting kWh Charges'!C14+'Lighting kWh Charges'!F14+'Lighting kWh Charges'!H14","v":9.5052999999999999E-2},{"$f":"SUM('Lighting kWh Charges'!D14:E14,'Lighting kWh Charges'!I14:M14)","v":6.3875000000000001E-2},{"$f":"'Lighting kWh Charges'!N14-'Lighting kWh Charges'!H14","v":0.15889099999999998},{"$f":"'Lighting kWh Charges'!C14+'Lighting kWh Charges'!F14","v":9.5016000000000003E-2},{"$f":"'Lighting kWh Charges'!O14","v":0.16214699999999999},{"$f":"'Lighting kWh Charges'!C14+'Lighting kWh Charges'!G14+'Lighting kWh Charges'!H14","v":9.8271999999999998E-2},{"$f":"SUM('Lighting kWh Charges'!D14:E14,'Lighting kWh Charges'!I14:M14)","v":6.3875000000000001E-2},{"$f":"'Lighting kWh Charges'!O14-'Lighting kWh Charges'!H14","v":0.16210999999999998},{"$f":"'Lighting kWh Charges'!C14+'Lighting kWh Charges'!G14","v":9.8235000000000003E-2}]
["PSHL","Normal (Non-Exempt)",{"$f":"'Lighting kWh Charges'!N15","v":0.16945499999999999},{"$f":"'Lighting kWh Charges'!C15+'Lighting kWh Charges'!F15+'Lighting kWh Charges'!H15","v":0.10135},{"$f":"SUM('Lighting kWh Charges'!D15:E15,'Lighting kWh Charges'!I15:M15)","v":6.8104999999999999E-2},{"$f":"'Lighting kWh Charges'!N15-'Lighting kWh Charges'!H15","v":0.16941599999999998},{"$f":"'Lighting kWh Charges'!C15+'Lighting kWh Charges'!F15","v":0.101311},{"$f":"'Lighting kWh Charges'!O15","v":0.17288700000000001},{"$f":"'Lighting kWh Charges'!C15+'Lighting kWh Charges'!G15+'Lighting kWh Charges'!H15","v":0.104782},{"$f":"SUM('Lighting kWh Charges'!D15:E15,'Lighting kWh Charges'!I15:M15)","v":6.8104999999999999E-2},{"$f":"'Lighting kWh Charges'!O15-'Lighting kWh Charges'!H15","v":0.172848},{"$f":"'Lighting kWh Charges'!C15+'Lighting kWh Charges'!G15","v":0.104743}]
[null,null,null,null,null," "]
[]
["* Note: Charges are billed to the customer by component as they appear in the Jersey Central Power & Light Tariff for Service."]
[" By multiplying the summarized charges in these tables times the customers kWh usage you may get an amount that is a few"]
[" cents different than the actual amount of the customer's bill due to rounding differences."]
[]
[]
[{"$f":"\"{1} Includes Distribution, SRC, SBC, NGC, SCC, Energy & Capacity, Transmission (including RMR) and BGS-FP reconciliation charges of\"&FIXED('RT per Tariff'!$H$15,6)&\" per kWh (w/o SUT) or\"&FIXED('RT per Tariff'!$H$27,6)&\" per kWh (w/SUT)\"","v":"{1} Includes Distribution, SRC, SBC, NGC, SCC, Energy & Capacity, Transmission (including RMR) and BGS-FP reconciliation charges of0.000037 per kWh (w/o SUT) or0.000039 per kWh (w/SUT)"}]
[{"$f":"\"{2} Includes Energy & Capacity, Transmission (Including RMR) and the current BGS-RSCP reconciliation\"","v":"{2} Includes Energy & Capacity, Transmission (Including RMR) and the current BGS-RSCP reconciliation"}]
[{"$f":"'RT Summary'!A38","v":"{3} Includes Distribution, SBC, NGC, TAA, RRC , and ZEC charges"}]
[]
[]
[null,null,null,{"$f":"C9-D9-E9","v":0},null,null,null,null,{"$f":"H9-I9-J9","v":0}]
[null,null,null,{"$f":"C10-D10-E10","v":0},null,null,null,null,{"$f":"H10-I10-J10","v":0}]
[null,null,null,{"$f":"C11-D11-E11","v":0},null,null,null,null,{"$f":"H11-I11-J11","v":0}]
[]
[]
[]
[]
[]
[]
[]
[]
[]
[]
[]
[]
[]
[]
[]
[]
[]
[]
[]
[]
[]
[null,null," "]
[]
[]
[]
[]
[]
[]
[]
[" "]

{"sheet":"OL Fixture & Total Charges","index":20,"n_rows":79,"n_cols":16,"rows_kept":79,"cut":false,"hidden":false,"merged":[[0,0,0,2],[0,4,0,10],[1,0,1,2],[2,0,2,2],[2,4,2,10],[15,3,16,3],[4,0,4,2],[3,4,3,10],[8,10,8,12],[8,13,8,15],[8,4,8,6],[5,4,5,12],[8,7,8,9]]}
[{"$f":"'Lighting kWh Charges'!A1:B1","v":"Visual_Rate_Inventory  June 1, 2025"},null,null,null,"Jersey Central Power & Light"]
[{"$f":"NOW()","v":"2025-05-30T16:18:48.150"}]
[{"$f":"NOW()","v":45807.679723958332},null,null,null,{"$f":"'RT per Tariff'!C3","v":"Rates Effective with Service Rendered June 1, 2025"}]
[]
["OL Fixture & Total Charges"]
[null,null,null,null,"OL (Outdoor Lighting Service) Service Classification"]
[]
[]
["Nominal","Nominal\nLamp &","Billing",null,"Monthly Fixture Charges 6/1/2025",null,null,"Reliability Plus Fixture Charges 6/1/2025",null,null,"Total Monthly Summer Full Service Charges Effective 6/1/2025 {1}",null,null,"Total Monthly Winter Full Service Charges Effective 6/1/2025 {1}"]
["Lamp","Ballast","Month",null,"Normal","SUT","Tax","Normal","SUT","Tax","Normal","SUT","Tax","Normal","SUT","Tax"]
["Wattage","Wattage","Kwh","Remarks","Account","Exempt","Exempt","Account","Exempt","Exempt","Account","Exempt","Exempt","Account","Exempt","Exempt"]
["--------","--------","--------","--------","--------","--------","--------","--------","--------","--------","--------","--------","--------","--------","--------","--------"]
[100,121,42,"Area Lighting",{"$f":"ROUND(F13*SUT_6625,2)","v":2.86},2.68,{"$f":"F13","v":2.68},{"$f":"ROUND(I13*SUT_6625,2)","v":0},0,{"$f":"I13","v":0},{"$f":"$E13+$H13+ROUND($C13*'Lighting kWh Charges'!$N$15,2)","v":9.98},{"$f":"$F13+$I13+ROUND($C13*'Lighting kWh Charges'!$N$14,2)","v":9.35},{"$f":"$G13+$J13+ROUND($C13*'Lighting kWh Charges'!$N$13,2)","v":9.2799999999999994},{"$f":"$E13+$H13+ROUND($C13*'Lighting kWh Charges'!$O$15,2)","v":10.119999999999999},{"$f":"$F13+$I13+ROUND($C13*'Lighting kWh Charges'!$O$14,2)","v":9.49},{"$f":"$G13+$J13+ROUND($C13*'Lighting kWh Charges'!$O$13,2)","v":9.41}]
[175,211,74,"Mercury Vapor",{"$f":"ROUND(F14*SUT_6625,2)","v":2.86},2.68,{"$f":"F14","v":2.68},{"$f":"ROUND(I14*SUT_6625,2)","v":0},0,{"$f":"I14","v":0},{"$f":"$E14+$H14+ROUND($C14*'Lighting kWh Charges'!$N$15,2)","v":15.399999999999999},{"$f":"$F14+$I14+ROUND($C14*'Lighting kWh Charges'!$N$14,2)","v":14.44},{"$f":"$G14+$J14+ROUND($C14*'Lighting kWh Charges'!$N$13,2)","v":14.31},{"$f":"$E14+$H14+ROUND($C14*'Lighting kWh Charges'!$O$15,2)","v":15.649999999999999},{"$f":"$F14+$I14+ROUND($C14*'Lighting kWh Charges'!$O$14,2)","v":14.68},{"$f":"$G14+$J14+ROUND($C14*'Lighting kWh Charges'!$O$13,2)","v":14.54}]
[]
[70,99,35,"Area Lighting\nHigh Pressure Sodium",{"$f":"ROUND(F16*SUT_6625,2)","v":11.84},11.1,{"$f":"F16","v":11.1},{"$f":"ROUND(I16*SUT_6625,2)","v":0},0,{"$f":"I16","v":0},{"$f":"$E16+$H16+ROUND($C16*'Lighting kWh Charges'!$N$15,2)","v":17.77},{"$f":"$F16+$I16+ROUND($C16*'Lighting kWh Charges'!$N$14,2)","v":16.66},{"$f":"$G16+$J16+ROUND($C16*'Lighting kWh Charges'!$N$13,2)","v":16.600000000000001},{"$f":"$E16+$H16+ROUND($C16*'Lighting kWh Charges'!$O$15,2)","v":17.89},{"$f":"$F16+$I16+ROUND($C16*'Lighting kWh Charges'!$O$14,2)","v":16.78},{"$f":"$G16+$J16+ROUND($C16*'Lighting kWh Charges'!$O$13,2)","v":16.71}]
[100,137,48,null,{"$f":"ROUND(F17*SUT_6625,2)","v":11.84},11.1,{"$f":"F17","v":11.1},{"$f":"ROUND(I17*SUT_6625,2)","v":0},0,{"$f":"I17","v":0},{"$f":"$E17+$H17+ROUND($C17*'Lighting kWh Charges'!$N$15,2)","v":19.97},{"$f":"$F17+$I17+ROUND($C17*'Lighting kWh Charges'!$N$14,2)","v":18.73},{"$f":"$G17+$J17+ROUND($C17*'Lighting kWh Charges'!$N$13,2)","v":18.64},{"$f":"$E17+$H17+ROUND($C17*'Lighting kWh Charges'!$O$15,2)","v":20.14},{"$f":"$F17+$I17+ROUND($C17*'Lighting kWh Charges'!$O$14,2)","v":18.88},{"$f":"$G17+$J17+ROUND($C17*'Lighting kWh Charges'!$O$13,2)","v":18.8}]
[]
[150,176,62,null,{"$f":"ROUND(F19*SUT_6625,2)","v":13.9},13.04,{"$f":"F19","v":13.04},{"$f":"ROUND(I19*SUT_6625,2)","v":0},0,{"$f":"I19","v":0},{"$f":"$E19+$H19+ROUND($C19*'Lighting kWh Charges'!$N$15,2)","v":24.41},{"$f":"$F19+$I19+ROUND($C19*'Lighting kWh Charges'!$N$14,2)","v":22.89},{"$f":"$G19+$J19+ROUND($C19*'Lighting kWh Charges'!$N$13,2)","v":22.78},{"$f":"$E19+$H19+ROUND($C19*'Lighting kWh Charges'!$O$15,2)","v":24.62},{"$f":"$F19+$I19+ROUND($C19*'Lighting kWh Charges'!$O$14,2)","v":23.09},{"$f":"$G19+$J19+ROUND($C19*'Lighting kWh Charges'!$O$13,2)","v":22.979999999999997}]
[250,293,103,"Flood Lighting",{"$f":"ROUND(F20*SUT_6625,2)","v":14.61},13.7,{"$f":"F20","v":13.7},{"$f":"ROUND(I20*SUT_6625,2)","v":0},0,{"$f":"I20","v":0},{"$f":"$E20+$H20+ROUND($C20*'Lighting kWh Charges'!$N$15,2)","v":32.06},{"$f":"$F20+$I20+ROUND($C20*'Lighting kWh Charges'!$N$14,2)","v":30.07},{"$f":"$G20+$J20+ROUND($C20*'Lighting kWh Charges'!$N$13,2)","v":29.88},{"$f":"$E20+$H20+ROUND($C20*'Lighting kWh Charges'!$O$15,2)","v":32.42},{"$f":"$F20+$I20+ROUND($C20*'Lighting kWh Charges'!$O$14,2)","v":30.4},{"$f":"$G20+$J20+ROUND($C20*'Lighting kWh Charges'!$O$13,2)","v":30.21}]
[400,498,174,"Sodium Vapor",{"$f":"ROUND(F21*SUT_6625,2)","v":14.99},14.06,{"$f":"F21","v":14.06},{"$f":"ROUND(I21*SUT_6625,2)","v":0},0,{"$f":"I21","v":0},{"$f":"$E21+$H21+ROUND($C21*'Lighting kWh Charges'!$N$15,2)","v":44.48},{"$f":"$F21+$I21+ROUND($C21*'Lighting kWh Charges'!$N$14,2)","v":41.71},{"$f":"$G21+$J21+ROUND($C21*'Lighting kWh Charges'!$N$13,2)","v":41.4},{"$f":"$E21+$H21+ROUND($C21*'Lighting kWh Charges'!$O$15,2)","v":45.07},{"$f":"$F21+$I21+ROUND($C21*'Lighting kWh Charges'!$O$14,2)","v":42.27},{"$f":"$G21+$J21+ROUND($C21*'Lighting kWh Charges'!$O$13,2)","v":41.96}]
["-","-","-","-","-","-","-",null,null,null,"-","-","-","-","-","-"]
["N/A ","N/A ","N/A "," Poles Furnished Prior to 2/6/79",{"$f":"ROUND(F23*SUT_6625,2)","v":0.77},0.72,{"$f":"F23","v":0.72},"N/A","N/A","N/A",0.72,0.68,0.68,0.72,0.68,0.68]
["-","-","-","-","-","-","-",null,null,null,"-","-","-","-","-","-"]
["N/A ","N/A ","N/A "," Spans of Wire Furn. Prior to 2/6/79",{"$f":"ROUND(F25*SUT_6625,2)","v":0.73},0.68,{"$f":"F25","v":0.68},"N/A","N/A","N/A",0.67,0.63,0.63,0.67,0.63,0.63]
["-","-","-","-","-","-","-",null,null,null,"-","-","-","-","-","-"]
["N/A ","N/A ","N/A "," Transfrmrs Furn. Prior to 2/6/79",{"$f":"ROUND(F27*SUT_6625,2)","v":3.12},2.93,{"$f":"F27","v":2.93},"N/A","N/A","N/A",2.9,2.74,2.74,2.9,2.74,2.74]
["-","-","-","-","-","-","-",null,null,null,"-","-","-","-","-","-"]
["N/A ","N/A ","N/A "," Span Only - 2/6/79 On",{"$f":"ROUND(F29*SUT_6625,2)","v":3.6},3.38,{"$f":"F29","v":3.38},"N/A","N/A","N/A",3.35,3.16,3.16,3.35,3.16,3.16]
["-","-","-","-","-","-","-",null,null,null,"-","-","-","-","-","-"]
["N/A ","N/A ","N/A "," 35'  Pole - 2/6/79 On",{"$f":"ROUND(F31*SUT_6625,2)","v":7.13},6.69,{"$f":"F31","v":6.69},"N/A","N/A","N/A",6.66,6.28,6.28,6.66,6.28,6.28]
["-","-","-","-","-","-","-",null,null,null,"-","-","-","-","-","-"]
["N/A ","N/A ","N/A "," 40'  Pole - 2/6/79 On",{"$f":"ROUND(F33*SUT_6625,2)","v":7.99},7.49,{"$f":"F33","v":7.49},"N/A","N/A","N/A",7.45,7.03,7.03,7.45,7.03,7.03]
["-","-","-","-","-","-","-",null,null,null,"-","-","-","-","-","-"]
["N/A ","N/A ","N/A "," Special Facility","N/A ","N/A ","N/A ","N/A","N/A","N/A","N/A ","N/A ","N/A ","N/A ","N/A ","N/A "]
["-","-","-","-","-","-","-","-","-","-","-","-","-"]
[]
["{1} Total Monthly Charges are based on a single light. Since per kWh charges are rounded to the nearest cent, the price for multiple lights may vary by one or two cents "]
["    per additional light. Prices vary from Summer to Winter based on seasonal energy charges which are higher in the Summer billing months of June through September."]
[]
[]
[]
[]
[]
[]
[]
[]
[]
[]
[]
[]
[]
[]
[]
[]
[]
[]
[]
[]
[]
[]
[]
[]
[]
[]
[]
[]
[]
[]
[]
[null,null," "]
[]
[]
[]
[]
[]
[]
[]
[" "]

{"sheet":"SVL Fixture & Total Charges","index":21,"n_rows":76,"n_cols":17,"rows_kept":76,"cut":false,"hidden":false,"merged":[[5,3,5,14],[41,4,41,15],[42,4,42,15],[44,4,44,15],[45,4,45,15],[8,4,8,6],[8,10,8,12],[8,13,8,15],[8,7,8,9],[0,0,0,2],[1,0,1,2],[2,0,2,2],[4,0,4,2],[0,3,0,14],[3,3,3,14],[2,3,2,14]]}
[{"$f":"'Lighting kWh Charges'!A1:B1","v":"Visual_Rate_Inventory  June 1, 2025"},null,null,"Jersey Central Power & Light"]
[{"$f":"NOW()","v":"2025-05-30T16:18:48.150"}]
[{"$f":"NOW()","v":45807.679723958332},null,null,{"$f":"'RT per Tariff'!C3","v":"Rates Effective with Service Rendered June 1, 2025"}]
[]
["SVL Fixture & Total Charges"]
[null,null,null,"SVL (Sodium Vapor Street Lighting Service) Service Classification"]
[]
[]
["Nominal","Nominal\nLamp &","Billing",null,{"$f":"'OL Fixture & Total Charges'!E9","v":"Monthly Fixture Charges 6/1/2025"},null,null,{"$f":"'OL Fixture & Total Charges'!H9","v":"Reliability Plus Fixture Charges 6/1/2025"},null,null,{"$f":"_xlfn.SINGLE('OL Fixture & Total Charges'!K9)","v":"Total Monthly Summer Full Service Charges Effective 6/1/2025 {1}"},null,null,{"$f":"'OL Fixture & Total Charges'!N9:P9","v":"Total Monthly Winter Full Service Charges Effective 6/1/2025 {1}"},null,null,"Seasonal Distribution Charge"]
["Lamp","Ballast","Month",null,"Normal","SUT","Tax","Normal","SUT","Tax","Normal","SUT","Tax","Normal","SUT","Tax","Normal"]
["Wattage","Wattage","Kwh","Remarks","Account","Exempt","Exempt","Account","Exempt","Exempt","Account","Exempt","Exempt","Account","Exempt","Exempt","Account"]
["--------","--------","--------","--------","--------","--------","--------","--------","--------","--------","--------","--------","--------","--------","--------","--------","--------"]
[50,60,21,null,{"$f":"ROUND(F13*SUT_6625,2)","v":6.91},6.48,{"$f":"F13","v":6.48},{"$f":"ROUND(I13*SUT_6625,2)","v":0},0,{"$f":"I13","v":0},{"$f":"$E13+$H13+ROUND($C13*'Lighting kWh Charges'!$N$15,2)","v":10.47},{"$f":"$F13+$I13+ROUND($C13*'Lighting kWh Charges'!$N$14,2)","v":9.82},{"$f":"$G13+$J13+ROUND($C13*'Lighting kWh Charges'!$N$13,2)","v":9.7800000000000011},{"$f":"$E13+$H13+ROUND($C13*'Lighting kWh Charges'!$O$15,2)","v":10.54},{"$f":"$F13+$I13+ROUND($C13*'Lighting kWh Charges'!$O$14,2)","v":9.89},{"$f":"$G13+$J13+ROUND($C13*'Lighting kWh Charges'!$O$13,2)","v":9.8500000000000014},{"$f":"ROUND(C13*'Lighting kWh Charges'!$D$15,2)","v":1.1200000000000001}]
[70,85,30,null,{"$f":"ROUND(F14*SUT_6625,2)","v":6.91},6.48,{"$f":"F14","v":6.48},0,0,{"$f":"I14","v":0},{"$f":"$E14+$H14+ROUND($C14*'Lighting kWh Charges'!$N$15,2)","v":11.99},{"$f":"$F14+$I14+ROUND($C14*'Lighting kWh Charges'!$N$14,2)","v":11.25},{"$f":"$G14+$J14+ROUND($C14*'Lighting kWh Charges'!$N$13,2)","v":11.190000000000001},{"$f":"$E14+$H14+ROUND($C14*'Lighting kWh Charges'!$O$15,2)","v":12.100000000000001},{"$f":"$F14+$I14+ROUND($C14*'Lighting kWh Charges'!$O$14,2)","v":11.34},{"$f":"$G14+$J14+ROUND($C14*'Lighting kWh Charges'!$O$13,2)","v":11.29},{"$f":"ROUND(C14*'Lighting kWh Charges'!$D$15,2)","v":1.6}]
[100,121,42,"Company",6.91,6.48,6.48,0,0,0,{"$f":"$E15+$H15+ROUND($C15*'Lighting kWh Charges'!$N$15,2)","v":14.030000000000001},{"$f":"$F15+$I15+ROUND($C15*'Lighting kWh Charges'!$N$14,2)","v":13.15},{"$f":"$G15+$J15+ROUND($C15*'Lighting kWh Charges'!$N$13,2)","v":13.08},{"$f":"$E15+$H15+ROUND($C15*'Lighting kWh Charges'!$O$15,2)","v":14.17},{"$f":"$F15+$I15+ROUND($C15*'Lighting kWh Charges'!$O$14,2)","v":13.29},{"$f":"$G15+$J15+ROUND($C15*'Lighting kWh Charges'!$O$13,2)","v":13.21},{"$f":"ROUND(C15*'Lighting kWh Charges'!$D$15,2)","v":2.2400000000000002}]
[150,176,62,"Fixture",6.91,6.48,6.48,0,0,0,{"$f":"$E16+$H16+ROUND($C16*'Lighting kWh Charges'!$N$15,2)","v":17.420000000000002},{"$f":"$F16+$I16+ROUND($C16*'Lighting kWh Charges'!$N$14,2)","v":16.329999999999998},{"$f":"$G16+$J16+ROUND($C16*'Lighting kWh Charges'!$N$13,2)","v":16.22},{"$f":"$E16+$H16+ROUND($C16*'Lighting kWh Charges'!$O$15,2)","v":17.630000000000003},{"$f":"$F16+$I16+ROUND($C16*'Lighting kWh Charges'!$O$14,2)","v":16.53},{"$f":"$G16+$J16+ROUND($C16*'Lighting kWh Charges'!$O$13,2)","v":16.420000000000002},{"$f":"ROUND(C16*'Lighting kWh Charges'!$D$15,2)","v":3.31}]
[250,293,103,null,8.17,7.66,7.66,0,0,0,{"$f":"$E17+$H17+ROUND($C17*'Lighting kWh Charges'!$N$15,2)","v":25.619999999999997},{"$f":"$F17+$I17+ROUND($C17*'Lighting kWh Charges'!$N$14,2)","v":24.03},{"$f":"$G17+$J17+ROUND($C17*'Lighting kWh Charges'!$N$13,2)","v":23.84},{"$f":"$E17+$H17+ROUND($C17*'Lighting kWh Charges'!$O$15,2)","v":25.979999999999997},{"$f":"$F17+$I17+ROUND($C17*'Lighting kWh Charges'!$O$14,2)","v":24.36},{"$f":"$G17+$J17+ROUND($C17*'Lighting kWh Charges'!$O$13,2)","v":24.17},{"$f":"ROUND(C17*'Lighting kWh Charges'!$D$15,2)","v":5.5}]
[400,498,174,null,8.17,7.66,7.66,0,0,0,{"$f":"$E18+$H18+ROUND($C18*'Lighting kWh Charges'!$N$15,2)","v":37.659999999999997},{"$f":"$F18+$I18+ROUND($C18*'Lighting kWh Charges'!$N$14,2)","v":35.31},{"$f":"$G18+$J18+ROUND($C18*'Lighting kWh Charges'!$N$13,2)","v":35},{"$f":"$E18+$H18+ROUND($C18*'Lighting kWh Charges'!$O$15,2)","v":38.25},{"$f":"$F18+$I18+ROUND($C18*'Lighting kWh Charges'!$O$14,2)","v":35.870000000000005},{"$f":"$G18+$J18+ROUND($C18*'Lighting kWh Charges'!$O$13,2)","v":35.56},{"$f":"ROUND(C18*'Lighting kWh Charges'!$D$15,2)","v":9.2799999999999994}]
["-","-","-","-","-","-","-",null,null,null,"-","-","-","-","-","-","--------"]
[50,60,21,null,{"$f":"ROUND(F20*SUT_6625,2)","v":1.94},1.82,{"$f":"F20","v":1.82},{"$f":"ROUND(I20*SUT_6625,2)","v":0},0,{"$f":"I20","v":0},{"$f":"$E20+$H20+ROUND($C20*'Lighting kWh Charges'!$N$15,2)","v":5.5},{"$f":"$F20+$I20+ROUND($C20*'Lighting kWh Charges'!$N$14,2)","v":5.16},{"$f":"$G20+$J20+ROUND($C20*'Lighting kWh Charges'!$N$13,2)","v":5.12},{"$f":"$E20+$H20+ROUND($C20*'Lighting kWh Charges'!$O$15,2)","v":5.57},{"$f":"$F20+$I20+ROUND($C20*'Lighting kWh Charges'!$O$14,2)","v":5.23},{"$f":"$G20+$J20+ROUND($C20*'Lighting kWh Charges'!$O$13,2)","v":5.19},{"$f":"ROUND(C20*'Lighting kWh Charges'!$D$15,2)","v":1.1200000000000001}]
[70,85,30,null,1.94,1.82,1.82,0,0,0,{"$f":"$E21+$H21+ROUND($C21*'Lighting kWh Charges'!$N$15,2)","v":7.02},{"$f":"$F21+$I21+ROUND($C21*'Lighting kWh Charges'!$N$14,2)","v":6.59},{"$f":"$G21+$J21+ROUND($C21*'Lighting kWh Charges'!$N$13,2)","v":6.53},{"$f":"$E21+$H21+ROUND($C21*'Lighting kWh Charges'!$O$15,2)","v":7.1300000000000008},{"$f":"$F21+$I21+ROUND($C21*'Lighting kWh Charges'!$O$14,2)","v":6.6800000000000006},{"$f":"$G21+$J21+ROUND($C21*'Lighting kWh Charges'!$O$13,2)","v":6.63},{"$f":"ROUND(C21*'Lighting kWh Charges'!$D$15,2)","v":1.6}]
[100,121,42,"Contribution",1.94,1.82,1.82,0,0,0,{"$f":"$E22+$H22+ROUND($C22*'Lighting kWh Charges'!$N$15,2)","v":9.06},{"$f":"$F22+$I22+ROUND($C22*'Lighting kWh Charges'!$N$14,2)","v":8.49},{"$f":"$G22+$J22+ROUND($C22*'Lighting kWh Charges'!$N$13,2)","v":8.42},{"$f":"$E22+$H22+ROUND($C22*'Lighting kWh Charges'!$O$15,2)","v":9.1999999999999993},{"$f":"$F22+$I22+ROUND($C22*'Lighting kWh Charges'!$O$14,2)","v":8.629999999999999},{"$f":"$G22+$J22+ROUND($C22*'Lighting kWh Charges'!$O$13,2)","v":8.5500000000000007},{"$f":"ROUND(C22*'Lighting kWh Charges'!$D$15,2)","v":2.2400000000000002}]
[150,176,62,"Fixture",1.94,1.82,1.82,0,0,0,{"$f":"$E23+$H23+ROUND($C23*'Lighting kWh Charges'!$N$15,2)","v":12.45},{"$f":"$F23+$I23+ROUND($C23*'Lighting kWh Charges'!$N$14,2)","v":11.67},{"$f":"$G23+$J23+ROUND($C23*'Lighting kWh Charges'!$N$13,2)","v":11.56},{"$f":"$E23+$H23+ROUND($C23*'Lighting kWh Charges'!$O$15,2)","v":12.66},{"$f":"$F23+$I23+ROUND($C23*'Lighting kWh Charges'!$O$14,2)","v":11.870000000000001},{"$f":"$G23+$J23+ROUND($C23*'Lighting kWh Charges'!$O$13,2)","v":11.76},{"$f":"ROUND(C23*'Lighting kWh Charges'!$D$15,2)","v":3.31}]
[250,293,103,null,1.94,1.82,1.82,0,0,0,{"$f":"$E24+$H24+ROUND($C24*'Lighting kWh Charges'!$N$15,2)","v":19.39},{"$f":"$F24+$I24+ROUND($C24*'Lighting kWh Charges'!$N$14,2)","v":18.190000000000001},{"$f":"$G24+$J24+ROUND($C24*'Lighting kWh Charges'!$N$13,2)","v":18},{"$f":"$E24+$H24+ROUND($C24*'Lighting kWh Charges'!$O$15,2)","v":19.75},{"$f":"$F24+$I24+ROUND($C24*'Lighting kWh Charges'!$O$14,2)","v":18.52},{"$f":"$G24+$J24+ROUND($C24*'Lighting kWh Charges'!$O$13,2)","v":18.330000000000002},{"$f":"ROUND(C24*'Lighting kWh Charges'!$D$15,2)","v":5.5}]
[400,498,174,null,1.94,1.82,1.82,0,0,0,{"$f":"$E25+$H25+ROUND($C25*'Lighting kWh Charges'!$N$15,2)","v":31.43},{"$f":"$F25+$I25+ROUND($C25*'Lighting kWh Charges'!$N$14,2)","v":29.47},{"$f":"$G25+$J25+ROUND($C25*'Lighting kWh Charges'!$N$13,2)","v":29.16},{"$f":"$E25+$H25+ROUND($C25*'Lighting kWh Charges'!$O$15,2)","v":32.019999999999996},{"$f":"$F25+$I25+ROUND($C25*'Lighting kWh Charges'!$O$14,2)","v":30.03},{"$f":"$G25+$J25+ROUND($C25*'Lighting kWh Charges'!$O$13,2)","v":29.72},{"$f":"ROUND(C25*'Lighting kWh Charges'!$D$15,2)","v":9.2799999999999994}]
["-","-","-","-","-","-","-",null,null,null,"-","-","-","-","-","-","--------"]
[50,60,21,null,{"$f":"ROUND(F27*SUT_6625,2)","v":0.94},0.88,{"$f":"F27","v":0.88},{"$f":"ROUND(I27*SUT_6625,2)","v":0},0,{"$f":"I27","v":0},{"$f":"$E27+$H27+ROUND($C27*'Lighting kWh Charges'!$N$15,2)","v":4.5},{"$f":"$F27+$I27+ROUND($C27*'Lighting kWh Charges'!$N$14,2)","v":4.22},{"$f":"$G27+$J27+ROUND($C27*'Lighting kWh Charges'!$N$13,2)","v":4.18},{"$f":"$E27+$H27+ROUND($C27*'Lighting kWh Charges'!$O$15,2)","v":4.57},{"$f":"$F27+$I27+ROUND($C27*'Lighting kWh Charges'!$O$14,2)","v":4.29},{"$f":"$G27+$J27+ROUND($C27*'Lighting kWh Charges'!$O$13,2)","v":4.25},{"$f":"ROUND(C27*'Lighting kWh Charges'!$D$15,2)","v":1.1200000000000001}]
[70,85,30,null,0.94,0.88,0.88,0,0,0,{"$f":"$E28+$H28+ROUND($C28*'Lighting kWh Charges'!$N$15,2)","v":6.02},{"$f":"$F28+$I28+ROUND($C28*'Lighting kWh Charges'!$N$14,2)","v":5.6499999999999995},{"$f":"$G28+$J28+ROUND($C28*'Lighting kWh Charges'!$N$13,2)","v":5.59},{"$f":"$E28+$H28+ROUND($C28*'Lighting kWh Charges'!$O$15,2)","v":6.1300000000000008},{"$f":"$F28+$I28+ROUND($C28*'Lighting kWh Charges'!$O$14,2)","v":5.74},{"$f":"$G28+$J28+ROUND($C28*'Lighting kWh Charges'!$O$13,2)","v":5.6899999999999995},{"$f":"ROUND(C28*'Lighting kWh Charges'!$D$15,2)","v":1.6}]
[100,121,42,"Customer",0.94,0.88,0.88,0,0,0,{"$f":"$E29+$H29+ROUND($C29*'Lighting kWh Charges'!$N$15,2)","v":8.06},{"$f":"$F29+$I29+ROUND($C29*'Lighting kWh Charges'!$N$14,2)","v":7.55},{"$f":"$G29+$J29+ROUND($C29*'Lighting kWh Charges'!$N$13,2)","v":7.4799999999999995},{"$f":"$E29+$H29+ROUND($C29*'Lighting kWh Charges'!$O$15,2)","v":8.1999999999999993},{"$f":"$F29+$I29+ROUND($C29*'Lighting kWh Charges'!$O$14,2)","v":7.6899999999999995},{"$f":"$G29+$J29+ROUND($C29*'Lighting kWh Charges'!$O$13,2)","v":7.61},{"$f":"ROUND(C29*'Lighting kWh Charges'!$D$15,2)","v":2.2400000000000002}]
[150,176,62,"Fixture",0.94,0.88,0.88,0,0,0,{"$f":"$E30+$H30+ROUND($C30*'Lighting kWh Charges'!$N$15,2)","v":11.45},{"$f":"$F30+$I30+ROUND($C30*'Lighting kWh Charges'!$N$14,2)","v":10.73},{"$f":"$G30+$J30+ROUND($C30*'Lighting kWh Charges'!$N$13,2)","v":10.620000000000001},{"$f":"$E30+$H30+ROUND($C30*'Lighting kWh Charges'!$O$15,2)","v":11.66},{"$f":"$F30+$I30+ROUND($C30*'Lighting kWh Charges'!$O$14,2)","v":10.930000000000001},{"$f":"$G30+$J30+ROUND($C30*'Lighting kWh Charges'!$O$13,2)","v":10.82},{"$f":"ROUND(C30*'Lighting kWh Charges'!$D$15,2)","v":3.31}]
[250,293,103,null,0.94,0.88,0.88,0,0,0,{"$f":"$E31+$H31+ROUND($C31*'Lighting kWh Charges'!$N$15,2)","v":18.39},{"$f":"$F31+$I31+ROUND($C31*'Lighting kWh Charges'!$N$14,2)","v":17.25},{"$f":"$G31+$J31+ROUND($C31*'Lighting kWh Charges'!$N$13,2)","v":17.059999999999999},{"$f":"$E31+$H31+ROUND($C31*'Lighting kWh Charges'!$O$15,2)","v":18.75},{"$f":"$F31+$I31+ROUND($C31*'Lighting kWh Charges'!$O$14,2)","v":17.579999999999998},{"$f":"$G31+$J31+ROUND($C31*'Lighting kWh Charges'!$O$13,2)","v":17.39},{"$f":"ROUND(C31*'Lighting kWh Charges'!$D$15,2)","v":5.5}]
[400,498,174,null,0.94,0.88,0.88,0,0,0,{"$f":"$E32+$H32+ROUND($C32*'Lighting kWh Charges'!$N$15,2)","v":30.43},{"$f":"$F32+$I32+ROUND($C32*'Lighting kWh Charges'!$N$14,2)","v":28.529999999999998},{"$f":"$G32+$J32+ROUND($C32*'Lighting kWh Charges'!$N$13,2)","v":28.22},{"$f":"$E32+$H32+ROUND($C32*'Lighting kWh Charges'!$O$15,2)","v":31.02},{"$f":"$F32+$I32+ROUND($C32*'Lighting kWh Charges'!$O$14,2)","v":29.09},{"$f":"$G32+$J32+ROUND($C32*'Lighting kWh Charges'!$O$13,2)","v":28.779999999999998},{"$f":"ROUND(C32*'Lighting kWh Charges'!$D$15,2)","v":9.2799999999999994}]
["-","-","-","-","-","-","-",null,null,null,"-","-","-","-","-","-"]
["N/A ","N/A ","N/A ","Fixture Service ",{"$f":"ROUND(F34*SUT_6625,2)","v":1.1000000000000001},1.03,{"$f":"F34","v":1.03},"N/A","N/A","N/A",1.03,0.97,0.97,1.03,0.97,0.97]
["-","-","-","-","-","-","-",null,null,null,"-","-","-","-","-","-"]
["N/A ","N/A ","N/A ","Pole Charge",{"$f":"ROUND(F36*SUT_6625,2)","v":9.1999999999999993},8.6300000000000008,{"$f":"F36","v":8.6300000000000008},"N/A","N/A","N/A",8.58,8.09,8.09,8.58,8.09,8.09]
["-","-","-","-","-","-","-",null,null,null,"-","-","-","-","-","-"]
["N/A ","N/A ","N/A ","Special Facility","N/A ","N/A ","N/A ","N/A","N/A","N/A","N/A ","N/A ","N/A ","N/A ","N/A ","N/A "]
["-",null,"-","-","-","-","-",null,null,null,"-","-","-","-","-","-"]
[]
[]
["50 =>150","N/A ","N/A ","Contribution Fixture","Refer to Tariff Part II, Appendix A – Exhibit III"]
["250 & 400","N/A ","N/A ","Installation Charge","Refer to Tariff Part II, Appendix A – Exhibit III"]
["-","-","-","-","-","-","-",null,null,null,"-","-","-","-","-","-"]
["50 =>150","N/A ","N/A "," Contribution Fixture Installation","Refer to Tariff Part II, Appendix A – Exhibit III"]
["250 & 400","N/A ","N/A "," Charge - Using Existing Bracket","Refer to Tariff Part II, Appendix A – Exhibit III"]
["-","-","-","-","-","-","-",null,null,null,"-","-","-","-","-","-"]
[]
[{"$f":"'OL Fixture & Total Charges'!$A$38","v":"{1} Total Monthly Charges are based on a single light. Since per kWh charges are rounded to the nearest cent, the price for multiple lights may vary by one or two cents "}]
[{"$f":"'OL Fixture & Total Charges'!$A$39","v":"    per additional light. Prices vary from Summer to Winter based on seasonal energy charges which are higher in the Summer billing months of June through September."}]
[]
[]
[]
[]
[]
[]
[]
[]
[]
[]
[]
[]
[]
[]
[]
[]
[]
[]
[]
[]
[]
[]
[]
[]
[]
[" "]

{"sheet":"MVL Fixture & Total Charges","index":22,"n_rows":76,"n_cols":17,"rows_kept":76,"cut":false,"hidden":false,"merged":[[0,0,0,2],[1,0,1,2],[2,0,2,2],[4,0,4,2],[8,4,8,6],[3,3,3,14],[0,3,0,14],[8,13,8,15],[5,3,5,14],[2,3,2,14],[8,10,8,12],[8,7,8,9]]}
[{"$f":"'Lighting kWh Charges'!A1:B1","v":"Visual_Rate_Inventory  June 1, 2025"},null,null,"Jersey Central Power & Light"]
[{"$f":"NOW()","v":"2025-05-30T16:18:48.150"}]
[{"$f":"NOW()","v":45807.679723958332},null,null,{"$f":"'RT per Tariff'!C3","v":"Rates Effective with Service Rendered June 1, 2025"}]
[]
["MVL Fixture & Total Charges"]
[null,null,null,"MVL (Mercury Vapor Street Lighting Service) Service Classification"]
[]
[]
["Nominal","Nominal\nLamp &","Billing",null,{"$f":"'OL Fixture & Total Charges'!E9","v":"Monthly Fixture Charges 6/1/2025"},null,null,{"$f":"'OL Fixture & Total Charges'!H9","v":"Reliability Plus Fixture Charges 6/1/2025"},null,null,{"$f":"'OL Fixture & Total Charges'!K9:M9","v":"Total Monthly Summer Full Service Charges Effective 6/1/2025 {1}"},null,null,{"$f":"'OL Fixture & Total Charges'!N9:P9","v":"Total Monthly Winter Full Service Charges Effective 6/1/2025 {1}"},null,null,"Seasonal Distribution Charge"]
["Lamp","Ballast","Month",null,"Normal","SUT","Tax","Normal","SUT","Tax","Normal","SUT","Tax","Normal","SUT","Tax","Normal"]
["Wattage","Wattage","Kwh","Remarks","Account","Exempt","Exempt","Account","Exempt","Exempt","Account","Exempt","Exempt","Account","Exempt","Exempt","Account"]
["--------","--------","--------","--------","--------","--------","--------","--------","--------","--------","--------","--------","--------","--------","--------","--------","--------"]
[100,121,42,null,{"$f":"ROUND(F13*SUT_6625,2)","v":4.82},4.5199999999999996,{"$f":"F13","v":4.5199999999999996},{"$f":"ROUND(I13*SUT_6625,2)","v":0},0,{"$f":"I13","v":0},{"$f":"$E13+$H13+ROUND($C13*'Lighting kWh Charges'!$N$15,2)","v":11.940000000000001},{"$f":"$F13+$I13+ROUND($C13*'Lighting kWh Charges'!$N$14,2)","v":11.19},{"$f":"$G13+$J13+ROUND($C13*'Lighting kWh Charges'!$N$13,2)","v":11.12},{"$f":"$E13+$H13+ROUND($C13*'Lighting kWh Charges'!$O$15,2)","v":12.08},{"$f":"$F13+$I13+ROUND($C13*'Lighting kWh Charges'!$O$14,2)","v":11.329999999999998},{"$f":"$G13+$J13+ROUND($C13*'Lighting kWh Charges'!$O$13,2)","v":11.25},{"$f":"ROUND(C13*'Lighting kWh Charges'!$D$15,2)","v":2.2400000000000002}]
[175,211,74,null,4.82,4.5199999999999996,{"$f":"F14","v":4.5199999999999996},0,0,{"$f":"I14","v":0},{"$f":"$E14+$H14+ROUND($C14*'Lighting kWh Charges'!$N$15,2)","v":17.36},{"$f":"$F14+$I14+ROUND($C14*'Lighting kWh Charges'!$N$14,2)","v":16.28},{"$f":"$G14+$J14+ROUND($C14*'Lighting kWh Charges'!$N$13,2)","v":16.149999999999999},{"$f":"$E14+$H14+ROUND($C14*'Lighting kWh Charges'!$O$15,2)","v":17.61},{"$f":"$F14+$I14+ROUND($C14*'Lighting kWh Charges'!$O$14,2)","v":16.52},{"$f":"$G14+$J14+ROUND($C14*'Lighting kWh Charges'!$O$13,2)","v":16.38},{"$f":"ROUND(C14*'Lighting kWh Charges'!$D$15,2)","v":3.95}]
[250,295,103,"Company",4.82,4.5199999999999996,4.5199999999999996,0,0,0,{"$f":"$E15+$H15+ROUND($C15*'Lighting kWh Charges'!$N$15,2)","v":22.27},{"$f":"$F15+$I15+ROUND($C15*'Lighting kWh Charges'!$N$14,2)","v":20.89},{"$f":"$G15+$J15+ROUND($C15*'Lighting kWh Charges'!$N$13,2)","v":20.7},{"$f":"$E15+$H15+ROUND($C15*'Lighting kWh Charges'!$O$15,2)","v":22.63},{"$f":"$F15+$I15+ROUND($C15*'Lighting kWh Charges'!$O$14,2)","v":21.22},{"$f":"$G15+$J15+ROUND($C15*'Lighting kWh Charges'!$O$13,2)","v":21.03},{"$f":"ROUND(C15*'Lighting kWh Charges'!$D$15,2)","v":5.5}]
[400,468,164,"Fixture",5.22,4.9000000000000004,4.9000000000000004,0,0,0,{"$f":"$E16+$H16+ROUND($C16*'Lighting kWh Charges'!$N$15,2)","v":33.01},{"$f":"$F16+$I16+ROUND($C16*'Lighting kWh Charges'!$N$14,2)","v":30.96},{"$f":"$G16+$J16+ROUND($C16*'Lighting kWh Charges'!$N$13,2)","v":30.67},{"$f":"$E16+$H16+ROUND($C16*'Lighting kWh Charges'!$O$15,2)","v":33.57},{"$f":"$F16+$I16+ROUND($C16*'Lighting kWh Charges'!$O$14,2)","v":31.490000000000002},{"$f":"$G16+$J16+ROUND($C16*'Lighting kWh Charges'!$O$13,2)","v":31.189999999999998},{"$f":"ROUND(C16*'Lighting kWh Charges'!$D$15,2)","v":8.75}]
[700,803,281,null,6.33,5.94,5.94,0,0,0,{"$f":"$E17+$H17+ROUND($C17*'Lighting kWh Charges'!$N$15,2)","v":53.949999999999996},{"$f":"$F17+$I17+ROUND($C17*'Lighting kWh Charges'!$N$14,2)","v":50.599999999999994},{"$f":"$G17+$J17+ROUND($C17*'Lighting kWh Charges'!$N$13,2)","v":50.089999999999996},{"$f":"$E17+$H17+ROUND($C17*'Lighting kWh Charges'!$O$15,2)","v":54.91},{"$f":"$F17+$I17+ROUND($C17*'Lighting kWh Charges'!$O$14,2)","v":51.5},{"$f":"$G17+$J17+ROUND($C17*'Lighting kWh Charges'!$O$13,2)","v":50.989999999999995},{"$f":"ROUND(C17*'Lighting kWh Charges'!$D$15,2)","v":14.99}]
[1000,1135,397,null,6.33,5.94,5.94,0,0,0,{"$f":"$E18+$H18+ROUND($C18*'Lighting kWh Charges'!$N$15,2)","v":73.599999999999994},{"$f":"$F18+$I18+ROUND($C18*'Lighting kWh Charges'!$N$14,2)","v":69.03},{"$f":"$G18+$J18+ROUND($C18*'Lighting kWh Charges'!$N$13,2)","v":68.320000000000007},{"$f":"$E18+$H18+ROUND($C18*'Lighting kWh Charges'!$O$15,2)","v":74.97},{"$f":"$F18+$I18+ROUND($C18*'Lighting kWh Charges'!$O$14,2)","v":70.31},{"$f":"$G18+$J18+ROUND($C18*'Lighting kWh Charges'!$O$13,2)","v":69.59},{"$f":"ROUND(C18*'Lighting kWh Charges'!$D$15,2)","v":21.18}]
["-","-","-","-","-","-","-",null,null,null,"-","-","-","-","-","-","--------"]
[100,121,42,null,{"$f":"ROUND(F20*SUT_6625,2)","v":1.83},1.72,{"$f":"F20","v":1.72},{"$f":"ROUND(I20*SUT_6625,2)","v":0},0,{"$f":"I20","v":0},{"$f":"$E20+$H20+ROUND($C20*'Lighting kWh Charges'!$N$15,2)","v":8.9499999999999993},{"$f":"$F20+$I20+ROUND($C20*'Lighting kWh Charges'!$N$14,2)","v":8.39},{"$f":"$G20+$J20+ROUND($C20*'Lighting kWh Charges'!$N$13,2)","v":8.32},{"$f":"$E20+$H20+ROUND($C20*'Lighting kWh Charges'!$O$15,2)","v":9.09},{"$f":"$F20+$I20+ROUND($C20*'Lighting kWh Charges'!$O$14,2)","v":8.5299999999999994},{"$f":"$G20+$J20+ROUND($C20*'Lighting kWh Charges'!$O$13,2)","v":8.4500000000000011},{"$f":"ROUND(C20*'Lighting kWh Charges'!$D$15,2)","v":2.2400000000000002}]
[175,211,74,null,1.83,1.72,1.72,0,0,0,{"$f":"$E21+$H21+ROUND($C21*'Lighting kWh Charges'!$N$15,2)","v":14.37},{"$f":"$F21+$I21+ROUND($C21*'Lighting kWh Charges'!$N$14,2)","v":13.48},{"$f":"$G21+$J21+ROUND($C21*'Lighting kWh Charges'!$N$13,2)","v":13.350000000000001},{"$f":"$E21+$H21+ROUND($C21*'Lighting kWh Charges'!$O$15,2)","v":14.62},{"$f":"$F21+$I21+ROUND($C21*'Lighting kWh Charges'!$O$14,2)","v":13.72},{"$f":"$G21+$J21+ROUND($C21*'Lighting kWh Charges'!$O$13,2)","v":13.58},{"$f":"ROUND(C21*'Lighting kWh Charges'!$D$15,2)","v":3.95}]
[250,295,103,"Contribution",1.83,1.72,1.72,0,0,0,{"$f":"$E22+$H22+ROUND($C22*'Lighting kWh Charges'!$N$15,2)","v":19.28},{"$f":"$F22+$I22+ROUND($C22*'Lighting kWh Charges'!$N$14,2)","v":18.09},{"$f":"$G22+$J22+ROUND($C22*'Lighting kWh Charges'!$N$13,2)","v":17.899999999999999},{"$f":"$E22+$H22+ROUND($C22*'Lighting kWh Charges'!$O$15,2)","v":19.64},{"$f":"$F22+$I22+ROUND($C22*'Lighting kWh Charges'!$O$14,2)","v":18.419999999999998},{"$f":"$G22+$J22+ROUND($C22*'Lighting kWh Charges'!$O$13,2)","v":18.23},{"$f":"ROUND(C22*'Lighting kWh Charges'!$D$15,2)","v":5.5}]
[400,468,164,"Fixture",1.83,1.72,1.72,0,0,0,{"$f":"$E23+$H23+ROUND($C23*'Lighting kWh Charges'!$N$15,2)","v":29.619999999999997},{"$f":"$F23+$I23+ROUND($C23*'Lighting kWh Charges'!$N$14,2)","v":27.779999999999998},{"$f":"$G23+$J23+ROUND($C23*'Lighting kWh Charges'!$N$13,2)","v":27.49},{"$f":"$E23+$H23+ROUND($C23*'Lighting kWh Charges'!$O$15,2)","v":30.18},{"$f":"$F23+$I23+ROUND($C23*'Lighting kWh Charges'!$O$14,2)","v":28.31},{"$f":"$G23+$J23+ROUND($C23*'Lighting kWh Charges'!$O$13,2)","v":28.009999999999998},{"$f":"ROUND(C23*'Lighting kWh Charges'!$D$15,2)","v":8.75}]
[700,803,281,null,1.83,1.72,1.72,0,0,0,{"$f":"$E24+$H24+ROUND($C24*'Lighting kWh Charges'!$N$15,2)","v":49.449999999999996},{"$f":"$F24+$I24+ROUND($C24*'Lighting kWh Charges'!$N$14,2)","v":46.379999999999995},{"$f":"$G24+$J24+ROUND($C24*'Lighting kWh Charges'!$N$13,2)","v":45.87},{"$f":"$E24+$H24+ROUND($C24*'Lighting kWh Charges'!$O$15,2)","v":50.41},{"$f":"$F24+$I24+ROUND($C24*'Lighting kWh Charges'!$O$14,2)","v":47.28},{"$f":"$G24+$J24+ROUND($C24*'Lighting kWh Charges'!$O$13,2)","v":46.769999999999996},{"$f":"ROUND(C24*'Lighting kWh Charges'!$D$15,2)","v":14.99}]
[1000,1135,397,null,1.83,1.72,1.72,0,0,0,{"$f":"$E25+$H25+ROUND($C25*'Lighting kWh Charges'!$N$15,2)","v":69.099999999999994},{"$f":"$F25+$I25+ROUND($C25*'Lighting kWh Charges'!$N$14,2)","v":64.81},{"$f":"$G25+$J25+ROUND($C25*'Lighting kWh Charges'!$N$13,2)","v":64.100000000000009},{"$f":"$E25+$H25+ROUND($C25*'Lighting kWh Charges'!$O$15,2)","v":70.47},{"$f":"$F25+$I25+ROUND($C25*'Lighting kWh Charges'!$O$14,2)","v":66.09},{"$f":"$G25+$J25+ROUND($C25*'Lighting kWh Charges'!$O$13,2)","v":65.37},{"$f":"ROUND(C25*'Lighting kWh Charges'!$D$15,2)","v":21.18}]
["-","-","-","-","-","-","-",null,null,null,"-","-","-","-","-","-","--------"]
[100,121,42,null,{"$f":"ROUND(F27*SUT_6625,2)","v":0.93},0.87,{"$f":"F27","v":0.87},{"$f":"ROUND(I27*SUT_6625,2)","v":0},0,{"$f":"I27","v":0},{"$f":"$E27+$H27+ROUND($C27*'Lighting kWh Charges'!$N$15,2)","v":8.0500000000000007},{"$f":"$F27+$I27+ROUND($C27*'Lighting kWh Charges'!$N$14,2)","v":7.54},{"$f":"$G27+$J27+ROUND($C27*'Lighting kWh Charges'!$N$13,2)","v":7.47},{"$f":"$E27+$H27+ROUND($C27*'Lighting kWh Charges'!$O$15,2)","v":8.19},{"$f":"$F27+$I27+ROUND($C27*'Lighting kWh Charges'!$O$14,2)","v":7.68},{"$f":"$G27+$J27+ROUND($C27*'Lighting kWh Charges'!$O$13,2)","v":7.6000000000000005},{"$f":"ROUND(C27*'Lighting kWh Charges'!$D$15,2)","v":2.2400000000000002}]
[175,211,74,null,0.93,0.87,0.87,0,0,0,{"$f":"$E28+$H28+ROUND($C28*'Lighting kWh Charges'!$N$15,2)","v":13.469999999999999},{"$f":"$F28+$I28+ROUND($C28*'Lighting kWh Charges'!$N$14,2)","v":12.629999999999999},{"$f":"$G28+$J28+ROUND($C28*'Lighting kWh Charges'!$N$13,2)","v":12.5},{"$f":"$E28+$H28+ROUND($C28*'Lighting kWh Charges'!$O$15,2)","v":13.719999999999999},{"$f":"$F28+$I28+ROUND($C28*'Lighting kWh Charges'!$O$14,2)","v":12.87},{"$f":"$G28+$J28+ROUND($C28*'Lighting kWh Charges'!$O$13,2)","v":12.729999999999999},{"$f":"ROUND(C28*'Lighting kWh Charges'!$D$15,2)","v":3.95}]
[250,295,103,"Customer",0.93,0.87,0.87,0,0,0,{"$f":"$E29+$H29+ROUND($C29*'Lighting kWh Charges'!$N$15,2)","v":18.38},{"$f":"$F29+$I29+ROUND($C29*'Lighting kWh Charges'!$N$14,2)","v":17.240000000000002},{"$f":"$G29+$J29+ROUND($C29*'Lighting kWh Charges'!$N$13,2)","v":17.05},{"$f":"$E29+$H29+ROUND($C29*'Lighting kWh Charges'!$O$15,2)","v":18.739999999999998},{"$f":"$F29+$I29+ROUND($C29*'Lighting kWh Charges'!$O$14,2)","v":17.57},{"$f":"$G29+$J29+ROUND($C29*'Lighting kWh Charges'!$O$13,2)","v":17.380000000000003},{"$f":"ROUND(C29*'Lighting kWh Charges'!$D$15,2)","v":5.5}]
[400,468,164,"Fixture",0.93,0.87,0.87,0,0,0,{"$f":"$E30+$H30+ROUND($C30*'Lighting kWh Charges'!$N$15,2)","v":28.72},{"$f":"$F30+$I30+ROUND($C30*'Lighting kWh Charges'!$N$14,2)","v":26.93},{"$f":"$G30+$J30+ROUND($C30*'Lighting kWh Charges'!$N$13,2)","v":26.64},{"$f":"$E30+$H30+ROUND($C30*'Lighting kWh Charges'!$O$15,2)","v":29.28},{"$f":"$F30+$I30+ROUND($C30*'Lighting kWh Charges'!$O$14,2)","v":27.46},{"$f":"$G30+$J30+ROUND($C30*'Lighting kWh Charges'!$O$13,2)","v":27.16},{"$f":"ROUND(C30*'Lighting kWh Charges'!$D$15,2)","v":8.75}]
[700,803,281,null,0.93,0.87,0.87,0,0,0,{"$f":"$E31+$H31+ROUND($C31*'Lighting kWh Charges'!$N$15,2)","v":48.55},{"$f":"$F31+$I31+ROUND($C31*'Lighting kWh Charges'!$N$14,2)","v":45.529999999999994},{"$f":"$G31+$J31+ROUND($C31*'Lighting kWh Charges'!$N$13,2)","v":45.019999999999996},{"$f":"$E31+$H31+ROUND($C31*'Lighting kWh Charges'!$O$15,2)","v":49.51},{"$f":"$F31+$I31+ROUND($C31*'Lighting kWh Charges'!$O$14,2)","v":46.43},{"$f":"$G31+$J31+ROUND($C31*'Lighting kWh Charges'!$O$13,2)","v":45.919999999999995},{"$f":"ROUND(C31*'Lighting kWh Charges'!$D$15,2)","v":14.99}]
[1000,1135,397,null,0.93,0.87,0.87,0,0,0,{"$f":"$E32+$H32+ROUND($C32*'Lighting kWh Charges'!$N$15,2)","v":68.2},{"$f":"$F32+$I32+ROUND($C32*'Lighting kWh Charges'!$N$14,2)","v":63.96},{"$f":"$G32+$J32+ROUND($C32*'Lighting kWh Charges'!$N$13,2)","v":63.25},{"$f":"$E32+$H32+ROUND($C32*'Lighting kWh Charges'!$O$15,2)","v":69.570000000000007},{"$f":"$F32+$I32+ROUND($C32*'Lighting kWh Charges'!$O$14,2)","v":65.240000000000009},{"$f":"$G32+$J32+ROUND($C32*'Lighting kWh Charges'!$O$13,2)","v":64.52},{"$f":"ROUND(C32*'Lighting kWh Charges'!$D$15,2)","v":21.18}]
["-","-","-","-","-","-","-",null,null,null,"-","-","-","-","-","-","--------"]
["N/A ","N/A ","N/A "," Fixture Service",{"$f":"ROUND(F34*SUT_6625,2)","v":0.9},0.84,{"$f":"F34","v":0.84},"N/A","N/A","N/A",0.84,0.79,0.79,0.84,0.79,0.79]
["-","-","-","-","-","-","-",null,null,null,"-","-","-","-","-","-"]
["N/A ","N/A ","N/A "," Pole Charge",{"$f":"ROUND(F36*SUT_6625,2)","v":9.1999999999999993},8.6300000000000008,{"$f":"F36","v":8.6300000000000008},"N/A","N/A","N/A",8.58,8.09,8.09,8.58,8.09,8.09]
["-","-","-","-","-","-","-",null,null,null,"-","-","-","-","-","-"]
["N/A ","N/A ","N/A "," Special Facility","N/A ","N/A ","N/A ","N/A","N/A","N/A","N/A ","N/A ","N/A ","N/A ","N/A ","N/A "]
["-","-","-","-","-","-","-",null,null,null,"-","-","-","-","-","-"]
["N/A ","N/A ","N/A "," Contrib. Fixt. Removal Charge",35.57,33.24,33.24,"N/A","N/A","N/A",35.57,33.24,33.24,35.57,33.24,33.24]
[null,null,null,"-","-","-","-",null,null,null,"-","-","-","-","-","-"]
["100=>250","N/A ","N/A "," Contr. Fixt. Installation",141.33000000000001,132.08000000000001,132.08000000000001,"N/A","N/A","N/A",141.33000000000001,132.08000000000001,132.08000000000001,141.33000000000001,132.08000000000001,132.08000000000001]
["400","N/A ","N/A "," Charge for Currently ",159.49,149.06,149.06,"N/A","N/A","N/A",159.49,149.06,149.06,159.49,149.06,149.06]
["700 & 1,000","N/A ","N/A "," Installed Fixtures",210.97,197.17,197.17,"N/A","N/A","N/A",210.97,197.17,197.17,210.97,197.17,197.17]
["-","-","-","-","-","-","-",null,null,null,"-","-","-","-","-","-"]
[" "," "," "," Pole Installation Charge for"]
["N/A ","N/A ","N/A ","Previously Installed Poles",345.22,322.64,322.64,null,null,null,345.22,322.64,322.64,345.22,322.64,322.64]
["-","-","-","-","-","-","-",null,null,null,"-","-","-","-","-","-"]
[]
[{"$f":"'OL Fixture & Total Charges'!$A$38","v":"{1} Total Monthly Charges are based on a single light. Since per kWh charges are rounded to the nearest cent, the price for multiple lights may vary by one or two cents "}]
[{"$f":"'OL Fixture & Total Charges'!$A$39","v":"    per additional light. Prices vary from Summer to Winter based on seasonal energy charges which are higher in the Summer billing months of June through September."}]
["  "]
[]
[]
[]
[]
[]
[]
[]
[]
[]
[]
[]
[]
[]
[]
[]
[null,null," "]
[]
[]
[]
[]
[]
[]
[]
[" "]

{"sheet":"ISL Fixture & Total Charges","index":23,"n_rows":76,"n_cols":16,"rows_kept":76,"cut":false,"hidden":false,"merged":[[0,3,0,13],[3,0,3,2],[2,0,2,2],[1,0,1,2],[0,0,0,2],[2,3,2,13],[7,3,7,5],[7,9,7,11],[7,12,7,14],[3,3,3,12],[4,3,4,15],[7,6,7,8]]}
[{"$f":"'Lighting kWh Charges'!A1:B1","v":"Visual_Rate_Inventory  June 1, 2025"},null,null,"Jersey Central Power & Light"]
[{"$f":"NOW()","v":"2025-05-30T16:18:48.150"}]
[{"$f":"NOW()","v":45807.679723958332},null,null,{"$f":"'RT per Tariff'!C3","v":"Rates Effective with Service Rendered June 1, 2025"}]
["ISL Fixture & Total Charges"]
[null,null,null,"ISL (Incandescent Street Lighting Service) Service Classification"]
[]
[]
["Nominal","Billing ",null,{"$f":"'OL Fixture & Total Charges'!E9","v":"Monthly Fixture Charges 6/1/2025"},null,null,{"$f":"'OL Fixture & Total Charges'!H9","v":"Reliability Plus Fixture Charges 6/1/2025"},null,null,{"$f":"'OL Fixture & Total Charges'!K9","v":"Total Monthly Summer Full Service Charges Effective 6/1/2025 {1}"},null,null,{"$f":"'OL Fixture & Total Charges'!N9","v":"Total Monthly Winter Full Service Charges Effective 6/1/2025 {1}"},null,null,"Seasonal Distribution Charge"]
["Lamp","Month",null,"Normal","SUT","Tax","Normal","SUT","Tax","Normal","SUT","Tax","Normal","SUT","Tax","Normal"]
["Wattage","Kwh","Remarks","Account","Exempt","Exempt","Account","Exempt","Exempt","Account","Exempt","Exempt","Account","Exempt","Exempt","Account"]
[105,37,null,{"$f":"ROUND(E11*SUT_6625,2)","v":2.04},1.91,{"$f":"E11","v":1.91},{"$f":"ROUND(H11*SUT_6625,2)","v":0},0,{"$f":"H11","v":0},{"$f":"$D11+$G11+ROUND($B11*'Lighting kWh Charges'!$N$15,2)","v":8.3099999999999987},{"$f":"$E11+$H11+ROUND($B11*'Lighting kWh Charges'!$N$14,2)","v":7.79},{"$f":"$F11+$I11+ROUND($B11*'Lighting kWh Charges'!$N$13,2)","v":7.72},{"$f":"$D11+$G11+ROUND($B11*'Lighting kWh Charges'!$O$15,2)","v":8.4400000000000013},{"$f":"$E11+$H11+ROUND($B11*'Lighting kWh Charges'!$O$14,2)","v":7.91},{"$f":"$F11+$I11+ROUND($B11*'Lighting kWh Charges'!$O$13,2)","v":7.84},{"$f":"ROUND(B11*'Lighting kWh Charges'!$D$15,2)","v":1.97}]
[205,72,null,2.04,1.91,{"$f":"E12","v":1.91},0,0,{"$f":"H12","v":0},{"$f":"$D12+$G12+ROUND($B12*'Lighting kWh Charges'!$N$15,2)","v":14.239999999999998},{"$f":"$E12+$H12+ROUND($B12*'Lighting kWh Charges'!$N$14,2)","v":13.35},{"$f":"$F12+$I12+ROUND($B12*'Lighting kWh Charges'!$N$13,2)","v":13.22},{"$f":"$D12+$G12+ROUND($B12*'Lighting kWh Charges'!$O$15,2)","v":14.489999999999998},{"$f":"$E12+$H12+ROUND($B12*'Lighting kWh Charges'!$O$14,2)","v":13.58},{"$f":"$F12+$I12+ROUND($B12*'Lighting kWh Charges'!$O$13,2)","v":13.45},{"$f":"ROUND(B12*'Lighting kWh Charges'!$D$15,2)","v":3.84}]
[327,114,"Company",2.04,1.91,1.91,0,0,0,{"$f":"$D13+$G13+ROUND($B13*'Lighting kWh Charges'!$N$15,2)","v":21.36},{"$f":"$E13+$H13+ROUND($B13*'Lighting kWh Charges'!$N$14,2)","v":20.03},{"$f":"$F13+$I13+ROUND($B13*'Lighting kWh Charges'!$N$13,2)","v":19.82},{"$f":"$D13+$G13+ROUND($B13*'Lighting kWh Charges'!$O$15,2)","v":21.75},{"$f":"$E13+$H13+ROUND($B13*'Lighting kWh Charges'!$O$14,2)","v":20.39},{"$f":"$F13+$I13+ROUND($B13*'Lighting kWh Charges'!$O$13,2)","v":20.190000000000001},{"$f":"ROUND(B13*'Lighting kWh Charges'!$D$15,2)","v":6.08}]
[448,157,"Fixture",2.04,1.91,1.91,0,0,0,{"$f":"$D14+$G14+ROUND($B14*'Lighting kWh Charges'!$N$15,2)","v":28.64},{"$f":"$E14+$H14+ROUND($B14*'Lighting kWh Charges'!$N$14,2)","v":26.86},{"$f":"$F14+$I14+ROUND($B14*'Lighting kWh Charges'!$N$13,2)","v":26.580000000000002},{"$f":"$D14+$G14+ROUND($B14*'Lighting kWh Charges'!$O$15,2)","v":29.18},{"$f":"$E14+$H14+ROUND($B14*'Lighting kWh Charges'!$O$14,2)","v":27.37},{"$f":"$F14+$I14+ROUND($B14*'Lighting kWh Charges'!$O$13,2)","v":27.080000000000002},{"$f":"ROUND(B14*'Lighting kWh Charges'!$D$15,2)","v":8.3800000000000008}]
[690,242,null,2.04,1.91,1.91,0,0,0,{"$f":"$D15+$G15+ROUND($B15*'Lighting kWh Charges'!$N$15,2)","v":43.05},{"$f":"$E15+$H15+ROUND($B15*'Lighting kWh Charges'!$N$14,2)","v":40.369999999999997},{"$f":"$F15+$I15+ROUND($B15*'Lighting kWh Charges'!$N$13,2)","v":39.93},{"$f":"$D15+$G15+ROUND($B15*'Lighting kWh Charges'!$O$15,2)","v":43.88},{"$f":"$E15+$H15+ROUND($B15*'Lighting kWh Charges'!$O$14,2)","v":41.15},{"$f":"$F15+$I15+ROUND($B15*'Lighting kWh Charges'!$O$13,2)","v":40.709999999999994},{"$f":"ROUND(B15*'Lighting kWh Charges'!$D$15,2)","v":12.91}]
[860,301,null,2.04,1.91,1.91,0,0,0,{"$f":"$D16+$G16+ROUND($B16*'Lighting kWh Charges'!$N$15,2)","v":53.05},{"$f":"$E16+$H16+ROUND($B16*'Lighting kWh Charges'!$N$14,2)","v":49.75},{"$f":"$F16+$I16+ROUND($B16*'Lighting kWh Charges'!$N$13,2)","v":49.199999999999996},{"$f":"$D16+$G16+ROUND($B16*'Lighting kWh Charges'!$O$15,2)","v":54.08},{"$f":"$E16+$H16+ROUND($B16*'Lighting kWh Charges'!$O$14,2)","v":50.72},{"$f":"$F16+$I16+ROUND($B16*'Lighting kWh Charges'!$O$13,2)","v":50.169999999999995},{"$f":"ROUND(B16*'Lighting kWh Charges'!$D$15,2)","v":16.059999999999999}]
["-","-","-","-","-","-",null,null,null,"-","-","-","-","-","-","-"]
[105,37,null,{"$f":"ROUND(E18*SUT_6625,2)","v":0.93},0.87,{"$f":"E18","v":0.87},{"$f":"ROUND(H18*SUT_6625,2)","v":0},0,{"$f":"H18","v":0},{"$f":"$D18+$G18+ROUND($B18*'Lighting kWh Charges'!$N$15,2)","v":7.1999999999999993},{"$f":"$E18+$H18+ROUND($B18*'Lighting kWh Charges'!$N$14,2)","v":6.75},{"$f":"$F18+$I18+ROUND($B18*'Lighting kWh Charges'!$N$13,2)","v":6.68},{"$f":"$D18+$G18+ROUND($B18*'Lighting kWh Charges'!$O$15,2)","v":7.33},{"$f":"$E18+$H18+ROUND($B18*'Lighting kWh Charges'!$O$14,2)","v":6.87},{"$f":"$F18+$I18+ROUND($B18*'Lighting kWh Charges'!$O$13,2)","v":6.8},{"$f":"ROUND(B18*'Lighting kWh Charges'!$D$15,2)","v":1.97}]
[205,72,null,0.93,0.87,0.87,0,0,0,{"$f":"$D19+$G19+ROUND($B19*'Lighting kWh Charges'!$N$15,2)","v":13.129999999999999},{"$f":"$E19+$H19+ROUND($B19*'Lighting kWh Charges'!$N$14,2)","v":12.309999999999999},{"$f":"$F19+$I19+ROUND($B19*'Lighting kWh Charges'!$N$13,2)","v":12.18},{"$f":"$D19+$G19+ROUND($B19*'Lighting kWh Charges'!$O$15,2)","v":13.379999999999999},{"$f":"$E19+$H19+ROUND($B19*'Lighting kWh Charges'!$O$14,2)","v":12.54},{"$f":"$F19+$I19+ROUND($B19*'Lighting kWh Charges'!$O$13,2)","v":12.409999999999998},{"$f":"ROUND(B19*'Lighting kWh Charges'!$D$15,2)","v":3.84}]
[327,114,"Customer",0.93,0.87,0.87,0,0,0,{"$f":"$D20+$G20+ROUND($B20*'Lighting kWh Charges'!$N$15,2)","v":20.25},{"$f":"$E20+$H20+ROUND($B20*'Lighting kWh Charges'!$N$14,2)","v":18.990000000000002},{"$f":"$F20+$I20+ROUND($B20*'Lighting kWh Charges'!$N$13,2)","v":18.78},{"$f":"$D20+$G20+ROUND($B20*'Lighting kWh Charges'!$O$15,2)","v":20.64},{"$f":"$E20+$H20+ROUND($B20*'Lighting kWh Charges'!$O$14,2)","v":19.350000000000001},{"$f":"$F20+$I20+ROUND($B20*'Lighting kWh Charges'!$O$13,2)","v":19.150000000000002},{"$f":"ROUND(B20*'Lighting kWh Charges'!$D$15,2)","v":6.08}]
[448,157,"Fixture",0.93,0.87,0.87,0,0,0,{"$f":"$D21+$G21+ROUND($B21*'Lighting kWh Charges'!$N$15,2)","v":27.53},{"$f":"$E21+$H21+ROUND($B21*'Lighting kWh Charges'!$N$14,2)","v":25.82},{"$f":"$F21+$I21+ROUND($B21*'Lighting kWh Charges'!$N$13,2)","v":25.540000000000003},{"$f":"$D21+$G21+ROUND($B21*'Lighting kWh Charges'!$O$15,2)","v":28.07},{"$f":"$E21+$H21+ROUND($B21*'Lighting kWh Charges'!$O$14,2)","v":26.330000000000002},{"$f":"$F21+$I21+ROUND($B21*'Lighting kWh Charges'!$O$13,2)","v":26.040000000000003},{"$f":"ROUND(B21*'Lighting kWh Charges'!$D$15,2)","v":8.3800000000000008}]
[690,242,null,0.93,0.87,0.87,0,0,0,{"$f":"$D22+$G22+ROUND($B22*'Lighting kWh Charges'!$N$15,2)","v":41.94},{"$f":"$E22+$H22+ROUND($B22*'Lighting kWh Charges'!$N$14,2)","v":39.33},{"$f":"$F22+$I22+ROUND($B22*'Lighting kWh Charges'!$N$13,2)","v":38.89},{"$f":"$D22+$G22+ROUND($B22*'Lighting kWh Charges'!$O$15,2)","v":42.77},{"$f":"$E22+$H22+ROUND($B22*'Lighting kWh Charges'!$O$14,2)","v":40.11},{"$f":"$F22+$I22+ROUND($B22*'Lighting kWh Charges'!$O$13,2)","v":39.669999999999995},{"$f":"ROUND(B22*'Lighting kWh Charges'!$D$15,2)","v":12.91}]
[860,301,null,0.93,0.87,0.87,0,0,0,{"$f":"$D23+$G23+ROUND($B23*'Lighting kWh Charges'!$N$15,2)","v":51.94},{"$f":"$E23+$H23+ROUND($B23*'Lighting kWh Charges'!$N$14,2)","v":48.71},{"$f":"$F23+$I23+ROUND($B23*'Lighting kWh Charges'!$N$13,2)","v":48.16},{"$f":"$D23+$G23+ROUND($B23*'Lighting kWh Charges'!$O$15,2)","v":52.97},{"$f":"$E23+$H23+ROUND($B23*'Lighting kWh Charges'!$O$14,2)","v":49.68},{"$f":"$F23+$I23+ROUND($B23*'Lighting kWh Charges'!$O$13,2)","v":49.129999999999995},{"$f":"ROUND(B23*'Lighting kWh Charges'!$D$15,2)","v":16.059999999999999}]
["-","-","-","-","-","-",null,null,null,"-","-","-","-","-","-","-"]
[25,9,"Fire Alarm/Police Box",{"$f":"ROUND(E25*SUT_6625,2)","v":1.19},1.1200000000000001,{"$f":"E25","v":1.1200000000000001},"N/A","N/A","N/A",{"$f":"$D25+ROUND($B25*'Lighting kWh Charges'!$N$15,2)","v":2.7199999999999998},{"$f":"$E25+ROUND($B25*'Lighting kWh Charges'!$N$14,2)","v":2.5499999999999998},{"$f":"$F25+ROUND($B25*'Lighting kWh Charges'!$N$13,2)","v":2.5300000000000002},{"$f":"$D25+ROUND($B25*'Lighting kWh Charges'!$O$15,2)","v":2.75},{"$f":"$E25+ROUND($B25*'Lighting kWh Charges'!$O$14,2)","v":2.58},{"$f":"$F25+ROUND($B25*'Lighting kWh Charges'!$O$13,2)","v":2.56}]
[25,18,"Fire Alarm/Police Box-24 Hour",{"$f":"ROUND(E26*SUT_6625,2)","v":0.34},0.32,{"$f":"E26","v":0.32},"N/A","N/A","N/A",{"$f":"$D26+ROUND($B26*'Lighting kWh Charges'!$N$15,2)","v":3.3899999999999997},{"$f":"$E26+ROUND($B26*'Lighting kWh Charges'!$N$14,2)","v":3.1799999999999997},{"$f":"$F26+ROUND($B26*'Lighting kWh Charges'!$N$13,2)","v":3.15},{"$f":"$D26+ROUND($B26*'Lighting kWh Charges'!$O$15,2)","v":3.4499999999999997},{"$f":"$E26+ROUND($B26*'Lighting kWh Charges'!$O$14,2)","v":3.2399999999999998},{"$f":"$F26+ROUND($B26*'Lighting kWh Charges'!$O$13,2)","v":3.21}]
["-","-","-","-","-","-",null,null,null,"-","-","-","-","-","-"]
["N/A ","N/A ","Fixture Service",{"$f":"ROUND(E28*SUT_6625,2)","v":1.1000000000000001},1.03,{"$f":"E28","v":1.03},"N/A","N/A","N/A",1.03,0.97,0.97,1.03,0.97,0.97]
["-","-","-","-","-","-",null,null,null,"-","-","-","-","-","-"]
[]
[{"$f":"'OL Fixture & Total Charges'!$A$38","v":"{1} Total Monthly Charges are based on a single light. Since per kWh charges are rounded to the nearest cent, the price for multiple lights may vary by one or two cents "}]
[{"$f":"'OL Fixture & Total Charges'!$A$39","v":"    per additional light. Prices vary from Summer to Winter based on seasonal energy charges which are higher in the Summer billing months of June through September."}]
[]
[]
[]
[]
[]
[]
[null," "]
[]
[]
[]
[]
[]
[]
[]
[]
[]
[]
[]
[]
[]
[]
[]
[]
[]
[]
[]
[]
[]
[]
[]
[]
[]
[]
[]
[]
[null,null," "]
[]
[]
[]
[]
[]
[]
[]
[" "]

{"sheet":"LED Fixture & Total Charges","index":24,"n_rows":86,"n_cols":16,"rows_kept":86,"cut":false,"hidden":false,"merged":[[52,4,52,15],[54,4,54,15],[55,4,55,15],[4,0,4,2],[5,3,5,14],[8,4,8,6],[8,10,8,12],[8,13,8,15],[8,7,8,9],[43,4,43,15],[44,4,44,15],[46,4,46,15],[47,4,47,15],[49,4,49,15],[3,3,3,14],[0,0,0,2],[0,3,0,14],[1,0,1,2],[2,0,2,2],[2,3,2,14]]}
[{"$f":"'Lighting kWh Charges'!A1:B1","v":"Visual_Rate_Inventory  June 1, 2025"},null,null,"Jersey Central Power & Light"]
[{"$f":"NOW()","v":"2025-05-30T16:18:48.150"}]
[{"$f":"NOW()","v":45807.679723958332},null,null,{"$f":"'RT per Tariff'!C3","v":"Rates Effective with Service Rendered June 1, 2025"}]
[]
["LED Fixture & Total Charges"]
[null,null,null,"LED (light emitting diode) Street Lighting Service Classification"]
[]
[]
["Nominal","Lumens","Billing",null,{"$f":"'OL Fixture & Total Charges'!E9","v":"Monthly Fixture Charges 6/1/2025"},null,null,{"$f":"'OL Fixture & Total Charges'!H9","v":"Reliability Plus Fixture Charges 6/1/2025"},null,null,{"$f":"'OL Fixture & Total Charges'!K9:M9","v":"Total Monthly Summer Full Service Charges Effective 6/1/2025 {1}"},null,null,{"$f":"'OL Fixture & Total Charges'!N9:P9","v":"Total Monthly Winter Full Service Charges Effective 6/1/2025 {1}"}]
["Lamp"," ","Month",null,"Normal","SUT","Tax","Normal","SUT","Tax","Normal","SUT","Tax","Normal","SUT","Tax"]
["Wattage"," ","Kwh","Remarks","Account","Exempt","Exempt","Account","Exempt","Exempt","Account","Exempt","Exempt","Account","Exempt","Exempt"]
["--------","--------","--------","--------","--------","--------","--------","--------","--------","--------","--------","--------","--------","--------","--------","--------"]
["30 Cobra Head",2400,11,null,{"$f":"ROUND(F13*SUT_6625,2)","v":6.9},6.47,{"$f":"F13","v":6.47},{"$f":"ROUND(I13*SUT_6625,2)","v":0},0,{"$f":"I13","v":0},{"$f":"$E13+$H13+ROUND($C13*'Lighting kWh Charges'!$N$15,2)","v":8.76},{"$f":"$F13+$I13+ROUND($C13*'Lighting kWh Charges'!$N$14,2)","v":8.2199999999999989},{"$f":"$G13+$J13+ROUND($C13*'Lighting kWh Charges'!$N$13,2)","v":8.1999999999999993},{"$f":"$E13+$H13+ROUND($C13*'Lighting kWh Charges'!$O$15,2)","v":8.8000000000000007},{"$f":"$F13+$I13+ROUND($C13*'Lighting kWh Charges'!$O$14,2)","v":8.25},{"$f":"$G13+$J13+ROUND($C13*'Lighting kWh Charges'!$O$13,2)","v":8.23}]
["50 Cobra Head",4000,18,null,{"$f":"ROUND(F14*SUT_6625,2)","v":6.86},6.43,{"$f":"F14","v":6.43},{"$f":"ROUND(I14*SUT_6625,2)","v":0},0,{"$f":"I14","v":0},{"$f":"$E14+$H14+ROUND($C14*'Lighting kWh Charges'!$N$15,2)","v":9.91},{"$f":"$F14+$I14+ROUND($C14*'Lighting kWh Charges'!$N$14,2)","v":9.2899999999999991},{"$f":"$G14+$J14+ROUND($C14*'Lighting kWh Charges'!$N$13,2)","v":9.26},{"$f":"$E14+$H14+ROUND($C14*'Lighting kWh Charges'!$O$15,2)","v":9.9700000000000006},{"$f":"$F14+$I14+ROUND($C14*'Lighting kWh Charges'!$O$14,2)","v":9.35},{"$f":"$G14+$J14+ROUND($C14*'Lighting kWh Charges'!$O$13,2)","v":9.32}]
["90 Cobra Head",7000,32,null,7.41,6.95,{"$f":"F15","v":6.95},0,0,{"$f":"I15","v":0},{"$f":"$E15+$H15+ROUND($C15*'Lighting kWh Charges'!$N$15,2)","v":12.83},{"$f":"$F15+$I15+ROUND($C15*'Lighting kWh Charges'!$N$14,2)","v":12.04},{"$f":"$G15+$J15+ROUND($C15*'Lighting kWh Charges'!$N$13,2)","v":11.98},{"$f":"$E15+$H15+ROUND($C15*'Lighting kWh Charges'!$O$15,2)","v":12.940000000000001},{"$f":"$F15+$I15+ROUND($C15*'Lighting kWh Charges'!$O$14,2)","v":12.14},{"$f":"$G15+$J15+ROUND($C15*'Lighting kWh Charges'!$O$13,2)","v":12.08}]
["130 Cobra Head",11500,46,"Company ",8.42,7.9,7.9,0,0,0,{"$f":"$E16+$H16+ROUND($C16*'Lighting kWh Charges'!$N$15,2)","v":16.21},{"$f":"$F16+$I16+ROUND($C16*'Lighting kWh Charges'!$N$14,2)","v":15.21},{"$f":"$G16+$J16+ROUND($C16*'Lighting kWh Charges'!$N$13,2)","v":15.13},{"$f":"$E16+$H16+ROUND($C16*'Lighting kWh Charges'!$O$15,2)","v":16.37},{"$f":"$F16+$I16+ROUND($C16*'Lighting kWh Charges'!$O$14,2)","v":15.36},{"$f":"$G16+$J16+ROUND($C16*'Lighting kWh Charges'!$O$13,2)","v":15.280000000000001}]
["260 Cobra Head",24000,91,"Fixtures",10.71,10.039999999999999,10.039999999999999,0,0,0,{"$f":"$E17+$H17+ROUND($C17*'Lighting kWh Charges'!$N$15,2)","v":26.130000000000003},{"$f":"$F17+$I17+ROUND($C17*'Lighting kWh Charges'!$N$14,2)","v":24.5},{"$f":"$G17+$J17+ROUND($C17*'Lighting kWh Charges'!$N$13,2)","v":24.34},{"$f":"$E17+$H17+ROUND($C17*'Lighting kWh Charges'!$O$15,2)","v":26.44},{"$f":"$F17+$I17+ROUND($C17*'Lighting kWh Charges'!$O$14,2)","v":24.799999999999997},{"$f":"$G17+$J17+ROUND($C17*'Lighting kWh Charges'!$O$13,2)","v":24.63}]
["50 Acorn",2500,18," ",17.55,16.46,16.46,0,0,0,{"$f":"$E18+$H18+ROUND($C18*'Lighting kWh Charges'!$N$15,2)","v":20.6},{"$f":"$F18+$I18+ROUND($C18*'Lighting kWh Charges'!$N$14,2)","v":19.32},{"$f":"$G18+$J18+ROUND($C18*'Lighting kWh Charges'!$N$13,2)","v":19.29},{"$f":"$E18+$H18+ROUND($C18*'Lighting kWh Charges'!$O$15,2)","v":20.66},{"$f":"$F18+$I18+ROUND($C18*'Lighting kWh Charges'!$O$14,2)","v":19.380000000000003},{"$f":"$G18+$J18+ROUND($C18*'Lighting kWh Charges'!$O$13,2)","v":19.350000000000001}]
["90 Acorn",5000,32,null,16.940000000000001,15.89,15.89,0,0,0,{"$f":"$E19+$H19+ROUND($C19*'Lighting kWh Charges'!$N$15,2)","v":22.36},{"$f":"$F19+$I19+ROUND($C19*'Lighting kWh Charges'!$N$14,2)","v":20.98},{"$f":"$G19+$J19+ROUND($C19*'Lighting kWh Charges'!$N$13,2)","v":20.92},{"$f":"$E19+$H19+ROUND($C19*'Lighting kWh Charges'!$O$15,2)","v":22.470000000000002},{"$f":"$F19+$I19+ROUND($C19*'Lighting kWh Charges'!$O$14,2)","v":21.080000000000002},{"$f":"$G19+$J19+ROUND($C19*'Lighting kWh Charges'!$O$13,2)","v":21.02}]
["50 Colonial",2500,18,null,9.85,9.24,{"$f":"F20","v":9.24},0,0,0,{"$f":"$E20+$H20+ROUND($C20*'Lighting kWh Charges'!$N$15,2)","v":12.899999999999999},{"$f":"$F20+$I20+ROUND($C20*'Lighting kWh Charges'!$N$14,2)","v":12.1},{"$f":"$G20+$J20+ROUND($C20*'Lighting kWh Charges'!$N$13,2)","v":12.07},{"$f":"$E20+$H20+ROUND($C20*'Lighting kWh Charges'!$O$15,2)","v":12.959999999999999},{"$f":"$F20+$I20+ROUND($C20*'Lighting kWh Charges'!$O$14,2)","v":12.16},{"$f":"$G20+$J20+ROUND($C20*'Lighting kWh Charges'!$O$13,2)","v":12.13}]
["90 Colonial",5000,32,null,11.85,11.11,11.11,0,0,0,{"$f":"$E21+$H21+ROUND($C21*'Lighting kWh Charges'!$N$15,2)","v":17.27},{"$f":"$F21+$I21+ROUND($C21*'Lighting kWh Charges'!$N$14,2)","v":16.2},{"$f":"$G21+$J21+ROUND($C21*'Lighting kWh Charges'!$N$13,2)","v":16.14},{"$f":"$E21+$H21+ROUND($C21*'Lighting kWh Charges'!$O$15,2)","v":17.38},{"$f":"$F21+$I21+ROUND($C21*'Lighting kWh Charges'!$O$14,2)","v":16.3},{"$f":"$G21+$J21+ROUND($C21*'Lighting kWh Charges'!$O$13,2)","v":16.239999999999998}]
[]
["30 Cobra Head",2400,11,null,{"$f":"ROUND(F23*SUT_6625,2)","v":2.65},2.4900000000000002,{"$f":"F23","v":2.4900000000000002},{"$f":"ROUND(I23*SUT_6625,2)","v":0},0,{"$f":"I23","v":0},{"$f":"$E23+$H23+ROUND($C23*'Lighting kWh Charges'!$N$15,2)","v":4.51},{"$f":"$F23+$I23+ROUND($C23*'Lighting kWh Charges'!$N$14,2)","v":4.24},{"$f":"$G23+$J23+ROUND($C23*'Lighting kWh Charges'!$N$13,2)","v":4.2200000000000006},{"$f":"$E23+$H23+ROUND($C23*'Lighting kWh Charges'!$O$15,2)","v":4.55},{"$f":"$F23+$I23+ROUND($C23*'Lighting kWh Charges'!$O$14,2)","v":4.2700000000000005},{"$f":"$G23+$J23+ROUND($C23*'Lighting kWh Charges'!$O$13,2)","v":4.25}]
["50 Cobra Head",4000,18,null,2.65,{"$f":"F$23","v":2.4900000000000002},{"$f":"F24","v":2.4900000000000002},0,0,{"$f":"I24","v":0},{"$f":"$E24+$H24+ROUND($C24*'Lighting kWh Charges'!$N$15,2)","v":5.6999999999999993},{"$f":"$F24+$I24+ROUND($C24*'Lighting kWh Charges'!$N$14,2)","v":5.35},{"$f":"$G24+$J24+ROUND($C24*'Lighting kWh Charges'!$N$13,2)","v":5.32},{"$f":"$E24+$H24+ROUND($C24*'Lighting kWh Charges'!$O$15,2)","v":5.76},{"$f":"$F24+$I24+ROUND($C24*'Lighting kWh Charges'!$O$14,2)","v":5.41},{"$f":"$G24+$J24+ROUND($C24*'Lighting kWh Charges'!$O$13,2)","v":5.3800000000000008}]
["90 Cobra Head",7000,32,null,2.65,{"$f":"F$23","v":2.4900000000000002},{"$f":"F25","v":2.4900000000000002},0,0,{"$f":"I25","v":0},{"$f":"$E25+$H25+ROUND($C25*'Lighting kWh Charges'!$N$15,2)","v":8.07},{"$f":"$F25+$I25+ROUND($C25*'Lighting kWh Charges'!$N$14,2)","v":7.58},{"$f":"$G25+$J25+ROUND($C25*'Lighting kWh Charges'!$N$13,2)","v":7.5200000000000005},{"$f":"$E25+$H25+ROUND($C25*'Lighting kWh Charges'!$O$15,2)","v":8.18},{"$f":"$F25+$I25+ROUND($C25*'Lighting kWh Charges'!$O$14,2)","v":7.6800000000000006},{"$f":"$G25+$J25+ROUND($C25*'Lighting kWh Charges'!$O$13,2)","v":7.62}]
["130 Cobra Head",11500,46,"Contribution",2.65,2.4900000000000002,2.4900000000000002,0,0,0,{"$f":"$E26+$H26+ROUND($C26*'Lighting kWh Charges'!$N$15,2)","v":10.44},{"$f":"$F26+$I26+ROUND($C26*'Lighting kWh Charges'!$N$14,2)","v":9.8000000000000007},{"$f":"$G26+$J26+ROUND($C26*'Lighting kWh Charges'!$N$13,2)","v":9.7200000000000006},{"$f":"$E26+$H26+ROUND($C26*'Lighting kWh Charges'!$O$15,2)","v":10.6},{"$f":"$F26+$I26+ROUND($C26*'Lighting kWh Charges'!$O$14,2)","v":9.9499999999999993},{"$f":"$G26+$J26+ROUND($C26*'Lighting kWh Charges'!$O$13,2)","v":9.870000000000001}]
["260 Cobra Head",24000,91,"Fixtures (a)",2.65,2.4900000000000002,2.4900000000000002,0,0,0,{"$f":"$E27+$H27+ROUND($C27*'Lighting kWh Charges'!$N$15,2)","v":18.07},{"$f":"$F27+$I27+ROUND($C27*'Lighting kWh Charges'!$N$14,2)","v":16.950000000000003},{"$f":"$G27+$J27+ROUND($C27*'Lighting kWh Charges'!$N$13,2)","v":16.79},{"$f":"$E27+$H27+ROUND($C27*'Lighting kWh Charges'!$O$15,2)","v":18.38},{"$f":"$F27+$I27+ROUND($C27*'Lighting kWh Charges'!$O$14,2)","v":17.25},{"$f":"$G27+$J27+ROUND($C27*'Lighting kWh Charges'!$O$13,2)","v":17.079999999999998}]
["50 Acorn",2500,18," ",2.65,2.4900000000000002,2.4900000000000002,0,0,0,{"$f":"$E28+$H28+ROUND($C28*'Lighting kWh Charges'!$N$15,2)","v":5.6999999999999993},{"$f":"$F28+$I28+ROUND($C28*'Lighting kWh Charges'!$N$14,2)","v":5.35},{"$f":"$G28+$J28+ROUND($C28*'Lighting kWh Charges'!$N$13,2)","v":5.32},{"$f":"$E28+$H28+ROUND($C28*'Lighting kWh Charges'!$O$15,2)","v":5.76},{"$f":"$F28+$I28+ROUND($C28*'Lighting kWh Charges'!$O$14,2)","v":5.41},{"$f":"$G28+$J28+ROUND($C28*'Lighting kWh Charges'!$O$13,2)","v":5.3800000000000008}]
["90 Acorn",5000,32,null,2.65,2.4900000000000002,2.4900000000000002,0,0,0,{"$f":"$E29+$H29+ROUND($C29*'Lighting kWh Charges'!$N$15,2)","v":8.07},{"$f":"$F29+$I29+ROUND($C29*'Lighting kWh Charges'!$N$14,2)","v":7.58},{"$f":"$G29+$J29+ROUND($C29*'Lighting kWh Charges'!$N$13,2)","v":7.5200000000000005},{"$f":"$E29+$H29+ROUND($C29*'Lighting kWh Charges'!$O$15,2)","v":8.18},{"$f":"$F29+$I29+ROUND($C29*'Lighting kWh Charges'!$O$14,2)","v":7.6800000000000006},{"$f":"$G29+$J29+ROUND($C29*'Lighting kWh Charges'!$O$13,2)","v":7.62}]
["50 Colonial",2500,18,null,2.65,2.4900000000000002,2.4900000000000002,0,0,0,{"$f":"$E30+$H30+ROUND($C30*'Lighting kWh Charges'!$N$15,2)","v":5.6999999999999993},{"$f":"$F30+$I30+ROUND($C30*'Lighting kWh Charges'!$N$14,2)","v":5.35},{"$f":"$G30+$J30+ROUND($C30*'Lighting kWh Charges'!$N$13,2)","v":5.32},{"$f":"$E30+$H30+ROUND($C30*'Lighting kWh Charges'!$O$15,2)","v":5.76},{"$f":"$F30+$I30+ROUND($C30*'Lighting kWh Charges'!$O$14,2)","v":5.41},{"$f":"$G30+$J30+ROUND($C30*'Lighting kWh Charges'!$O$13,2)","v":5.3800000000000008}]
["90 Colonial",5000,32,null,2.65,2.4900000000000002,2.4900000000000002,0,0,0,{"$f":"$E31+$H31+ROUND($C31*'Lighting kWh Charges'!$N$15,2)","v":8.07},{"$f":"$F31+$I31+ROUND($C31*'Lighting kWh Charges'!$N$14,2)","v":7.58},{"$f":"$G31+$J31+ROUND($C31*'Lighting kWh Charges'!$N$13,2)","v":7.5200000000000005},{"$f":"$E31+$H31+ROUND($C31*'Lighting kWh Charges'!$O$15,2)","v":8.18},{"$f":"$F31+$I31+ROUND($C31*'Lighting kWh Charges'!$O$14,2)","v":7.6800000000000006},{"$f":"$G31+$J31+ROUND($C31*'Lighting kWh Charges'!$O$13,2)","v":7.62}]
[]
["30 Cobra Head",2400,11,null,{"$f":"ROUND(F33*SUT_6625,2)","v":4.24},3.98,{"$f":"F33","v":3.98},{"$f":"ROUND(I33*SUT_6625,2)","v":0},0,{"$f":"I33","v":0},{"$f":"$E33+$H33+ROUND($C33*'Lighting kWh Charges'!$N$15,2)","v":6.1000000000000005},{"$f":"$F33+$I33+ROUND($C33*'Lighting kWh Charges'!$N$14,2)","v":5.73},{"$f":"$G33+$J33+ROUND($C33*'Lighting kWh Charges'!$N$13,2)","v":5.71},{"$f":"$E33+$H33+ROUND($C33*'Lighting kWh Charges'!$O$15,2)","v":6.1400000000000006},{"$f":"$F33+$I33+ROUND($C33*'Lighting kWh Charges'!$O$14,2)","v":5.76},{"$f":"$G33+$J33+ROUND($C33*'Lighting kWh Charges'!$O$13,2)","v":5.74}]
["50 Cobra Head",4000,18,null,4.24,{"$f":"F$33","v":3.98},{"$f":"F34","v":3.98},0,0,{"$f":"I34","v":0},{"$f":"$E34+$H34+ROUND($C34*'Lighting kWh Charges'!$N$15,2)","v":7.29},{"$f":"$F34+$I34+ROUND($C34*'Lighting kWh Charges'!$N$14,2)","v":6.84},{"$f":"$G34+$J34+ROUND($C34*'Lighting kWh Charges'!$N$13,2)","v":6.8100000000000005},{"$f":"$E34+$H34+ROUND($C34*'Lighting kWh Charges'!$O$15,2)","v":7.35},{"$f":"$F34+$I34+ROUND($C34*'Lighting kWh Charges'!$O$14,2)","v":6.9},{"$f":"$G34+$J34+ROUND($C34*'Lighting kWh Charges'!$O$13,2)","v":6.87}]
["90 Cobra Head",7000,32,null,4.24,{"$f":"F$33","v":3.98},{"$f":"F35","v":3.98},0,0,{"$f":"I35","v":0},{"$f":"$E35+$H35+ROUND($C35*'Lighting kWh Charges'!$N$15,2)","v":9.66},{"$f":"$F35+$I35+ROUND($C35*'Lighting kWh Charges'!$N$14,2)","v":9.07},{"$f":"$G35+$J35+ROUND($C35*'Lighting kWh Charges'!$N$13,2)","v":9.01},{"$f":"$E35+$H35+ROUND($C35*'Lighting kWh Charges'!$O$15,2)","v":9.77},{"$f":"$F35+$I35+ROUND($C35*'Lighting kWh Charges'!$O$14,2)","v":9.17},{"$f":"$G35+$J35+ROUND($C35*'Lighting kWh Charges'!$O$13,2)","v":9.11}]
["130 Cobra Head",11500,46,"Contribution",4.24,3.98,3.98,0,0,0,{"$f":"$E36+$H36+ROUND($C36*'Lighting kWh Charges'!$N$15,2)","v":12.030000000000001},{"$f":"$F36+$I36+ROUND($C36*'Lighting kWh Charges'!$N$14,2)","v":11.29},{"$f":"$G36+$J36+ROUND($C36*'Lighting kWh Charges'!$N$13,2)","v":11.21},{"$f":"$E36+$H36+ROUND($C36*'Lighting kWh Charges'!$O$15,2)","v":12.190000000000001},{"$f":"$F36+$I36+ROUND($C36*'Lighting kWh Charges'!$O$14,2)","v":11.44},{"$f":"$G36+$J36+ROUND($C36*'Lighting kWh Charges'!$O$13,2)","v":11.36}]
["260 Cobra Head",24000,91,"Fixtures (b)",4.24,3.98,3.98,0,0,0,{"$f":"$E37+$H37+ROUND($C37*'Lighting kWh Charges'!$N$15,2)","v":19.66},{"$f":"$F37+$I37+ROUND($C37*'Lighting kWh Charges'!$N$14,2)","v":18.440000000000001},{"$f":"$G37+$J37+ROUND($C37*'Lighting kWh Charges'!$N$13,2)","v":18.28},{"$f":"$E37+$H37+ROUND($C37*'Lighting kWh Charges'!$O$15,2)","v":19.97},{"$f":"$F37+$I37+ROUND($C37*'Lighting kWh Charges'!$O$14,2)","v":18.739999999999998},{"$f":"$G37+$J37+ROUND($C37*'Lighting kWh Charges'!$O$13,2)","v":18.57}]
["50 Acorn",2500,18," ",4.24,3.98,3.98,0,0,0,{"$f":"$E38+$H38+ROUND($C38*'Lighting kWh Charges'!$N$15,2)","v":7.29},{"$f":"$F38+$I38+ROUND($C38*'Lighting kWh Charges'!$N$14,2)","v":6.84},{"$f":"$G38+$J38+ROUND($C38*'Lighting kWh Charges'!$N$13,2)","v":6.8100000000000005},{"$f":"$E38+$H38+ROUND($C38*'Lighting kWh Charges'!$O$15,2)","v":7.35},{"$f":"$F38+$I38+ROUND($C38*'Lighting kWh Charges'!$O$14,2)","v":6.9},{"$f":"$G38+$J38+ROUND($C38*'Lighting kWh Charges'!$O$13,2)","v":6.87}]
["90 Acorn",5000,32,null,4.24,3.98,3.98,0,0,0,{"$f":"$E39+$H39+ROUND($C39*'Lighting kWh Charges'!$N$15,2)","v":9.66},{"$f":"$F39+$I39+ROUND($C39*'Lighting kWh Charges'!$N$14,2)","v":9.07},{"$f":"$G39+$J39+ROUND($C39*'Lighting kWh Charges'!$N$13,2)","v":9.01},{"$f":"$E39+$H39+ROUND($C39*'Lighting kWh Charges'!$O$15,2)","v":9.77},{"$f":"$F39+$I39+ROUND($C39*'Lighting kWh Charges'!$O$14,2)","v":9.17},{"$f":"$G39+$J39+ROUND($C39*'Lighting kWh Charges'!$O$13,2)","v":9.11}]
["50 Colonial",2500,18,null,4.24,3.98,3.98,0,0,0,{"$f":"$E40+$H40+ROUND($C40*'Lighting kWh Charges'!$N$15,2)","v":7.29},{"$f":"$F40+$I40+ROUND($C40*'Lighting kWh Charges'!$N$14,2)","v":6.84},{"$f":"$G40+$J40+ROUND($C40*'Lighting kWh Charges'!$N$13,2)","v":6.8100000000000005},{"$f":"$E40+$H40+ROUND($C40*'Lighting kWh Charges'!$O$15,2)","v":7.35},{"$f":"$F40+$I40+ROUND($C40*'Lighting kWh Charges'!$O$14,2)","v":6.9},{"$f":"$G40+$J40+ROUND($C40*'Lighting kWh Charges'!$O$13,2)","v":6.87}]
["90 Colonial",5000,32,null,4.24,3.98,3.98,0,0,0,{"$f":"$E41+$H41+ROUND($C41*'Lighting kWh Charges'!$N$15,2)","v":9.66},{"$f":"$F41+$I41+ROUND($C41*'Lighting kWh Charges'!$N$14,2)","v":9.07},{"$f":"$G41+$J41+ROUND($C41*'Lighting kWh Charges'!$N$13,2)","v":9.01},{"$f":"$E41+$H41+ROUND($C41*'Lighting kWh Charges'!$O$15,2)","v":9.77},{"$f":"$F41+$I41+ROUND($C41*'Lighting kWh Charges'!$O$14,2)","v":9.17},{"$f":"$G41+$J41+ROUND($C41*'Lighting kWh Charges'!$O$13,2)","v":9.11}]
[]
["-","-","-","-","-","-","-",null,null,null,"-","-","-","-","-","-"]
[null,null,null,"Contribution Fixture (a)","Refer to Tariff Part II, Appendix A – Exhibit III"]
[null,null,null,"Installation Charge","Refer to Tariff Part II, Appendix A – Exhibit III"]
[]
[null,null,null,"Contribution Fixture (b)","Refer to Tariff Part II, Appendix A – Exhibit III"]
[null,null,null,"Installation Charge","Refer to Tariff Part II, Appendix A – Exhibit III"]
["-","-","-","-","-","-","-",null,null,null,"-","-","-","-","-","-"]
[null,null,null,"SVL and MVL Retrofit \nStranded Costs","Refer to Tariff Part III, Sheet No. 40"]
[]
["-","-","-","-","-","-","-",null,null,null,"-","-","-","-","-","-"]
[]
[]
[]
[]
[]
[]
[{"$f":"'OL Fixture & Total Charges'!$A$38","v":"{1} Total Monthly Charges are based on a single light. Since per kWh charges are rounded to the nearest cent, the price for multiple lights may vary by one or two cents "}]
[{"$f":"'OL Fixture & Total Charges'!$A$39","v":"    per additional light. Prices vary from Summer to Winter based on seasonal energy charges which are higher in the Summer billing months of June through September."}]
[]
[]
[]
[]
[]
[]
[]
[]
[]
[]
[]
[]
[]
[]
[]
[]
[]
[]
[]
[]
[]
[]
[]
[]
[]
[" "]